{"text_format":"1","workbook":"xlsx","n_sheets":7,"sheets":["CIS","Legenda","namerena data","fakturace","Data_Graf","DATA-GRAF-72H","Graf"],"not_rendered":{"charts":2,"images":1,"macros":1,"external_links":1,"defined_names":6,"comments":0,"pivot_tables":0},"unopened":[],"bounds":{"document_bytes":16777216,"sheet_cells":100000,"rows_first":2000,"rows_last":500,"rows_between":2000,"halvings":0,"cell_chars":16384,"cell_head_chars":4096},"cells_cut":0,"cells_raw":0,"read":"whole","date_system":"1900"}

{"sheet":"CIS","index":0,"n_rows":37,"n_cols":3,"rows_kept":37,"cut":false,"hidden":true,"merged":[]}
["Měsíc"]
["leden 2013",0,"leden 2013"]
["únor 2013",1,"únor 2013"]
["březen 2013",2,"březen 2013"]
["duben 2013",3,"duben 2013"]
["květen 2013",4,"květen 2013"]
["červen 2013",5,"červen 2013"]
["červenec 2013",6,"červenec 2013"]
["srpen 2013",7,"srpen 2013"]
["září 2013",8,"září 2013"]
["říjen 2013",9,"říjen 2013"]
["listopad 2013",10,"listopad 2013"]
["prosinec 2013",11,"prosinec 2013"]
["leden 2014",12,"leden 2014"]
["únor 2014",13,"únor 2014"]
["březen 2014",14,"březen 2014"]
["duben 2014",15,"duben 2014"]
["květen 2014",16,"květen 2014"]
["červen 2014",17,"červen 2014"]
["červenec 2014",18,"červenec 2014"]
["srpen 2014",19,"srpen 2014"]
["září 2014",20,"září 2014"]
["říjen 2014",21,"říjen 2014"]
["listopad 2014",22,"listopad 2014"]
["prosinec 2014",23,"prosinec 2014"]
["leden 2015",24,"leden 2015"]
["únor 2015",25,"únor 2015"]
["březen 2015",26,"březen 2015"]
["duben 2015",27,"duben 2015"]
["květen 2015",28,"květen 2015"]
["červen 2015",29,"červen 2015"]
["červenec 2015",30,"červenec 2015"]
["srpen 2015",31,"srpen 2015"]
["září 2015",32,"září 2015"]
["říjen 2015",33,"říjen 2015"]
["listopad 2015",34,"listopad 2015"]
["prosinec 2015",35,"prosinec 2015"]

{"sheet":"Legenda","index":1,"n_rows":53,"n_cols":5,"rows_kept":53,"cut":false,"hidden":false,"merged":[]}
[]
[]
[]
[]
[]
[]
[]
[]
[null,"Fakturace výroby z obnovitelných zdrojů elektřiny"]
[]
[]
[]
[]
[]
[]
[]
[]
[]
[]
[]
[]
[]
[]
[]
[]
[]
[]
[]
[]
[]
[]
[]
[]
[]
[null,"Soubor pro kalkulaci výkupní ceny dodávky elektřiny z obnovitelných zdrojů"]
[]
[null,"Popis souboru :"]
[]
[null,"naměřená data ","vstup pro manuální vložení hodinového profilu v kWh skutečné výroby"]
[null,null,"(zdroj dat : ČEZ On-line www.cez.cz/cezonline)"]
[]
[]
[null,"fakturace","přehled fakturovaných cen včetně zobrazení vstupních cen/kurzů"]
[null,null,"zobrazené hodnoty:",null,"měření MWh - hodnoty skutečného profilu výroby"]
[null,null,null,null,"cena Denní trh - hodinové ceny denního trhu v EUR/MWh"]
[null,null,null,null,"kurz ČNB [Kč/EUR] - denní kurz ČNB"]
[null,null,null,null,"cenový tarif [Kc/MWh] - tarifní cena zavislá na ceně denního trhu"]
[null,null,null,null,"fakturační hodnota [Kč] - hodinová cena dodávky v Kč"]
[]
[null,"graf:","grafické zobrazení průběhu spotřeby a tarifní ceny komodity"]
[]
[null,"zdroje dat:","http://www.ote-cr.cz/kratkodobe-trhy/elektrina/denni-trh"]
[null,null,"http://www.cnb.cz/cs/index.html"]

{"sheet":"namerena data","index":2,"n_rows":2213,"n_cols":3,"rows_kept":2213,"cut":false,"hidden":false,"merged":[]}
[]
["období : ","Třetí čtvrtletí 2013"]
["pole pro aktualizaci"]
[]
["Datum","hodina","kWh"]
["2013-07-01",1,0]
["2013-07-01",2,0]
["2013-07-01",3,0]
["2013-07-01",4,0]
["2013-07-01",5,0]
["2013-07-01",6,0]
["2013-07-01",7,0]
["2013-07-01",8,0]
["2013-07-01",9,0]
["2013-07-01",10,0]
["2013-07-01",11,0]
["2013-07-01",12,0]
["2013-07-01",13,0]
["2013-07-01",14,0]
["2013-07-01",15,0]
["2013-07-01",16,0]
["2013-07-01",17,0]
["2013-07-01",18,0]
["2013-07-01",19,0]
["2013-07-01",20,0]
["2013-07-01",21,0]
["2013-07-01",22,0]
["2013-07-01",23,0]
["2013-07-01",24,0]
[{"$f":"A6+1","v":"2013-07-02"},1,0]
[{"$f":"A7+1","v":"2013-07-02"},2,0]
["2013-07-02",3,0]
["2013-07-02",4,0]
["2013-07-02",5,0]
["2013-07-02",6,0]
["2013-07-02",7,0]
["2013-07-02",8,0]
["2013-07-02",9,0]
["2013-07-02",10,0]
["2013-07-02",11,0]
["2013-07-02",12,0]
["2013-07-02",13,0]
["2013-07-02",14,0]
["2013-07-02",15,0]
["2013-07-02",16,0]
["2013-07-02",17,0]
["2013-07-02",18,0]
["2013-07-02",19,0]
["2013-07-02",20,0]
["2013-07-02",21,0]
["2013-07-02",22,0]
["2013-07-02",23,0]
["2013-07-02",24,0]
["2013-07-03",1,0]
["2013-07-03",2,0]
["2013-07-03",3,0]
["2013-07-03",4,0]
["2013-07-03",5,0]
["2013-07-03",6,0]
["2013-07-03",7,0]
["2013-07-03",8,0]
["2013-07-03",9,0]
["2013-07-03",10,0]
["2013-07-03",11,0]
["2013-07-03",12,0]
["2013-07-03",13,0]
["2013-07-03",14,0]
["2013-07-03",15,0]
["2013-07-03",16,0]
["2013-07-03",17,0]
["2013-07-03",18,0]
["2013-07-03",19,0]
["2013-07-03",20,0]
["2013-07-03",21,0]
["2013-07-03",22,0]
["2013-07-03",23,0]
["2013-07-03",24,0]
["2013-07-04",1,0]
["2013-07-04",2,0]
["2013-07-04",3,0]
["2013-07-04",4,0]
["2013-07-04",5,0]
["2013-07-04",6,0]
["2013-07-04",7,0]
["2013-07-04",8,0]
["2013-07-04",9,0]
["2013-07-04",10,0]
["2013-07-04",11,0]
["2013-07-04",12,0]
["2013-07-04",13,0]
["2013-07-04",14,0]
["2013-07-04",15,0]
["2013-07-04",16,0]
["2013-07-04",17,0]
[{"$f":"A71+1","v":"2013-07-04"},18,0]
["2013-07-04",19,0]
["2013-07-04",20,0]
["2013-07-04",21,0]
["2013-07-04",22,0]
["2013-07-04",23,0]
["2013-07-04",24,0]
["2013-07-05",1,0]
["2013-07-05",2,0]
["2013-07-05",3,0]
["2013-07-05",4,0]
["2013-07-05",5,0]
["2013-07-05",6,0]
["2013-07-05",7,0]
["2013-07-05",8,0]
["2013-07-05",9,0]
["2013-07-05",10,0]
["2013-07-05",11,0]
["2013-07-05",12,0]
["2013-07-05",13,0]
["2013-07-05",14,0]
["2013-07-05",15,0]
["2013-07-05",16,0]
["2013-07-05",17,0]
["2013-07-05",18,0]
["2013-07-05",19,0]
["2013-07-05",20,0]
["2013-07-05",21,0]
["2013-07-05",22,0]
["2013-07-05",23,0]
["2013-07-05",24,0]
["2013-07-06",1,0]
["2013-07-06",2,0]
["2013-07-06",3,0]
["2013-07-06",4,0]
["2013-07-06",5,0]
["2013-07-06",6,0]
["2013-07-06",7,0]
["2013-07-06",8,0]
["2013-07-06",9,0]
["2013-07-06",10,0]
["2013-07-06",11,0]
["2013-07-06",12,0]
["2013-07-06",13,0]
["2013-07-06",14,0]
["2013-07-06",15,0]
["2013-07-06",16,0]
["2013-07-06",17,0]
["2013-07-06",18,0]
["2013-07-06",19,0]
["2013-07-06",20,0]
["2013-07-06",21,0]
["2013-07-06",22,0]
["2013-07-06",23,0]
["2013-07-06",24,0]
["2013-07-07",1,0]
["2013-07-07",2,0]
["2013-07-07",3,0]
["2013-07-07",4,0]
["2013-07-07",5,0]
["2013-07-07",6,0]
["2013-07-07",7,0]
["2013-07-07",8,0]
["2013-07-07",9,0]
[{"$f":"A135+1","v":"2013-07-07"},10,0]
["2013-07-07",11,0]
["2013-07-07",12,0]
["2013-07-07",13,0]
["2013-07-07",14,0]
["2013-07-07",15,0]
["2013-07-07",16,0]
["2013-07-07",17,0]
["2013-07-07",18,0]
["2013-07-07",19,0]
["2013-07-07",20,0]
["2013-07-07",21,0]
["2013-07-07",22,0]
["2013-07-07",23,0]
["2013-07-07",24,0]
["2013-07-08",1,0]
["2013-07-08",2,0]
["2013-07-08",3,0]
["2013-07-08",4,0]
["2013-07-08",5,0]
["2013-07-08",6,0]
["2013-07-08",7,0]
["2013-07-08",8,0]
["2013-07-08",9,0]
["2013-07-08",10,0]
["2013-07-08",11,0]
["2013-07-08",12,0]
["2013-07-08",13,0]
["2013-07-08",14,0]
["2013-07-08",15,0]
["2013-07-08",16,0]
["2013-07-08",17,0]
["2013-07-08",18,0]
["2013-07-08",19,0]
["2013-07-08",20,0]
["2013-07-08",21,0]
["2013-07-08",22,0]
["2013-07-08",23,0]
["2013-07-08",24,0]
["2013-07-09",1,0]
["2013-07-09",2,0]
["2013-07-09",3,0]
["2013-07-09",4,0]
["2013-07-09",5,0]
["2013-07-09",6,0]
["2013-07-09",7,0]
["2013-07-09",8,0]
["2013-07-09",9,0]
["2013-07-09",10,0]
["2013-07-09",11,0]
["2013-07-09",12,0]
["2013-07-09",13,0]
["2013-07-09",14,0]
["2013-07-09",15,0]
["2013-07-09",16,0]
["2013-07-09",17,0]
["2013-07-09",18,0]
["2013-07-09",19,0]
["2013-07-09",20,0]
["2013-07-09",21,0]
["2013-07-09",22,0]
["2013-07-09",23,0]
["2013-07-09",24,0]
["2013-07-10",1,0]
[{"$f":"A199+1","v":"2013-07-10"},2,0]
["2013-07-10",3,0]
["2013-07-10",4,0]
["2013-07-10",5,0]
["2013-07-10",6,0]
["2013-07-10",7,0]
["2013-07-10",8,0]
["2013-07-10",9,0]
["2013-07-10",10,0]
["2013-07-10",11,0]
["2013-07-10",12,0]
["2013-07-10",13,0]
["2013-07-10",14,0]
["2013-07-10",15,0]
["2013-07-10",16,0]
["2013-07-10",17,0]
["2013-07-10",18,0]
["2013-07-10",19,0]
["2013-07-10",20,0]
["2013-07-10",21,0]
["2013-07-10",22,0]
["2013-07-10",23,0]
["2013-07-10",24,0]
["2013-07-11",1,0]
["2013-07-11",2,0]
["2013-07-11",3,0]
["2013-07-11",4,0]
["2013-07-11",5,0]
["2013-07-11",6,0]
["2013-07-11",7,0]
["2013-07-11",8,0]
["2013-07-11",9,0]
["2013-07-11",10,0]
["2013-07-11",11,0]
["2013-07-11",12,0]
["2013-07-11",13,0]
["2013-07-11",14,0]
["2013-07-11",15,0]
["2013-07-11",16,0]
["2013-07-11",17,0]
["2013-07-11",18,0]
["2013-07-11",19,0]
["2013-07-11",20,0]
["2013-07-11",21,0]
["2013-07-11",22,0]
["2013-07-11",23,0]
["2013-07-11",24,0]
["2013-07-12",1,0]
["2013-07-12",2,0]
["2013-07-12",3,0]
["2013-07-12",4,0]
["2013-07-12",5,0]
["2013-07-12",6,0]
["2013-07-12",7,0]
["2013-07-12",8,0]
["2013-07-12",9,0]
["2013-07-12",10,0]
["2013-07-12",11,0]
["2013-07-12",12,0]
["2013-07-12",13,0]
["2013-07-12",14,0]
["2013-07-12",15,0]
["2013-07-12",16,0]
["2013-07-12",17,0]
[{"$f":"A263+1","v":"2013-07-12"},18,0]
["2013-07-12",19,0]
["2013-07-12",20,0]
["2013-07-12",21,0]
["2013-07-12",22,0]
["2013-07-12",23,0]
["2013-07-12",24,0]
["2013-07-13",1,0]
["2013-07-13",2,0]
["2013-07-13",3,0]
["2013-07-13",4,0]
["2013-07-13",5,0]
["2013-07-13",6,0]
["2013-07-13",7,0]
["2013-07-13",8,0]
["2013-07-13",9,0]
["2013-07-13",10,0]
["2013-07-13",11,0]
["2013-07-13",12,0]
["2013-07-13",13,0]
["2013-07-13",14,0]
["2013-07-13",15,0]
["2013-07-13",16,0]
["2013-07-13",17,0]
["2013-07-13",18,0]
["2013-07-13",19,0]
["2013-07-13",20,0]
["2013-07-13",21,0]
["2013-07-13",22,0]
["2013-07-13",23,0]
["2013-07-13",24,0]
["2013-07-14",1,0]
["2013-07-14",2,0]
["2013-07-14",3,0]
["2013-07-14",4,0]
["2013-07-14",5,0]
["2013-07-14",6,0]
["2013-07-14",7,0]
["2013-07-14",8,0]
["2013-07-14",9,0]
["2013-07-14",10,0]
["2013-07-14",11,0]
["2013-07-14",12,0]
["2013-07-14",13,0]
["2013-07-14",14,0]
["2013-07-14",15,0]
["2013-07-14",16,0]
["2013-07-14",17,0]
["2013-07-14",18,0]
["2013-07-14",19,0]
["2013-07-14",20,0]
["2013-07-14",21,0]
["2013-07-14",22,0]
["2013-07-14",23,0]
["2013-07-14",24,0]
["2013-07-15",1,0]
["2013-07-15",2,0]
["2013-07-15",3,0]
["2013-07-15",4,0]
["2013-07-15",5,0]
["2013-07-15",6,0]
["2013-07-15",7,0]
["2013-07-15",8,0]
["2013-07-15",9,0]
[{"$f":"A327+1","v":"2013-07-15"},10,0]
["2013-07-15",11,0]
["2013-07-15",12,0]
["2013-07-15",13,0]
["2013-07-15",14,0]
["2013-07-15",15,0]
["2013-07-15",16,0]
["2013-07-15",17,0]
["2013-07-15",18,0]
["2013-07-15",19,0]
["2013-07-15",20,0]
["2013-07-15",21,0]
["2013-07-15",22,0]
["2013-07-15",23,0]
["2013-07-15",24,0]
["2013-07-16",1,0]
["2013-07-16",2,0]
["2013-07-16",3,0]
["2013-07-16",4,0]
["2013-07-16",5,0]
["2013-07-16",6,0]
["2013-07-16",7,0]
["2013-07-16",8,0]
["2013-07-16",9,0]
["2013-07-16",10,0]
["2013-07-16",11,0]
["2013-07-16",12,0]
["2013-07-16",13,0]
["2013-07-16",14,0]
["2013-07-16",15,0]
["2013-07-16",16,0]
["2013-07-16",17,0]
["2013-07-16",18,0]
["2013-07-16",19,0]
["2013-07-16",20,0]
["2013-07-16",21,0]
["2013-07-16",22,0]
["2013-07-16",23,0]
["2013-07-16",24,0]
["2013-07-17",1,0]
["2013-07-17",2,0]
["2013-07-17",3,0]
["2013-07-17",4,0]
["2013-07-17",5,0]
["2013-07-17",6,0]
["2013-07-17",7,0]
["2013-07-17",8,0]
["2013-07-17",9,0]
["2013-07-17",10,0]
["2013-07-17",11,0]
["2013-07-17",12,0]
["2013-07-17",13,0]
["2013-07-17",14,0]
["2013-07-17",15,0]
["2013-07-17",16,0]
["2013-07-17",17,0]
["2013-07-17",18,0]
["2013-07-17",19,0]
["2013-07-17",20,0]
["2013-07-17",21,0]
["2013-07-17",22,0]
["2013-07-17",23,0]
["2013-07-17",24,0]
["2013-07-18",1,0]
[{"$f":"A391+1","v":"2013-07-18"},2,0]
["2013-07-18",3,0]
["2013-07-18",4,0]
["2013-07-18",5,0]
["2013-07-18",6,0]
["2013-07-18",7,0]
["2013-07-18",8,0]
["2013-07-18",9,0]
["2013-07-18",10,0]
["2013-07-18",11,0]
["2013-07-18",12,0]
["2013-07-18",13,0]
["2013-07-18",14,0]
["2013-07-18",15,0]
["2013-07-18",16,0]
["2013-07-18",17,0]
["2013-07-18",18,0]
["2013-07-18",19,0]
["2013-07-18",20,0]
["2013-07-18",21,0]
["2013-07-18",22,0]
["2013-07-18",23,0]
["2013-07-18",24,0]
["2013-07-19",1,0]
["2013-07-19",2,0]
["2013-07-19",3,0]
["2013-07-19",4,0]
["2013-07-19",5,0]
["2013-07-19",6,0]
["2013-07-19",7,0]
["2013-07-19",8,0]
["2013-07-19",9,0]
["2013-07-19",10,0]
["2013-07-19",11,0]
["2013-07-19",12,0]
["2013-07-19",13,0]
["2013-07-19",14,0]
["2013-07-19",15,0]
["2013-07-19",16,0]
["2013-07-19",17,0]
["2013-07-19",18,0]
["2013-07-19",19,0]
["2013-07-19",20,0]
["2013-07-19",21,0]
["2013-07-19",22,0]
["2013-07-19",23,0]
["2013-07-19",24,0]
["2013-07-20",1,0]
["2013-07-20",2,0]
["2013-07-20",3,0]
["2013-07-20",4,0]
["2013-07-20",5,0]
["2013-07-20",6,0]
["2013-07-20",7,0]
["2013-07-20",8,0]
["2013-07-20",9,0]
["2013-07-20",10,0]
["2013-07-20",11,0]
["2013-07-20",12,0]
["2013-07-20",13,0]
["2013-07-20",14,0]
["2013-07-20",15,0]
["2013-07-20",16,0]
["2013-07-20",17,0]
[{"$f":"A455+1","v":"2013-07-20"},18,0]
["2013-07-20",19,0]
["2013-07-20",20,0]
["2013-07-20",21,0]
["2013-07-20",22,0]
["2013-07-20",23,0]
["2013-07-20",24,0]
["2013-07-21",1,0]
["2013-07-21",2,0]
["2013-07-21",3,0]
["2013-07-21",4,0]
["2013-07-21",5,0]
["2013-07-21",6,0]
["2013-07-21",7,0]
["2013-07-21",8,0]
["2013-07-21",9,0]
["2013-07-21",10,0]
["2013-07-21",11,0]
["2013-07-21",12,0]
["2013-07-21",13,0]
["2013-07-21",14,0]
["2013-07-21",15,0]
["2013-07-21",16,0]
["2013-07-21",17,0]
["2013-07-21",18,0]
["2013-07-21",19,0]
["2013-07-21",20,0]
["2013-07-21",21,0]
["2013-07-21",22,0]
["2013-07-21",23,0]
["2013-07-21",24,0]
["2013-07-22",1,0]
["2013-07-22",2,0]
["2013-07-22",3,0]
["2013-07-22",4,0]
["2013-07-22",5,0]
["2013-07-22",6,0]
["2013-07-22",7,0]
["2013-07-22",8,0]
["2013-07-22",9,0]
["2013-07-22",10,0]
["2013-07-22",11,0]
["2013-07-22",12,0]
["2013-07-22",13,0]
["2013-07-22",14,0]
["2013-07-22",15,0]
["2013-07-22",16,0]
["2013-07-22",17,0]
["2013-07-22",18,0]
["2013-07-22",19,0]
["2013-07-22",20,0]
["2013-07-22",21,0]
["2013-07-22",22,0]
["2013-07-22",23,0]
["2013-07-22",24,0]
["2013-07-23",1,0]
["2013-07-23",2,0]
["2013-07-23",3,0]
["2013-07-23",4,0]
["2013-07-23",5,0]
["2013-07-23",6,0]
["2013-07-23",7,0]
["2013-07-23",8,0]
["2013-07-23",9,0]
[{"$f":"A519+1","v":"2013-07-23"},10,0]
["2013-07-23",11,0]
["2013-07-23",12,0]
["2013-07-23",13,0]
["2013-07-23",14,0]
["2013-07-23",15,0]
["2013-07-23",16,0]
["2013-07-23",17,0]
["2013-07-23",18,0]
["2013-07-23",19,0]
["2013-07-23",20,0]
["2013-07-23",21,0]
["2013-07-23",22,0]
["2013-07-23",23,0]
["2013-07-23",24,0]
["2013-07-24",1,0]
["2013-07-24",2,0]
["2013-07-24",3,0]
["2013-07-24",4,0]
["2013-07-24",5,0]
["2013-07-24",6,0]
["2013-07-24",7,0]
["2013-07-24",8,0]
["2013-07-24",9,0]
["2013-07-24",10,0]
["2013-07-24",11,0]
["2013-07-24",12,0]
["2013-07-24",13,0]
["2013-07-24",14,0]
["2013-07-24",15,0]
["2013-07-24",16,0]
["2013-07-24",17,0]
["2013-07-24",18,0]
["2013-07-24",19,0]
["2013-07-24",20,0]
["2013-07-24",21,0]
["2013-07-24",22,0]
["2013-07-24",23,0]
["2013-07-24",24,0]
["2013-07-25",1,0]
["2013-07-25",2,0]
["2013-07-25",3,0]
["2013-07-25",4,0]
["2013-07-25",5,0]
["2013-07-25",6,0]
["2013-07-25",7,0]
["2013-07-25",8,0]
["2013-07-25",9,0]
["2013-07-25",10,0]
["2013-07-25",11,0]
["2013-07-25",12,0]
["2013-07-25",13,0]
["2013-07-25",14,0]
["2013-07-25",15,0]
["2013-07-25",16,0]
["2013-07-25",17,0]
["2013-07-25",18,0]
["2013-07-25",19,0]
["2013-07-25",20,0]
["2013-07-25",21,0]
["2013-07-25",22,0]
["2013-07-25",23,0]
["2013-07-25",24,0]
["2013-07-26",1,0]
[{"$f":"A583+1","v":"2013-07-26"},2,0]
["2013-07-26",3,0]
["2013-07-26",4,0]
["2013-07-26",5,0]
["2013-07-26",6,0]
["2013-07-26",7,0]
["2013-07-26",8,0]
["2013-07-26",9,0]
["2013-07-26",10,0]
["2013-07-26",11,0]
["2013-07-26",12,0]
["2013-07-26",13,0]
["2013-07-26",14,0]
["2013-07-26",15,0]
["2013-07-26",16,0]
["2013-07-26",17,0]
["2013-07-26",18,0]
["2013-07-26",19,0]
["2013-07-26",20,0]
["2013-07-26",21,0]
["2013-07-26",22,0]
["2013-07-26",23,0]
["2013-07-26",24,0]
["2013-07-27",1,0]
["2013-07-27",2,0]
["2013-07-27",3,0]
["2013-07-27",4,0]
["2013-07-27",5,0]
["2013-07-27",6,0]
["2013-07-27",7,0]
["2013-07-27",8,0]
["2013-07-27",9,0]
["2013-07-27",10,0]
["2013-07-27",11,0]
["2013-07-27",12,0]
["2013-07-27",13,0]
["2013-07-27",14,0]
["2013-07-27",15,0]
["2013-07-27",16,0]
["2013-07-27",17,0]
["2013-07-27",18,0]
["2013-07-27",19,0]
["2013-07-27",20,0]
["2013-07-27",21,0]
["2013-07-27",22,0]
["2013-07-27",23,0]
["2013-07-27",24,0]
["2013-07-28",1,0]
["2013-07-28",2,0]
["2013-07-28",3,0]
["2013-07-28",4,0]
["2013-07-28",5,0]
["2013-07-28",6,0]
["2013-07-28",7,0]
["2013-07-28",8,0]
["2013-07-28",9,0]
["2013-07-28",10,0]
["2013-07-28",11,0]
["2013-07-28",12,0]
["2013-07-28",13,0]
["2013-07-28",14,0]
["2013-07-28",15,0]
["2013-07-28",16,0]
["2013-07-28",17,0]
[{"$f":"A647+1","v":"2013-07-28"},18,0]
["2013-07-28",19,0]
["2013-07-28",20,0]
["2013-07-28",21,0]
["2013-07-28",22,0]
["2013-07-28",23,0]
["2013-07-28",24,0]
["2013-07-29",1,0]
["2013-07-29",2,0]
["2013-07-29",3,0]
["2013-07-29",4,0]
["2013-07-29",5,0]
["2013-07-29",6,0]
["2013-07-29",7,0]
["2013-07-29",8,0]
["2013-07-29",9,0]
["2013-07-29",10,0]
["2013-07-29",11,0]
["2013-07-29",12,0]
["2013-07-29",13,0]
["2013-07-29",14,0]
["2013-07-29",15,0]
["2013-07-29",16,0]
["2013-07-29",17,0]
["2013-07-29",18,0]
["2013-07-29",19,0]
["2013-07-29",20,0]
["2013-07-29",21,0]
["2013-07-29",22,0]
["2013-07-29",23,0]
["2013-07-29",24,0]
["2013-07-30",1,0]
["2013-07-30",2,0]
["2013-07-30",3,0]
["2013-07-30",4,0]
["2013-07-30",5,0]
["2013-07-30",6,0]
["2013-07-30",7,0]
["2013-07-30",8,0]
["2013-07-30",9,0]
["2013-07-30",10,0]
["2013-07-30",11,0]
["2013-07-30",12,0]
["2013-07-30",13,0]
["2013-07-30",14,0]
["2013-07-30",15,0]
["2013-07-30",16,0]
["2013-07-30",17,0]
["2013-07-30",18,0]
["2013-07-30",19,0]
["2013-07-30",20,0]
["2013-07-30",21,0]
["2013-07-30",22,0]
["2013-07-30",23,0]
["2013-07-30",24,0]
["2013-07-31",1,0]
["2013-07-31",2,0]
["2013-07-31",3,0]
["2013-07-31",4,0]
["2013-07-31",5,0]
["2013-07-31",6,0]
["2013-07-31",7,0]
["2013-07-31",8,0]
["2013-07-31",9,0]
[{"$f":"A711+1","v":"2013-07-31"},10,0]
["2013-07-31",11,0]
["2013-07-31",12,0]
["2013-07-31",13,0]
["2013-07-31",14,0]
["2013-07-31",15,0]
["2013-07-31",16,0]
["2013-07-31",17,0]
["2013-07-31",18,0]
["2013-07-31",19,0]
["2013-07-31",20,0]
["2013-07-31",21,0]
["2013-07-31",22,0]
["2013-07-31",23,0]
["2013-07-31",24,0]
["2013-08-01",1,0]
["2013-08-01",2,0]
["2013-08-01",3,0]
["2013-08-01",4,0]
["2013-08-01",5,0]
["2013-08-01",6,0]
["2013-08-01",7,0]
["2013-08-01",8,0]
["2013-08-01",9,0]
["2013-08-01",10,0]
["2013-08-01",11,0]
["2013-08-01",12,0]
["2013-08-01",13,0]
["2013-08-01",14,0]
["2013-08-01",15,0]
["2013-08-01",16,0]
["2013-08-01",17,0]
["2013-08-01",18,0]
["2013-08-01",19,0]
["2013-08-01",20,0]
["2013-08-01",21,0]
["2013-08-01",22,0]
["2013-08-01",23,0]
["2013-08-01",24,0]
["2013-08-02",1,0]
["2013-08-02",2,0]
["2013-08-02",3,0]
["2013-08-02",4,0]
["2013-08-02",5,0]
["2013-08-02",6,0]
["2013-08-02",7,0]
["2013-08-02",8,0]
["2013-08-02",9,0]
["2013-08-02",10,0]
["2013-08-02",11,0]
["2013-08-02",12,0]
["2013-08-02",13,0]
["2013-08-02",14,0]
["2013-08-02",15,0]
["2013-08-02",16,0]
["2013-08-02",17,0]
["2013-08-02",18,0]
["2013-08-02",19,0]
["2013-08-02",20,0]
["2013-08-02",21,0]
["2013-08-02",22,0]
["2013-08-02",23,0]
["2013-08-02",24,0]
["2013-08-03",1,0]
[{"$f":"A775+1","v":"2013-08-03"},2,0]
["2013-08-03",3,0]
["2013-08-03",4,0]
["2013-08-03",5,0]
["2013-08-03",6,0]
["2013-08-03",7,0]
["2013-08-03",8,0]
["2013-08-03",9,0]
["2013-08-03",10,0]
["2013-08-03",11,0]
["2013-08-03",12,0]
["2013-08-03",13,0]
["2013-08-03",14,0]
["2013-08-03",15,0]
["2013-08-03",16,0]
["2013-08-03",17,0]
["2013-08-03",18,0]
["2013-08-03",19,0]
["2013-08-03",20,0]
["2013-08-03",21,0]
["2013-08-03",22,0]
["2013-08-03",23,0]
["2013-08-03",24,0]
["2013-08-04",1,0]
["2013-08-04",2,0]
["2013-08-04",3,0]
["2013-08-04",4,0]
["2013-08-04",5,0]
["2013-08-04",6,0]
["2013-08-04",7,0]
["2013-08-04",8,0]
["2013-08-04",9,0]
["2013-08-04",10,0]
["2013-08-04",11,0]
["2013-08-04",12,0]
["2013-08-04",13,0]
["2013-08-04",14,0]
["2013-08-04",15,0]
["2013-08-04",16,0]
["2013-08-04",17,0]
["2013-08-04",18,0]
["2013-08-04",19,0]
["2013-08-04",20,0]
["2013-08-04",21,0]
["2013-08-04",22,0]
["2013-08-04",23,0]
["2013-08-04",24,0]
["2013-08-05",1,0]
["2013-08-05",2,0]
["2013-08-05",3,0]
["2013-08-05",4,0]
["2013-08-05",5,0]
["2013-08-05",6,0]
["2013-08-05",7,0]
["2013-08-05",8,0]
["2013-08-05",9,0]
["2013-08-05",10,0]
["2013-08-05",11,0]
["2013-08-05",12,0]
["2013-08-05",13,0]
["2013-08-05",14,0]
["2013-08-05",15,0]
["2013-08-05",16,0]
["2013-08-05",17,0]
[{"$f":"A839+1","v":"2013-08-05"},18,0]
["2013-08-05",19,0]
["2013-08-05",20,0]
["2013-08-05",21,0]
["2013-08-05",22,0]
["2013-08-05",23,0]
["2013-08-05",24,0]
["2013-08-06",1,0]
["2013-08-06",2,0]
["2013-08-06",3,0]
["2013-08-06",4,0]
["2013-08-06",5,0]
["2013-08-06",6,0]
["2013-08-06",7,0]
["2013-08-06",8,0]
["2013-08-06",9,0]
["2013-08-06",10,0]
["2013-08-06",11,0]
["2013-08-06",12,0]
["2013-08-06",13,0]
["2013-08-06",14,0]
["2013-08-06",15,0]
["2013-08-06",16,0]
["2013-08-06",17,0]
["2013-08-06",18,0]
["2013-08-06",19,0]
["2013-08-06",20,0]
["2013-08-06",21,0]
["2013-08-06",22,0]
["2013-08-06",23,0]
["2013-08-06",24,0]
["2013-08-07",1,0]
["2013-08-07",2,0]
["2013-08-07",3,0]
["2013-08-07",4,0]
["2013-08-07",5,0]
["2013-08-07",6,0]
["2013-08-07",7,0]
["2013-08-07",8,0]
["2013-08-07",9,0]
["2013-08-07",10,0]
["2013-08-07",11,0]
["2013-08-07",12,0]
["2013-08-07",13,0]
["2013-08-07",14,0]
["2013-08-07",15,0]
["2013-08-07",16,0]
["2013-08-07",17,0]
["2013-08-07",18,0]
["2013-08-07",19,0]
["2013-08-07",20,0]
["2013-08-07",21,0]
["2013-08-07",22,0]
["2013-08-07",23,0]
["2013-08-07",24,0]
["2013-08-08",1,0]
["2013-08-08",2,0]
["2013-08-08",3,0]
["2013-08-08",4,0]
["2013-08-08",5,0]
["2013-08-08",6,0]
["2013-08-08",7,0]
["2013-08-08",8,0]
["2013-08-08",9,0]
[{"$f":"A903+1","v":"2013-08-08"},10,0]
["2013-08-08",11,0]
["2013-08-08",12,0]
["2013-08-08",13,0]
["2013-08-08",14,0]
["2013-08-08",15,0]
["2013-08-08",16,0]
["2013-08-08",17,0]
["2013-08-08",18,0]
["2013-08-08",19,0]
["2013-08-08",20,0]
["2013-08-08",21,0]
["2013-08-08",22,0]
["2013-08-08",23,0]
["2013-08-08",24,0]
["2013-08-09",1,0]
["2013-08-09",2,0]
["2013-08-09",3,0]
["2013-08-09",4,0]
["2013-08-09",5,0]
["2013-08-09",6,0]
["2013-08-09",7,0]
["2013-08-09",8,0]
["2013-08-09",9,0]
["2013-08-09",10,0]
["2013-08-09",11,0]
["2013-08-09",12,0]
["2013-08-09",13,0]
["2013-08-09",14,0]
["2013-08-09",15,0]
["2013-08-09",16,0]
["2013-08-09",17,0]
["2013-08-09",18,0]
["2013-08-09",19,0]
["2013-08-09",20,0]
["2013-08-09",21,0]
["2013-08-09",22,0]
["2013-08-09",23,0]
["2013-08-09",24,0]
["2013-08-10",1,0]
["2013-08-10",2,0]
["2013-08-10",3,0]
["2013-08-10",4,0]
["2013-08-10",5,0]
["2013-08-10",6,0]
["2013-08-10",7,0]
["2013-08-10",8,0]
["2013-08-10",9,0]
["2013-08-10",10,0]
["2013-08-10",11,0]
["2013-08-10",12,0]
["2013-08-10",13,0]
["2013-08-10",14,0]
["2013-08-10",15,0]
["2013-08-10",16,0]
["2013-08-10",17,0]
["2013-08-10",18,0]
["2013-08-10",19,0]
["2013-08-10",20,0]
["2013-08-10",21,0]
["2013-08-10",22,0]
["2013-08-10",23,0]
["2013-08-10",24,0]
["2013-08-11",1,0]
[{"$f":"A967+1","v":"2013-08-11"},2,0]
["2013-08-11",3,0]
["2013-08-11",4,0]
["2013-08-11",5,0]
["2013-08-11",6,0]
["2013-08-11",7,0]
["2013-08-11",8,0]
["2013-08-11",9,0]
["2013-08-11",10,0]
["2013-08-11",11,0]
["2013-08-11",12,0]
["2013-08-11",13,0]
["2013-08-11",14,0]
["2013-08-11",15,0]
["2013-08-11",16,0]
["2013-08-11",17,0]
["2013-08-11",18,0]
["2013-08-11",19,0]
["2013-08-11",20,0]
["2013-08-11",21,0]
["2013-08-11",22,0]
["2013-08-11",23,0]
["2013-08-11",24,0]
["2013-08-12",1,0]
["2013-08-12",2,0]
["2013-08-12",3,0]
["2013-08-12",4,0]
["2013-08-12",5,0]
["2013-08-12",6,0]
["2013-08-12",7,0]
["2013-08-12",8,0]
["2013-08-12",9,0]
["2013-08-12",10,0]
["2013-08-12",11,0]
["2013-08-12",12,0]
["2013-08-12",13,0]
["2013-08-12",14,0]
["2013-08-12",15,0]
["2013-08-12",16,0]
["2013-08-12",17,0]
["2013-08-12",18,0]
["2013-08-12",19,0]
["2013-08-12",20,0]
["2013-08-12",21,0]
["2013-08-12",22,0]
["2013-08-12",23,0]
["2013-08-12",24,0]
["2013-08-13",1,0]
["2013-08-13",2,0]
["2013-08-13",3,0]
["2013-08-13",4,0]
["2013-08-13",5,0]
["2013-08-13",6,0]
["2013-08-13",7,0]
["2013-08-13",8,0]
["2013-08-13",9,0]
["2013-08-13",10,0]
["2013-08-13",11,0]
["2013-08-13",12,0]
["2013-08-13",13,0]
["2013-08-13",14,0]
["2013-08-13",15,0]
["2013-08-13",16,0]
["2013-08-13",17,0]
[{"$f":"A1031+1","v":"2013-08-13"},18,0]
["2013-08-13",19,0]
["2013-08-13",20,0]
["2013-08-13",21,0]
["2013-08-13",22,0]
["2013-08-13",23,0]
["2013-08-13",24,0]
["2013-08-14",1,0]
["2013-08-14",2,0]
["2013-08-14",3,0]
["2013-08-14",4,0]
["2013-08-14",5,0]
["2013-08-14",6,0]
["2013-08-14",7,0]
["2013-08-14",8,0]
["2013-08-14",9,0]
["2013-08-14",10,0]
["2013-08-14",11,0]
["2013-08-14",12,0]
["2013-08-14",13,0]
["2013-08-14",14,0]
["2013-08-14",15,0]
["2013-08-14",16,0]
["2013-08-14",17,0]
["2013-08-14",18,0]
["2013-08-14",19,0]
["2013-08-14",20,0]
["2013-08-14",21,0]
["2013-08-14",22,0]
["2013-08-14",23,0]
["2013-08-14",24,0]
["2013-08-15",1,0]
["2013-08-15",2,0]
["2013-08-15",3,0]
["2013-08-15",4,0]
["2013-08-15",5,0]
["2013-08-15",6,0]
["2013-08-15",7,0]
["2013-08-15",8,0]
["2013-08-15",9,0]
["2013-08-15",10,0]
["2013-08-15",11,0]
["2013-08-15",12,0]
["2013-08-15",13,0]
["2013-08-15",14,0]
["2013-08-15",15,0]
["2013-08-15",16,0]
["2013-08-15",17,0]
["2013-08-15",18,0]
["2013-08-15",19,0]
["2013-08-15",20,0]
["2013-08-15",21,0]
["2013-08-15",22,0]
["2013-08-15",23,0]
["2013-08-15",24,0]
["2013-08-16",1,0]
["2013-08-16",2,0]
["2013-08-16",3,0]
["2013-08-16",4,0]
["2013-08-16",5,0]
["2013-08-16",6,0]
["2013-08-16",7,0]
["2013-08-16",8,0]
["2013-08-16",9,0]
[{"$f":"A1095+1","v":"2013-08-16"},10,0]
["2013-08-16",11,0]
["2013-08-16",12,0]
["2013-08-16",13,0]
["2013-08-16",14,0]
["2013-08-16",15,0]
["2013-08-16",16,0]
["2013-08-16",17,0]
["2013-08-16",18,0]
["2013-08-16",19,0]
["2013-08-16",20,0]
["2013-08-16",21,0]
["2013-08-16",22,0]
["2013-08-16",23,0]
["2013-08-16",24,0]
["2013-08-17",1,0]
["2013-08-17",2,0]
["2013-08-17",3,0]
["2013-08-17",4,0]
["2013-08-17",5,0]
["2013-08-17",6,0]
["2013-08-17",7,0]
["2013-08-17",8,0]
["2013-08-17",9,0]
["2013-08-17",10,0]
["2013-08-17",11,0]
["2013-08-17",12,0]
["2013-08-17",13,0]
["2013-08-17",14,0]
["2013-08-17",15,0]
["2013-08-17",16,0]
["2013-08-17",17,0]
["2013-08-17",18,0]
["2013-08-17",19,0]
["2013-08-17",20,0]
["2013-08-17",21,0]
["2013-08-17",22,0]
["2013-08-17",23,0]
["2013-08-17",24,0]
["2013-08-18",1,0]
["2013-08-18",2,0]
["2013-08-18",3,0]
["2013-08-18",4,0]
["2013-08-18",5,0]
["2013-08-18",6,0]
["2013-08-18",7,0]
["2013-08-18",8,0]
["2013-08-18",9,0]
["2013-08-18",10,0]
["2013-08-18",11,0]
["2013-08-18",12,0]
["2013-08-18",13,0]
["2013-08-18",14,0]
["2013-08-18",15,0]
["2013-08-18",16,0]
["2013-08-18",17,0]
["2013-08-18",18,0]
["2013-08-18",19,0]
["2013-08-18",20,0]
["2013-08-18",21,0]
["2013-08-18",22,0]
["2013-08-18",23,0]
["2013-08-18",24,0]
["2013-08-19",1,0]
[{"$f":"A1159+1","v":"2013-08-19"},2,0]
["2013-08-19",3,0]
["2013-08-19",4,0]
["2013-08-19",5,0]
["2013-08-19",6,0]
["2013-08-19",7,0]
["2013-08-19",8,0]
["2013-08-19",9,0]
["2013-08-19",10,0]
["2013-08-19",11,0]
["2013-08-19",12,0]
["2013-08-19",13,0]
["2013-08-19",14,0]
["2013-08-19",15,0]
["2013-08-19",16,0]
["2013-08-19",17,0]
["2013-08-19",18,0]
["2013-08-19",19,0]
["2013-08-19",20,0]
["2013-08-19",21,0]
["2013-08-19",22,0]
["2013-08-19",23,0]
["2013-08-19",24,0]
["2013-08-20",1,0]
["2013-08-20",2,0]
["2013-08-20",3,0]
["2013-08-20",4,0]
["2013-08-20",5,0]
["2013-08-20",6,0]
["2013-08-20",7,0]
["2013-08-20",8,0]
["2013-08-20",9,0]
["2013-08-20",10,0]
["2013-08-20",11,0]
["2013-08-20",12,0]
["2013-08-20",13,0]
["2013-08-20",14,0]
["2013-08-20",15,0]
["2013-08-20",16,0]
["2013-08-20",17,0]
["2013-08-20",18,0]
["2013-08-20",19,0]
["2013-08-20",20,0]
["2013-08-20",21,0]
["2013-08-20",22,0]
["2013-08-20",23,0]
["2013-08-20",24,0]
["2013-08-21",1,0]
["2013-08-21",2,0]
["2013-08-21",3,0]
["2013-08-21",4,0]
["2013-08-21",5,0]
["2013-08-21",6,0]
["2013-08-21",7,0]
["2013-08-21",8,0]
["2013-08-21",9,0]
["2013-08-21",10,0]
["2013-08-21",11,0]
["2013-08-21",12,0]
["2013-08-21",13,0]
["2013-08-21",14,0]
["2013-08-21",15,0]
["2013-08-21",16,0]
["2013-08-21",17,0]
[{"$f":"A1223+1","v":"2013-08-21"},18,0]
["2013-08-21",19,0]
["2013-08-21",20,0]
["2013-08-21",21,0]
["2013-08-21",22,0]
["2013-08-21",23,0]
["2013-08-21",24,0]
["2013-08-22",1,0]
["2013-08-22",2,0]
["2013-08-22",3,0]
["2013-08-22",4,0]
["2013-08-22",5,0]
["2013-08-22",6,0]
["2013-08-22",7,0]
["2013-08-22",8,0]
["2013-08-22",9,0]
["2013-08-22",10,0]
["2013-08-22",11,0]
["2013-08-22",12,0]
["2013-08-22",13,0]
["2013-08-22",14,0]
["2013-08-22",15,0]
["2013-08-22",16,0]
["2013-08-22",17,0]
["2013-08-22",18,0]
["2013-08-22",19,0]
["2013-08-22",20,0]
["2013-08-22",21,0]
["2013-08-22",22,0]
["2013-08-22",23,0]
["2013-08-22",24,0]
["2013-08-23",1,0]
["2013-08-23",2,0]
["2013-08-23",3,0]
["2013-08-23",4,0]
["2013-08-23",5,0]
["2013-08-23",6,0]
["2013-08-23",7,0]
["2013-08-23",8,0]
["2013-08-23",9,0]
["2013-08-23",10,0]
["2013-08-23",11,0]
["2013-08-23",12,0]
["2013-08-23",13,0]
["2013-08-23",14,0]
["2013-08-23",15,0]
["2013-08-23",16,0]
["2013-08-23",17,0]
["2013-08-23",18,0]
["2013-08-23",19,0]
["2013-08-23",20,0]
["2013-08-23",21,0]
["2013-08-23",22,0]
["2013-08-23",23,0]
["2013-08-23",24,0]
["2013-08-24",1,0]
["2013-08-24",2,0]
["2013-08-24",3,0]
["2013-08-24",4,0]
["2013-08-24",5,0]
["2013-08-24",6,0]
["2013-08-24",7,0]
["2013-08-24",8,0]
["2013-08-24",9,0]
[{"$f":"A1287+1","v":"2013-08-24"},10,0]
["2013-08-24",11,0]
["2013-08-24",12,0]
["2013-08-24",13,0]
["2013-08-24",14,0]
["2013-08-24",15,0]
["2013-08-24",16,0]
["2013-08-24",17,0]
["2013-08-24",18,0]
["2013-08-24",19,0]
["2013-08-24",20,0]
["2013-08-24",21,0]
["2013-08-24",22,0]
["2013-08-24",23,0]
["2013-08-24",24,0]
["2013-08-25",1,0]
["2013-08-25",2,0]
["2013-08-25",3,0]
["2013-08-25",4,0]
["2013-08-25",5,0]
["2013-08-25",6,0]
["2013-08-25",7,0]
["2013-08-25",8,0]
["2013-08-25",9,0]
["2013-08-25",10,0]
["2013-08-25",11,0]
["2013-08-25",12,0]
["2013-08-25",13,0]
["2013-08-25",14,0]
["2013-08-25",15,0]
["2013-08-25",16,0]
["2013-08-25",17,0]
["2013-08-25",18,0]
["2013-08-25",19,0]
["2013-08-25",20,0]
["2013-08-25",21,0]
["2013-08-25",22,0]
["2013-08-25",23,0]
["2013-08-25",24,0]
["2013-08-26",1,0]
["2013-08-26",2,0]
["2013-08-26",3,0]
["2013-08-26",4,0]
["2013-08-26",5,0]
["2013-08-26",6,0]
["2013-08-26",7,0]
["2013-08-26",8,0]
["2013-08-26",9,0]
["2013-08-26",10,0]
["2013-08-26",11,0]
["2013-08-26",12,0]
["2013-08-26",13,0]
["2013-08-26",14,0]
["2013-08-26",15,0]
["2013-08-26",16,0]
["2013-08-26",17,0]
["2013-08-26",18,0]
["2013-08-26",19,0]
["2013-08-26",20,0]
["2013-08-26",21,0]
["2013-08-26",22,0]
["2013-08-26",23,0]
["2013-08-26",24,0]
["2013-08-27",1,0]
[{"$f":"A1351+1","v":"2013-08-27"},2,0]
["2013-08-27",3,0]
["2013-08-27",4,0]
["2013-08-27",5,0]
["2013-08-27",6,0]
["2013-08-27",7,0]
["2013-08-27",8,0]
["2013-08-27",9,0]
["2013-08-27",10,0]
["2013-08-27",11,0]
["2013-08-27",12,0]
["2013-08-27",13,0]
["2013-08-27",14,0]
["2013-08-27",15,0]
["2013-08-27",16,0]
["2013-08-27",17,0]
["2013-08-27",18,0]
["2013-08-27",19,0]
["2013-08-27",20,0]
["2013-08-27",21,0]
["2013-08-27",22,0]
["2013-08-27",23,0]
["2013-08-27",24,0]
["2013-08-28",1,0]
["2013-08-28",2,0]
["2013-08-28",3,0]
["2013-08-28",4,0]
["2013-08-28",5,0]
["2013-08-28",6,0]
["2013-08-28",7,0]
["2013-08-28",8,0]
["2013-08-28",9,0]
["2013-08-28",10,0]
["2013-08-28",11,0]
["2013-08-28",12,0]
["2013-08-28",13,0]
["2013-08-28",14,0]
["2013-08-28",15,0]
["2013-08-28",16,0]
["2013-08-28",17,0]
["2013-08-28",18,0]
["2013-08-28",19,0]
["2013-08-28",20,0]
["2013-08-28",21,0]
["2013-08-28",22,0]
["2013-08-28",23,0]
["2013-08-28",24,0]
["2013-08-29",1,0]
["2013-08-29",2,0]
["2013-08-29",3,0]
["2013-08-29",4,0]
["2013-08-29",5,0]
["2013-08-29",6,0]
["2013-08-29",7,0]
["2013-08-29",8,0]
["2013-08-29",9,0]
["2013-08-29",10,0]
["2013-08-29",11,0]
["2013-08-29",12,0]
["2013-08-29",13,0]
["2013-08-29",14,0]
["2013-08-29",15,0]
["2013-08-29",16,0]
["2013-08-29",17,0]
[{"$f":"A1415+1","v":"2013-08-29"},18,0]
["2013-08-29",19,0]
["2013-08-29",20,0]
["2013-08-29",21,0]
["2013-08-29",22,0]
["2013-08-29",23,0]
["2013-08-29",24,0]
["2013-08-30",1,0]
["2013-08-30",2,0]
["2013-08-30",3,0]
["2013-08-30",4,0]
["2013-08-30",5,0]
["2013-08-30",6,0]
["2013-08-30",7,0]
["2013-08-30",8,0]
["2013-08-30",9,0]
["2013-08-30",10,0]
["2013-08-30",11,0]
["2013-08-30",12,0]
["2013-08-30",13,0]
["2013-08-30",14,0]
["2013-08-30",15,0]
["2013-08-30",16,0]
["2013-08-30",17,0]
["2013-08-30",18,0]
["2013-08-30",19,0]
["2013-08-30",20,0]
["2013-08-30",21,0]
["2013-08-30",22,0]
["2013-08-30",23,0]
["2013-08-30",24,0]
["2013-08-31",1,0]
["2013-08-31",2,0]
["2013-08-31",3,0]
["2013-08-31",4,0]
["2013-08-31",5,0]
["2013-08-31",6,0]
["2013-08-31",7,0]
["2013-08-31",8,0]
["2013-08-31",9,0]
["2013-08-31",10,0]
["2013-08-31",11,0]
["2013-08-31",12,0]
["2013-08-31",13,0]
["2013-08-31",14,0]
["2013-08-31",15,0]
["2013-08-31",16,0]
["2013-08-31",17,0]
["2013-08-31",18,0]
["2013-08-31",19,0]
["2013-08-31",20,0]
["2013-08-31",21,0]
["2013-08-31",22,0]
["2013-08-31",23,0]
["2013-08-31",24,0]
["2013-09-01",1,0]
["2013-09-01",2,0]
["2013-09-01",3,0]
["2013-09-01",4,0]
["2013-09-01",5,0]
["2013-09-01",6,0]
["2013-09-01",7,0]
["2013-09-01",8,0]
["2013-09-01",9,0]
[{"$f":"A1479+1","v":"2013-09-01"},10,0]
["2013-09-01",11,0]
["2013-09-01",12,0]
["2013-09-01",13,0]
["2013-09-01",14,0]
["2013-09-01",15,0]
["2013-09-01",16,0]
["2013-09-01",17,0]
["2013-09-01",18,0]
["2013-09-01",19,0]
["2013-09-01",20,0]
["2013-09-01",21,0]
["2013-09-01",22,0]
["2013-09-01",23,0]
["2013-09-01",24,0]
["2013-09-02",1,0]
["2013-09-02",2,0]
["2013-09-02",3,0]
["2013-09-02",4,0]
["2013-09-02",5,0]
["2013-09-02",6,0]
["2013-09-02",7,0]
["2013-09-02",8,0]
["2013-09-02",9,0]
["2013-09-02",10,0]
["2013-09-02",11,0]
["2013-09-02",12,0]
["2013-09-02",13,0]
["2013-09-02",14,0]
["2013-09-02",15,0]
["2013-09-02",16,0]
["2013-09-02",17,0]
["2013-09-02",18,0]
["2013-09-02",19,0]
["2013-09-02",20,0]
["2013-09-02",21,0]
["2013-09-02",22,0]
["2013-09-02",23,0]
["2013-09-02",24,0]
["2013-09-03",1,0]
["2013-09-03",2,0]
["2013-09-03",3,0]
["2013-09-03",4,0]
["2013-09-03",5,0]
["2013-09-03",6,0]
["2013-09-03",7,0]
["2013-09-03",8,0]
["2013-09-03",9,0]
["2013-09-03",10,0]
["2013-09-03",11,0]
["2013-09-03",12,0]
["2013-09-03",13,0]
["2013-09-03",14,0]
["2013-09-03",15,0]
["2013-09-03",16,0]
["2013-09-03",17,0]
["2013-09-03",18,0]
["2013-09-03",19,0]
["2013-09-03",20,0]
["2013-09-03",21,0]
["2013-09-03",22,0]
["2013-09-03",23,0]
["2013-09-03",24,0]
["2013-09-04",1,0]
[{"$f":"A1543+1","v":"2013-09-04"},2,0]
["2013-09-04",3,0]
["2013-09-04",4,0]
["2013-09-04",5,0]
["2013-09-04",6,0]
["2013-09-04",7,0]
["2013-09-04",8,0]
["2013-09-04",9,0]
["2013-09-04",10,0]
["2013-09-04",11,0]
["2013-09-04",12,0]
["2013-09-04",13,0]
["2013-09-04",14,0]
["2013-09-04",15,0]
["2013-09-04",16,0]
["2013-09-04",17,0]
["2013-09-04",18,0]
["2013-09-04",19,0]
["2013-09-04",20,0]
["2013-09-04",21,0]
["2013-09-04",22,0]
["2013-09-04",23,0]
["2013-09-04",24,0]
["2013-09-05",1,0]
["2013-09-05",2,0]
["2013-09-05",3,0]
["2013-09-05",4,0]
["2013-09-05",5,0]
["2013-09-05",6,0]
["2013-09-05",7,0]
["2013-09-05",8,0]
["2013-09-05",9,0]
["2013-09-05",10,0]
["2013-09-05",11,0]
["2013-09-05",12,0]
["2013-09-05",13,0]
["2013-09-05",14,0]
["2013-09-05",15,0]
["2013-09-05",16,0]
["2013-09-05",17,0]
["2013-09-05",18,0]
["2013-09-05",19,0]
["2013-09-05",20,0]
["2013-09-05",21,0]
["2013-09-05",22,0]
["2013-09-05",23,0]
["2013-09-05",24,0]
["2013-09-06",1,0]
["2013-09-06",2,0]
["2013-09-06",3,0]
["2013-09-06",4,0]
["2013-09-06",5,0]
["2013-09-06",6,0]
["2013-09-06",7,0]
["2013-09-06",8,0]
["2013-09-06",9,0]
["2013-09-06",10,0]
["2013-09-06",11,0]
["2013-09-06",12,0]
["2013-09-06",13,0]
["2013-09-06",14,0]
["2013-09-06",15,0]
["2013-09-06",16,0]
["2013-09-06",17,0]
[{"$f":"A1607+1","v":"2013-09-06"},18,0]
["2013-09-06",19,0]
["2013-09-06",20,0]
["2013-09-06",21,0]
["2013-09-06",22,0]
["2013-09-06",23,0]
["2013-09-06",24,0]
["2013-09-07",1,0]
["2013-09-07",2,0]
["2013-09-07",3,0]
["2013-09-07",4,0]
["2013-09-07",5,0]
["2013-09-07",6,0]
["2013-09-07",7,0]
["2013-09-07",8,0]
["2013-09-07",9,0]
["2013-09-07",10,0]
["2013-09-07",11,0]
["2013-09-07",12,0]
["2013-09-07",13,0]
["2013-09-07",14,0]
["2013-09-07",15,0]
["2013-09-07",16,0]
["2013-09-07",17,0]
["2013-09-07",18,0]
["2013-09-07",19,0]
["2013-09-07",20,0]
["2013-09-07",21,0]
["2013-09-07",22,0]
["2013-09-07",23,0]
["2013-09-07",24,0]
["2013-09-08",1,0]
["2013-09-08",2,0]
["2013-09-08",3,0]
["2013-09-08",4,0]
["2013-09-08",5,0]
["2013-09-08",6,0]
["2013-09-08",7,0]
["2013-09-08",8,0]
["2013-09-08",9,0]
["2013-09-08",10,0]
["2013-09-08",11,0]
["2013-09-08",12,0]
["2013-09-08",13,0]
["2013-09-08",14,0]
["2013-09-08",15,0]
["2013-09-08",16,0]
["2013-09-08",17,0]
["2013-09-08",18,0]
["2013-09-08",19,0]
["2013-09-08",20,0]
["2013-09-08",21,0]
["2013-09-08",22,0]
["2013-09-08",23,0]
["2013-09-08",24,0]
["2013-09-09",1,0]
["2013-09-09",2,0]
["2013-09-09",3,0]
["2013-09-09",4,0]
["2013-09-09",5,0]
["2013-09-09",6,0]
["2013-09-09",7,0]
["2013-09-09",8,0]
["2013-09-09",9,0]
[{"$f":"A1671+1","v":"2013-09-09"},10,0]
["2013-09-09",11,0]
["2013-09-09",12,0]
["2013-09-09",13,0]
["2013-09-09",14,0]
["2013-09-09",15,0]
["2013-09-09",16,0]
["2013-09-09",17,0]
["2013-09-09",18,0]
["2013-09-09",19,0]
["2013-09-09",20,0]
["2013-09-09",21,0]
["2013-09-09",22,0]
["2013-09-09",23,0]
["2013-09-09",24,0]
["2013-09-10",1,0]
["2013-09-10",2,0]
["2013-09-10",3,0]
["2013-09-10",4,0]
["2013-09-10",5,0]
["2013-09-10",6,0]
["2013-09-10",7,0]
["2013-09-10",8,0]
["2013-09-10",9,0]
["2013-09-10",10,0]
["2013-09-10",11,0]
["2013-09-10",12,0]
["2013-09-10",13,0]
["2013-09-10",14,0]
["2013-09-10",15,0]
["2013-09-10",16,0]
["2013-09-10",17,0]
["2013-09-10",18,0]
["2013-09-10",19,0]
["2013-09-10",20,0]
["2013-09-10",21,0]
["2013-09-10",22,0]
["2013-09-10",23,0]
["2013-09-10",24,0]
["2013-09-11",1,0]
["2013-09-11",2,0]
["2013-09-11",3,0]
["2013-09-11",4,0]
["2013-09-11",5,0]
["2013-09-11",6,0]
["2013-09-11",7,0]
["2013-09-11",8,0]
["2013-09-11",9,0]
["2013-09-11",10,0]
["2013-09-11",11,0]
["2013-09-11",12,0]
["2013-09-11",13,0]
["2013-09-11",14,0]
["2013-09-11",15,0]
["2013-09-11",16,0]
["2013-09-11",17,0]
["2013-09-11",18,0]
["2013-09-11",19,0]
["2013-09-11",20,0]
["2013-09-11",21,0]
["2013-09-11",22,0]
["2013-09-11",23,0]
["2013-09-11",24,0]
["2013-09-12",1,0]
[{"$f":"A1735+1","v":"2013-09-12"},2,0]
["2013-09-12",3,0]
["2013-09-12",4,0]
["2013-09-12",5,0]
["2013-09-12",6,0]
["2013-09-12",7,0]
["2013-09-12",8,0]
["2013-09-12",9,0]
["2013-09-12",10,0]
["2013-09-12",11,0]
["2013-09-12",12,0]
["2013-09-12",13,0]
["2013-09-12",14,0]
["2013-09-12",15,0]
["2013-09-12",16,0]
["2013-09-12",17,0]
["2013-09-12",18,0]
["2013-09-12",19,0]
["2013-09-12",20,0]
["2013-09-12",21,0]
["2013-09-12",22,0]
["2013-09-12",23,0]
["2013-09-12",24,0]
["2013-09-13",1,0]
["2013-09-13",2,0]
["2013-09-13",3,0]
["2013-09-13",4,0]
["2013-09-13",5,0]
["2013-09-13",6,0]
["2013-09-13",7,0]
["2013-09-13",8,0]
["2013-09-13",9,0]
["2013-09-13",10,0]
["2013-09-13",11,0]
["2013-09-13",12,0]
["2013-09-13",13,0]
["2013-09-13",14,0]
["2013-09-13",15,0]
["2013-09-13",16,0]
["2013-09-13",17,0]
["2013-09-13",18,0]
["2013-09-13",19,0]
["2013-09-13",20,0]
["2013-09-13",21,0]
["2013-09-13",22,0]
["2013-09-13",23,0]
["2013-09-13",24,0]
["2013-09-14",1,0]
["2013-09-14",2,0]
["2013-09-14",3,0]
["2013-09-14",4,0]
["2013-09-14",5,0]
["2013-09-14",6,0]
["2013-09-14",7,0]
["2013-09-14",8,0]
["2013-09-14",9,0]
["2013-09-14",10,0]
["2013-09-14",11,0]
["2013-09-14",12,0]
["2013-09-14",13,0]
["2013-09-14",14,0]
["2013-09-14",15,0]
["2013-09-14",16,0]
["2013-09-14",17,0]
[{"$f":"A1799+1","v":"2013-09-14"},18,0]
["2013-09-14",19,0]
["2013-09-14",20,0]
["2013-09-14",21,0]
["2013-09-14",22,0]
["2013-09-14",23,0]
["2013-09-14",24,0]
["2013-09-15",1,0]
["2013-09-15",2,0]
["2013-09-15",3,0]
["2013-09-15",4,0]
["2013-09-15",5,0]
["2013-09-15",6,0]
["2013-09-15",7,0]
["2013-09-15",8,0]
["2013-09-15",9,0]
["2013-09-15",10,0]
["2013-09-15",11,0]
["2013-09-15",12,0]
["2013-09-15",13,0]
["2013-09-15",14,0]
["2013-09-15",15,0]
["2013-09-15",16,0]
["2013-09-15",17,0]
["2013-09-15",18,0]
["2013-09-15",19,0]
["2013-09-15",20,0]
["2013-09-15",21,0]
["2013-09-15",22,0]
["2013-09-15",23,0]
["2013-09-15",24,0]
["2013-09-16",1,0]
["2013-09-16",2,0]
["2013-09-16",3,0]
["2013-09-16",4,0]
["2013-09-16",5,0]
["2013-09-16",6,0]
["2013-09-16",7,0]
["2013-09-16",8,0]
["2013-09-16",9,0]
["2013-09-16",10,0]
["2013-09-16",11,0]
["2013-09-16",12,0]
["2013-09-16",13,0]
["2013-09-16",14,0]
["2013-09-16",15,0]
["2013-09-16",16,0]
["2013-09-16",17,0]
["2013-09-16",18,0]
["2013-09-16",19,0]
["2013-09-16",20,0]
["2013-09-16",21,0]
["2013-09-16",22,0]
["2013-09-16",23,0]
["2013-09-16",24,0]
["2013-09-17",1,0]
["2013-09-17",2,0]
["2013-09-17",3,0]
["2013-09-17",4,0]
["2013-09-17",5,0]
["2013-09-17",6,0]
["2013-09-17",7,0]
["2013-09-17",8,0]
["2013-09-17",9,0]
[{"$f":"A1863+1","v":"2013-09-17"},10,0]
["2013-09-17",11,0]
["2013-09-17",12,0]
["2013-09-17",13,0]
["2013-09-17",14,0]
["2013-09-17",15,0]
["2013-09-17",16,0]
["2013-09-17",17,0]
["2013-09-17",18,0]
["2013-09-17",19,0]
["2013-09-17",20,0]
["2013-09-17",21,0]
["2013-09-17",22,0]
["2013-09-17",23,0]
["2013-09-17",24,0]
["2013-09-18",1,0]
["2013-09-18",2,0]
["2013-09-18",3,0]
["2013-09-18",4,0]
["2013-09-18",5,0]
["2013-09-18",6,0]
["2013-09-18",7,0]
["2013-09-18",8,0]
["2013-09-18",9,0]
["2013-09-18",10,0]
["2013-09-18",11,0]
["2013-09-18",12,0]
["2013-09-18",13,0]
["2013-09-18",14,0]
["2013-09-18",15,0]
["2013-09-18",16,0]
["2013-09-18",17,0]
["2013-09-18",18,0]
["2013-09-18",19,0]
["2013-09-18",20,0]
["2013-09-18",21,0]
["2013-09-18",22,0]
["2013-09-18",23,0]
["2013-09-18",24,0]
["2013-09-19",1,0]
["2013-09-19",2,0]
["2013-09-19",3,0]
["2013-09-19",4,0]
["2013-09-19",5,0]
["2013-09-19",6,0]
["2013-09-19",7,0]
["2013-09-19",8,0]
["2013-09-19",9,0]
["2013-09-19",10,0]
["2013-09-19",11,0]
["2013-09-19",12,0]
["2013-09-19",13,0]
["2013-09-19",14,0]
["2013-09-19",15,0]
["2013-09-19",16,0]
["2013-09-19",17,0]
["2013-09-19",18,0]
["2013-09-19",19,0]
["2013-09-19",20,0]
["2013-09-19",21,0]
["2013-09-19",22,0]
["2013-09-19",23,0]
["2013-09-19",24,0]
["2013-09-20",1,0]
[{"$f":"A1927+1","v":"2013-09-20"},2,0]
["2013-09-20",3,0]
["2013-09-20",4,0]
["2013-09-20",5,0]
["2013-09-20",6,0]
["2013-09-20",7,0]
["2013-09-20",8,0]
["2013-09-20",9,0]
["2013-09-20",10,0]
["2013-09-20",11,0]
["2013-09-20",12,0]
["2013-09-20",13,0]
["2013-09-20",14,0]
["2013-09-20",15,0]
["2013-09-20",16,0]
["2013-09-20",17,0]
["2013-09-20",18,0]
["2013-09-20",19,0]
["2013-09-20",20,0]
["2013-09-20",21,0]
["2013-09-20",22,0]
["2013-09-20",23,0]
["2013-09-20",24,0]
["2013-09-21",1,0]
["2013-09-21",2,0]
["2013-09-21",3,0]
["2013-09-21",4,0]
["2013-09-21",5,0]
["2013-09-21",6,0]
["2013-09-21",7,0]
["2013-09-21",8,0]
["2013-09-21",9,0]
["2013-09-21",10,0]
["2013-09-21",11,0]
["2013-09-21",12,0]
["2013-09-21",13,0]
["2013-09-21",14,0]
["2013-09-21",15,0]
["2013-09-21",16,0]
["2013-09-21",17,0]
["2013-09-21",18,0]
["2013-09-21",19,0]
["2013-09-21",20,0]
["2013-09-21",21,0]
["2013-09-21",22,0]
["2013-09-21",23,0]
["2013-09-21",24,0]
["2013-09-22",1,0]
["2013-09-22",2,0]
["2013-09-22",3,0]
["2013-09-22",4,0]
["2013-09-22",5,0]
["2013-09-22",6,0]
["2013-09-22",7,0]
["2013-09-22",8,0]
["2013-09-22",9,0]
["2013-09-22",10,0]
["2013-09-22",11,0]
["2013-09-22",12,0]
["2013-09-22",13,0]
["2013-09-22",14,0]
["2013-09-22",15,0]
["2013-09-22",16,0]
["2013-09-22",17,0]
[{"$f":"A1991+1","v":"2013-09-22"},18,0]
["2013-09-22",19,0]
["2013-09-22",20,0]
["2013-09-22",21,0]
["2013-09-22",22,0]
["2013-09-22",23,0]
["2013-09-22",24,0]
["2013-09-23",1,0]
["2013-09-23",2,0]
["2013-09-23",3,0]
["2013-09-23",4,0]
["2013-09-23",5,0]
["2013-09-23",6,0]
["2013-09-23",7,0]
["2013-09-23",8,0]
["2013-09-23",9,0]
["2013-09-23",10,0]
["2013-09-23",11,0]
["2013-09-23",12,0]
["2013-09-23",13,0]
["2013-09-23",14,0]
["2013-09-23",15,0]
["2013-09-23",16,0]
["2013-09-23",17,0]
["2013-09-23",18,0]
["2013-09-23",19,0]
["2013-09-23",20,0]
["2013-09-23",21,0]
["2013-09-23",22,0]
["2013-09-23",23,0]
["2013-09-23",24,0]
["2013-09-24",1,0]
["2013-09-24",2,0]
["2013-09-24",3,0]
["2013-09-24",4,0]
["2013-09-24",5,0]
["2013-09-24",6,0]
["2013-09-24",7,0]
["2013-09-24",8,0]
["2013-09-24",9,0]
["2013-09-24",10,0]
["2013-09-24",11,0]
["2013-09-24",12,0]
["2013-09-24",13,0]
["2013-09-24",14,0]
["2013-09-24",15,0]
["2013-09-24",16,0]
["2013-09-24",17,0]
["2013-09-24",18,0]
["2013-09-24",19,0]
["2013-09-24",20,0]
["2013-09-24",21,0]
["2013-09-24",22,0]
["2013-09-24",23,0]
["2013-09-24",24,0]
["2013-09-25",1,0]
["2013-09-25",2,0]
["2013-09-25",3,0]
["2013-09-25",4,0]
["2013-09-25",5,0]
["2013-09-25",6,0]
["2013-09-25",7,0]
["2013-09-25",8,0]
["2013-09-25",9,0]
[{"$f":"A2055+1","v":"2013-09-25"},10,0]
["2013-09-25",11,0]
["2013-09-25",12,0]
["2013-09-25",13,0]
["2013-09-25",14,0]
["2013-09-25",15,0]
["2013-09-25",16,0]
["2013-09-25",17,0]
["2013-09-25",18,0]
["2013-09-25",19,0]
["2013-09-25",20,0]
["2013-09-25",21,0]
["2013-09-25",22,0]
["2013-09-25",23,0]
["2013-09-25",24,0]
["2013-09-26",1,0]
["2013-09-26",2,0]
["2013-09-26",3,0]
["2013-09-26",4,0]
["2013-09-26",5,0]
["2013-09-26",6,0]
["2013-09-26",7,0]
["2013-09-26",8,0]
["2013-09-26",9,0]
["2013-09-26",10,0]
["2013-09-26",11,0]
["2013-09-26",12,0]
["2013-09-26",13,0]
["2013-09-26",14,0]
["2013-09-26",15,0]
["2013-09-26",16,0]
["2013-09-26",17,0]
["2013-09-26",18,0]
["2013-09-26",19,0]
["2013-09-26",20,0]
["2013-09-26",21,0]
["2013-09-26",22,0]
["2013-09-26",23,0]
["2013-09-26",24,0]
["2013-09-27",1,0]
["2013-09-27",2,0]
["2013-09-27",3,0]
["2013-09-27",4,0]
["2013-09-27",5,0]
["2013-09-27",6,0]
["2013-09-27",7,0]
["2013-09-27",8,0]
["2013-09-27",9,0]
["2013-09-27",10,0]
["2013-09-27",11,0]
["2013-09-27",12,0]
["2013-09-27",13,0]
["2013-09-27",14,0]
["2013-09-27",15,0]
["2013-09-27",16,0]
["2013-09-27",17,0]
["2013-09-27",18,0]
["2013-09-27",19,0]
["2013-09-27",20,0]
["2013-09-27",21,0]
["2013-09-27",22,0]
["2013-09-27",23,0]
["2013-09-27",24,0]
["2013-09-28",1,0]
[{"$f":"A2119+1","v":"2013-09-28"},2,0]
["2013-09-28",3,0]
["2013-09-28",4,0]
["2013-09-28",5,0]
["2013-09-28",6,0]
["2013-09-28",7,0]
["2013-09-28",8,0]
["2013-09-28",9,0]
["2013-09-28",10,0]
["2013-09-28",11,0]
["2013-09-28",12,0]
["2013-09-28",13,0]
["2013-09-28",14,0]
["2013-09-28",15,0]
["2013-09-28",16,0]
["2013-09-28",17,0]
["2013-09-28",18,0]
["2013-09-28",19,0]
["2013-09-28",20,0]
["2013-09-28",21,0]
["2013-09-28",22,0]
["2013-09-28",23,0]
["2013-09-28",24,0]
["2013-09-29",1,0]
["2013-09-29",2,0]
["2013-09-29",3,0]
["2013-09-29",4,0]
["2013-09-29",5,0]
["2013-09-29",6,0]
["2013-09-29",7,0]
["2013-09-29",8,0]
["2013-09-29",9,0]
["2013-09-29",10,0]
["2013-09-29",11,0]
["2013-09-29",12,0]
["2013-09-29",13,0]
["2013-09-29",14,0]
["2013-09-29",15,0]
["2013-09-29",16,0]
["2013-09-29",17,0]
["2013-09-29",18,0]
["2013-09-29",19,0]
["2013-09-29",20,0]
["2013-09-29",21,0]
["2013-09-29",22,0]
["2013-09-29",23,0]
["2013-09-29",24,0]
["2013-09-30",{"$f":"B2166","v":1},0]
["2013-09-30",{"$f":"B2167","v":2},1]
["2013-09-30",3,2]
["2013-09-30",4,3]
["2013-09-30",5,4]
["2013-09-30",6,5]
["2013-09-30",7,6]
["2013-09-30",8,7]
["2013-09-30",9,8]
["2013-09-30",10,9]
["2013-09-30",11,10]
["2013-09-30",12,11]
["2013-09-30",13,12]
["2013-09-30",14,13]
["2013-09-30",15,14]
["2013-09-30",16,15]
["2013-09-30",17,16]
[{"$f":"A2183+1","v":"2013-09-30"},18,17]
["2013-09-30",19,18]
["2013-09-30",20,19]
["2013-09-30",21,20]
["2013-09-30",22,21]
["2013-09-30",23,22]
["2013-09-30",24,23]

{"sheet":"fakturace","index":3,"n_rows":2223,"n_cols":7,"rows_kept":2223,"cut":false,"hidden":false,"merged":[]}
[]
[]
[]
[null,null,"Fakturace výroby z obnovitelných zdrojů elektřiny",null,null,null,{"$f":"'namerena data'!B2","v":"Třetí čtvrtletí 2013"}]
[]
[]
[null,"Název pole","měření [MWh]","cena Denní trh [EUR/MWh]","kurz ČNB [Kč/EUR]","cenový tarif [Kc/MWh]","fakturační hodnota [Kč]"]
[null,"Suma",{"$f":"SUBTOTAL(9,C16:C2223)","v":0.27600000000000002}," -"," -"," -",{"$f":"SUBTOTAL(9,G16:G2223)","v":140.01830864999999}]
[null,"Minimum",{"$f":"SUBTOTAL(5,C16:C2223)","v":0},{"$f":"SUBTOTAL(5,D16:D2223)","v":0.1},{"$f":"SUBTOTAL(5,E16:E2223)","v":25.625},{"$f":"SUBTOTAL(5,F16:F2223)","v":-597.43100000000004},{"$f":"SUBTOTAL(5,G16:G2223)","v":-1.0617799999999999}]
[null,"Maximum",{"$f":"SUBTOTAL(4,C16:C2223)","v":2.3E-2},{"$f":"SUBTOTAL(4,D16:D2223)","v":83},{"$f":"SUBTOTAL(4,E16:E2223)","v":26.05},{"$f":"SUBTOTAL(4,F16:F2223)","v":1543.8899999999999},{"$f":"SUBTOTAL(4,G16:G2223)","v":19.551109999999998}]
[null,"Aritmetický průměr prostý",{"$f":"IF(SUBTOTAL(9,C16:C2223)=0,\" -\",SUBTOTAL(1,C16:C2223))","v":1.25E-4},{"$f":"IF(SUBTOTAL(9,D16:D2223)=0,\" -\",SUBTOTAL(1,D16:D2223))","v":39.066743659420318},{"$f":"IF(SUBTOTAL(9,E16:E2223)=0,\" -\",SUBTOTAL(1,E16:E2223))","v":25.853695652174007},{"$f":"IF(SUBTOTAL(9,F16:F2223)=0,\" -\",SUBTOTAL(1,F16:F2223))","v":409.77553020833267},{"$f":"IF(SUBTOTAL(9,G16:G2223)=0,\" -\",SUBTOTAL(1,G16:G2223))","v":6.3414089062499998E-2}]
[]
[null,"Cenový tarif","hodinová cena denního trhu snížena o :",null,null,600,"Kč/MWh"]
[]
[null,"Datum","měření [MWh]",{"$f":"D7","v":"cena Denní trh [EUR/MWh]"},"kurz ČNB [Kč/EUR]","cenový tarif [Kc/MWh]","fakturační hodnota [tis. Kč]"]
[null,{"$f":"'namerena data'!A6+('namerena data'!B6-1)/24","v":"2013-07-01"},{"$f":"IF('namerena data'!C6>0,'namerena data'!C6/1000,0)","v":0},25,25.975000000000001,{"$f":"+IF(AND(ISNUMBER(D16),ISNUMBER(E16)),D16*E16-$F$13,0)","v":49.375},{"$f":"+(C16*F16)","v":0}]
[null,{"$f":"'namerena data'!A7+('namerena data'!B7-1)/24","v":"2013-07-01T01:00:00"},{"$f":"IF('namerena data'!C7>0,'namerena data'!C7/1000,0)","v":0},19.03,25.975000000000001,{"$f":"+IF(AND(ISNUMBER(D17),ISNUMBER(E17)),D17*E17-$F$13,0)","v":-105.69574999999992},{"$f":"+(C17*F17)","v":0}]
[null,{"$f":"'namerena data'!A8+('namerena data'!B8-1)/24","v":"2013-07-01T02:00:00"},{"$f":"IF('namerena data'!C8>0,'namerena data'!C8/1000,0)","v":0},17.100000000000001,25.975000000000001,-155.82749999999993,0]
[null,{"$f":"'namerena data'!A9+('namerena data'!B9-1)/24","v":"2013-07-01T03:00:00"},{"$f":"IF('namerena data'!C9>0,'namerena data'!C9/1000,0)","v":0},16.5,25.975000000000001,-171.41249999999997,0]
[null,{"$f":"'namerena data'!A10+('namerena data'!B10-1)/24","v":"2013-07-01T04:00:00"},{"$f":"IF('namerena data'!C10>0,'namerena data'!C10/1000,0)","v":0},16.5,25.975000000000001,-171.41249999999997,0]
[null,{"$f":"'namerena data'!A11+('namerena data'!B11-1)/24","v":"2013-07-01T05:00:00"},{"$f":"IF('namerena data'!C11>0,'namerena data'!C11/1000,0)","v":0},19,25.975000000000001,-106.47499999999997,0]
[null,{"$f":"'namerena data'!A12+('namerena data'!B12-1)/24","v":"2013-07-01T06:00:00"},{"$f":"IF('namerena data'!C12>0,'namerena data'!C12/1000,0)","v":0},33.130000000000003,25.975000000000001,260.55175000000008,0]
[null,{"$f":"'namerena data'!A13+('namerena data'!B13-1)/24","v":"2013-07-01T07:00:00"},{"$f":"IF('namerena data'!C13>0,'namerena data'!C13/1000,0)","v":0},43.5,25.975000000000001,529.91250000000014,0]
[null,{"$f":"'namerena data'!A14+('namerena data'!B14-1)/24","v":"2013-07-01T08:00:00"},{"$f":"IF('namerena data'!C14>0,'namerena data'!C14/1000,0)","v":0},45.79,25.975000000000001,589.39525000000003,0]
[null,{"$f":"'namerena data'!A15+('namerena data'!B15-1)/24","v":"2013-07-01T09:00:00"},{"$f":"IF('namerena data'!C15>0,'namerena data'!C15/1000,0)","v":0},42.5,25.975000000000001,503.9375,0]
[null,{"$f":"'namerena data'!A16+('namerena data'!B16-1)/24","v":"2013-07-01T10:00:00"},{"$f":"IF('namerena data'!C16>0,'namerena data'!C16/1000,0)","v":0},41.65,25.975000000000001,481.8587500000001,0]
[null,{"$f":"'namerena data'!A17+('namerena data'!B17-1)/24","v":"2013-07-01T11:00:00"},{"$f":"IF('namerena data'!C17>0,'namerena data'!C17/1000,0)","v":0},40.5,25.975000000000001,451.98749999999995,0]
[null,{"$f":"'namerena data'!A18+('namerena data'!B18-1)/24","v":"2013-07-01T12:00:00"},{"$f":"IF('namerena data'!C18>0,'namerena data'!C18/1000,0)","v":0},37.35,25.975000000000001,370.1662500000001,0]
[null,{"$f":"'namerena data'!A19+('namerena data'!B19-1)/24","v":"2013-07-01T13:00:00"},{"$f":"IF('namerena data'!C19>0,'namerena data'!C19/1000,0)","v":0},37.25,25.975000000000001,367.56875000000002,0]
[null,{"$f":"'namerena data'!A20+('namerena data'!B20-1)/24","v":"2013-07-01T14:00:00"},{"$f":"IF('namerena data'!C20>0,'namerena data'!C20/1000,0)","v":0},36,25.975000000000001,335.1,0]
[null,{"$f":"'namerena data'!A21+('namerena data'!B21-1)/24","v":"2013-07-01T15:00:00"},{"$f":"IF('namerena data'!C21>0,'namerena data'!C21/1000,0)","v":0},38,25.975000000000001,387.05000000000007,0]
[null,{"$f":"'namerena data'!A22+('namerena data'!B22-1)/24","v":"2013-07-01T16:00:00"},{"$f":"IF('namerena data'!C22>0,'namerena data'!C22/1000,0)","v":0},37.700000000000003,25.975000000000001,379.25750000000016,0]
[null,{"$f":"'namerena data'!A23+('namerena data'!B23-1)/24","v":"2013-07-01T17:00:00"},{"$f":"IF('namerena data'!C23>0,'namerena data'!C23/1000,0)","v":0},39,25.975000000000001,413.02500000000009,0]
[null,{"$f":"'namerena data'!A24+('namerena data'!B24-1)/24","v":"2013-07-01T18:00:00"},{"$f":"IF('namerena data'!C24>0,'namerena data'!C24/1000,0)","v":0},40.450000000000003,25.975000000000001,450.68875000000003,0]
[null,{"$f":"'namerena data'!A25+('namerena data'!B25-1)/24","v":"2013-07-01T19:00:00"},{"$f":"IF('namerena data'!C25>0,'namerena data'!C25/1000,0)","v":0},44,25.975000000000001,542.90000000000009,0]
[null,{"$f":"'namerena data'!A26+('namerena data'!B26-1)/24","v":"2013-07-01T20:00:00"},{"$f":"IF('namerena data'!C26>0,'namerena data'!C26/1000,0)","v":0},44.65,25.975000000000001,559.78375000000005,0]
[null,{"$f":"'namerena data'!A27+('namerena data'!B27-1)/24","v":"2013-07-01T21:00:00"},{"$f":"IF('namerena data'!C27>0,'namerena data'!C27/1000,0)","v":0},43.53,25.975000000000001,530.69175000000018,0]
[null,{"$f":"'namerena data'!A28+('namerena data'!B28-1)/24","v":"2013-07-01T22:00:00"},{"$f":"IF('namerena data'!C28>0,'namerena data'!C28/1000,0)","v":0},40,25.975000000000001,439,0]
[null,{"$f":"'namerena data'!A29+('namerena data'!B29-1)/24","v":"2013-07-01T23:00:00"},{"$f":"IF('namerena data'!C29>0,'namerena data'!C29/1000,0)","v":0},33.549999999999997,25.975000000000001,271.46124999999995,0]
[null,{"$f":"'namerena data'!A30+('namerena data'!B30-1)/24","v":"2013-07-02"},{"$f":"IF('namerena data'!C30>0,'namerena data'!C30/1000,0)","v":0},30.58,25.99,194.77419999999995,0]
[null,{"$f":"'namerena data'!A31+('namerena data'!B31-1)/24","v":"2013-07-02T01:00:00"},{"$f":"IF('namerena data'!C31>0,'namerena data'!C31/1000,0)","v":0},27,25.99,101.7299999999999,0]
[null,{"$f":"'namerena data'!A32+('namerena data'!B32-1)/24","v":"2013-07-02T02:00:00"},{"$f":"IF('namerena data'!C32>0,'namerena data'!C32/1000,0)","v":0},24.03,25.99,24.539700000000039,0]
[null,{"$f":"'namerena data'!A33+('namerena data'!B33-1)/24","v":"2013-07-02T03:00:00"},{"$f":"IF('namerena data'!C33>0,'namerena data'!C33/1000,0)","v":0},22.9,25.99,-4.8290000000000646,0]
[null,{"$f":"'namerena data'!A34+('namerena data'!B34-1)/24","v":"2013-07-02T04:00:00"},{"$f":"IF('namerena data'!C34>0,'namerena data'!C34/1000,0)","v":0},23.5,25.99,10.764999999999986,0]
[null,{"$f":"'namerena data'!A35+('namerena data'!B35-1)/24","v":"2013-07-02T05:00:00"},{"$f":"IF('namerena data'!C35>0,'namerena data'!C35/1000,0)","v":0},25.88,25.99,72.621199999999931,0]
[null,{"$f":"'namerena data'!A36+('namerena data'!B36-1)/24","v":"2013-07-02T06:00:00"},{"$f":"IF('namerena data'!C36>0,'namerena data'!C36/1000,0)","v":0},37.67,25.99,379.04329999999993,0]
[null,{"$f":"'namerena data'!A37+('namerena data'!B37-1)/24","v":"2013-07-02T07:00:00"},{"$f":"IF('namerena data'!C37>0,'namerena data'!C37/1000,0)","v":0},48.23,25.99,653.4976999999999,0]
[null,{"$f":"'namerena data'!A38+('namerena data'!B38-1)/24","v":"2013-07-02T08:00:00"},{"$f":"IF('namerena data'!C38>0,'namerena data'!C38/1000,0)","v":0},46.09,25.99,597.87910000000011,0]
[null,{"$f":"'namerena data'!A39+('namerena data'!B39-1)/24","v":"2013-07-02T09:00:00"},{"$f":"IF('namerena data'!C39>0,'namerena data'!C39/1000,0)","v":0},45.7,25.99,587.74299999999994,0]
[null,{"$f":"'namerena data'!A40+('namerena data'!B40-1)/24","v":"2013-07-02T10:00:00"},{"$f":"IF('namerena data'!C40>0,'namerena data'!C40/1000,0)","v":0},43.15,25.99,521.46849999999995,0]
[null,{"$f":"'namerena data'!A41+('namerena data'!B41-1)/24","v":"2013-07-02T11:00:00"},{"$f":"IF('namerena data'!C41>0,'namerena data'!C41/1000,0)","v":0},44.59,25.99,558.89409999999998,0]
[null,{"$f":"'namerena data'!A42+('namerena data'!B42-1)/24","v":"2013-07-02T12:00:00"},{"$f":"IF('namerena data'!C42>0,'namerena data'!C42/1000,0)","v":0},40.6,25.99,455.19399999999996,0]
[null,{"$f":"'namerena data'!A43+('namerena data'!B43-1)/24","v":"2013-07-02T13:00:00"},{"$f":"IF('namerena data'!C43>0,'namerena data'!C43/1000,0)","v":0},39.119999999999997,25.99,416.72879999999986,0]
[null,{"$f":"'namerena data'!A44+('namerena data'!B44-1)/24","v":"2013-07-02T14:00:00"},{"$f":"IF('namerena data'!C44>0,'namerena data'!C44/1000,0)","v":0},36.9,25.99,359.03099999999995,0]
[null,{"$f":"'namerena data'!A45+('namerena data'!B45-1)/24","v":"2013-07-02T15:00:00"},{"$f":"IF('namerena data'!C45>0,'namerena data'!C45/1000,0)","v":0},38.5,25.99,400.6149999999999,0]
[null,{"$f":"'namerena data'!A46+('namerena data'!B46-1)/24","v":"2013-07-02T16:00:00"},{"$f":"IF('namerena data'!C46>0,'namerena data'!C46/1000,0)","v":0},38,25.99,387.61999999999989,0]
[null,{"$f":"'namerena data'!A47+('namerena data'!B47-1)/24","v":"2013-07-02T17:00:00"},{"$f":"IF('namerena data'!C47>0,'namerena data'!C47/1000,0)","v":0},39.049999999999997,25.99,414.90949999999987,0]
[null,{"$f":"'namerena data'!A48+('namerena data'!B48-1)/24","v":"2013-07-02T18:00:00"},{"$f":"IF('namerena data'!C48>0,'namerena data'!C48/1000,0)","v":0},41.8,25.99,486.38199999999983,0]
[null,{"$f":"'namerena data'!A49+('namerena data'!B49-1)/24","v":"2013-07-02T19:00:00"},{"$f":"IF('namerena data'!C49>0,'namerena data'!C49/1000,0)","v":0},45.2,25.99,574.74800000000005,0]
[null,{"$f":"'namerena data'!A50+('namerena data'!B50-1)/24","v":"2013-07-02T20:00:00"},{"$f":"IF('namerena data'!C50>0,'namerena data'!C50/1000,0)","v":0},44.5,25.99,556.55499999999984,0]
[null,{"$f":"'namerena data'!A51+('namerena data'!B51-1)/24","v":"2013-07-02T21:00:00"},{"$f":"IF('namerena data'!C51>0,'namerena data'!C51/1000,0)","v":0},43.04,25.99,518.6096,0]
[null,{"$f":"'namerena data'!A52+('namerena data'!B52-1)/24","v":"2013-07-02T22:00:00"},{"$f":"IF('namerena data'!C52>0,'namerena data'!C52/1000,0)","v":0},41.5,25.99,478.58500000000004,0]
[null,{"$f":"'namerena data'!A53+('namerena data'!B53-1)/24","v":"2013-07-02T23:00:00"},{"$f":"IF('namerena data'!C53>0,'namerena data'!C53/1000,0)","v":0},34,25.99,283.65999999999997,0]
[null,{"$f":"'namerena data'!A54+('namerena data'!B54-1)/24","v":"2013-07-03"},{"$f":"IF('namerena data'!C54>0,'namerena data'!C54/1000,0)","v":0},31.43,26.02,217.80859999999996,0]
[null,{"$f":"'namerena data'!A55+('namerena data'!B55-1)/24","v":"2013-07-03T01:00:00"},{"$f":"IF('namerena data'!C55>0,'namerena data'!C55/1000,0)","v":0},26.54,26.02,90.570799999999963,0]
[null,{"$f":"'namerena data'!A56+('namerena data'!B56-1)/24","v":"2013-07-03T02:00:00"},{"$f":"IF('namerena data'!C56>0,'namerena data'!C56/1000,0)","v":0},22.62,26.02,-11.427599999999984,0]
[null,{"$f":"'namerena data'!A57+('namerena data'!B57-1)/24","v":"2013-07-03T03:00:00"},{"$f":"IF('namerena data'!C57>0,'namerena data'!C57/1000,0)","v":0},21.65,26.02,-36.66700000000003,0]
[null,{"$f":"'namerena data'!A58+('namerena data'!B58-1)/24","v":"2013-07-03T04:00:00"},{"$f":"IF('namerena data'!C58>0,'namerena data'!C58/1000,0)","v":0},22.21,26.02,-22.09579999999994,0]
[null,{"$f":"'namerena data'!A59+('namerena data'!B59-1)/24","v":"2013-07-03T05:00:00"},{"$f":"IF('namerena data'!C59>0,'namerena data'!C59/1000,0)","v":0},26.18,26.02,81.203599999999938,0]
[null,{"$f":"'namerena data'!A60+('namerena data'!B60-1)/24","v":"2013-07-03T06:00:00"},{"$f":"IF('namerena data'!C60>0,'namerena data'!C60/1000,0)","v":0},32.9,26.02,256.05799999999999,0]
[null,{"$f":"'namerena data'!A61+('namerena data'!B61-1)/24","v":"2013-07-03T07:00:00"},{"$f":"IF('namerena data'!C61>0,'namerena data'!C61/1000,0)","v":0},41.5,26.02,479.82999999999993,0]
[null,{"$f":"'namerena data'!A62+('namerena data'!B62-1)/24","v":"2013-07-03T08:00:00"},{"$f":"IF('namerena data'!C62>0,'namerena data'!C62/1000,0)","v":0},48.8,26.02,669.77599999999984,0]
[null,{"$f":"'namerena data'!A63+('namerena data'!B63-1)/24","v":"2013-07-03T09:00:00"},{"$f":"IF('namerena data'!C63>0,'namerena data'!C63/1000,0)","v":0},49.85,26.02,697.09699999999998,0]
[null,{"$f":"'namerena data'!A64+('namerena data'!B64-1)/24","v":"2013-07-03T10:00:00"},{"$f":"IF('namerena data'!C64>0,'namerena data'!C64/1000,0)","v":0},51.68,26.02,744.71360000000004,0]
[null,{"$f":"'namerena data'!A65+('namerena data'!B65-1)/24","v":"2013-07-03T11:00:00"},{"$f":"IF('namerena data'!C65>0,'namerena data'!C65/1000,0)","v":0},53.84,26.02,800.91679999999997,0]
[null,{"$f":"'namerena data'!A66+('namerena data'!B66-1)/24","v":"2013-07-03T12:00:00"},{"$f":"IF('namerena data'!C66>0,'namerena data'!C66/1000,0)","v":0},52,26.02,753.04,0]
[null,{"$f":"'namerena data'!A67+('namerena data'!B67-1)/24","v":"2013-07-03T13:00:00"},{"$f":"IF('namerena data'!C67>0,'namerena data'!C67/1000,0)","v":0},50.42,26.02,711.92840000000001,0]
[null,{"$f":"'namerena data'!A68+('namerena data'!B68-1)/24","v":"2013-07-03T14:00:00"},{"$f":"IF('namerena data'!C68>0,'namerena data'!C68/1000,0)","v":0},46.39,26.02,607.06780000000003,0]
[null,{"$f":"'namerena data'!A69+('namerena data'!B69-1)/24","v":"2013-07-03T15:00:00"},{"$f":"IF('namerena data'!C69>0,'namerena data'!C69/1000,0)","v":0},46.22,26.02,602.64439999999991,0]
[null,{"$f":"'namerena data'!A70+('namerena data'!B70-1)/24","v":"2013-07-03T16:00:00"},{"$f":"IF('namerena data'!C70>0,'namerena data'!C70/1000,0)","v":0},44.9,26.02,568.298,0]
[null,{"$f":"'namerena data'!A71+('namerena data'!B71-1)/24","v":"2013-07-03T17:00:00"},{"$f":"IF('namerena data'!C71>0,'namerena data'!C71/1000,0)","v":0},45.87,26.02,{"$f":"+IF(AND(ISNUMBER(D81),ISNUMBER(E81)),D81*E81-$F$13,0)","v":593.53739999999993},{"$f":"+(C81*F81)","v":0}]
[null,{"$f":"'namerena data'!A72+('namerena data'!B72-1)/24","v":"2013-07-03T18:00:00"},{"$f":"IF('namerena data'!C72>0,'namerena data'!C72/1000,0)","v":0},46.77,26.02,616.95540000000005,0]
[null,{"$f":"'namerena data'!A73+('namerena data'!B73-1)/24","v":"2013-07-03T19:00:00"},{"$f":"IF('namerena data'!C73>0,'namerena data'!C73/1000,0)","v":0},47.58,26.02,638.03160000000003,0]
[null,{"$f":"'namerena data'!A74+('namerena data'!B74-1)/24","v":"2013-07-03T20:00:00"},{"$f":"IF('namerena data'!C74>0,'namerena data'!C74/1000,0)","v":0},43.37,26.02,528.48739999999998,0]
[null,{"$f":"'namerena data'!A75+('namerena data'!B75-1)/24","v":"2013-07-03T21:00:00"},{"$f":"IF('namerena data'!C75>0,'namerena data'!C75/1000,0)","v":0},39.9,26.02,438.19799999999987,0]
[null,{"$f":"'namerena data'!A76+('namerena data'!B76-1)/24","v":"2013-07-03T22:00:00"},{"$f":"IF('namerena data'!C76>0,'namerena data'!C76/1000,0)","v":0},43,26.02,518.8599999999999,0]
[null,{"$f":"'namerena data'!A77+('namerena data'!B77-1)/24","v":"2013-07-03T23:00:00"},{"$f":"IF('namerena data'!C77>0,'namerena data'!C77/1000,0)","v":0},35.29,26.02,318.24579999999992,0]
[null,{"$f":"'namerena data'!A78+('namerena data'!B78-1)/24","v":"2013-07-04"},{"$f":"IF('namerena data'!C78>0,'namerena data'!C78/1000,0)","v":0},32.380000000000003,26.05,243.49900000000014,0]
[null,{"$f":"'namerena data'!A79+('namerena data'!B79-1)/24","v":"2013-07-04T01:00:00"},{"$f":"IF('namerena data'!C79>0,'namerena data'!C79/1000,0)","v":0},29.62,26.05,171.601,0]
[null,{"$f":"'namerena data'!A80+('namerena data'!B80-1)/24","v":"2013-07-04T02:00:00"},{"$f":"IF('namerena data'!C80>0,'namerena data'!C80/1000,0)","v":0},27.44,26.05,114.81200000000001,0]
[null,{"$f":"'namerena data'!A81+('namerena data'!B81-1)/24","v":"2013-07-04T03:00:00"},{"$f":"IF('namerena data'!C81>0,'namerena data'!C81/1000,0)","v":0},25.14,26.05,54.897000000000048,0]
[null,{"$f":"'namerena data'!A82+('namerena data'!B82-1)/24","v":"2013-07-04T04:00:00"},{"$f":"IF('namerena data'!C82>0,'namerena data'!C82/1000,0)","v":0},26.83,26.05,98.921499999999924,0]
[null,{"$f":"'namerena data'!A83+('namerena data'!B83-1)/24","v":"2013-07-04T05:00:00"},{"$f":"IF('namerena data'!C83>0,'namerena data'!C83/1000,0)","v":0},28.59,26.05,144.76949999999999,0]
[null,{"$f":"'namerena data'!A84+('namerena data'!B84-1)/24","v":"2013-07-04T06:00:00"},{"$f":"IF('namerena data'!C84>0,'namerena data'!C84/1000,0)","v":0},36.799999999999997,26.05,358.64,0]
[null,{"$f":"'namerena data'!A85+('namerena data'!B85-1)/24","v":"2013-07-04T07:00:00"},{"$f":"IF('namerena data'!C85>0,'namerena data'!C85/1000,0)","v":0},48.71,26.05,668.89550000000008,0]
[null,{"$f":"'namerena data'!A86+('namerena data'!B86-1)/24","v":"2013-07-04T08:00:00"},{"$f":"IF('namerena data'!C86>0,'namerena data'!C86/1000,0)","v":0},53.92,26.05,804.61599999999999,0]
[null,{"$f":"'namerena data'!A87+('namerena data'!B87-1)/24","v":"2013-07-04T09:00:00"},{"$f":"IF('namerena data'!C87>0,'namerena data'!C87/1000,0)","v":0},55.15,26.05,836.65750000000003,0]
[null,{"$f":"'namerena data'!A88+('namerena data'!B88-1)/24","v":"2013-07-04T10:00:00"},{"$f":"IF('namerena data'!C88>0,'namerena data'!C88/1000,0)","v":0},55.53,26.05,846.55650000000014,0]
[null,{"$f":"'namerena data'!A89+('namerena data'!B89-1)/24","v":"2013-07-04T11:00:00"},{"$f":"IF('namerena data'!C89>0,'namerena data'!C89/1000,0)","v":0},58,26.05,910.90000000000009,0]
[null,{"$f":"'namerena data'!A90+('namerena data'!B90-1)/24","v":"2013-07-04T12:00:00"},{"$f":"IF('namerena data'!C90>0,'namerena data'!C90/1000,0)","v":0},52.76,26.05,774.39799999999991,0]
[null,{"$f":"'namerena data'!A91+('namerena data'!B91-1)/24","v":"2013-07-04T13:00:00"},{"$f":"IF('namerena data'!C91>0,'namerena data'!C91/1000,0)","v":0},48.59,26.05,665.76950000000011,0]
[null,{"$f":"'namerena data'!A92+('namerena data'!B92-1)/24","v":"2013-07-04T14:00:00"},{"$f":"IF('namerena data'!C92>0,'namerena data'!C92/1000,0)","v":0},44.6,26.05,561.83000000000015,0]
[null,{"$f":"'namerena data'!A93+('namerena data'!B93-1)/24","v":"2013-07-04T15:00:00"},{"$f":"IF('namerena data'!C93>0,'namerena data'!C93/1000,0)","v":0},41.37,26.05,477.68849999999998,0]
[null,{"$f":"'namerena data'!A94+('namerena data'!B94-1)/24","v":"2013-07-04T16:00:00"},{"$f":"IF('namerena data'!C94>0,'namerena data'!C94/1000,0)","v":0},40.71,26.05,460.49549999999999,0]
[null,{"$f":"'namerena data'!A95+('namerena data'!B95-1)/24","v":"2013-07-04T17:00:00"},{"$f":"IF('namerena data'!C95>0,'namerena data'!C95/1000,0)","v":0},41.21,26.05,473.52050000000008,0]
[null,{"$f":"'namerena data'!A96+('namerena data'!B96-1)/24","v":"2013-07-04T18:00:00"},{"$f":"IF('namerena data'!C96>0,'namerena data'!C96/1000,0)","v":0},45,26.05,572.25,0]
[null,{"$f":"'namerena data'!A97+('namerena data'!B97-1)/24","v":"2013-07-04T19:00:00"},{"$f":"IF('namerena data'!C97>0,'namerena data'!C97/1000,0)","v":0},47.4,26.05,634.77,0]
[null,{"$f":"'namerena data'!A98+('namerena data'!B98-1)/24","v":"2013-07-04T20:00:00"},{"$f":"IF('namerena data'!C98>0,'namerena data'!C98/1000,0)","v":0},44.3,26.05,554.01499999999987,0]
[null,{"$f":"'namerena data'!A99+('namerena data'!B99-1)/24","v":"2013-07-04T21:00:00"},{"$f":"IF('namerena data'!C99>0,'namerena data'!C99/1000,0)","v":0},41.8,26.05,488.88999999999987,0]
[null,{"$f":"'namerena data'!A100+('namerena data'!B100-1)/24","v":"2013-07-04T22:00:00"},{"$f":"IF('namerena data'!C100>0,'namerena data'!C100/1000,0)","v":0},43.09,26.05,522.49450000000002,0]
[null,{"$f":"'namerena data'!A101+('namerena data'!B101-1)/24","v":"2013-07-04T23:00:00"},{"$f":"IF('namerena data'!C101>0,'namerena data'!C101/1000,0)","v":0},35.5,26.05,324.77499999999998,0]
[null,{"$f":"'namerena data'!A102+('namerena data'!B102-1)/24","v":"2013-07-05"},{"$f":"IF('namerena data'!C102>0,'namerena data'!C102/1000,0)","v":0},30,26.05,181.5,0]
[null,{"$f":"'namerena data'!A103+('namerena data'!B103-1)/24","v":"2013-07-05T01:00:00"},{"$f":"IF('namerena data'!C103>0,'namerena data'!C103/1000,0)","v":0},28.92,26.05,153.3660000000001,0]
[null,{"$f":"'namerena data'!A104+('namerena data'!B104-1)/24","v":"2013-07-05T02:00:00"},{"$f":"IF('namerena data'!C104>0,'namerena data'!C104/1000,0)","v":0},26.77,26.05,97.358500000000049,0]
[null,{"$f":"'namerena data'!A105+('namerena data'!B105-1)/24","v":"2013-07-05T03:00:00"},{"$f":"IF('namerena data'!C105>0,'namerena data'!C105/1000,0)","v":0},26,26.05,77.300000000000068,0]
[null,{"$f":"'namerena data'!A106+('namerena data'!B106-1)/24","v":"2013-07-05T04:00:00"},{"$f":"IF('namerena data'!C106>0,'namerena data'!C106/1000,0)","v":0},26.9,26.05,100.745,0]
[null,{"$f":"'namerena data'!A107+('namerena data'!B107-1)/24","v":"2013-07-05T05:00:00"},{"$f":"IF('namerena data'!C107>0,'namerena data'!C107/1000,0)","v":0},28.3,26.05,137.21500000000003,0]
[null,{"$f":"'namerena data'!A108+('namerena data'!B108-1)/24","v":"2013-07-05T06:00:00"},{"$f":"IF('namerena data'!C108>0,'namerena data'!C108/1000,0)","v":0},27,26.05,103.35000000000002,0]
[null,{"$f":"'namerena data'!A109+('namerena data'!B109-1)/24","v":"2013-07-05T07:00:00"},{"$f":"IF('namerena data'!C109>0,'namerena data'!C109/1000,0)","v":0},27.25,26.05,109.86250000000007,0]
[null,{"$f":"'namerena data'!A110+('namerena data'!B110-1)/24","v":"2013-07-05T08:00:00"},{"$f":"IF('namerena data'!C110>0,'namerena data'!C110/1000,0)","v":0},42,26.05,494.10000000000014,0]
[null,{"$f":"'namerena data'!A111+('namerena data'!B111-1)/24","v":"2013-07-05T09:00:00"},{"$f":"IF('namerena data'!C111>0,'namerena data'!C111/1000,0)","v":0},44,26.05,546.20000000000005,0]
[null,{"$f":"'namerena data'!A112+('namerena data'!B112-1)/24","v":"2013-07-05T10:00:00"},{"$f":"IF('namerena data'!C112>0,'namerena data'!C112/1000,0)","v":0},46.18,26.05,602.98900000000003,0]
[null,{"$f":"'namerena data'!A113+('namerena data'!B113-1)/24","v":"2013-07-05T11:00:00"},{"$f":"IF('namerena data'!C113>0,'namerena data'!C113/1000,0)","v":0},48.55,26.05,664.72749999999996,0]
[null,{"$f":"'namerena data'!A114+('namerena data'!B114-1)/24","v":"2013-07-05T12:00:00"},{"$f":"IF('namerena data'!C114>0,'namerena data'!C114/1000,0)","v":0},45.4,26.05,582.67000000000007,0]
[null,{"$f":"'namerena data'!A115+('namerena data'!B115-1)/24","v":"2013-07-05T13:00:00"},{"$f":"IF('namerena data'!C115>0,'namerena data'!C115/1000,0)","v":0},39.799999999999997,26.05,436.78999999999996,0]
[null,{"$f":"'namerena data'!A116+('namerena data'!B116-1)/24","v":"2013-07-05T14:00:00"},{"$f":"IF('namerena data'!C116>0,'namerena data'!C116/1000,0)","v":0},36.64,26.05,354.47200000000009,0]
[null,{"$f":"'namerena data'!A117+('namerena data'!B117-1)/24","v":"2013-07-05T15:00:00"},{"$f":"IF('namerena data'!C117>0,'namerena data'!C117/1000,0)","v":0},33.64,26.05,276.322,0]
[null,{"$f":"'namerena data'!A118+('namerena data'!B118-1)/24","v":"2013-07-05T16:00:00"},{"$f":"IF('namerena data'!C118>0,'namerena data'!C118/1000,0)","v":0},34.01,26.05,285.96050000000002,0]
[null,{"$f":"'namerena data'!A119+('namerena data'!B119-1)/24","v":"2013-07-05T17:00:00"},{"$f":"IF('namerena data'!C119>0,'namerena data'!C119/1000,0)","v":0},35,26.05,311.75,0]
[null,{"$f":"'namerena data'!A120+('namerena data'!B120-1)/24","v":"2013-07-05T18:00:00"},{"$f":"IF('namerena data'!C120>0,'namerena data'!C120/1000,0)","v":0},37.35,26.05,372.96750000000009,0]
[null,{"$f":"'namerena data'!A121+('namerena data'!B121-1)/24","v":"2013-07-05T19:00:00"},{"$f":"IF('namerena data'!C121>0,'namerena data'!C121/1000,0)","v":0},39.159999999999997,26.05,420.11799999999994,0]
[null,{"$f":"'namerena data'!A122+('namerena data'!B122-1)/24","v":"2013-07-05T20:00:00"},{"$f":"IF('namerena data'!C122>0,'namerena data'!C122/1000,0)","v":0},35.869999999999997,26.05,334.4135,0]
[null,{"$f":"'namerena data'!A123+('namerena data'!B123-1)/24","v":"2013-07-05T21:00:00"},{"$f":"IF('namerena data'!C123>0,'namerena data'!C123/1000,0)","v":0},34.5,26.05,298.72500000000002,0]
[null,{"$f":"'namerena data'!A124+('namerena data'!B124-1)/24","v":"2013-07-05T22:00:00"},{"$f":"IF('namerena data'!C124>0,'namerena data'!C124/1000,0)","v":0},36.47,26.05,350.04349999999999,0]
[null,{"$f":"'namerena data'!A125+('namerena data'!B125-1)/24","v":"2013-07-05T23:00:00"},{"$f":"IF('namerena data'!C125>0,'namerena data'!C125/1000,0)","v":0},30.63,26.05,197.91150000000005,0]
[null,{"$f":"'namerena data'!A126+('namerena data'!B126-1)/24","v":"2013-07-06"},{"$f":"IF('namerena data'!C126>0,'namerena data'!C126/1000,0)","v":0},28.09,26.05,131.74450000000002,0]
[null,{"$f":"'namerena data'!A127+('namerena data'!B127-1)/24","v":"2013-07-06T01:00:00"},{"$f":"IF('namerena data'!C127>0,'namerena data'!C127/1000,0)","v":0},27.4,26.05,113.76999999999998,0]
[null,{"$f":"'namerena data'!A128+('namerena data'!B128-1)/24","v":"2013-07-06T02:00:00"},{"$f":"IF('namerena data'!C128>0,'namerena data'!C128/1000,0)","v":0},26,26.05,77.300000000000068,0]
[null,{"$f":"'namerena data'!A129+('namerena data'!B129-1)/24","v":"2013-07-06T03:00:00"},{"$f":"IF('namerena data'!C129>0,'namerena data'!C129/1000,0)","v":0},24.33,26.05,33.796499999999924,0]
[null,{"$f":"'namerena data'!A130+('namerena data'!B130-1)/24","v":"2013-07-06T04:00:00"},{"$f":"IF('namerena data'!C130>0,'namerena data'!C130/1000,0)","v":0},23.02,26.05,-0.32899999999995089,0]
[null,{"$f":"'namerena data'!A131+('namerena data'!B131-1)/24","v":"2013-07-06T05:00:00"},{"$f":"IF('namerena data'!C131>0,'namerena data'!C131/1000,0)","v":0},22.12,26.05,-23.774000000000001,0]
[null,{"$f":"'namerena data'!A132+('namerena data'!B132-1)/24","v":"2013-07-06T06:00:00"},{"$f":"IF('namerena data'!C132>0,'namerena data'!C132/1000,0)","v":0},23.85,26.05,21.292500000000018,0]
[null,{"$f":"'namerena data'!A133+('namerena data'!B133-1)/24","v":"2013-07-06T07:00:00"},{"$f":"IF('namerena data'!C133>0,'namerena data'!C133/1000,0)","v":0},25.32,26.05,59.586000000000013,0]
[null,{"$f":"'namerena data'!A134+('namerena data'!B134-1)/24","v":"2013-07-06T08:00:00"},{"$f":"IF('namerena data'!C134>0,'namerena data'!C134/1000,0)","v":0},26.84,26.05,99.182000000000016,0]
[null,{"$f":"'namerena data'!A135+('namerena data'!B135-1)/24","v":"2013-07-06T09:00:00"},{"$f":"IF('namerena data'!C135>0,'namerena data'!C135/1000,0)","v":0},26,26.05,{"$f":"+IF(AND(ISNUMBER(D145),ISNUMBER(E145)),D145*E145-$F$13,0)","v":77.300000000000068},{"$f":"+(C145*F145)","v":0}]
[null,{"$f":"'namerena data'!A136+('namerena data'!B136-1)/24","v":"2013-07-06T10:00:00"},{"$f":"IF('namerena data'!C136>0,'namerena data'!C136/1000,0)","v":0},24.33,26.05,33.796499999999924,0]
[null,{"$f":"'namerena data'!A137+('namerena data'!B137-1)/24","v":"2013-07-06T11:00:00"},{"$f":"IF('namerena data'!C137>0,'namerena data'!C137/1000,0)","v":0},21.06,26.05,-51.387000000000057,0]
[null,{"$f":"'namerena data'!A138+('namerena data'!B138-1)/24","v":"2013-07-06T12:00:00"},{"$f":"IF('namerena data'!C138>0,'namerena data'!C138/1000,0)","v":0},17.91,26.05,-133.44450000000001,0]
[null,{"$f":"'namerena data'!A139+('namerena data'!B139-1)/24","v":"2013-07-06T13:00:00"},{"$f":"IF('namerena data'!C139>0,'namerena data'!C139/1000,0)","v":0},14.1,26.05,-232.69499999999999,0]
[null,{"$f":"'namerena data'!A140+('namerena data'!B140-1)/24","v":"2013-07-06T14:00:00"},{"$f":"IF('namerena data'!C140>0,'namerena data'!C140/1000,0)","v":0},11.7,26.05,-295.21500000000003,0]
[null,{"$f":"'namerena data'!A141+('namerena data'!B141-1)/24","v":"2013-07-06T15:00:00"},{"$f":"IF('namerena data'!C141>0,'namerena data'!C141/1000,0)","v":0},12.75,26.05,-267.86250000000001,0]
[null,{"$f":"'namerena data'!A142+('namerena data'!B142-1)/24","v":"2013-07-06T16:00:00"},{"$f":"IF('namerena data'!C142>0,'namerena data'!C142/1000,0)","v":0},16.32,26.05,-174.86399999999998,0]
[null,{"$f":"'namerena data'!A143+('namerena data'!B143-1)/24","v":"2013-07-06T17:00:00"},{"$f":"IF('namerena data'!C143>0,'namerena data'!C143/1000,0)","v":0},21.01,26.05,-52.689499999999953,0]
[null,{"$f":"'namerena data'!A144+('namerena data'!B144-1)/24","v":"2013-07-06T18:00:00"},{"$f":"IF('namerena data'!C144>0,'namerena data'!C144/1000,0)","v":0},27.75,26.05,122.88750000000005,0]
[null,{"$f":"'namerena data'!A145+('namerena data'!B145-1)/24","v":"2013-07-06T19:00:00"},{"$f":"IF('namerena data'!C145>0,'namerena data'!C145/1000,0)","v":0},31.8,26.05,228.39,0]
[null,{"$f":"'namerena data'!A146+('namerena data'!B146-1)/24","v":"2013-07-06T20:00:00"},{"$f":"IF('namerena data'!C146>0,'namerena data'!C146/1000,0)","v":0},31.97,26.05,232.81849999999997,0]
[null,{"$f":"'namerena data'!A147+('namerena data'!B147-1)/24","v":"2013-07-06T21:00:00"},{"$f":"IF('namerena data'!C147>0,'namerena data'!C147/1000,0)","v":0},32.43,26.05,244.80150000000003,0]
[null,{"$f":"'namerena data'!A148+('namerena data'!B148-1)/24","v":"2013-07-06T22:00:00"},{"$f":"IF('namerena data'!C148>0,'namerena data'!C148/1000,0)","v":0},33.26,26.05,266.423,0]
[null,{"$f":"'namerena data'!A149+('namerena data'!B149-1)/24","v":"2013-07-06T23:00:00"},{"$f":"IF('namerena data'!C149>0,'namerena data'!C149/1000,0)","v":0},25.82,26.05,72.61099999999999,0]
[null,{"$f":"'namerena data'!A150+('namerena data'!B150-1)/24","v":"2013-07-07"},{"$f":"IF('namerena data'!C150>0,'namerena data'!C150/1000,0)","v":0},22.45,26.05,-15.177500000000009,0]
[null,{"$f":"'namerena data'!A151+('namerena data'!B151-1)/24","v":"2013-07-07T01:00:00"},{"$f":"IF('namerena data'!C151>0,'namerena data'!C151/1000,0)","v":0},17.940000000000001,26.05,-132.66299999999995,0]
[null,{"$f":"'namerena data'!A152+('namerena data'!B152-1)/24","v":"2013-07-07T02:00:00"},{"$f":"IF('namerena data'!C152>0,'namerena data'!C152/1000,0)","v":0},15.39,26.05,-199.09049999999996,0]
[null,{"$f":"'namerena data'!A153+('namerena data'!B153-1)/24","v":"2013-07-07T03:00:00"},{"$f":"IF('namerena data'!C153>0,'namerena data'!C153/1000,0)","v":0},15.13,26.05,-205.86349999999999,0]
[null,{"$f":"'namerena data'!A154+('namerena data'!B154-1)/24","v":"2013-07-07T04:00:00"},{"$f":"IF('namerena data'!C154>0,'namerena data'!C154/1000,0)","v":0},14.4,26.05,-224.88,0]
[null,{"$f":"'namerena data'!A155+('namerena data'!B155-1)/24","v":"2013-07-07T05:00:00"},{"$f":"IF('namerena data'!C155>0,'namerena data'!C155/1000,0)","v":0},13,26.05,-261.34999999999997,0]
[null,{"$f":"'namerena data'!A156+('namerena data'!B156-1)/24","v":"2013-07-07T06:00:00"},{"$f":"IF('namerena data'!C156>0,'namerena data'!C156/1000,0)","v":0},12.1,26.05,-284.79500000000002,0]
[null,{"$f":"'namerena data'!A157+('namerena data'!B157-1)/24","v":"2013-07-07T07:00:00"},{"$f":"IF('namerena data'!C157>0,'namerena data'!C157/1000,0)","v":0},12.53,26.05,-273.59350000000001,0]
[null,{"$f":"'namerena data'!A158+('namerena data'!B158-1)/24","v":"2013-07-07T08:00:00"},{"$f":"IF('namerena data'!C158>0,'namerena data'!C158/1000,0)","v":0},12.7,26.05,-269.16500000000002,0]
[null,{"$f":"'namerena data'!A159+('namerena data'!B159-1)/24","v":"2013-07-07T09:00:00"},{"$f":"IF('namerena data'!C159>0,'namerena data'!C159/1000,0)","v":0},11,26.05,-313.45,0]
[null,{"$f":"'namerena data'!A160+('namerena data'!B160-1)/24","v":"2013-07-07T10:00:00"},{"$f":"IF('namerena data'!C160>0,'namerena data'!C160/1000,0)","v":0},10.8,26.05,-318.65999999999997,0]
[null,{"$f":"'namerena data'!A161+('namerena data'!B161-1)/24","v":"2013-07-07T11:00:00"},{"$f":"IF('namerena data'!C161>0,'namerena data'!C161/1000,0)","v":0},10.7,26.05,-321.26499999999999,0]
[null,{"$f":"'namerena data'!A162+('namerena data'!B162-1)/24","v":"2013-07-07T12:00:00"},{"$f":"IF('namerena data'!C162>0,'namerena data'!C162/1000,0)","v":0},7,26.05,-417.65,0]
[null,{"$f":"'namerena data'!A163+('namerena data'!B163-1)/24","v":"2013-07-07T13:00:00"},{"$f":"IF('namerena data'!C163>0,'namerena data'!C163/1000,0)","v":0},3.01,26.05,-521.58950000000004,0]
[null,{"$f":"'namerena data'!A164+('namerena data'!B164-1)/24","v":"2013-07-07T14:00:00"},{"$f":"IF('namerena data'!C164>0,'namerena data'!C164/1000,0)","v":0},3,26.05,-521.85,0]
[null,{"$f":"'namerena data'!A165+('namerena data'!B165-1)/24","v":"2013-07-07T15:00:00"},{"$f":"IF('namerena data'!C165>0,'namerena data'!C165/1000,0)","v":0},3.01,26.05,-521.58950000000004,0]
[null,{"$f":"'namerena data'!A166+('namerena data'!B166-1)/24","v":"2013-07-07T16:00:00"},{"$f":"IF('namerena data'!C166>0,'namerena data'!C166/1000,0)","v":0},6.01,26.05,-443.43950000000001,0]
[null,{"$f":"'namerena data'!A167+('namerena data'!B167-1)/24","v":"2013-07-07T17:00:00"},{"$f":"IF('namerena data'!C167>0,'namerena data'!C167/1000,0)","v":0},13.41,26.05,-250.66949999999997,0]
[null,{"$f":"'namerena data'!A168+('namerena data'!B168-1)/24","v":"2013-07-07T18:00:00"},{"$f":"IF('namerena data'!C168>0,'namerena data'!C168/1000,0)","v":0},22,26.05,-26.899999999999977,0]
[null,{"$f":"'namerena data'!A169+('namerena data'!B169-1)/24","v":"2013-07-07T19:00:00"},{"$f":"IF('namerena data'!C169>0,'namerena data'!C169/1000,0)","v":0},29.65,26.05,172.38249999999994,0]
[null,{"$f":"'namerena data'!A170+('namerena data'!B170-1)/24","v":"2013-07-07T20:00:00"},{"$f":"IF('namerena data'!C170>0,'namerena data'!C170/1000,0)","v":0},32.450000000000003,26.05,245.3225000000001,0]
[null,{"$f":"'namerena data'!A171+('namerena data'!B171-1)/24","v":"2013-07-07T21:00:00"},{"$f":"IF('namerena data'!C171>0,'namerena data'!C171/1000,0)","v":0},33.32,26.05,267.98599999999999,0]
[null,{"$f":"'namerena data'!A172+('namerena data'!B172-1)/24","v":"2013-07-07T22:00:00"},{"$f":"IF('namerena data'!C172>0,'namerena data'!C172/1000,0)","v":0},36.4,26.05,348.22,0]
[null,{"$f":"'namerena data'!A173+('namerena data'!B173-1)/24","v":"2013-07-07T23:00:00"},{"$f":"IF('namerena data'!C173>0,'namerena data'!C173/1000,0)","v":0},29.63,26.05,171.86149999999998,0]
[null,{"$f":"'namerena data'!A174+('namerena data'!B174-1)/24","v":"2013-07-08"},{"$f":"IF('namerena data'!C174>0,'namerena data'!C174/1000,0)","v":0},23,25.945,-3.2649999999999864,0]
[null,{"$f":"'namerena data'!A175+('namerena data'!B175-1)/24","v":"2013-07-08T01:00:00"},{"$f":"IF('namerena data'!C175>0,'namerena data'!C175/1000,0)","v":0},21.7,25.945,-36.99350000000004,0]
[null,{"$f":"'namerena data'!A176+('namerena data'!B176-1)/24","v":"2013-07-08T02:00:00"},{"$f":"IF('namerena data'!C176>0,'namerena data'!C176/1000,0)","v":0},22,25.945,-29.210000000000036,0]
[null,{"$f":"'namerena data'!A177+('namerena data'!B177-1)/24","v":"2013-07-08T03:00:00"},{"$f":"IF('namerena data'!C177>0,'namerena data'!C177/1000,0)","v":0},22.3,25.945,-21.426499999999919,0]
[null,{"$f":"'namerena data'!A178+('namerena data'!B178-1)/24","v":"2013-07-08T04:00:00"},{"$f":"IF('namerena data'!C178>0,'namerena data'!C178/1000,0)","v":0},21.93,25.945,-31.02615000000003,0]
[null,{"$f":"'namerena data'!A179+('namerena data'!B179-1)/24","v":"2013-07-08T05:00:00"},{"$f":"IF('namerena data'!C179>0,'namerena data'!C179/1000,0)","v":0},22.33,25.945,-20.648149999999987,0]
[null,{"$f":"'namerena data'!A180+('namerena data'!B180-1)/24","v":"2013-07-08T06:00:00"},{"$f":"IF('namerena data'!C180>0,'namerena data'!C180/1000,0)","v":0},32.86,25.945,252.55269999999996,0]
[null,{"$f":"'namerena data'!A181+('namerena data'!B181-1)/24","v":"2013-07-08T07:00:00"},{"$f":"IF('namerena data'!C181>0,'namerena data'!C181/1000,0)","v":0},40.25,25.945,444.28625000000011,0]
[null,{"$f":"'namerena data'!A182+('namerena data'!B182-1)/24","v":"2013-07-08T08:00:00"},{"$f":"IF('namerena data'!C182>0,'namerena data'!C182/1000,0)","v":0},42.4,25.945,500.06799999999998,0]
[null,{"$f":"'namerena data'!A183+('namerena data'!B183-1)/24","v":"2013-07-08T09:00:00"},{"$f":"IF('namerena data'!C183>0,'namerena data'!C183/1000,0)","v":0},41,25.945,463.74500000000012,0]
[null,{"$f":"'namerena data'!A184+('namerena data'!B184-1)/24","v":"2013-07-08T10:00:00"},{"$f":"IF('namerena data'!C184>0,'namerena data'!C184/1000,0)","v":0},38.1,25.945,388.50450000000001,0]
[null,{"$f":"'namerena data'!A185+('namerena data'!B185-1)/24","v":"2013-07-08T11:00:00"},{"$f":"IF('namerena data'!C185>0,'namerena data'!C185/1000,0)","v":0},36.799999999999997,25.945,354.77599999999995,0]
[null,{"$f":"'namerena data'!A186+('namerena data'!B186-1)/24","v":"2013-07-08T12:00:00"},{"$f":"IF('namerena data'!C186>0,'namerena data'!C186/1000,0)","v":0},33.200000000000003,25.945,261.37400000000014,0]
[null,{"$f":"'namerena data'!A187+('namerena data'!B187-1)/24","v":"2013-07-08T13:00:00"},{"$f":"IF('namerena data'!C187>0,'namerena data'!C187/1000,0)","v":0},31.9,25.945,227.64549999999997,0]
[null,{"$f":"'namerena data'!A188+('namerena data'!B188-1)/24","v":"2013-07-08T14:00:00"},{"$f":"IF('namerena data'!C188>0,'namerena data'!C188/1000,0)","v":0},30.97,25.945,203.51665000000003,0]
[null,{"$f":"'namerena data'!A189+('namerena data'!B189-1)/24","v":"2013-07-08T15:00:00"},{"$f":"IF('namerena data'!C189>0,'namerena data'!C189/1000,0)","v":0},31.07,25.945,206.11115000000007,0]
[null,{"$f":"'namerena data'!A190+('namerena data'!B190-1)/24","v":"2013-07-08T16:00:00"},{"$f":"IF('namerena data'!C190>0,'namerena data'!C190/1000,0)","v":0},31.75,25.945,223.75374999999997,0]
[null,{"$f":"'namerena data'!A191+('namerena data'!B191-1)/24","v":"2013-07-08T17:00:00"},{"$f":"IF('namerena data'!C191>0,'namerena data'!C191/1000,0)","v":0},33.79,25.945,276.68155000000002,0]
[null,{"$f":"'namerena data'!A192+('namerena data'!B192-1)/24","v":"2013-07-08T18:00:00"},{"$f":"IF('namerena data'!C192>0,'namerena data'!C192/1000,0)","v":0},36,25.945,334.02,0]
[null,{"$f":"'namerena data'!A193+('namerena data'!B193-1)/24","v":"2013-07-08T19:00:00"},{"$f":"IF('namerena data'!C193>0,'namerena data'!C193/1000,0)","v":0},40,25.945,437.79999999999995,0]
[null,{"$f":"'namerena data'!A194+('namerena data'!B194-1)/24","v":"2013-07-08T20:00:00"},{"$f":"IF('namerena data'!C194>0,'namerena data'!C194/1000,0)","v":0},38.369999999999997,25.945,395.50964999999997,0]
[null,{"$f":"'namerena data'!A195+('namerena data'!B195-1)/24","v":"2013-07-08T21:00:00"},{"$f":"IF('namerena data'!C195>0,'namerena data'!C195/1000,0)","v":0},36.22,25.945,339.72789999999998,0]
[null,{"$f":"'namerena data'!A196+('namerena data'!B196-1)/24","v":"2013-07-08T22:00:00"},{"$f":"IF('namerena data'!C196>0,'namerena data'!C196/1000,0)","v":0},40,25.945,437.79999999999995,0]
[null,{"$f":"'namerena data'!A197+('namerena data'!B197-1)/24","v":"2013-07-08T23:00:00"},{"$f":"IF('namerena data'!C197>0,'namerena data'!C197/1000,0)","v":0},33.17,25.945,260.59565000000009,0]
[null,{"$f":"'namerena data'!A198+('namerena data'!B198-1)/24","v":"2013-07-09"},{"$f":"IF('namerena data'!C198>0,'namerena data'!C198/1000,0)","v":0},30.8,25.87,196.79600000000005,0]
[null,{"$f":"'namerena data'!A199+('namerena data'!B199-1)/24","v":"2013-07-09T01:00:00"},{"$f":"IF('namerena data'!C199>0,'namerena data'!C199/1000,0)","v":0},29.07,25.87,{"$f":"+IF(AND(ISNUMBER(D209),ISNUMBER(E209)),D209*E209-$F$13,0)","v":152.04090000000008},{"$f":"+(C209*F209)","v":0}]
[null,{"$f":"'namerena data'!A200+('namerena data'!B200-1)/24","v":"2013-07-09T02:00:00"},{"$f":"IF('namerena data'!C200>0,'namerena data'!C200/1000,0)","v":0},28,25.87,124.36000000000001,0]
[null,{"$f":"'namerena data'!A201+('namerena data'!B201-1)/24","v":"2013-07-09T03:00:00"},{"$f":"IF('namerena data'!C201>0,'namerena data'!C201/1000,0)","v":0},26.9,25.87,95.90300000000002,0]
[null,{"$f":"'namerena data'!A202+('namerena data'!B202-1)/24","v":"2013-07-09T04:00:00"},{"$f":"IF('namerena data'!C202>0,'namerena data'!C202/1000,0)","v":0},26.2,25.87,77.793999999999983,0]
[null,{"$f":"'namerena data'!A203+('namerena data'!B203-1)/24","v":"2013-07-09T05:00:00"},{"$f":"IF('namerena data'!C203>0,'namerena data'!C203/1000,0)","v":0},27.8,25.87,119.18600000000004,0]
[null,{"$f":"'namerena data'!A204+('namerena data'!B204-1)/24","v":"2013-07-09T06:00:00"},{"$f":"IF('namerena data'!C204>0,'namerena data'!C204/1000,0)","v":0},36.4,25.87,341.66800000000001,0]
[null,{"$f":"'namerena data'!A205+('namerena data'!B205-1)/24","v":"2013-07-09T07:00:00"},{"$f":"IF('namerena data'!C205>0,'namerena data'!C205/1000,0)","v":0},42.9,25.87,509.82300000000009,0]
[null,{"$f":"'namerena data'!A206+('namerena data'!B206-1)/24","v":"2013-07-09T08:00:00"},{"$f":"IF('namerena data'!C206>0,'namerena data'!C206/1000,0)","v":0},47.44,25.87,627.27279999999996,0]
[null,{"$f":"'namerena data'!A207+('namerena data'!B207-1)/24","v":"2013-07-09T09:00:00"},{"$f":"IF('namerena data'!C207>0,'namerena data'!C207/1000,0)","v":0},45.24,25.87,570.3588000000002,0]
[null,{"$f":"'namerena data'!A208+('namerena data'!B208-1)/24","v":"2013-07-09T10:00:00"},{"$f":"IF('namerena data'!C208>0,'namerena data'!C208/1000,0)","v":0},40.74,25.87,453.94380000000001,0]
[null,{"$f":"'namerena data'!A209+('namerena data'!B209-1)/24","v":"2013-07-09T11:00:00"},{"$f":"IF('namerena data'!C209>0,'namerena data'!C209/1000,0)","v":0},40.200000000000003,25.87,439.97400000000016,0]
[null,{"$f":"'namerena data'!A210+('namerena data'!B210-1)/24","v":"2013-07-09T12:00:00"},{"$f":"IF('namerena data'!C210>0,'namerena data'!C210/1000,0)","v":0},38.93,25.87,407.1191,0]
[null,{"$f":"'namerena data'!A211+('namerena data'!B211-1)/24","v":"2013-07-09T13:00:00"},{"$f":"IF('namerena data'!C211>0,'namerena data'!C211/1000,0)","v":0},37,25.87,357.19000000000005,0]
[null,{"$f":"'namerena data'!A212+('namerena data'!B212-1)/24","v":"2013-07-09T14:00:00"},{"$f":"IF('namerena data'!C212>0,'namerena data'!C212/1000,0)","v":0},36.57,25.87,346.06590000000006,0]
[null,{"$f":"'namerena data'!A213+('namerena data'!B213-1)/24","v":"2013-07-09T15:00:00"},{"$f":"IF('namerena data'!C213>0,'namerena data'!C213/1000,0)","v":0},37.1,25.87,359.77700000000004,0]
[null,{"$f":"'namerena data'!A214+('namerena data'!B214-1)/24","v":"2013-07-09T16:00:00"},{"$f":"IF('namerena data'!C214>0,'namerena data'!C214/1000,0)","v":0},36.78,25.87,351.49860000000001,0]
[null,{"$f":"'namerena data'!A215+('namerena data'!B215-1)/24","v":"2013-07-09T17:00:00"},{"$f":"IF('namerena data'!C215>0,'namerena data'!C215/1000,0)","v":0},38,25.87,383.06000000000006,0]
[null,{"$f":"'namerena data'!A216+('namerena data'!B216-1)/24","v":"2013-07-09T18:00:00"},{"$f":"IF('namerena data'!C216>0,'namerena data'!C216/1000,0)","v":0},38.71,25.87,401.42770000000007,0]
[null,{"$f":"'namerena data'!A217+('namerena data'!B217-1)/24","v":"2013-07-09T19:00:00"},{"$f":"IF('namerena data'!C217>0,'namerena data'!C217/1000,0)","v":0},42.93,25.87,510.59910000000013,0]
[null,{"$f":"'namerena data'!A218+('namerena data'!B218-1)/24","v":"2013-07-09T20:00:00"},{"$f":"IF('namerena data'!C218>0,'namerena data'!C218/1000,0)","v":0},38.04,25.87,384.09479999999996,0]
[null,{"$f":"'namerena data'!A219+('namerena data'!B219-1)/24","v":"2013-07-09T21:00:00"},{"$f":"IF('namerena data'!C219>0,'namerena data'!C219/1000,0)","v":0},37,25.87,357.19000000000005,0]
[null,{"$f":"'namerena data'!A220+('namerena data'!B220-1)/24","v":"2013-07-09T22:00:00"},{"$f":"IF('namerena data'!C220>0,'namerena data'!C220/1000,0)","v":0},40,25.87,434.79999999999995,0]
[null,{"$f":"'namerena data'!A221+('namerena data'!B221-1)/24","v":"2013-07-09T23:00:00"},{"$f":"IF('namerena data'!C221>0,'namerena data'!C221/1000,0)","v":0},35,25.87,305.45000000000005,0]
[null,{"$f":"'namerena data'!A222+('namerena data'!B222-1)/24","v":"2013-07-10"},{"$f":"IF('namerena data'!C222>0,'namerena data'!C222/1000,0)","v":0},29.75,25.93,171.41750000000002,0]
[null,{"$f":"'namerena data'!A223+('namerena data'!B223-1)/24","v":"2013-07-10T01:00:00"},{"$f":"IF('namerena data'!C223>0,'namerena data'!C223/1000,0)","v":0},26.89,25.93,97.2577,0]
[null,{"$f":"'namerena data'!A224+('namerena data'!B224-1)/24","v":"2013-07-10T02:00:00"},{"$f":"IF('namerena data'!C224>0,'namerena data'!C224/1000,0)","v":0},24.96,25.93,47.212800000000016,0]
[null,{"$f":"'namerena data'!A225+('namerena data'!B225-1)/24","v":"2013-07-10T03:00:00"},{"$f":"IF('namerena data'!C225>0,'namerena data'!C225/1000,0)","v":0},23.18,25.93,1.0574000000000296,0]
[null,{"$f":"'namerena data'!A226+('namerena data'!B226-1)/24","v":"2013-07-10T04:00:00"},{"$f":"IF('namerena data'!C226>0,'namerena data'!C226/1000,0)","v":0},22.99,25.93,-3.8693000000000666,0]
[null,{"$f":"'namerena data'!A227+('namerena data'!B227-1)/24","v":"2013-07-10T05:00:00"},{"$f":"IF('namerena data'!C227>0,'namerena data'!C227/1000,0)","v":0},25.11,25.93,51.102300000000014,0]
[null,{"$f":"'namerena data'!A228+('namerena data'!B228-1)/24","v":"2013-07-10T06:00:00"},{"$f":"IF('namerena data'!C228>0,'namerena data'!C228/1000,0)","v":0},33.06,25.93,257.24580000000003,0]
[null,{"$f":"'namerena data'!A229+('namerena data'!B229-1)/24","v":"2013-07-10T07:00:00"},{"$f":"IF('namerena data'!C229>0,'namerena data'!C229/1000,0)","v":0},40.64,25.93,453.79520000000002,0]
[null,{"$f":"'namerena data'!A230+('namerena data'!B230-1)/24","v":"2013-07-10T08:00:00"},{"$f":"IF('namerena data'!C230>0,'namerena data'!C230/1000,0)","v":0},44.07,25.93,542.7351000000001,0]
[null,{"$f":"'namerena data'!A231+('namerena data'!B231-1)/24","v":"2013-07-10T09:00:00"},{"$f":"IF('namerena data'!C231>0,'namerena data'!C231/1000,0)","v":0},42.05,25.93,490.35649999999987,0]
[null,{"$f":"'namerena data'!A232+('namerena data'!B232-1)/24","v":"2013-07-10T10:00:00"},{"$f":"IF('namerena data'!C232>0,'namerena data'!C232/1000,0)","v":0},40.56,25.93,451.72080000000005,0]
[null,{"$f":"'namerena data'!A233+('namerena data'!B233-1)/24","v":"2013-07-10T11:00:00"},{"$f":"IF('namerena data'!C233>0,'namerena data'!C233/1000,0)","v":0},40,25.93,437.20000000000005,0]
[null,{"$f":"'namerena data'!A234+('namerena data'!B234-1)/24","v":"2013-07-10T12:00:00"},{"$f":"IF('namerena data'!C234>0,'namerena data'!C234/1000,0)","v":0},38.1,25.93,387.93299999999999,0]
[null,{"$f":"'namerena data'!A235+('namerena data'!B235-1)/24","v":"2013-07-10T13:00:00"},{"$f":"IF('namerena data'!C235>0,'namerena data'!C235/1000,0)","v":0},36,25.93,333.48,0]
[null,{"$f":"'namerena data'!A236+('namerena data'!B236-1)/24","v":"2013-07-10T14:00:00"},{"$f":"IF('namerena data'!C236>0,'namerena data'!C236/1000,0)","v":0},33.4,25.93,266.0619999999999,0]
[null,{"$f":"'namerena data'!A237+('namerena data'!B237-1)/24","v":"2013-07-10T15:00:00"},{"$f":"IF('namerena data'!C237>0,'namerena data'!C237/1000,0)","v":0},33.99,25.93,281.36070000000007,0]
[null,{"$f":"'namerena data'!A238+('namerena data'!B238-1)/24","v":"2013-07-10T16:00:00"},{"$f":"IF('namerena data'!C238>0,'namerena data'!C238/1000,0)","v":0},34.92,25.93,305.47559999999999,0]
[null,{"$f":"'namerena data'!A239+('namerena data'!B239-1)/24","v":"2013-07-10T17:00:00"},{"$f":"IF('namerena data'!C239>0,'namerena data'!C239/1000,0)","v":0},37,25.93,359.40999999999997,0]
[null,{"$f":"'namerena data'!A240+('namerena data'!B240-1)/24","v":"2013-07-10T18:00:00"},{"$f":"IF('namerena data'!C240>0,'namerena data'!C240/1000,0)","v":0},37.630000000000003,25.93,375.74590000000001,0]
[null,{"$f":"'namerena data'!A241+('namerena data'!B241-1)/24","v":"2013-07-10T19:00:00"},{"$f":"IF('namerena data'!C241>0,'namerena data'!C241/1000,0)","v":0},40.6,25.93,452.75800000000004,0]
[null,{"$f":"'namerena data'!A242+('namerena data'!B242-1)/24","v":"2013-07-10T20:00:00"},{"$f":"IF('namerena data'!C242>0,'namerena data'!C242/1000,0)","v":0},37.4,25.93,369.78199999999993,0]
[null,{"$f":"'namerena data'!A243+('namerena data'!B243-1)/24","v":"2013-07-10T21:00:00"},{"$f":"IF('namerena data'!C243>0,'namerena data'!C243/1000,0)","v":0},36.82,25.93,354.74260000000004,0]
[null,{"$f":"'namerena data'!A244+('namerena data'!B244-1)/24","v":"2013-07-10T22:00:00"},{"$f":"IF('namerena data'!C244>0,'namerena data'!C244/1000,0)","v":0},38.71,25.93,403.75030000000004,0]
[null,{"$f":"'namerena data'!A245+('namerena data'!B245-1)/24","v":"2013-07-10T23:00:00"},{"$f":"IF('namerena data'!C245>0,'namerena data'!C245/1000,0)","v":0},34,25.93,281.62,0]
[null,{"$f":"'namerena data'!A246+('namerena data'!B246-1)/24","v":"2013-07-11"},{"$f":"IF('namerena data'!C246>0,'namerena data'!C246/1000,0)","v":0},30.1,25.91,179.89100000000008,0]
[null,{"$f":"'namerena data'!A247+('namerena data'!B247-1)/24","v":"2013-07-11T01:00:00"},{"$f":"IF('namerena data'!C247>0,'namerena data'!C247/1000,0)","v":0},27.48,25.91,112.0068,0]
[null,{"$f":"'namerena data'!A248+('namerena data'!B248-1)/24","v":"2013-07-11T02:00:00"},{"$f":"IF('namerena data'!C248>0,'namerena data'!C248/1000,0)","v":0},25.04,25.91,48.786399999999958,0]
[null,{"$f":"'namerena data'!A249+('namerena data'!B249-1)/24","v":"2013-07-11T03:00:00"},{"$f":"IF('namerena data'!C249>0,'namerena data'!C249/1000,0)","v":0},23.96,25.91,20.803600000000074,0]
[null,{"$f":"'namerena data'!A250+('namerena data'!B250-1)/24","v":"2013-07-11T04:00:00"},{"$f":"IF('namerena data'!C250>0,'namerena data'!C250/1000,0)","v":0},23.35,25.91,4.9985000000000355,0]
[null,{"$f":"'namerena data'!A251+('namerena data'!B251-1)/24","v":"2013-07-11T05:00:00"},{"$f":"IF('namerena data'!C251>0,'namerena data'!C251/1000,0)","v":0},26.71,25.91,92.056100000000015,0]
[null,{"$f":"'namerena data'!A252+('namerena data'!B252-1)/24","v":"2013-07-11T06:00:00"},{"$f":"IF('namerena data'!C252>0,'namerena data'!C252/1000,0)","v":0},33.32,25.91,263.32119999999998,0]
[null,{"$f":"'namerena data'!A253+('namerena data'!B253-1)/24","v":"2013-07-11T07:00:00"},{"$f":"IF('namerena data'!C253>0,'namerena data'!C253/1000,0)","v":0},41.1,25.91,464.90100000000007,0]
[null,{"$f":"'namerena data'!A254+('namerena data'!B254-1)/24","v":"2013-07-11T08:00:00"},{"$f":"IF('namerena data'!C254>0,'namerena data'!C254/1000,0)","v":0},44.04,25.91,541.07639999999992,0]
[null,{"$f":"'namerena data'!A255+('namerena data'!B255-1)/24","v":"2013-07-11T09:00:00"},{"$f":"IF('namerena data'!C255>0,'namerena data'!C255/1000,0)","v":0},42.24,25.91,494.4384,0]
[null,{"$f":"'namerena data'!A256+('namerena data'!B256-1)/24","v":"2013-07-11T10:00:00"},{"$f":"IF('namerena data'!C256>0,'namerena data'!C256/1000,0)","v":0},41.8,25.91,483.03800000000001,0]
[null,{"$f":"'namerena data'!A257+('namerena data'!B257-1)/24","v":"2013-07-11T11:00:00"},{"$f":"IF('namerena data'!C257>0,'namerena data'!C257/1000,0)","v":0},42.8,25.91,508.94799999999987,0]
[null,{"$f":"'namerena data'!A258+('namerena data'!B258-1)/24","v":"2013-07-11T12:00:00"},{"$f":"IF('namerena data'!C258>0,'namerena data'!C258/1000,0)","v":0},39.799999999999997,25.91,431.21799999999985,0]
[null,{"$f":"'namerena data'!A259+('namerena data'!B259-1)/24","v":"2013-07-11T13:00:00"},{"$f":"IF('namerena data'!C259>0,'namerena data'!C259/1000,0)","v":0},36.869999999999997,25.91,355.30169999999998,0]
[null,{"$f":"'namerena data'!A260+('namerena data'!B260-1)/24","v":"2013-07-11T14:00:00"},{"$f":"IF('namerena data'!C260>0,'namerena data'!C260/1000,0)","v":0},34.67,25.91,298.29970000000003,0]
[null,{"$f":"'namerena data'!A261+('namerena data'!B261-1)/24","v":"2013-07-11T15:00:00"},{"$f":"IF('namerena data'!C261>0,'namerena data'!C261/1000,0)","v":0},34.4,25.91,291.30399999999997,0]
[null,{"$f":"'namerena data'!A262+('namerena data'!B262-1)/24","v":"2013-07-11T16:00:00"},{"$f":"IF('namerena data'!C262>0,'namerena data'!C262/1000,0)","v":0},34.380000000000003,25.91,290.78580000000011,0]
[null,{"$f":"'namerena data'!A263+('namerena data'!B263-1)/24","v":"2013-07-11T17:00:00"},{"$f":"IF('namerena data'!C263>0,'namerena data'!C263/1000,0)","v":0},36.65,25.91,{"$f":"+IF(AND(ISNUMBER(D273),ISNUMBER(E273)),D273*E273-$F$13,0)","v":349.60149999999999},{"$f":"+(C273*F273)","v":0}]
[null,{"$f":"'namerena data'!A264+('namerena data'!B264-1)/24","v":"2013-07-11T18:00:00"},{"$f":"IF('namerena data'!C264>0,'namerena data'!C264/1000,0)","v":0},41.79,25.91,482.77890000000002,0]
[null,{"$f":"'namerena data'!A265+('namerena data'!B265-1)/24","v":"2013-07-11T19:00:00"},{"$f":"IF('namerena data'!C265>0,'namerena data'!C265/1000,0)","v":0},44.57,25.91,554.80870000000004,0]
[null,{"$f":"'namerena data'!A266+('namerena data'!B266-1)/24","v":"2013-07-11T20:00:00"},{"$f":"IF('namerena data'!C266>0,'namerena data'!C266/1000,0)","v":0},39.69,25.91,428.36789999999996,0]
[null,{"$f":"'namerena data'!A267+('namerena data'!B267-1)/24","v":"2013-07-11T21:00:00"},{"$f":"IF('namerena data'!C267>0,'namerena data'!C267/1000,0)","v":0},37.799999999999997,25.91,379.39799999999991,0]
[null,{"$f":"'namerena data'!A268+('namerena data'!B268-1)/24","v":"2013-07-11T22:00:00"},{"$f":"IF('namerena data'!C268>0,'namerena data'!C268/1000,0)","v":0},42,25.91,488.22,0]
[null,{"$f":"'namerena data'!A269+('namerena data'!B269-1)/24","v":"2013-07-11T23:00:00"},{"$f":"IF('namerena data'!C269>0,'namerena data'!C269/1000,0)","v":0},34.03,25.91,281.71730000000002,0]
[null,{"$f":"'namerena data'!A270+('namerena data'!B270-1)/24","v":"2013-07-12"},{"$f":"IF('namerena data'!C270>0,'namerena data'!C270/1000,0)","v":0},31.33,25.975000000000001,213.79674999999997,0]
[null,{"$f":"'namerena data'!A271+('namerena data'!B271-1)/24","v":"2013-07-12T01:00:00"},{"$f":"IF('namerena data'!C271>0,'namerena data'!C271/1000,0)","v":0},28,25.975000000000001,127.30000000000007,0]
[null,{"$f":"'namerena data'!A272+('namerena data'!B272-1)/24","v":"2013-07-12T02:00:00"},{"$f":"IF('namerena data'!C272>0,'namerena data'!C272/1000,0)","v":0},26.54,25.975000000000001,89.376499999999965,0]
[null,{"$f":"'namerena data'!A273+('namerena data'!B273-1)/24","v":"2013-07-12T03:00:00"},{"$f":"IF('namerena data'!C273>0,'namerena data'!C273/1000,0)","v":0},25.6,25.975000000000001,64.960000000000036,0]
[null,{"$f":"'namerena data'!A274+('namerena data'!B274-1)/24","v":"2013-07-12T04:00:00"},{"$f":"IF('namerena data'!C274>0,'namerena data'!C274/1000,0)","v":0},25.4,25.975000000000001,59.764999999999986,0]
[null,{"$f":"'namerena data'!A275+('namerena data'!B275-1)/24","v":"2013-07-12T05:00:00"},{"$f":"IF('namerena data'!C275>0,'namerena data'!C275/1000,0)","v":0},27.9,25.975000000000001,124.70249999999999,0]
[null,{"$f":"'namerena data'!A276+('namerena data'!B276-1)/24","v":"2013-07-12T06:00:00"},{"$f":"IF('namerena data'!C276>0,'namerena data'!C276/1000,0)","v":0},34.6,25.975000000000001,298.73500000000013,0]
[null,{"$f":"'namerena data'!A277+('namerena data'!B277-1)/24","v":"2013-07-12T07:00:00"},{"$f":"IF('namerena data'!C277>0,'namerena data'!C277/1000,0)","v":0},43,25.975000000000001,516.92499999999995,0]
[null,{"$f":"'namerena data'!A278+('namerena data'!B278-1)/24","v":"2013-07-12T08:00:00"},{"$f":"IF('namerena data'!C278>0,'namerena data'!C278/1000,0)","v":0},44.9,25.975000000000001,566.27749999999992,0]
[null,{"$f":"'namerena data'!A279+('namerena data'!B279-1)/24","v":"2013-07-12T09:00:00"},{"$f":"IF('namerena data'!C279>0,'namerena data'!C279/1000,0)","v":0},43.44,25.975000000000001,528.35400000000004,0]
[null,{"$f":"'namerena data'!A280+('namerena data'!B280-1)/24","v":"2013-07-12T10:00:00"},{"$f":"IF('namerena data'!C280>0,'namerena data'!C280/1000,0)","v":0},42.05,25.975000000000001,492.24874999999997,0]
[null,{"$f":"'namerena data'!A281+('namerena data'!B281-1)/24","v":"2013-07-12T11:00:00"},{"$f":"IF('namerena data'!C281>0,'namerena data'!C281/1000,0)","v":0},41.9,25.975000000000001,488.35249999999996,0]
[null,{"$f":"'namerena data'!A282+('namerena data'!B282-1)/24","v":"2013-07-12T12:00:00"},{"$f":"IF('namerena data'!C282>0,'namerena data'!C282/1000,0)","v":0},38.64,25.975000000000001,403.67400000000009,0]
[null,{"$f":"'namerena data'!A283+('namerena data'!B283-1)/24","v":"2013-07-12T13:00:00"},{"$f":"IF('namerena data'!C283>0,'namerena data'!C283/1000,0)","v":0},34.799999999999997,25.975000000000001,303.92999999999995,0]
[null,{"$f":"'namerena data'!A284+('namerena data'!B284-1)/24","v":"2013-07-12T14:00:00"},{"$f":"IF('namerena data'!C284>0,'namerena data'!C284/1000,0)","v":0},32.619999999999997,25.975000000000001,247.30449999999996,0]
[null,{"$f":"'namerena data'!A285+('namerena data'!B285-1)/24","v":"2013-07-12T15:00:00"},{"$f":"IF('namerena data'!C285>0,'namerena data'!C285/1000,0)","v":0},31.45,25.975000000000001,216.91375000000005,0]
[null,{"$f":"'namerena data'!A286+('namerena data'!B286-1)/24","v":"2013-07-12T16:00:00"},{"$f":"IF('namerena data'!C286>0,'namerena data'!C286/1000,0)","v":0},31.03,25.975000000000001,206.00425000000007,0]
[null,{"$f":"'namerena data'!A287+('namerena data'!B287-1)/24","v":"2013-07-12T17:00:00"},{"$f":"IF('namerena data'!C287>0,'namerena data'!C287/1000,0)","v":0},32.630000000000003,25.975000000000001,247.56425000000013,0]
[null,{"$f":"'namerena data'!A288+('namerena data'!B288-1)/24","v":"2013-07-12T18:00:00"},{"$f":"IF('namerena data'!C288>0,'namerena data'!C288/1000,0)","v":0},37.49,25.975000000000001,373.80275000000006,0]
[null,{"$f":"'namerena data'!A289+('namerena data'!B289-1)/24","v":"2013-07-12T19:00:00"},{"$f":"IF('namerena data'!C289>0,'namerena data'!C289/1000,0)","v":0},40.299999999999997,25.975000000000001,446.79250000000002,0]
[null,{"$f":"'namerena data'!A290+('namerena data'!B290-1)/24","v":"2013-07-12T20:00:00"},{"$f":"IF('namerena data'!C290>0,'namerena data'!C290/1000,0)","v":0},39.24,25.975000000000001,419.25900000000013,0]
[null,{"$f":"'namerena data'!A291+('namerena data'!B291-1)/24","v":"2013-07-12T21:00:00"},{"$f":"IF('namerena data'!C291>0,'namerena data'!C291/1000,0)","v":0},36.6,25.975000000000001,350.68500000000006,0]
[null,{"$f":"'namerena data'!A292+('namerena data'!B292-1)/24","v":"2013-07-12T22:00:00"},{"$f":"IF('namerena data'!C292>0,'namerena data'!C292/1000,0)","v":0},40.619999999999997,25.975000000000001,455.10449999999992,0]
[null,{"$f":"'namerena data'!A293+('namerena data'!B293-1)/24","v":"2013-07-12T23:00:00"},{"$f":"IF('namerena data'!C293>0,'namerena data'!C293/1000,0)","v":0},34.630000000000003,25.975000000000001,299.51425000000006,0]
[null,{"$f":"'namerena data'!A294+('namerena data'!B294-1)/24","v":"2013-07-13"},{"$f":"IF('namerena data'!C294>0,'namerena data'!C294/1000,0)","v":0},33.32,25.975000000000001,265.48700000000008,0]
[null,{"$f":"'namerena data'!A295+('namerena data'!B295-1)/24","v":"2013-07-13T01:00:00"},{"$f":"IF('namerena data'!C295>0,'namerena data'!C295/1000,0)","v":0},29.14,25.975000000000001,156.91150000000005,0]
[null,{"$f":"'namerena data'!A296+('namerena data'!B296-1)/24","v":"2013-07-13T02:00:00"},{"$f":"IF('namerena data'!C296>0,'namerena data'!C296/1000,0)","v":0},27.2,25.975000000000001,106.51999999999998,0]
[null,{"$f":"'namerena data'!A297+('namerena data'!B297-1)/24","v":"2013-07-13T03:00:00"},{"$f":"IF('namerena data'!C297>0,'namerena data'!C297/1000,0)","v":0},26,25.975000000000001,75.350000000000023,0]
[null,{"$f":"'namerena data'!A298+('namerena data'!B298-1)/24","v":"2013-07-13T04:00:00"},{"$f":"IF('namerena data'!C298>0,'namerena data'!C298/1000,0)","v":0},25.02,25.975000000000001,49.894499999999994,0]
[null,{"$f":"'namerena data'!A299+('namerena data'!B299-1)/24","v":"2013-07-13T05:00:00"},{"$f":"IF('namerena data'!C299>0,'namerena data'!C299/1000,0)","v":0},24,25.975000000000001,23.400000000000091,0]
[null,{"$f":"'namerena data'!A300+('namerena data'!B300-1)/24","v":"2013-07-13T06:00:00"},{"$f":"IF('namerena data'!C300>0,'namerena data'!C300/1000,0)","v":0},26.09,25.975000000000001,77.687750000000051,0]
[null,{"$f":"'namerena data'!A301+('namerena data'!B301-1)/24","v":"2013-07-13T07:00:00"},{"$f":"IF('namerena data'!C301>0,'namerena data'!C301/1000,0)","v":0},30,25.975000000000001,179.25,0]
[null,{"$f":"'namerena data'!A302+('namerena data'!B302-1)/24","v":"2013-07-13T08:00:00"},{"$f":"IF('namerena data'!C302>0,'namerena data'!C302/1000,0)","v":0},33,25.975000000000001,257.17500000000007,0]
[null,{"$f":"'namerena data'!A303+('namerena data'!B303-1)/24","v":"2013-07-13T09:00:00"},{"$f":"IF('namerena data'!C303>0,'namerena data'!C303/1000,0)","v":0},32.22,25.975000000000001,236.91449999999998,0]
[null,{"$f":"'namerena data'!A304+('namerena data'!B304-1)/24","v":"2013-07-13T10:00:00"},{"$f":"IF('namerena data'!C304>0,'namerena data'!C304/1000,0)","v":0},30,25.975000000000001,179.25,0]
[null,{"$f":"'namerena data'!A305+('namerena data'!B305-1)/24","v":"2013-07-13T11:00:00"},{"$f":"IF('namerena data'!C305>0,'namerena data'!C305/1000,0)","v":0},29.2,25.975000000000001,158.47000000000003,0]
[null,{"$f":"'namerena data'!A306+('namerena data'!B306-1)/24","v":"2013-07-13T12:00:00"},{"$f":"IF('namerena data'!C306>0,'namerena data'!C306/1000,0)","v":0},25.5,25.975000000000001,62.362500000000068,0]
[null,{"$f":"'namerena data'!A307+('namerena data'!B307-1)/24","v":"2013-07-13T13:00:00"},{"$f":"IF('namerena data'!C307>0,'namerena data'!C307/1000,0)","v":0},23.31,25.975000000000001,5.4772500000000264,0]
[null,{"$f":"'namerena data'!A308+('namerena data'!B308-1)/24","v":"2013-07-13T14:00:00"},{"$f":"IF('namerena data'!C308>0,'namerena data'!C308/1000,0)","v":0},22.29,25.975000000000001,-21.01724999999999,0]
[null,{"$f":"'namerena data'!A309+('namerena data'!B309-1)/24","v":"2013-07-13T15:00:00"},{"$f":"IF('namerena data'!C309>0,'namerena data'!C309/1000,0)","v":0},21.99,25.975000000000001,-28.809750000000008,0]
[null,{"$f":"'namerena data'!A310+('namerena data'!B310-1)/24","v":"2013-07-13T16:00:00"},{"$f":"IF('namerena data'!C310>0,'namerena data'!C310/1000,0)","v":0},23.51,25.975000000000001,10.672250000000076,0]
[null,{"$f":"'namerena data'!A311+('namerena data'!B311-1)/24","v":"2013-07-13T17:00:00"},{"$f":"IF('namerena data'!C311>0,'namerena data'!C311/1000,0)","v":0},29.05,25.975000000000001,154.57375000000002,0]
[null,{"$f":"'namerena data'!A312+('namerena data'!B312-1)/24","v":"2013-07-13T18:00:00"},{"$f":"IF('namerena data'!C312>0,'namerena data'!C312/1000,0)","v":0},33.770000000000003,25.975000000000001,277.17575000000011,0]
[null,{"$f":"'namerena data'!A313+('namerena data'!B313-1)/24","v":"2013-07-13T19:00:00"},{"$f":"IF('namerena data'!C313>0,'namerena data'!C313/1000,0)","v":0},34.770000000000003,25.975000000000001,303.15075000000013,0]
[null,{"$f":"'namerena data'!A314+('namerena data'!B314-1)/24","v":"2013-07-13T20:00:00"},{"$f":"IF('namerena data'!C314>0,'namerena data'!C314/1000,0)","v":0},32.56,25.975000000000001,245.74600000000009,0]
[null,{"$f":"'namerena data'!A315+('namerena data'!B315-1)/24","v":"2013-07-13T21:00:00"},{"$f":"IF('namerena data'!C315>0,'namerena data'!C315/1000,0)","v":0},32.96,25.975000000000001,256.13600000000008,0]
[null,{"$f":"'namerena data'!A316+('namerena data'!B316-1)/24","v":"2013-07-13T22:00:00"},{"$f":"IF('namerena data'!C316>0,'namerena data'!C316/1000,0)","v":0},32.950000000000003,25.975000000000001,255.87625000000014,0]
[null,{"$f":"'namerena data'!A317+('namerena data'!B317-1)/24","v":"2013-07-13T23:00:00"},{"$f":"IF('namerena data'!C317>0,'namerena data'!C317/1000,0)","v":0},29.33,25.975000000000001,161.84675000000004,0]
[null,{"$f":"'namerena data'!A318+('namerena data'!B318-1)/24","v":"2013-07-14"},{"$f":"IF('namerena data'!C318>0,'namerena data'!C318/1000,0)","v":0},28.11,25.975000000000001,130.15724999999998,0]
[null,{"$f":"'namerena data'!A319+('namerena data'!B319-1)/24","v":"2013-07-14T01:00:00"},{"$f":"IF('namerena data'!C319>0,'namerena data'!C319/1000,0)","v":0},20.399999999999999,25.975000000000001,-70.110000000000014,0]
[null,{"$f":"'namerena data'!A320+('namerena data'!B320-1)/24","v":"2013-07-14T02:00:00"},{"$f":"IF('namerena data'!C320>0,'namerena data'!C320/1000,0)","v":0},17.850000000000001,25.975000000000001,-136.34624999999994,0]
[null,{"$f":"'namerena data'!A321+('namerena data'!B321-1)/24","v":"2013-07-14T03:00:00"},{"$f":"IF('namerena data'!C321>0,'namerena data'!C321/1000,0)","v":0},14.36,25.975000000000001,-226.99899999999997,0]
[null,{"$f":"'namerena data'!A322+('namerena data'!B322-1)/24","v":"2013-07-14T04:00:00"},{"$f":"IF('namerena data'!C322>0,'namerena data'!C322/1000,0)","v":0},13.5,25.975000000000001,-249.33749999999998,0]
[null,{"$f":"'namerena data'!A323+('namerena data'!B323-1)/24","v":"2013-07-14T05:00:00"},{"$f":"IF('namerena data'!C323>0,'namerena data'!C323/1000,0)","v":0},11.74,25.975000000000001,-295.05349999999999,0]
[null,{"$f":"'namerena data'!A324+('namerena data'!B324-1)/24","v":"2013-07-14T06:00:00"},{"$f":"IF('namerena data'!C324>0,'namerena data'!C324/1000,0)","v":0},13,25.975000000000001,-262.32499999999999,0]
[null,{"$f":"'namerena data'!A325+('namerena data'!B325-1)/24","v":"2013-07-14T07:00:00"},{"$f":"IF('namerena data'!C325>0,'namerena data'!C325/1000,0)","v":0},14.45,25.975000000000001,-224.66125,0]
[null,{"$f":"'namerena data'!A326+('namerena data'!B326-1)/24","v":"2013-07-14T08:00:00"},{"$f":"IF('namerena data'!C326>0,'namerena data'!C326/1000,0)","v":0},15,25.975000000000001,-210.375,0]
[null,{"$f":"'namerena data'!A327+('namerena data'!B327-1)/24","v":"2013-07-14T09:00:00"},{"$f":"IF('namerena data'!C327>0,'namerena data'!C327/1000,0)","v":0},17,25.975000000000001,{"$f":"+IF(AND(ISNUMBER(D337),ISNUMBER(E337)),D337*E337-$F$13,0)","v":-158.42499999999995},{"$f":"+(C337*F337)","v":0}]
[null,{"$f":"'namerena data'!A328+('namerena data'!B328-1)/24","v":"2013-07-14T10:00:00"},{"$f":"IF('namerena data'!C328>0,'namerena data'!C328/1000,0)","v":0},17.510000000000002,25.975000000000001,-145.17774999999995,0]
[null,{"$f":"'namerena data'!A329+('namerena data'!B329-1)/24","v":"2013-07-14T11:00:00"},{"$f":"IF('namerena data'!C329>0,'namerena data'!C329/1000,0)","v":0},17.7,25.975000000000001,-140.24250000000001,0]
[null,{"$f":"'namerena data'!A330+('namerena data'!B330-1)/24","v":"2013-07-14T12:00:00"},{"$f":"IF('namerena data'!C330>0,'namerena data'!C330/1000,0)","v":0},16.8,25.975000000000001,-163.61999999999995,0]
[null,{"$f":"'namerena data'!A331+('namerena data'!B331-1)/24","v":"2013-07-14T13:00:00"},{"$f":"IF('namerena data'!C331>0,'namerena data'!C331/1000,0)","v":0},12.74,25.975000000000001,-269.07849999999996,0]
[null,{"$f":"'namerena data'!A332+('namerena data'!B332-1)/24","v":"2013-07-14T14:00:00"},{"$f":"IF('namerena data'!C332>0,'namerena data'!C332/1000,0)","v":0},12,25.975000000000001,-288.29999999999995,0]
[null,{"$f":"'namerena data'!A333+('namerena data'!B333-1)/24","v":"2013-07-14T15:00:00"},{"$f":"IF('namerena data'!C333>0,'namerena data'!C333/1000,0)","v":0},11.69,25.975000000000001,-296.35224999999997,0]
[null,{"$f":"'namerena data'!A334+('namerena data'!B334-1)/24","v":"2013-07-14T16:00:00"},{"$f":"IF('namerena data'!C334>0,'namerena data'!C334/1000,0)","v":0},11.8,25.975000000000001,-293.49499999999995,0]
[null,{"$f":"'namerena data'!A335+('namerena data'!B335-1)/24","v":"2013-07-14T17:00:00"},{"$f":"IF('namerena data'!C335>0,'namerena data'!C335/1000,0)","v":0},16.87,25.975000000000001,-161.80174999999997,0]
[null,{"$f":"'namerena data'!A336+('namerena data'!B336-1)/24","v":"2013-07-14T18:00:00"},{"$f":"IF('namerena data'!C336>0,'namerena data'!C336/1000,0)","v":0},26.2,25.975000000000001,80.545000000000073,0]
[null,{"$f":"'namerena data'!A337+('namerena data'!B337-1)/24","v":"2013-07-14T19:00:00"},{"$f":"IF('namerena data'!C337>0,'namerena data'!C337/1000,0)","v":0},33,25.975000000000001,257.17500000000007,0]
[null,{"$f":"'namerena data'!A338+('namerena data'!B338-1)/24","v":"2013-07-14T20:00:00"},{"$f":"IF('namerena data'!C338>0,'namerena data'!C338/1000,0)","v":0},33.78,25.975000000000001,277.43550000000005,0]
[null,{"$f":"'namerena data'!A339+('namerena data'!B339-1)/24","v":"2013-07-14T21:00:00"},{"$f":"IF('namerena data'!C339>0,'namerena data'!C339/1000,0)","v":0},37.659999999999997,25.975000000000001,378.21849999999995,0]
[null,{"$f":"'namerena data'!A340+('namerena data'!B340-1)/24","v":"2013-07-14T22:00:00"},{"$f":"IF('namerena data'!C340>0,'namerena data'!C340/1000,0)","v":0},38.83,25.975000000000001,408.60924999999997,0]
[null,{"$f":"'namerena data'!A341+('namerena data'!B341-1)/24","v":"2013-07-14T23:00:00"},{"$f":"IF('namerena data'!C341>0,'namerena data'!C341/1000,0)","v":0},31.73,25.975000000000001,224.18675000000007,0]
[null,{"$f":"'namerena data'!A342+('namerena data'!B342-1)/24","v":"2013-07-15"},{"$f":"IF('namerena data'!C342>0,'namerena data'!C342/1000,0)","v":0},25.77,26.02,70.535399999999981,0]
[null,{"$f":"'namerena data'!A343+('namerena data'!B343-1)/24","v":"2013-07-15T01:00:00"},{"$f":"IF('namerena data'!C343>0,'namerena data'!C343/1000,0)","v":0},23.05,26.02,-0.23900000000003274,0]
[null,{"$f":"'namerena data'!A344+('namerena data'!B344-1)/24","v":"2013-07-15T02:00:00"},{"$f":"IF('namerena data'!C344>0,'namerena data'!C344/1000,0)","v":0},21.5,26.02,-40.57000000000005,0]
[null,{"$f":"'namerena data'!A345+('namerena data'!B345-1)/24","v":"2013-07-15T03:00:00"},{"$f":"IF('namerena data'!C345>0,'namerena data'!C345/1000,0)","v":0},22,26.02,-27.560000000000059,0]
[null,{"$f":"'namerena data'!A346+('namerena data'!B346-1)/24","v":"2013-07-15T04:00:00"},{"$f":"IF('namerena data'!C346>0,'namerena data'!C346/1000,0)","v":0},21.9,26.02,-30.162000000000035,0]
[null,{"$f":"'namerena data'!A347+('namerena data'!B347-1)/24","v":"2013-07-15T05:00:00"},{"$f":"IF('namerena data'!C347>0,'namerena data'!C347/1000,0)","v":0},24.34,26.02,33.326799999999935,0]
[null,{"$f":"'namerena data'!A348+('namerena data'!B348-1)/24","v":"2013-07-15T06:00:00"},{"$f":"IF('namerena data'!C348>0,'namerena data'!C348/1000,0)","v":0},33,26.02,258.65999999999997,0]
[null,{"$f":"'namerena data'!A349+('namerena data'!B349-1)/24","v":"2013-07-15T07:00:00"},{"$f":"IF('namerena data'!C349>0,'namerena data'!C349/1000,0)","v":0},42.18,26.02,497.52359999999999,0]
[null,{"$f":"'namerena data'!A350+('namerena data'!B350-1)/24","v":"2013-07-15T08:00:00"},{"$f":"IF('namerena data'!C350>0,'namerena data'!C350/1000,0)","v":0},44.76,26.02,564.65519999999992,0]
[null,{"$f":"'namerena data'!A351+('namerena data'!B351-1)/24","v":"2013-07-15T09:00:00"},{"$f":"IF('namerena data'!C351>0,'namerena data'!C351/1000,0)","v":0},43.86,26.02,541.23720000000003,0]
[null,{"$f":"'namerena data'!A352+('namerena data'!B352-1)/24","v":"2013-07-15T10:00:00"},{"$f":"IF('namerena data'!C352>0,'namerena data'!C352/1000,0)","v":0},43.24,26.02,525.10480000000007,0]
[null,{"$f":"'namerena data'!A353+('namerena data'!B353-1)/24","v":"2013-07-15T11:00:00"},{"$f":"IF('namerena data'!C353>0,'namerena data'!C353/1000,0)","v":0},42,26.02,492.83999999999992,0]
[null,{"$f":"'namerena data'!A354+('namerena data'!B354-1)/24","v":"2013-07-15T12:00:00"},{"$f":"IF('namerena data'!C354>0,'namerena data'!C354/1000,0)","v":0},41.5,26.02,479.82999999999993,0]
[null,{"$f":"'namerena data'!A355+('namerena data'!B355-1)/24","v":"2013-07-15T13:00:00"},{"$f":"IF('namerena data'!C355>0,'namerena data'!C355/1000,0)","v":0},37.54,26.02,376.79079999999999,0]
[null,{"$f":"'namerena data'!A356+('namerena data'!B356-1)/24","v":"2013-07-15T14:00:00"},{"$f":"IF('namerena data'!C356>0,'namerena data'!C356/1000,0)","v":0},37.06,26.02,364.30119999999999,0]
[null,{"$f":"'namerena data'!A357+('namerena data'!B357-1)/24","v":"2013-07-15T15:00:00"},{"$f":"IF('namerena data'!C357>0,'namerena data'!C357/1000,0)","v":0},35.47,26.02,322.92939999999999,0]
[null,{"$f":"'namerena data'!A358+('namerena data'!B358-1)/24","v":"2013-07-15T16:00:00"},{"$f":"IF('namerena data'!C358>0,'namerena data'!C358/1000,0)","v":0},36.61,26.02,352.59219999999993,0]
[null,{"$f":"'namerena data'!A359+('namerena data'!B359-1)/24","v":"2013-07-15T17:00:00"},{"$f":"IF('namerena data'!C359>0,'namerena data'!C359/1000,0)","v":0},38.1,26.02,391.36199999999997,0]
[null,{"$f":"'namerena data'!A360+('namerena data'!B360-1)/24","v":"2013-07-15T18:00:00"},{"$f":"IF('namerena data'!C360>0,'namerena data'!C360/1000,0)","v":0},42.2,26.02,498.0440000000001,0]
[null,{"$f":"'namerena data'!A361+('namerena data'!B361-1)/24","v":"2013-07-15T19:00:00"},{"$f":"IF('namerena data'!C361>0,'namerena data'!C361/1000,0)","v":0},45.33,26.02,579.48659999999995,0]
[null,{"$f":"'namerena data'!A362+('namerena data'!B362-1)/24","v":"2013-07-15T20:00:00"},{"$f":"IF('namerena data'!C362>0,'namerena data'!C362/1000,0)","v":0},43.87,26.02,541.49739999999997,0]
[null,{"$f":"'namerena data'!A363+('namerena data'!B363-1)/24","v":"2013-07-15T21:00:00"},{"$f":"IF('namerena data'!C363>0,'namerena data'!C363/1000,0)","v":0},44.01,26.02,545.14019999999982,0]
[null,{"$f":"'namerena data'!A364+('namerena data'!B364-1)/24","v":"2013-07-15T22:00:00"},{"$f":"IF('namerena data'!C364>0,'namerena data'!C364/1000,0)","v":0},42.86,26.02,515.21720000000005,0]
[null,{"$f":"'namerena data'!A365+('namerena data'!B365-1)/24","v":"2013-07-15T23:00:00"},{"$f":"IF('namerena data'!C365>0,'namerena data'!C365/1000,0)","v":0},36.130000000000003,26.02,340.10260000000005,0]
[null,{"$f":"'namerena data'!A366+('namerena data'!B366-1)/24","v":"2013-07-16"},{"$f":"IF('namerena data'!C366>0,'namerena data'!C366/1000,0)","v":0},33.840000000000003,25.95,278.14800000000002,0]
[null,{"$f":"'namerena data'!A367+('namerena data'!B367-1)/24","v":"2013-07-16T01:00:00"},{"$f":"IF('namerena data'!C367>0,'namerena data'!C367/1000,0)","v":0},31.43,25.95,215.60849999999994,0]
[null,{"$f":"'namerena data'!A368+('namerena data'!B368-1)/24","v":"2013-07-16T02:00:00"},{"$f":"IF('namerena data'!C368>0,'namerena data'!C368/1000,0)","v":0},29.62,25.95,168.63900000000001,0]
[null,{"$f":"'namerena data'!A369+('namerena data'!B369-1)/24","v":"2013-07-16T03:00:00"},{"$f":"IF('namerena data'!C369>0,'namerena data'!C369/1000,0)","v":0},28.8,25.95,147.36000000000001,0]
[null,{"$f":"'namerena data'!A370+('namerena data'!B370-1)/24","v":"2013-07-16T04:00:00"},{"$f":"IF('namerena data'!C370>0,'namerena data'!C370/1000,0)","v":0},28.77,25.95,146.58150000000001,0]
[null,{"$f":"'namerena data'!A371+('namerena data'!B371-1)/24","v":"2013-07-16T05:00:00"},{"$f":"IF('namerena data'!C371>0,'namerena data'!C371/1000,0)","v":0},28.93,25.95,150.73349999999994,0]
[null,{"$f":"'namerena data'!A372+('namerena data'!B372-1)/24","v":"2013-07-16T06:00:00"},{"$f":"IF('namerena data'!C372>0,'namerena data'!C372/1000,0)","v":0},36.299999999999997,25.95,341.9849999999999,0]
[null,{"$f":"'namerena data'!A373+('namerena data'!B373-1)/24","v":"2013-07-16T07:00:00"},{"$f":"IF('namerena data'!C373>0,'namerena data'!C373/1000,0)","v":0},46.4,25.95,604.07999999999993,0]
[null,{"$f":"'namerena data'!A374+('namerena data'!B374-1)/24","v":"2013-07-16T08:00:00"},{"$f":"IF('namerena data'!C374>0,'namerena data'!C374/1000,0)","v":0},47.26,25.95,626.39699999999993,0]
[null,{"$f":"'namerena data'!A375+('namerena data'!B375-1)/24","v":"2013-07-16T09:00:00"},{"$f":"IF('namerena data'!C375>0,'namerena data'!C375/1000,0)","v":0},45.93,25.95,591.88349999999991,0]
[null,{"$f":"'namerena data'!A376+('namerena data'!B376-1)/24","v":"2013-07-16T10:00:00"},{"$f":"IF('namerena data'!C376>0,'namerena data'!C376/1000,0)","v":0},44.55,25.95,556.07249999999999,0]
[null,{"$f":"'namerena data'!A377+('namerena data'!B377-1)/24","v":"2013-07-16T11:00:00"},{"$f":"IF('namerena data'!C377>0,'namerena data'!C377/1000,0)","v":0},44.33,25.95,550.36349999999993,0]
[null,{"$f":"'namerena data'!A378+('namerena data'!B378-1)/24","v":"2013-07-16T12:00:00"},{"$f":"IF('namerena data'!C378>0,'namerena data'!C378/1000,0)","v":0},41.19,25.95,468.88049999999998,0]
[null,{"$f":"'namerena data'!A379+('namerena data'!B379-1)/24","v":"2013-07-16T13:00:00"},{"$f":"IF('namerena data'!C379>0,'namerena data'!C379/1000,0)","v":0},37.799999999999997,25.95,380.90999999999985,0]
[null,{"$f":"'namerena data'!A380+('namerena data'!B380-1)/24","v":"2013-07-16T14:00:00"},{"$f":"IF('namerena data'!C380>0,'namerena data'!C380/1000,0)","v":0},36.04,25.95,335.23799999999994,0]
[null,{"$f":"'namerena data'!A381+('namerena data'!B381-1)/24","v":"2013-07-16T15:00:00"},{"$f":"IF('namerena data'!C381>0,'namerena data'!C381/1000,0)","v":0},35.700000000000003,25.95,326.41500000000008,0]
[null,{"$f":"'namerena data'!A382+('namerena data'!B382-1)/24","v":"2013-07-16T16:00:00"},{"$f":"IF('namerena data'!C382>0,'namerena data'!C382/1000,0)","v":0},36.75,25.95,353.66250000000002,0]
[null,{"$f":"'namerena data'!A383+('namerena data'!B383-1)/24","v":"2013-07-16T17:00:00"},{"$f":"IF('namerena data'!C383>0,'namerena data'!C383/1000,0)","v":0},41.27,25.95,470.95650000000001,0]
[null,{"$f":"'namerena data'!A384+('namerena data'!B384-1)/24","v":"2013-07-16T18:00:00"},{"$f":"IF('namerena data'!C384>0,'namerena data'!C384/1000,0)","v":0},45.5,25.95,580.72499999999991,0]
[null,{"$f":"'namerena data'!A385+('namerena data'!B385-1)/24","v":"2013-07-16T19:00:00"},{"$f":"IF('namerena data'!C385>0,'namerena data'!C385/1000,0)","v":0},48.32,25.95,653.904,0]
[null,{"$f":"'namerena data'!A386+('namerena data'!B386-1)/24","v":"2013-07-16T20:00:00"},{"$f":"IF('namerena data'!C386>0,'namerena data'!C386/1000,0)","v":0},47.36,25.95,628.99199999999996,0]
[null,{"$f":"'namerena data'!A387+('namerena data'!B387-1)/24","v":"2013-07-16T21:00:00"},{"$f":"IF('namerena data'!C387>0,'namerena data'!C387/1000,0)","v":0},47,25.95,619.64999999999986,0]
[null,{"$f":"'namerena data'!A388+('namerena data'!B388-1)/24","v":"2013-07-16T22:00:00"},{"$f":"IF('namerena data'!C388>0,'namerena data'!C388/1000,0)","v":0},46.63,25.95,610.0485000000001,0]
[null,{"$f":"'namerena data'!A389+('namerena data'!B389-1)/24","v":"2013-07-16T23:00:00"},{"$f":"IF('namerena data'!C389>0,'namerena data'!C389/1000,0)","v":0},38.950000000000003,25.95,410.75250000000005,0]
[null,{"$f":"'namerena data'!A390+('namerena data'!B390-1)/24","v":"2013-07-17"},{"$f":"IF('namerena data'!C390>0,'namerena data'!C390/1000,0)","v":0},36.97,25.96,359.74120000000005,0]
[null,{"$f":"'namerena data'!A391+('namerena data'!B391-1)/24","v":"2013-07-17T01:00:00"},{"$f":"IF('namerena data'!C391>0,'namerena data'!C391/1000,0)","v":0},35,25.96,{"$f":"+IF(AND(ISNUMBER(D401),ISNUMBER(E401)),D401*E401-$F$13,0)","v":308.60000000000002},{"$f":"+(C401*F401)","v":0}]
[null,{"$f":"'namerena data'!A392+('namerena data'!B392-1)/24","v":"2013-07-17T02:00:00"},{"$f":"IF('namerena data'!C392>0,'namerena data'!C392/1000,0)","v":0},32.979999999999997,25.96,256.16079999999999,0]
[null,{"$f":"'namerena data'!A393+('namerena data'!B393-1)/24","v":"2013-07-17T03:00:00"},{"$f":"IF('namerena data'!C393>0,'namerena data'!C393/1000,0)","v":0},32.18,25.96,235.39279999999997,0]
[null,{"$f":"'namerena data'!A394+('namerena data'!B394-1)/24","v":"2013-07-17T04:00:00"},{"$f":"IF('namerena data'!C394>0,'namerena data'!C394/1000,0)","v":0},31.93,25.96,228.90280000000007,0]
[null,{"$f":"'namerena data'!A395+('namerena data'!B395-1)/24","v":"2013-07-17T05:00:00"},{"$f":"IF('namerena data'!C395>0,'namerena data'!C395/1000,0)","v":0},33.75,25.96,276.14999999999998,0]
[null,{"$f":"'namerena data'!A396+('namerena data'!B396-1)/24","v":"2013-07-17T06:00:00"},{"$f":"IF('namerena data'!C396>0,'namerena data'!C396/1000,0)","v":0},38.369999999999997,25.96,396.08519999999999,0]
[null,{"$f":"'namerena data'!A397+('namerena data'!B397-1)/24","v":"2013-07-17T07:00:00"},{"$f":"IF('namerena data'!C397>0,'namerena data'!C397/1000,0)","v":0},55.42,25.96,838.70320000000015,0]
[null,{"$f":"'namerena data'!A398+('namerena data'!B398-1)/24","v":"2013-07-17T08:00:00"},{"$f":"IF('namerena data'!C398>0,'namerena data'!C398/1000,0)","v":0},59,25.96,931.6400000000001,0]
[null,{"$f":"'namerena data'!A399+('namerena data'!B399-1)/24","v":"2013-07-17T09:00:00"},{"$f":"IF('namerena data'!C399>0,'namerena data'!C399/1000,0)","v":0},55.9,25.96,851.16399999999999,0]
[null,{"$f":"'namerena data'!A400+('namerena data'!B400-1)/24","v":"2013-07-17T10:00:00"},{"$f":"IF('namerena data'!C400>0,'namerena data'!C400/1000,0)","v":0},52,25.96,749.92000000000007,0]
[null,{"$f":"'namerena data'!A401+('namerena data'!B401-1)/24","v":"2013-07-17T11:00:00"},{"$f":"IF('namerena data'!C401>0,'namerena data'!C401/1000,0)","v":0},52.43,25.96,761.08280000000013,0]
[null,{"$f":"'namerena data'!A402+('namerena data'!B402-1)/24","v":"2013-07-17T12:00:00"},{"$f":"IF('namerena data'!C402>0,'namerena data'!C402/1000,0)","v":0},49.05,25.96,673.33799999999997,0]
[null,{"$f":"'namerena data'!A403+('namerena data'!B403-1)/24","v":"2013-07-17T13:00:00"},{"$f":"IF('namerena data'!C403>0,'namerena data'!C403/1000,0)","v":0},45.1,25.96,570.79600000000005,0]
[null,{"$f":"'namerena data'!A404+('namerena data'!B404-1)/24","v":"2013-07-17T14:00:00"},{"$f":"IF('namerena data'!C404>0,'namerena data'!C404/1000,0)","v":0},44.93,25.96,566.38280000000009,0]
[null,{"$f":"'namerena data'!A405+('namerena data'!B405-1)/24","v":"2013-07-17T15:00:00"},{"$f":"IF('namerena data'!C405>0,'namerena data'!C405/1000,0)","v":0},45.9,25.96,591.56400000000008,0]
[null,{"$f":"'namerena data'!A406+('namerena data'!B406-1)/24","v":"2013-07-17T16:00:00"},{"$f":"IF('namerena data'!C406>0,'namerena data'!C406/1000,0)","v":0},48.7,25.96,664.25200000000018,0]
[null,{"$f":"'namerena data'!A407+('namerena data'!B407-1)/24","v":"2013-07-17T17:00:00"},{"$f":"IF('namerena data'!C407>0,'namerena data'!C407/1000,0)","v":0},51.9,25.96,747.32400000000007,0]
[null,{"$f":"'namerena data'!A408+('namerena data'!B408-1)/24","v":"2013-07-17T18:00:00"},{"$f":"IF('namerena data'!C408>0,'namerena data'!C408/1000,0)","v":0},57,25.96,879.72,0]
[null,{"$f":"'namerena data'!A409+('namerena data'!B409-1)/24","v":"2013-07-17T19:00:00"},{"$f":"IF('namerena data'!C409>0,'namerena data'!C409/1000,0)","v":0},58.05,25.96,906.97800000000007,0]
[null,{"$f":"'namerena data'!A410+('namerena data'!B410-1)/24","v":"2013-07-17T20:00:00"},{"$f":"IF('namerena data'!C410>0,'namerena data'!C410/1000,0)","v":0},56,25.96,853.76,0]
[null,{"$f":"'namerena data'!A411+('namerena data'!B411-1)/24","v":"2013-07-17T21:00:00"},{"$f":"IF('namerena data'!C411>0,'namerena data'!C411/1000,0)","v":0},51.75,25.96,743.43000000000006,0]
[null,{"$f":"'namerena data'!A412+('namerena data'!B412-1)/24","v":"2013-07-17T22:00:00"},{"$f":"IF('namerena data'!C412>0,'namerena data'!C412/1000,0)","v":0},50.9,25.96,721.36400000000003,0]
[null,{"$f":"'namerena data'!A413+('namerena data'!B413-1)/24","v":"2013-07-17T23:00:00"},{"$f":"IF('namerena data'!C413>0,'namerena data'!C413/1000,0)","v":0},38.31,25.96,394.52760000000012,0]
[null,{"$f":"'namerena data'!A414+('namerena data'!B414-1)/24","v":"2013-07-18"},{"$f":"IF('namerena data'!C414>0,'namerena data'!C414/1000,0)","v":0},33.53,25.925000000000001,269.26525000000004,0]
[null,{"$f":"'namerena data'!A415+('namerena data'!B415-1)/24","v":"2013-07-18T01:00:00"},{"$f":"IF('namerena data'!C415>0,'namerena data'!C415/1000,0)","v":0},32.86,25.925000000000001,251.89549999999997,0]
[null,{"$f":"'namerena data'!A416+('namerena data'!B416-1)/24","v":"2013-07-18T02:00:00"},{"$f":"IF('namerena data'!C416>0,'namerena data'!C416/1000,0)","v":0},31.04,25.925000000000001,204.71199999999999,0]
[null,{"$f":"'namerena data'!A417+('namerena data'!B417-1)/24","v":"2013-07-18T03:00:00"},{"$f":"IF('namerena data'!C417>0,'namerena data'!C417/1000,0)","v":0},30.43,25.925000000000001,188.89774999999997,0]
[null,{"$f":"'namerena data'!A418+('namerena data'!B418-1)/24","v":"2013-07-18T04:00:00"},{"$f":"IF('namerena data'!C418>0,'namerena data'!C418/1000,0)","v":0},30.43,25.925000000000001,188.89774999999997,0]
[null,{"$f":"'namerena data'!A419+('namerena data'!B419-1)/24","v":"2013-07-18T05:00:00"},{"$f":"IF('namerena data'!C419>0,'namerena data'!C419/1000,0)","v":0},32.61,25.925000000000001,245.41425000000004,0]
[null,{"$f":"'namerena data'!A420+('namerena data'!B420-1)/24","v":"2013-07-18T06:00:00"},{"$f":"IF('namerena data'!C420>0,'namerena data'!C420/1000,0)","v":0},37.19,25.925000000000001,364.15075000000002,0]
[null,{"$f":"'namerena data'!A421+('namerena data'!B421-1)/24","v":"2013-07-18T07:00:00"},{"$f":"IF('namerena data'!C421>0,'namerena data'!C421/1000,0)","v":0},57.7,25.925000000000001,895.87250000000017,0]
[null,{"$f":"'namerena data'!A422+('namerena data'!B422-1)/24","v":"2013-07-18T08:00:00"},{"$f":"IF('namerena data'!C422>0,'namerena data'!C422/1000,0)","v":0},57.3,25.925000000000001,885.50250000000005,0]
[null,{"$f":"'namerena data'!A423+('namerena data'!B423-1)/24","v":"2013-07-18T09:00:00"},{"$f":"IF('namerena data'!C423>0,'namerena data'!C423/1000,0)","v":0},57,25.925000000000001,877.72500000000014,0]
[null,{"$f":"'namerena data'!A424+('namerena data'!B424-1)/24","v":"2013-07-18T10:00:00"},{"$f":"IF('namerena data'!C424>0,'namerena data'!C424/1000,0)","v":0},55,25.925000000000001,825.875,0]
[null,{"$f":"'namerena data'!A425+('namerena data'!B425-1)/24","v":"2013-07-18T11:00:00"},{"$f":"IF('namerena data'!C425>0,'namerena data'!C425/1000,0)","v":0},55.8,25.925000000000001,846.61500000000001,0]
[null,{"$f":"'namerena data'!A426+('namerena data'!B426-1)/24","v":"2013-07-18T12:00:00"},{"$f":"IF('namerena data'!C426>0,'namerena data'!C426/1000,0)","v":0},52.85,25.925000000000001,770.13625000000002,0]
[null,{"$f":"'namerena data'!A427+('namerena data'!B427-1)/24","v":"2013-07-18T13:00:00"},{"$f":"IF('namerena data'!C427>0,'namerena data'!C427/1000,0)","v":0},50.51,25.925000000000001,709.47174999999993,0]
[null,{"$f":"'namerena data'!A428+('namerena data'!B428-1)/24","v":"2013-07-18T14:00:00"},{"$f":"IF('namerena data'!C428>0,'namerena data'!C428/1000,0)","v":0},48.5,25.925000000000001,657.36249999999995,0]
[null,{"$f":"'namerena data'!A429+('namerena data'!B429-1)/24","v":"2013-07-18T15:00:00"},{"$f":"IF('namerena data'!C429>0,'namerena data'!C429/1000,0)","v":0},46.3,25.925000000000001,600.32749999999987,0]
[null,{"$f":"'namerena data'!A430+('namerena data'!B430-1)/24","v":"2013-07-18T16:00:00"},{"$f":"IF('namerena data'!C430>0,'namerena data'!C430/1000,0)","v":0},46.6,25.925000000000001,608.10500000000002,0]
[null,{"$f":"'namerena data'!A431+('namerena data'!B431-1)/24","v":"2013-07-18T17:00:00"},{"$f":"IF('namerena data'!C431>0,'namerena data'!C431/1000,0)","v":0},48.91,25.925000000000001,667.99174999999991,0]
[null,{"$f":"'namerena data'!A432+('namerena data'!B432-1)/24","v":"2013-07-18T18:00:00"},{"$f":"IF('namerena data'!C432>0,'namerena data'!C432/1000,0)","v":0},54.41,25.925000000000001,810.57925,0]
[null,{"$f":"'namerena data'!A433+('namerena data'!B433-1)/24","v":"2013-07-18T19:00:00"},{"$f":"IF('namerena data'!C433>0,'namerena data'!C433/1000,0)","v":0},55.25,25.925000000000001,832.35625000000005,0]
[null,{"$f":"'namerena data'!A434+('namerena data'!B434-1)/24","v":"2013-07-18T20:00:00"},{"$f":"IF('namerena data'!C434>0,'namerena data'!C434/1000,0)","v":0},53.93,25.925000000000001,798.13525000000004,0]
[null,{"$f":"'namerena data'!A435+('namerena data'!B435-1)/24","v":"2013-07-18T21:00:00"},{"$f":"IF('namerena data'!C435>0,'namerena data'!C435/1000,0)","v":0},50.52,25.925000000000001,709.73100000000022,0]
[null,{"$f":"'namerena data'!A436+('namerena data'!B436-1)/24","v":"2013-07-18T22:00:00"},{"$f":"IF('namerena data'!C436>0,'namerena data'!C436/1000,0)","v":0},51.13,25.925000000000001,725.54525000000012,0]
[null,{"$f":"'namerena data'!A437+('namerena data'!B437-1)/24","v":"2013-07-18T23:00:00"},{"$f":"IF('namerena data'!C437>0,'namerena data'!C437/1000,0)","v":0},37,25.925000000000001,359.22500000000002,0]
[null,{"$f":"'namerena data'!A438+('namerena data'!B438-1)/24","v":"2013-07-19"},{"$f":"IF('namerena data'!C438>0,'namerena data'!C438/1000,0)","v":0},33.11,25.945,259.03895,0]
[null,{"$f":"'namerena data'!A439+('namerena data'!B439-1)/24","v":"2013-07-19T01:00:00"},{"$f":"IF('namerena data'!C439>0,'namerena data'!C439/1000,0)","v":0},33,25.945,256.18500000000006,0]
[null,{"$f":"'namerena data'!A440+('namerena data'!B440-1)/24","v":"2013-07-19T02:00:00"},{"$f":"IF('namerena data'!C440>0,'namerena data'!C440/1000,0)","v":0},31.93,25.945,228.42385000000002,0]
[null,{"$f":"'namerena data'!A441+('namerena data'!B441-1)/24","v":"2013-07-19T03:00:00"},{"$f":"IF('namerena data'!C441>0,'namerena data'!C441/1000,0)","v":0},30.7,25.945,196.51149999999996,0]
[null,{"$f":"'namerena data'!A442+('namerena data'!B442-1)/24","v":"2013-07-19T04:00:00"},{"$f":"IF('namerena data'!C442>0,'namerena data'!C442/1000,0)","v":0},30.8,25.945,199.10599999999999,0]
[null,{"$f":"'namerena data'!A443+('namerena data'!B443-1)/24","v":"2013-07-19T05:00:00"},{"$f":"IF('namerena data'!C443>0,'namerena data'!C443/1000,0)","v":0},32,25.945,230.24,0]
[null,{"$f":"'namerena data'!A444+('namerena data'!B444-1)/24","v":"2013-07-19T06:00:00"},{"$f":"IF('namerena data'!C444>0,'namerena data'!C444/1000,0)","v":0},34.99,25.945,307.81555000000003,0]
[null,{"$f":"'namerena data'!A445+('namerena data'!B445-1)/24","v":"2013-07-19T07:00:00"},{"$f":"IF('namerena data'!C445>0,'namerena data'!C445/1000,0)","v":0},49.2,25.945,676.49400000000014,0]
[null,{"$f":"'namerena data'!A446+('namerena data'!B446-1)/24","v":"2013-07-19T08:00:00"},{"$f":"IF('namerena data'!C446>0,'namerena data'!C446/1000,0)","v":0},51.56,25.945,737.72420000000011,0]
[null,{"$f":"'namerena data'!A447+('namerena data'!B447-1)/24","v":"2013-07-19T09:00:00"},{"$f":"IF('namerena data'!C447>0,'namerena data'!C447/1000,0)","v":0},48.27,25.945,652.36515000000009,0]
[null,{"$f":"'namerena data'!A448+('namerena data'!B448-1)/24","v":"2013-07-19T10:00:00"},{"$f":"IF('namerena data'!C448>0,'namerena data'!C448/1000,0)","v":0},46.09,25.945,595.80505000000016,0]
[null,{"$f":"'namerena data'!A449+('namerena data'!B449-1)/24","v":"2013-07-19T11:00:00"},{"$f":"IF('namerena data'!C449>0,'namerena data'!C449/1000,0)","v":0},43.9,25.945,538.9855,0]
[null,{"$f":"'namerena data'!A450+('namerena data'!B450-1)/24","v":"2013-07-19T12:00:00"},{"$f":"IF('namerena data'!C450>0,'namerena data'!C450/1000,0)","v":0},39.47,25.945,424.04915000000005,0]
[null,{"$f":"'namerena data'!A451+('namerena data'!B451-1)/24","v":"2013-07-19T13:00:00"},{"$f":"IF('namerena data'!C451>0,'namerena data'!C451/1000,0)","v":0},35.6,25.945,323.64200000000005,0]
[null,{"$f":"'namerena data'!A452+('namerena data'!B452-1)/24","v":"2013-07-19T14:00:00"},{"$f":"IF('namerena data'!C452>0,'namerena data'!C452/1000,0)","v":0},32.75,25.945,249.69875000000002,0]
[null,{"$f":"'namerena data'!A453+('namerena data'!B453-1)/24","v":"2013-07-19T15:00:00"},{"$f":"IF('namerena data'!C453>0,'namerena data'!C453/1000,0)","v":0},32.9,25.945,253.59050000000002,0]
[null,{"$f":"'namerena data'!A454+('namerena data'!B454-1)/24","v":"2013-07-19T16:00:00"},{"$f":"IF('namerena data'!C454>0,'namerena data'!C454/1000,0)","v":0},36.51,25.945,347.25194999999997,0]
[null,{"$f":"'namerena data'!A455+('namerena data'!B455-1)/24","v":"2013-07-19T17:00:00"},{"$f":"IF('namerena data'!C455>0,'namerena data'!C455/1000,0)","v":0},38.03,25.945,{"$f":"+IF(AND(ISNUMBER(D465),ISNUMBER(E465)),D465*E465-$F$13,0)","v":386.68835000000001},{"$f":"+(C465*F465)","v":0}]
[null,{"$f":"'namerena data'!A456+('namerena data'!B456-1)/24","v":"2013-07-19T18:00:00"},{"$f":"IF('namerena data'!C456>0,'namerena data'!C456/1000,0)","v":0},41,25.945,463.74500000000012,0]
[null,{"$f":"'namerena data'!A457+('namerena data'!B457-1)/24","v":"2013-07-19T19:00:00"},{"$f":"IF('namerena data'!C457>0,'namerena data'!C457/1000,0)","v":0},43.05,25.945,516.93224999999984,0]
[null,{"$f":"'namerena data'!A458+('namerena data'!B458-1)/24","v":"2013-07-19T20:00:00"},{"$f":"IF('namerena data'!C458>0,'namerena data'!C458/1000,0)","v":0},47,25.945,619.41499999999996,0]
[null,{"$f":"'namerena data'!A459+('namerena data'!B459-1)/24","v":"2013-07-19T21:00:00"},{"$f":"IF('namerena data'!C459>0,'namerena data'!C459/1000,0)","v":0},46.08,25.945,595.54559999999992,0]
[null,{"$f":"'namerena data'!A460+('namerena data'!B460-1)/24","v":"2013-07-19T22:00:00"},{"$f":"IF('namerena data'!C460>0,'namerena data'!C460/1000,0)","v":0},48.27,25.945,652.36515000000009,0]
[null,{"$f":"'namerena data'!A461+('namerena data'!B461-1)/24","v":"2013-07-19T23:00:00"},{"$f":"IF('namerena data'!C461>0,'namerena data'!C461/1000,0)","v":0},38.61,25.945,401.73644999999999,0]
[null,{"$f":"'namerena data'!A462+('namerena data'!B462-1)/24","v":"2013-07-20"},{"$f":"IF('namerena data'!C462>0,'namerena data'!C462/1000,0)","v":0},33.200000000000003,25.945,261.37400000000014,0]
[null,{"$f":"'namerena data'!A463+('namerena data'!B463-1)/24","v":"2013-07-20T01:00:00"},{"$f":"IF('namerena data'!C463>0,'namerena data'!C463/1000,0)","v":0},31.2,25.945,209.48400000000004,0]
[null,{"$f":"'namerena data'!A464+('namerena data'!B464-1)/24","v":"2013-07-20T02:00:00"},{"$f":"IF('namerena data'!C464>0,'namerena data'!C464/1000,0)","v":0},30.09,25.945,180.68505000000005,0]
[null,{"$f":"'namerena data'!A465+('namerena data'!B465-1)/24","v":"2013-07-20T03:00:00"},{"$f":"IF('namerena data'!C465>0,'namerena data'!C465/1000,0)","v":0},29.61,25.945,168.23145,0]
[null,{"$f":"'namerena data'!A466+('namerena data'!B466-1)/24","v":"2013-07-20T04:00:00"},{"$f":"IF('namerena data'!C466>0,'namerena data'!C466/1000,0)","v":0},29.12,25.945,155.51840000000004,0]
[null,{"$f":"'namerena data'!A467+('namerena data'!B467-1)/24","v":"2013-07-20T05:00:00"},{"$f":"IF('namerena data'!C467>0,'namerena data'!C467/1000,0)","v":0},28.07,25.945,128.27615000000003,0]
[null,{"$f":"'namerena data'!A468+('namerena data'!B468-1)/24","v":"2013-07-20T06:00:00"},{"$f":"IF('namerena data'!C468>0,'namerena data'!C468/1000,0)","v":0},27.3,25.945,108.29849999999999,0]
[null,{"$f":"'namerena data'!A469+('namerena data'!B469-1)/24","v":"2013-07-20T07:00:00"},{"$f":"IF('namerena data'!C469>0,'namerena data'!C469/1000,0)","v":0},28.87,25.945,149.03215,0]
[null,{"$f":"'namerena data'!A470+('namerena data'!B470-1)/24","v":"2013-07-20T08:00:00"},{"$f":"IF('namerena data'!C470>0,'namerena data'!C470/1000,0)","v":0},34,25.945,282.13,0]
[null,{"$f":"'namerena data'!A471+('namerena data'!B471-1)/24","v":"2013-07-20T09:00:00"},{"$f":"IF('namerena data'!C471>0,'namerena data'!C471/1000,0)","v":0},35.32,25.945,316.37739999999997,0]
[null,{"$f":"'namerena data'!A472+('namerena data'!B472-1)/24","v":"2013-07-20T10:00:00"},{"$f":"IF('namerena data'!C472>0,'namerena data'!C472/1000,0)","v":0},34,25.945,282.13,0]
[null,{"$f":"'namerena data'!A473+('namerena data'!B473-1)/24","v":"2013-07-20T11:00:00"},{"$f":"IF('namerena data'!C473>0,'namerena data'!C473/1000,0)","v":0},32.29,25.945,237.76405,0]
[null,{"$f":"'namerena data'!A474+('namerena data'!B474-1)/24","v":"2013-07-20T12:00:00"},{"$f":"IF('namerena data'!C474>0,'namerena data'!C474/1000,0)","v":0},29.2,25.945,157.59399999999994,0]
[null,{"$f":"'namerena data'!A475+('namerena data'!B475-1)/24","v":"2013-07-20T13:00:00"},{"$f":"IF('namerena data'!C475>0,'namerena data'!C475/1000,0)","v":0},26,25.945,74.57000000000005,0]
[null,{"$f":"'namerena data'!A476+('namerena data'!B476-1)/24","v":"2013-07-20T14:00:00"},{"$f":"IF('namerena data'!C476>0,'namerena data'!C476/1000,0)","v":0},23.68,25.945,14.377600000000029,0]
[null,{"$f":"'namerena data'!A477+('namerena data'!B477-1)/24","v":"2013-07-20T15:00:00"},{"$f":"IF('namerena data'!C477>0,'namerena data'!C477/1000,0)","v":0},23.23,25.945,2.702350000000024,0]
[null,{"$f":"'namerena data'!A478+('namerena data'!B478-1)/24","v":"2013-07-20T16:00:00"},{"$f":"IF('namerena data'!C478>0,'namerena data'!C478/1000,0)","v":0},25,25.945,48.625,0]
[null,{"$f":"'namerena data'!A479+('namerena data'!B479-1)/24","v":"2013-07-20T17:00:00"},{"$f":"IF('namerena data'!C479>0,'namerena data'!C479/1000,0)","v":0},30.05,25.945,179.64724999999999,0]
[null,{"$f":"'namerena data'!A480+('namerena data'!B480-1)/24","v":"2013-07-20T18:00:00"},{"$f":"IF('namerena data'!C480>0,'namerena data'!C480/1000,0)","v":0},33.4,25.945,266.56299999999999,0]
[null,{"$f":"'namerena data'!A481+('namerena data'!B481-1)/24","v":"2013-07-20T19:00:00"},{"$f":"IF('namerena data'!C481>0,'namerena data'!C481/1000,0)","v":0},35.9,25.945,331.42549999999994,0]
[null,{"$f":"'namerena data'!A482+('namerena data'!B482-1)/24","v":"2013-07-20T20:00:00"},{"$f":"IF('namerena data'!C482>0,'namerena data'!C482/1000,0)","v":0},35.479999999999997,25.945,320.52859999999998,0]
[null,{"$f":"'namerena data'!A483+('namerena data'!B483-1)/24","v":"2013-07-20T21:00:00"},{"$f":"IF('namerena data'!C483>0,'namerena data'!C483/1000,0)","v":0},35.46,25.945,320.00970000000007,0]
[null,{"$f":"'namerena data'!A484+('namerena data'!B484-1)/24","v":"2013-07-20T22:00:00"},{"$f":"IF('namerena data'!C484>0,'namerena data'!C484/1000,0)","v":0},37.380000000000003,25.945,369.82410000000004,0]
[null,{"$f":"'namerena data'!A485+('namerena data'!B485-1)/24","v":"2013-07-20T23:00:00"},{"$f":"IF('namerena data'!C485>0,'namerena data'!C485/1000,0)","v":0},33.43,25.945,267.34135000000003,0]
[null,{"$f":"'namerena data'!A486+('namerena data'!B486-1)/24","v":"2013-07-21"},{"$f":"IF('namerena data'!C486>0,'namerena data'!C486/1000,0)","v":0},28.5,25.945,139.4325,0]
[null,{"$f":"'namerena data'!A487+('namerena data'!B487-1)/24","v":"2013-07-21T01:00:00"},{"$f":"IF('namerena data'!C487>0,'namerena data'!C487/1000,0)","v":0},25.2,25.945,53.813999999999965,0]
[null,{"$f":"'namerena data'!A488+('namerena data'!B488-1)/24","v":"2013-07-21T02:00:00"},{"$f":"IF('namerena data'!C488>0,'namerena data'!C488/1000,0)","v":0},24.56,25.945,37.20920000000001,0]
[null,{"$f":"'namerena data'!A489+('namerena data'!B489-1)/24","v":"2013-07-21T03:00:00"},{"$f":"IF('namerena data'!C489>0,'namerena data'!C489/1000,0)","v":0},23.5,25.945,9.7074999999999818,0]
[null,{"$f":"'namerena data'!A490+('namerena data'!B490-1)/24","v":"2013-07-21T04:00:00"},{"$f":"IF('namerena data'!C490>0,'namerena data'!C490/1000,0)","v":0},23.1,25.945,-0.67049999999994725,0]
[null,{"$f":"'namerena data'!A491+('namerena data'!B491-1)/24","v":"2013-07-21T05:00:00"},{"$f":"IF('namerena data'!C491>0,'namerena data'!C491/1000,0)","v":0},19.899999999999999,25.945,-83.694500000000062,0]
[null,{"$f":"'namerena data'!A492+('namerena data'!B492-1)/24","v":"2013-07-21T06:00:00"},{"$f":"IF('namerena data'!C492>0,'namerena data'!C492/1000,0)","v":0},20.5,25.945,-68.127499999999941,0]
[null,{"$f":"'namerena data'!A493+('namerena data'!B493-1)/24","v":"2013-07-21T07:00:00"},{"$f":"IF('namerena data'!C493>0,'namerena data'!C493/1000,0)","v":0},21.1,25.945,-52.560499999999934,0]
[null,{"$f":"'namerena data'!A494+('namerena data'!B494-1)/24","v":"2013-07-21T08:00:00"},{"$f":"IF('namerena data'!C494>0,'namerena data'!C494/1000,0)","v":0},22.7,25.945,-11.04849999999999,0]
[null,{"$f":"'namerena data'!A495+('namerena data'!B495-1)/24","v":"2013-07-21T09:00:00"},{"$f":"IF('namerena data'!C495>0,'namerena data'!C495/1000,0)","v":0},18.23,25.945,-127.02265,0]
[null,{"$f":"'namerena data'!A496+('namerena data'!B496-1)/24","v":"2013-07-21T10:00:00"},{"$f":"IF('namerena data'!C496>0,'namerena data'!C496/1000,0)","v":0},18,25.945,-132.99,0]
[null,{"$f":"'namerena data'!A497+('namerena data'!B497-1)/24","v":"2013-07-21T11:00:00"},{"$f":"IF('namerena data'!C497>0,'namerena data'!C497/1000,0)","v":0},19.399999999999999,25.945,-96.66700000000003,0]
[null,{"$f":"'namerena data'!A498+('namerena data'!B498-1)/24","v":"2013-07-21T12:00:00"},{"$f":"IF('namerena data'!C498>0,'namerena data'!C498/1000,0)","v":0},17.53,25.945,-145.18414999999999,0]
[null,{"$f":"'namerena data'!A499+('namerena data'!B499-1)/24","v":"2013-07-21T13:00:00"},{"$f":"IF('namerena data'!C499>0,'namerena data'!C499/1000,0)","v":0},12.3,25.945,-280.87649999999996,0]
[null,{"$f":"'namerena data'!A500+('namerena data'!B500-1)/24","v":"2013-07-21T14:00:00"},{"$f":"IF('namerena data'!C500>0,'namerena data'!C500/1000,0)","v":0},11.4,25.945,-304.22699999999998,0]
[null,{"$f":"'namerena data'!A501+('namerena data'!B501-1)/24","v":"2013-07-21T15:00:00"},{"$f":"IF('namerena data'!C501>0,'namerena data'!C501/1000,0)","v":0},11.8,25.945,-293.84899999999999,0]
[null,{"$f":"'namerena data'!A502+('namerena data'!B502-1)/24","v":"2013-07-21T16:00:00"},{"$f":"IF('namerena data'!C502>0,'namerena data'!C502/1000,0)","v":0},13.47,25.945,-250.52085,0]
[null,{"$f":"'namerena data'!A503+('namerena data'!B503-1)/24","v":"2013-07-21T17:00:00"},{"$f":"IF('namerena data'!C503>0,'namerena data'!C503/1000,0)","v":0},23.6,25.945,12.302000000000021,0]
[null,{"$f":"'namerena data'!A504+('namerena data'!B504-1)/24","v":"2013-07-21T18:00:00"},{"$f":"IF('namerena data'!C504>0,'namerena data'!C504/1000,0)","v":0},32,25.945,230.24,0]
[null,{"$f":"'namerena data'!A505+('namerena data'!B505-1)/24","v":"2013-07-21T19:00:00"},{"$f":"IF('namerena data'!C505>0,'namerena data'!C505/1000,0)","v":0},39,25.945,411.85500000000002,0]
[null,{"$f":"'namerena data'!A506+('namerena data'!B506-1)/24","v":"2013-07-21T20:00:00"},{"$f":"IF('namerena data'!C506>0,'namerena data'!C506/1000,0)","v":0},37.200000000000003,25.945,365.15400000000011,0]
[null,{"$f":"'namerena data'!A507+('namerena data'!B507-1)/24","v":"2013-07-21T21:00:00"},{"$f":"IF('namerena data'!C507>0,'namerena data'!C507/1000,0)","v":0},38,25.945,385.90999999999997,0]
[null,{"$f":"'namerena data'!A508+('namerena data'!B508-1)/24","v":"2013-07-21T22:00:00"},{"$f":"IF('namerena data'!C508>0,'namerena data'!C508/1000,0)","v":0},41.54,25.945,477.75530000000003,0]
[null,{"$f":"'namerena data'!A509+('namerena data'!B509-1)/24","v":"2013-07-21T23:00:00"},{"$f":"IF('namerena data'!C509>0,'namerena data'!C509/1000,0)","v":0},36.950000000000003,25.945,358.66775000000007,0]
[null,{"$f":"'namerena data'!A510+('namerena data'!B510-1)/24","v":"2013-07-22"},{"$f":"IF('namerena data'!C510>0,'namerena data'!C510/1000,0)","v":0},31,25.975000000000001,205.22500000000002,0]
[null,{"$f":"'namerena data'!A511+('namerena data'!B511-1)/24","v":"2013-07-22T01:00:00"},{"$f":"IF('namerena data'!C511>0,'namerena data'!C511/1000,0)","v":0},29,25.975000000000001,153.27500000000009,0]
[null,{"$f":"'namerena data'!A512+('namerena data'!B512-1)/24","v":"2013-07-22T02:00:00"},{"$f":"IF('namerena data'!C512>0,'namerena data'!C512/1000,0)","v":0},27.26,25.975000000000001,108.07850000000008,0]
[null,{"$f":"'namerena data'!A513+('namerena data'!B513-1)/24","v":"2013-07-22T03:00:00"},{"$f":"IF('namerena data'!C513>0,'namerena data'!C513/1000,0)","v":0},26.09,25.975000000000001,77.687750000000051,0]
[null,{"$f":"'namerena data'!A514+('namerena data'!B514-1)/24","v":"2013-07-22T04:00:00"},{"$f":"IF('namerena data'!C514>0,'namerena data'!C514/1000,0)","v":0},26.2,25.975000000000001,80.545000000000073,0]
[null,{"$f":"'namerena data'!A515+('namerena data'!B515-1)/24","v":"2013-07-22T05:00:00"},{"$f":"IF('namerena data'!C515>0,'namerena data'!C515/1000,0)","v":0},28.88,25.975000000000001,150.15800000000002,0]
[null,{"$f":"'namerena data'!A516+('namerena data'!B516-1)/24","v":"2013-07-22T06:00:00"},{"$f":"IF('namerena data'!C516>0,'namerena data'!C516/1000,0)","v":0},37.93,25.975000000000001,385.23175000000003,0]
[null,{"$f":"'namerena data'!A517+('namerena data'!B517-1)/24","v":"2013-07-22T07:00:00"},{"$f":"IF('namerena data'!C517>0,'namerena data'!C517/1000,0)","v":0},56,25.975000000000001,854.60000000000014,0]
[null,{"$f":"'namerena data'!A518+('namerena data'!B518-1)/24","v":"2013-07-22T08:00:00"},{"$f":"IF('namerena data'!C518>0,'namerena data'!C518/1000,0)","v":0},52.69,25.975000000000001,768.62275,0]
[null,{"$f":"'namerena data'!A519+('namerena data'!B519-1)/24","v":"2013-07-22T09:00:00"},{"$f":"IF('namerena data'!C519>0,'namerena data'!C519/1000,0)","v":0},51.1,25.975000000000001,{"$f":"+IF(AND(ISNUMBER(D529),ISNUMBER(E529)),D529*E529-$F$13,0)","v":727.32250000000022},{"$f":"+(C529*F529)","v":0}]
[null,{"$f":"'namerena data'!A520+('namerena data'!B520-1)/24","v":"2013-07-22T10:00:00"},{"$f":"IF('namerena data'!C520>0,'namerena data'!C520/1000,0)","v":0},51,25.975000000000001,724.72500000000014,0]
[null,{"$f":"'namerena data'!A521+('namerena data'!B521-1)/24","v":"2013-07-22T11:00:00"},{"$f":"IF('namerena data'!C521>0,'namerena data'!C521/1000,0)","v":0},52.01,25.975000000000001,750.95974999999999,0]
[null,{"$f":"'namerena data'!A522+('namerena data'!B522-1)/24","v":"2013-07-22T12:00:00"},{"$f":"IF('namerena data'!C522>0,'namerena data'!C522/1000,0)","v":0},49.01,25.975000000000001,673.03475000000003,0]
[null,{"$f":"'namerena data'!A523+('namerena data'!B523-1)/24","v":"2013-07-22T13:00:00"},{"$f":"IF('namerena data'!C523>0,'namerena data'!C523/1000,0)","v":0},46.17,25.975000000000001,599.26575000000003,0]
[null,{"$f":"'namerena data'!A524+('namerena data'!B524-1)/24","v":"2013-07-22T14:00:00"},{"$f":"IF('namerena data'!C524>0,'namerena data'!C524/1000,0)","v":0},46.27,25.975000000000001,601.86325000000011,0]
[null,{"$f":"'namerena data'!A525+('namerena data'!B525-1)/24","v":"2013-07-22T15:00:00"},{"$f":"IF('namerena data'!C525>0,'namerena data'!C525/1000,0)","v":0},45,25.975000000000001,568.875,0]
[null,{"$f":"'namerena data'!A526+('namerena data'!B526-1)/24","v":"2013-07-22T16:00:00"},{"$f":"IF('namerena data'!C526>0,'namerena data'!C526/1000,0)","v":0},47.48,25.975000000000001,633.29299999999989,0]
[null,{"$f":"'namerena data'!A527+('namerena data'!B527-1)/24","v":"2013-07-22T17:00:00"},{"$f":"IF('namerena data'!C527>0,'namerena data'!C527/1000,0)","v":0},50.9,25.975000000000001,722.12750000000005,0]
[null,{"$f":"'namerena data'!A528+('namerena data'!B528-1)/24","v":"2013-07-22T18:00:00"},{"$f":"IF('namerena data'!C528>0,'namerena data'!C528/1000,0)","v":0},55.32,25.975000000000001,836.93700000000013,0]
[null,{"$f":"'namerena data'!A529+('namerena data'!B529-1)/24","v":"2013-07-22T19:00:00"},{"$f":"IF('namerena data'!C529>0,'namerena data'!C529/1000,0)","v":0},57.99,25.975000000000001,906.29025000000024,0]
[null,{"$f":"'namerena data'!A530+('namerena data'!B530-1)/24","v":"2013-07-22T20:00:00"},{"$f":"IF('namerena data'!C530>0,'namerena data'!C530/1000,0)","v":0},61.01,25.975000000000001,984.73475000000008,0]
[null,{"$f":"'namerena data'!A531+('namerena data'!B531-1)/24","v":"2013-07-22T21:00:00"},{"$f":"IF('namerena data'!C531>0,'namerena data'!C531/1000,0)","v":0},57.2,25.975000000000001,885.77000000000021,0]
[null,{"$f":"'namerena data'!A532+('namerena data'!B532-1)/24","v":"2013-07-22T22:00:00"},{"$f":"IF('namerena data'!C532>0,'namerena data'!C532/1000,0)","v":0},55.24,25.975000000000001,834.85900000000015,0]
[null,{"$f":"'namerena data'!A533+('namerena data'!B533-1)/24","v":"2013-07-22T23:00:00"},{"$f":"IF('namerena data'!C533>0,'namerena data'!C533/1000,0)","v":0},41.87,25.975000000000001,487.57324999999992,0]
[null,{"$f":"'namerena data'!A534+('namerena data'!B534-1)/24","v":"2013-07-23"},{"$f":"IF('namerena data'!C534>0,'namerena data'!C534/1000,0)","v":0},36,25.98,335.28,0]
[null,{"$f":"'namerena data'!A535+('namerena data'!B535-1)/24","v":"2013-07-23T01:00:00"},{"$f":"IF('namerena data'!C535>0,'namerena data'!C535/1000,0)","v":0},32.25,25.98,237.85500000000002,0]
[null,{"$f":"'namerena data'!A536+('namerena data'!B536-1)/24","v":"2013-07-23T02:00:00"},{"$f":"IF('namerena data'!C536>0,'namerena data'!C536/1000,0)","v":0},32.200000000000003,25.98,236.55600000000004,0]
[null,{"$f":"'namerena data'!A537+('namerena data'!B537-1)/24","v":"2013-07-23T03:00:00"},{"$f":"IF('namerena data'!C537>0,'namerena data'!C537/1000,0)","v":0},30.6,25.98,194.98800000000006,0]
[null,{"$f":"'namerena data'!A538+('namerena data'!B538-1)/24","v":"2013-07-23T04:00:00"},{"$f":"IF('namerena data'!C538>0,'namerena data'!C538/1000,0)","v":0},31,25.98,205.38,0]
[null,{"$f":"'namerena data'!A539+('namerena data'!B539-1)/24","v":"2013-07-23T05:00:00"},{"$f":"IF('namerena data'!C539>0,'namerena data'!C539/1000,0)","v":0},34,25.98,283.32000000000005,0]
[null,{"$f":"'namerena data'!A540+('namerena data'!B540-1)/24","v":"2013-07-23T06:00:00"},{"$f":"IF('namerena data'!C540>0,'namerena data'!C540/1000,0)","v":0},40.06,25.98,440.75880000000006,0]
[null,{"$f":"'namerena data'!A541+('namerena data'!B541-1)/24","v":"2013-07-23T07:00:00"},{"$f":"IF('namerena data'!C541>0,'namerena data'!C541/1000,0)","v":0},56.43,25.98,866.05140000000006,0]
[null,{"$f":"'namerena data'!A542+('namerena data'!B542-1)/24","v":"2013-07-23T08:00:00"},{"$f":"IF('namerena data'!C542>0,'namerena data'!C542/1000,0)","v":0},55.7,25.98,847.08600000000001,0]
[null,{"$f":"'namerena data'!A543+('namerena data'!B543-1)/24","v":"2013-07-23T09:00:00"},{"$f":"IF('namerena data'!C543>0,'namerena data'!C543/1000,0)","v":0},53.3,25.98,784.73399999999992,0]
[null,{"$f":"'namerena data'!A544+('namerena data'!B544-1)/24","v":"2013-07-23T10:00:00"},{"$f":"IF('namerena data'!C544>0,'namerena data'!C544/1000,0)","v":0},52.5,25.98,763.95,0]
[null,{"$f":"'namerena data'!A545+('namerena data'!B545-1)/24","v":"2013-07-23T11:00:00"},{"$f":"IF('namerena data'!C545>0,'namerena data'!C545/1000,0)","v":0},53.4,25.98,787.33199999999988,0]
[null,{"$f":"'namerena data'!A546+('namerena data'!B546-1)/24","v":"2013-07-23T12:00:00"},{"$f":"IF('namerena data'!C546>0,'namerena data'!C546/1000,0)","v":0},50.7,25.98,717.18600000000015,0]
[null,{"$f":"'namerena data'!A547+('namerena data'!B547-1)/24","v":"2013-07-23T13:00:00"},{"$f":"IF('namerena data'!C547>0,'namerena data'!C547/1000,0)","v":0},49,25.98,673.02,0]
[null,{"$f":"'namerena data'!A548+('namerena data'!B548-1)/24","v":"2013-07-23T14:00:00"},{"$f":"IF('namerena data'!C548>0,'namerena data'!C548/1000,0)","v":0},49.1,25.98,675.61800000000017,0]
[null,{"$f":"'namerena data'!A549+('namerena data'!B549-1)/24","v":"2013-07-23T15:00:00"},{"$f":"IF('namerena data'!C549>0,'namerena data'!C549/1000,0)","v":0},48.4,25.98,657.43200000000002,0]
[null,{"$f":"'namerena data'!A550+('namerena data'!B550-1)/24","v":"2013-07-23T16:00:00"},{"$f":"IF('namerena data'!C550>0,'namerena data'!C550/1000,0)","v":0},47.77,25.98,641.06460000000015,0]
[null,{"$f":"'namerena data'!A551+('namerena data'!B551-1)/24","v":"2013-07-23T17:00:00"},{"$f":"IF('namerena data'!C551>0,'namerena data'!C551/1000,0)","v":0},51,25.98,724.98,0]
[null,{"$f":"'namerena data'!A552+('namerena data'!B552-1)/24","v":"2013-07-23T18:00:00"},{"$f":"IF('namerena data'!C552>0,'namerena data'!C552/1000,0)","v":0},56.11,25.98,857.73780000000011,0]
[null,{"$f":"'namerena data'!A553+('namerena data'!B553-1)/24","v":"2013-07-23T19:00:00"},{"$f":"IF('namerena data'!C553>0,'namerena data'!C553/1000,0)","v":0},55.04,25.98,829.93920000000003,0]
[null,{"$f":"'namerena data'!A554+('namerena data'!B554-1)/24","v":"2013-07-23T20:00:00"},{"$f":"IF('namerena data'!C554>0,'namerena data'!C554/1000,0)","v":0},57.7,25.98,899.04600000000005,0]
[null,{"$f":"'namerena data'!A555+('namerena data'!B555-1)/24","v":"2013-07-23T21:00:00"},{"$f":"IF('namerena data'!C555>0,'namerena data'!C555/1000,0)","v":0},54.99,25.98,828.64020000000005,0]
[null,{"$f":"'namerena data'!A556+('namerena data'!B556-1)/24","v":"2013-07-23T22:00:00"},{"$f":"IF('namerena data'!C556>0,'namerena data'!C556/1000,0)","v":0},54.94,25.98,827.34120000000007,0]
[null,{"$f":"'namerena data'!A557+('namerena data'!B557-1)/24","v":"2013-07-23T23:00:00"},{"$f":"IF('namerena data'!C557>0,'namerena data'!C557/1000,0)","v":0},40.64,25.98,455.82719999999995,0]
[null,{"$f":"'namerena data'!A558+('namerena data'!B558-1)/24","v":"2013-07-24"},{"$f":"IF('namerena data'!C558>0,'namerena data'!C558/1000,0)","v":0},33.69,25.934999999999999,273.75014999999985,0]
[null,{"$f":"'namerena data'!A559+('namerena data'!B559-1)/24","v":"2013-07-24T01:00:00"},{"$f":"IF('namerena data'!C559>0,'namerena data'!C559/1000,0)","v":0},32.15,25.934999999999999,233.81024999999988,0]
[null,{"$f":"'namerena data'!A560+('namerena data'!B560-1)/24","v":"2013-07-24T02:00:00"},{"$f":"IF('namerena data'!C560>0,'namerena data'!C560/1000,0)","v":0},30.35,25.934999999999999,187.12725,0]
[null,{"$f":"'namerena data'!A561+('namerena data'!B561-1)/24","v":"2013-07-24T03:00:00"},{"$f":"IF('namerena data'!C561>0,'namerena data'!C561/1000,0)","v":0},30.02,25.934999999999999,178.56869999999992,0]
[null,{"$f":"'namerena data'!A562+('namerena data'!B562-1)/24","v":"2013-07-24T04:00:00"},{"$f":"IF('namerena data'!C562>0,'namerena data'!C562/1000,0)","v":0},30.16,25.934999999999999,182.19959999999992,0]
[null,{"$f":"'namerena data'!A563+('namerena data'!B563-1)/24","v":"2013-07-24T05:00:00"},{"$f":"IF('namerena data'!C563>0,'namerena data'!C563/1000,0)","v":0},32.33,25.934999999999999,238.47854999999993,0]
[null,{"$f":"'namerena data'!A564+('namerena data'!B564-1)/24","v":"2013-07-24T06:00:00"},{"$f":"IF('namerena data'!C564>0,'namerena data'!C564/1000,0)","v":0},40.909999999999997,25.934999999999999,461.0008499999999,0]
[null,{"$f":"'namerena data'!A565+('namerena data'!B565-1)/24","v":"2013-07-24T07:00:00"},{"$f":"IF('namerena data'!C565>0,'namerena data'!C565/1000,0)","v":0},60,25.934999999999999,956.09999999999991,0]
[null,{"$f":"'namerena data'!A566+('namerena data'!B566-1)/24","v":"2013-07-24T08:00:00"},{"$f":"IF('namerena data'!C566>0,'namerena data'!C566/1000,0)","v":0},59.65,25.934999999999999,947.02274999999986,0]
[null,{"$f":"'namerena data'!A567+('namerena data'!B567-1)/24","v":"2013-07-24T09:00:00"},{"$f":"IF('namerena data'!C567>0,'namerena data'!C567/1000,0)","v":0},59.07,25.934999999999999,931.98045000000002,0]
[null,{"$f":"'namerena data'!A568+('namerena data'!B568-1)/24","v":"2013-07-24T10:00:00"},{"$f":"IF('namerena data'!C568>0,'namerena data'!C568/1000,0)","v":0},61.04,25.934999999999999,983.07239999999979,0]
[null,{"$f":"'namerena data'!A569+('namerena data'!B569-1)/24","v":"2013-07-24T11:00:00"},{"$f":"IF('namerena data'!C569>0,'namerena data'!C569/1000,0)","v":0},61.91,25.934999999999999,1005.6358499999999,0]
[null,{"$f":"'namerena data'!A570+('namerena data'!B570-1)/24","v":"2013-07-24T12:00:00"},{"$f":"IF('namerena data'!C570>0,'namerena data'!C570/1000,0)","v":0},60.52,25.934999999999999,969.58619999999996,0]
[null,{"$f":"'namerena data'!A571+('namerena data'!B571-1)/24","v":"2013-07-24T13:00:00"},{"$f":"IF('namerena data'!C571>0,'namerena data'!C571/1000,0)","v":0},57.7,25.934999999999999,896.44949999999994,0]
[null,{"$f":"'namerena data'!A572+('namerena data'!B572-1)/24","v":"2013-07-24T14:00:00"},{"$f":"IF('namerena data'!C572>0,'namerena data'!C572/1000,0)","v":0},57.05,25.934999999999999,879.59174999999982,0]
[null,{"$f":"'namerena data'!A573+('namerena data'!B573-1)/24","v":"2013-07-24T15:00:00"},{"$f":"IF('namerena data'!C573>0,'namerena data'!C573/1000,0)","v":0},56.7,25.934999999999999,870.5145,0]
[null,{"$f":"'namerena data'!A574+('namerena data'!B574-1)/24","v":"2013-07-24T16:00:00"},{"$f":"IF('namerena data'!C574>0,'namerena data'!C574/1000,0)","v":0},54.1,25.934999999999999,803.08349999999996,0]
[null,{"$f":"'namerena data'!A575+('namerena data'!B575-1)/24","v":"2013-07-24T17:00:00"},{"$f":"IF('namerena data'!C575>0,'namerena data'!C575/1000,0)","v":0},55.07,25.934999999999999,828.24045000000001,0]
[null,{"$f":"'namerena data'!A576+('namerena data'!B576-1)/24","v":"2013-07-24T18:00:00"},{"$f":"IF('namerena data'!C576>0,'namerena data'!C576/1000,0)","v":0},58.01,25.934999999999999,904.48934999999983,0]
[null,{"$f":"'namerena data'!A577+('namerena data'!B577-1)/24","v":"2013-07-24T19:00:00"},{"$f":"IF('namerena data'!C577>0,'namerena data'!C577/1000,0)","v":0},58.04,25.934999999999999,905.26739999999995,0]
[null,{"$f":"'namerena data'!A578+('namerena data'!B578-1)/24","v":"2013-07-24T20:00:00"},{"$f":"IF('namerena data'!C578>0,'namerena data'!C578/1000,0)","v":0},59.1,25.934999999999999,932.75849999999991,0]
[null,{"$f":"'namerena data'!A579+('namerena data'!B579-1)/24","v":"2013-07-24T21:00:00"},{"$f":"IF('namerena data'!C579>0,'namerena data'!C579/1000,0)","v":0},55.91,25.934999999999999,850.02584999999976,0]
[null,{"$f":"'namerena data'!A580+('namerena data'!B580-1)/24","v":"2013-07-24T22:00:00"},{"$f":"IF('namerena data'!C580>0,'namerena data'!C580/1000,0)","v":0},55.89,25.934999999999999,849.50714999999991,0]
[null,{"$f":"'namerena data'!A581+('namerena data'!B581-1)/24","v":"2013-07-24T23:00:00"},{"$f":"IF('namerena data'!C581>0,'namerena data'!C581/1000,0)","v":0},40.549999999999997,25.934999999999999,451.66424999999981,0]
[null,{"$f":"'namerena data'!A582+('namerena data'!B582-1)/24","v":"2013-07-25"},{"$f":"IF('namerena data'!C582>0,'namerena data'!C582/1000,0)","v":0},38,25.95,386.1,0]
[null,{"$f":"'namerena data'!A583+('namerena data'!B583-1)/24","v":"2013-07-25T01:00:00"},{"$f":"IF('namerena data'!C583>0,'namerena data'!C583/1000,0)","v":0},35.78,25.95,{"$f":"+IF(AND(ISNUMBER(D593),ISNUMBER(E593)),D593*E593-$F$13,0)","v":328.49099999999999},{"$f":"+(C593*F593)","v":0}]
[null,{"$f":"'namerena data'!A584+('namerena data'!B584-1)/24","v":"2013-07-25T02:00:00"},{"$f":"IF('namerena data'!C584>0,'namerena data'!C584/1000,0)","v":0},33,25.95,256.35000000000002,0]
[null,{"$f":"'namerena data'!A585+('namerena data'!B585-1)/24","v":"2013-07-25T03:00:00"},{"$f":"IF('namerena data'!C585>0,'namerena data'!C585/1000,0)","v":0},32,25.95,230.39999999999998,0]
[null,{"$f":"'namerena data'!A586+('namerena data'!B586-1)/24","v":"2013-07-25T04:00:00"},{"$f":"IF('namerena data'!C586>0,'namerena data'!C586/1000,0)","v":0},31.5,25.95,217.42499999999995,0]
[null,{"$f":"'namerena data'!A587+('namerena data'!B587-1)/24","v":"2013-07-25T05:00:00"},{"$f":"IF('namerena data'!C587>0,'namerena data'!C587/1000,0)","v":0},34.799999999999997,25.95,303.05999999999995,0]
[null,{"$f":"'namerena data'!A588+('namerena data'!B588-1)/24","v":"2013-07-25T06:00:00"},{"$f":"IF('namerena data'!C588>0,'namerena data'!C588/1000,0)","v":0},42.45,25.95,501.5775000000001,0]
[null,{"$f":"'namerena data'!A589+('namerena data'!B589-1)/24","v":"2013-07-25T07:00:00"},{"$f":"IF('namerena data'!C589>0,'namerena data'!C589/1000,0)","v":0},62.91,25.95,1032.5144999999998,0]
[null,{"$f":"'namerena data'!A590+('namerena data'!B590-1)/24","v":"2013-07-25T08:00:00"},{"$f":"IF('namerena data'!C590>0,'namerena data'!C590/1000,0)","v":0},60,25.95,957,0]
[null,{"$f":"'namerena data'!A591+('namerena data'!B591-1)/24","v":"2013-07-25T09:00:00"},{"$f":"IF('namerena data'!C591>0,'namerena data'!C591/1000,0)","v":0},63,25.95,1034.8499999999999,0]
[null,{"$f":"'namerena data'!A592+('namerena data'!B592-1)/24","v":"2013-07-25T10:00:00"},{"$f":"IF('namerena data'!C592>0,'namerena data'!C592/1000,0)","v":0},64.760000000000005,25.95,1080.5220000000002,0]
[null,{"$f":"'namerena data'!A593+('namerena data'!B593-1)/24","v":"2013-07-25T11:00:00"},{"$f":"IF('namerena data'!C593>0,'namerena data'!C593/1000,0)","v":0},68,25.95,1164.5999999999999,0]
[null,{"$f":"'namerena data'!A594+('namerena data'!B594-1)/24","v":"2013-07-25T12:00:00"},{"$f":"IF('namerena data'!C594>0,'namerena data'!C594/1000,0)","v":0},65,25.95,1086.75,0]
[null,{"$f":"'namerena data'!A595+('namerena data'!B595-1)/24","v":"2013-07-25T13:00:00"},{"$f":"IF('namerena data'!C595>0,'namerena data'!C595/1000,0)","v":0},68.069999999999993,25.95,1166.4164999999998,0]
[null,{"$f":"'namerena data'!A596+('namerena data'!B596-1)/24","v":"2013-07-25T14:00:00"},{"$f":"IF('namerena data'!C596>0,'namerena data'!C596/1000,0)","v":0},63.04,25.95,1035.8879999999999,0]
[null,{"$f":"'namerena data'!A597+('namerena data'!B597-1)/24","v":"2013-07-25T15:00:00"},{"$f":"IF('namerena data'!C597>0,'namerena data'!C597/1000,0)","v":0},61.72,25.95,1001.634,0]
[null,{"$f":"'namerena data'!A598+('namerena data'!B598-1)/24","v":"2013-07-25T16:00:00"},{"$f":"IF('namerena data'!C598>0,'namerena data'!C598/1000,0)","v":0},59.2,25.95,936.24,0]
[null,{"$f":"'namerena data'!A599+('namerena data'!B599-1)/24","v":"2013-07-25T17:00:00"},{"$f":"IF('namerena data'!C599>0,'namerena data'!C599/1000,0)","v":0},62.08,25.95,1010.9759999999999,0]
[null,{"$f":"'namerena data'!A600+('namerena data'!B600-1)/24","v":"2013-07-25T18:00:00"},{"$f":"IF('namerena data'!C600>0,'namerena data'!C600/1000,0)","v":0},65.069999999999993,25.95,1088.5664999999997,0]
[null,{"$f":"'namerena data'!A601+('namerena data'!B601-1)/24","v":"2013-07-25T19:00:00"},{"$f":"IF('namerena data'!C601>0,'namerena data'!C601/1000,0)","v":0},63.12,25.95,1037.9639999999999,0]
[null,{"$f":"'namerena data'!A602+('namerena data'!B602-1)/24","v":"2013-07-25T20:00:00"},{"$f":"IF('namerena data'!C602>0,'namerena data'!C602/1000,0)","v":0},68.7,25.95,1182.7650000000001,0]
[null,{"$f":"'namerena data'!A603+('namerena data'!B603-1)/24","v":"2013-07-25T21:00:00"},{"$f":"IF('namerena data'!C603>0,'namerena data'!C603/1000,0)","v":0},59.73,25.95,949.99349999999981,0]
[null,{"$f":"'namerena data'!A604+('namerena data'!B604-1)/24","v":"2013-07-25T22:00:00"},{"$f":"IF('namerena data'!C604>0,'namerena data'!C604/1000,0)","v":0},60.04,25.95,958.03800000000001,0]
[null,{"$f":"'namerena data'!A605+('namerena data'!B605-1)/24","v":"2013-07-25T23:00:00"},{"$f":"IF('namerena data'!C605>0,'namerena data'!C605/1000,0)","v":0},48.87,25.95,668.17649999999981,0]
[null,{"$f":"'namerena data'!A606+('namerena data'!B606-1)/24","v":"2013-07-26"},{"$f":"IF('namerena data'!C606>0,'namerena data'!C606/1000,0)","v":0},35.19,25.95,313.18049999999994,0]
[null,{"$f":"'namerena data'!A607+('namerena data'!B607-1)/24","v":"2013-07-26T01:00:00"},{"$f":"IF('namerena data'!C607>0,'namerena data'!C607/1000,0)","v":0},35.03,25.95,309.02850000000001,0]
[null,{"$f":"'namerena data'!A608+('namerena data'!B608-1)/24","v":"2013-07-26T02:00:00"},{"$f":"IF('namerena data'!C608>0,'namerena data'!C608/1000,0)","v":0},33.24,25.95,262.57799999999997,0]
[null,{"$f":"'namerena data'!A609+('namerena data'!B609-1)/24","v":"2013-07-26T03:00:00"},{"$f":"IF('namerena data'!C609>0,'namerena data'!C609/1000,0)","v":0},31.13,25.95,207.82349999999997,0]
[null,{"$f":"'namerena data'!A610+('namerena data'!B610-1)/24","v":"2013-07-26T04:00:00"},{"$f":"IF('namerena data'!C610>0,'namerena data'!C610/1000,0)","v":0},31.45,25.95,216.12749999999994,0]
[null,{"$f":"'namerena data'!A611+('namerena data'!B611-1)/24","v":"2013-07-26T05:00:00"},{"$f":"IF('namerena data'!C611>0,'namerena data'!C611/1000,0)","v":0},35.01,25.95,308.50949999999989,0]
[null,{"$f":"'namerena data'!A612+('namerena data'!B612-1)/24","v":"2013-07-26T06:00:00"},{"$f":"IF('namerena data'!C612>0,'namerena data'!C612/1000,0)","v":0},40.51,25.95,451.23450000000003,0]
[null,{"$f":"'namerena data'!A613+('namerena data'!B613-1)/24","v":"2013-07-26T07:00:00"},{"$f":"IF('namerena data'!C613>0,'namerena data'!C613/1000,0)","v":0},58.4,25.95,915.48,0]
[null,{"$f":"'namerena data'!A614+('namerena data'!B614-1)/24","v":"2013-07-26T08:00:00"},{"$f":"IF('namerena data'!C614>0,'namerena data'!C614/1000,0)","v":0},58.85,25.95,927.15750000000003,0]
[null,{"$f":"'namerena data'!A615+('namerena data'!B615-1)/24","v":"2013-07-26T09:00:00"},{"$f":"IF('namerena data'!C615>0,'namerena data'!C615/1000,0)","v":0},60.23,25.95,962.96849999999995,0]
[null,{"$f":"'namerena data'!A616+('namerena data'!B616-1)/24","v":"2013-07-26T10:00:00"},{"$f":"IF('namerena data'!C616>0,'namerena data'!C616/1000,0)","v":0},56,25.95,853.2,0]
[null,{"$f":"'namerena data'!A617+('namerena data'!B617-1)/24","v":"2013-07-26T11:00:00"},{"$f":"IF('namerena data'!C617>0,'namerena data'!C617/1000,0)","v":0},57,25.95,879.14999999999986,0]
[null,{"$f":"'namerena data'!A618+('namerena data'!B618-1)/24","v":"2013-07-26T12:00:00"},{"$f":"IF('namerena data'!C618>0,'namerena data'!C618/1000,0)","v":0},53,25.95,775.34999999999991,0]
[null,{"$f":"'namerena data'!A619+('namerena data'!B619-1)/24","v":"2013-07-26T13:00:00"},{"$f":"IF('namerena data'!C619>0,'namerena data'!C619/1000,0)","v":0},49.69,25.95,689.4554999999998,0]
[null,{"$f":"'namerena data'!A620+('namerena data'!B620-1)/24","v":"2013-07-26T14:00:00"},{"$f":"IF('namerena data'!C620>0,'namerena data'!C620/1000,0)","v":0},49,25.95,671.55,0]
[null,{"$f":"'namerena data'!A621+('namerena data'!B621-1)/24","v":"2013-07-26T15:00:00"},{"$f":"IF('namerena data'!C621>0,'namerena data'!C621/1000,0)","v":0},46.78,25.95,613.94100000000003,0]
[null,{"$f":"'namerena data'!A622+('namerena data'!B622-1)/24","v":"2013-07-26T16:00:00"},{"$f":"IF('namerena data'!C622>0,'namerena data'!C622/1000,0)","v":0},47.4,25.95,630.03,0]
[null,{"$f":"'namerena data'!A623+('namerena data'!B623-1)/24","v":"2013-07-26T17:00:00"},{"$f":"IF('namerena data'!C623>0,'namerena data'!C623/1000,0)","v":0},52,25.95,749.39999999999986,0]
[null,{"$f":"'namerena data'!A624+('namerena data'!B624-1)/24","v":"2013-07-26T18:00:00"},{"$f":"IF('namerena data'!C624>0,'namerena data'!C624/1000,0)","v":0},54.36,25.95,810.64200000000005,0]
[null,{"$f":"'namerena data'!A625+('namerena data'!B625-1)/24","v":"2013-07-26T19:00:00"},{"$f":"IF('namerena data'!C625>0,'namerena data'!C625/1000,0)","v":0},55.35,25.95,836.33249999999998,0]
[null,{"$f":"'namerena data'!A626+('namerena data'!B626-1)/24","v":"2013-07-26T20:00:00"},{"$f":"IF('namerena data'!C626>0,'namerena data'!C626/1000,0)","v":0},53.2,25.95,780.54,0]
[null,{"$f":"'namerena data'!A627+('namerena data'!B627-1)/24","v":"2013-07-26T21:00:00"},{"$f":"IF('namerena data'!C627>0,'namerena data'!C627/1000,0)","v":0},53.49,25.95,788.06549999999993,0]
[null,{"$f":"'namerena data'!A628+('namerena data'!B628-1)/24","v":"2013-07-26T22:00:00"},{"$f":"IF('namerena data'!C628>0,'namerena data'!C628/1000,0)","v":0},53.52,25.95,788.84400000000005,0]
[null,{"$f":"'namerena data'!A629+('namerena data'!B629-1)/24","v":"2013-07-26T23:00:00"},{"$f":"IF('namerena data'!C629>0,'namerena data'!C629/1000,0)","v":0},40.9,25.95,461.35500000000002,0]
[null,{"$f":"'namerena data'!A630+('namerena data'!B630-1)/24","v":"2013-07-27"},{"$f":"IF('namerena data'!C630>0,'namerena data'!C630/1000,0)","v":0},36.42,25.95,345.09900000000005,0]
[null,{"$f":"'namerena data'!A631+('namerena data'!B631-1)/24","v":"2013-07-27T01:00:00"},{"$f":"IF('namerena data'!C631>0,'namerena data'!C631/1000,0)","v":0},32.4,25.95,240.77999999999997,0]
[null,{"$f":"'namerena data'!A632+('namerena data'!B632-1)/24","v":"2013-07-27T02:00:00"},{"$f":"IF('namerena data'!C632>0,'namerena data'!C632/1000,0)","v":0},31.5,25.95,217.42499999999995,0]
[null,{"$f":"'namerena data'!A633+('namerena data'!B633-1)/24","v":"2013-07-27T03:00:00"},{"$f":"IF('namerena data'!C633>0,'namerena data'!C633/1000,0)","v":0},29,25.95,152.54999999999995,0]
[null,{"$f":"'namerena data'!A634+('namerena data'!B634-1)/24","v":"2013-07-27T04:00:00"},{"$f":"IF('namerena data'!C634>0,'namerena data'!C634/1000,0)","v":0},29,25.95,152.54999999999995,0]
[null,{"$f":"'namerena data'!A635+('namerena data'!B635-1)/24","v":"2013-07-27T05:00:00"},{"$f":"IF('namerena data'!C635>0,'namerena data'!C635/1000,0)","v":0},29.3,25.95,160.33500000000004,0]
[null,{"$f":"'namerena data'!A636+('namerena data'!B636-1)/24","v":"2013-07-27T06:00:00"},{"$f":"IF('namerena data'!C636>0,'namerena data'!C636/1000,0)","v":0},33.5,25.95,269.32499999999993,0]
[null,{"$f":"'namerena data'!A637+('namerena data'!B637-1)/24","v":"2013-07-27T07:00:00"},{"$f":"IF('namerena data'!C637>0,'namerena data'!C637/1000,0)","v":0},35.909999999999997,25.95,331.86449999999991,0]
[null,{"$f":"'namerena data'!A638+('namerena data'!B638-1)/24","v":"2013-07-27T08:00:00"},{"$f":"IF('namerena data'!C638>0,'namerena data'!C638/1000,0)","v":0},35.270000000000003,25.95,315.25650000000007,0]
[null,{"$f":"'namerena data'!A639+('namerena data'!B639-1)/24","v":"2013-07-27T09:00:00"},{"$f":"IF('namerena data'!C639>0,'namerena data'!C639/1000,0)","v":0},35.700000000000003,25.95,326.41500000000008,0]
[null,{"$f":"'namerena data'!A640+('namerena data'!B640-1)/24","v":"2013-07-27T10:00:00"},{"$f":"IF('namerena data'!C640>0,'namerena data'!C640/1000,0)","v":0},34.369999999999997,25.95,291.90149999999994,0]
[null,{"$f":"'namerena data'!A641+('namerena data'!B641-1)/24","v":"2013-07-27T11:00:00"},{"$f":"IF('namerena data'!C641>0,'namerena data'!C641/1000,0)","v":0},34.700000000000003,25.95,300.46500000000003,0]
[null,{"$f":"'namerena data'!A642+('namerena data'!B642-1)/24","v":"2013-07-27T12:00:00"},{"$f":"IF('namerena data'!C642>0,'namerena data'!C642/1000,0)","v":0},28.5,25.95,139.57499999999993,0]
[null,{"$f":"'namerena data'!A643+('namerena data'!B643-1)/24","v":"2013-07-27T13:00:00"},{"$f":"IF('namerena data'!C643>0,'namerena data'!C643/1000,0)","v":0},26.4,25.95,85.079999999999927,0]
[null,{"$f":"'namerena data'!A644+('namerena data'!B644-1)/24","v":"2013-07-27T14:00:00"},{"$f":"IF('namerena data'!C644>0,'namerena data'!C644/1000,0)","v":0},27.43,25.95,111.80849999999998,0]
[null,{"$f":"'namerena data'!A645+('namerena data'!B645-1)/24","v":"2013-07-27T15:00:00"},{"$f":"IF('namerena data'!C645>0,'namerena data'!C645/1000,0)","v":0},26.98,25.95,100.13099999999997,0]
[null,{"$f":"'namerena data'!A646+('namerena data'!B646-1)/24","v":"2013-07-27T16:00:00"},{"$f":"IF('namerena data'!C646>0,'namerena data'!C646/1000,0)","v":0},27,25.95,100.64999999999998,0]
[null,{"$f":"'namerena data'!A647+('namerena data'!B647-1)/24","v":"2013-07-27T17:00:00"},{"$f":"IF('namerena data'!C647>0,'namerena data'!C647/1000,0)","v":0},32.6,25.95,{"$f":"+IF(AND(ISNUMBER(D657),ISNUMBER(E657)),D657*E657-$F$13,0)","v":245.97000000000003},{"$f":"+(C657*F657)","v":0}]
[null,{"$f":"'namerena data'!A648+('namerena data'!B648-1)/24","v":"2013-07-27T18:00:00"},{"$f":"IF('namerena data'!C648>0,'namerena data'!C648/1000,0)","v":0},36.26,25.95,340.94699999999989,0]
[null,{"$f":"'namerena data'!A649+('namerena data'!B649-1)/24","v":"2013-07-27T19:00:00"},{"$f":"IF('namerena data'!C649>0,'namerena data'!C649/1000,0)","v":0},37.200000000000003,25.95,365.34000000000003,0]
[null,{"$f":"'namerena data'!A650+('namerena data'!B650-1)/24","v":"2013-07-27T20:00:00"},{"$f":"IF('namerena data'!C650>0,'namerena data'!C650/1000,0)","v":0},35.54,25.95,322.26299999999992,0]
[null,{"$f":"'namerena data'!A651+('namerena data'!B651-1)/24","v":"2013-07-27T21:00:00"},{"$f":"IF('namerena data'!C651>0,'namerena data'!C651/1000,0)","v":0},36.909999999999997,25.95,357.81449999999984,0]
[null,{"$f":"'namerena data'!A652+('namerena data'!B652-1)/24","v":"2013-07-27T22:00:00"},{"$f":"IF('namerena data'!C652>0,'namerena data'!C652/1000,0)","v":0},39.4,25.95,422.42999999999995,0]
[null,{"$f":"'namerena data'!A653+('namerena data'!B653-1)/24","v":"2013-07-27T23:00:00"},{"$f":"IF('namerena data'!C653>0,'namerena data'!C653/1000,0)","v":0},34,25.95,282.29999999999995,0]
[null,{"$f":"'namerena data'!A654+('namerena data'!B654-1)/24","v":"2013-07-28"},{"$f":"IF('namerena data'!C654>0,'namerena data'!C654/1000,0)","v":0},29.07,25.95,154.36649999999997,0]
[null,{"$f":"'namerena data'!A655+('namerena data'!B655-1)/24","v":"2013-07-28T01:00:00"},{"$f":"IF('namerena data'!C655>0,'namerena data'!C655/1000,0)","v":0},25.89,25.95,71.845500000000015,0]
[null,{"$f":"'namerena data'!A656+('namerena data'!B656-1)/24","v":"2013-07-28T02:00:00"},{"$f":"IF('namerena data'!C656>0,'namerena data'!C656/1000,0)","v":0},23.21,25.95,2.2994999999999663,0]
[null,{"$f":"'namerena data'!A657+('namerena data'!B657-1)/24","v":"2013-07-28T03:00:00"},{"$f":"IF('namerena data'!C657>0,'namerena data'!C657/1000,0)","v":0},21.33,25.95,-46.486500000000092,0]
[null,{"$f":"'namerena data'!A658+('namerena data'!B658-1)/24","v":"2013-07-28T04:00:00"},{"$f":"IF('namerena data'!C658>0,'namerena data'!C658/1000,0)","v":0},20.9,25.95,-57.645000000000095,0]
[null,{"$f":"'namerena data'!A659+('namerena data'!B659-1)/24","v":"2013-07-28T05:00:00"},{"$f":"IF('namerena data'!C659>0,'namerena data'!C659/1000,0)","v":0},19.739999999999998,25.95,-87.747000000000071,0]
[null,{"$f":"'namerena data'!A660+('namerena data'!B660-1)/24","v":"2013-07-28T06:00:00"},{"$f":"IF('namerena data'!C660>0,'namerena data'!C660/1000,0)","v":0},19.100000000000001,25.95,-104.35499999999996,0]
[null,{"$f":"'namerena data'!A661+('namerena data'!B661-1)/24","v":"2013-07-28T07:00:00"},{"$f":"IF('namerena data'!C661>0,'namerena data'!C661/1000,0)","v":0},20.3,25.95,-73.215000000000032,0]
[null,{"$f":"'namerena data'!A662+('namerena data'!B662-1)/24","v":"2013-07-28T08:00:00"},{"$f":"IF('namerena data'!C662>0,'namerena data'!C662/1000,0)","v":0},22.2,25.95,-23.910000000000082,0]
[null,{"$f":"'namerena data'!A663+('namerena data'!B663-1)/24","v":"2013-07-28T09:00:00"},{"$f":"IF('namerena data'!C663>0,'namerena data'!C663/1000,0)","v":0},24.9,25.95,46.154999999999973,0]
[null,{"$f":"'namerena data'!A664+('namerena data'!B664-1)/24","v":"2013-07-28T10:00:00"},{"$f":"IF('namerena data'!C664>0,'namerena data'!C664/1000,0)","v":0},25.7,25.95,66.914999999999964,0]
[null,{"$f":"'namerena data'!A665+('namerena data'!B665-1)/24","v":"2013-07-28T11:00:00"},{"$f":"IF('namerena data'!C665>0,'namerena data'!C665/1000,0)","v":0},27,25.95,100.64999999999998,0]
[null,{"$f":"'namerena data'!A666+('namerena data'!B666-1)/24","v":"2013-07-28T12:00:00"},{"$f":"IF('namerena data'!C666>0,'namerena data'!C666/1000,0)","v":0},25,25.95,48.75,0]
[null,{"$f":"'namerena data'!A667+('namerena data'!B667-1)/24","v":"2013-07-28T13:00:00"},{"$f":"IF('namerena data'!C667>0,'namerena data'!C667/1000,0)","v":0},20,25.95,-81,0]
[null,{"$f":"'namerena data'!A668+('namerena data'!B668-1)/24","v":"2013-07-28T14:00:00"},{"$f":"IF('namerena data'!C668>0,'namerena data'!C668/1000,0)","v":0},19,25.95,-106.94999999999999,0]
[null,{"$f":"'namerena data'!A669+('namerena data'!B669-1)/24","v":"2013-07-28T15:00:00"},{"$f":"IF('namerena data'!C669>0,'namerena data'!C669/1000,0)","v":0},20,25.95,-81,0]
[null,{"$f":"'namerena data'!A670+('namerena data'!B670-1)/24","v":"2013-07-28T16:00:00"},{"$f":"IF('namerena data'!C670>0,'namerena data'!C670/1000,0)","v":0},22,25.95,-29.100000000000023,0]
[null,{"$f":"'namerena data'!A671+('namerena data'!B671-1)/24","v":"2013-07-28T17:00:00"},{"$f":"IF('namerena data'!C671>0,'namerena data'!C671/1000,0)","v":0},22.3,25.95,-21.314999999999941,0]
[null,{"$f":"'namerena data'!A672+('namerena data'!B672-1)/24","v":"2013-07-28T18:00:00"},{"$f":"IF('namerena data'!C672>0,'namerena data'!C672/1000,0)","v":0},30.6,25.95,194.07000000000005,0]
[null,{"$f":"'namerena data'!A673+('namerena data'!B673-1)/24","v":"2013-07-28T19:00:00"},{"$f":"IF('namerena data'!C673>0,'namerena data'!C673/1000,0)","v":0},36.43,25.95,345.35849999999994,0]
[null,{"$f":"'namerena data'!A674+('namerena data'!B674-1)/24","v":"2013-07-28T20:00:00"},{"$f":"IF('namerena data'!C674>0,'namerena data'!C674/1000,0)","v":0},33.700000000000003,25.95,274.5150000000001,0]
[null,{"$f":"'namerena data'!A675+('namerena data'!B675-1)/24","v":"2013-07-28T21:00:00"},{"$f":"IF('namerena data'!C675>0,'namerena data'!C675/1000,0)","v":0},38.6,25.95,401.66999999999996,0]
[null,{"$f":"'namerena data'!A676+('namerena data'!B676-1)/24","v":"2013-07-28T22:00:00"},{"$f":"IF('namerena data'!C676>0,'namerena data'!C676/1000,0)","v":0},40.11,25.95,440.85449999999992,0]
[null,{"$f":"'namerena data'!A677+('namerena data'!B677-1)/24","v":"2013-07-28T23:00:00"},{"$f":"IF('namerena data'!C677>0,'namerena data'!C677/1000,0)","v":0},34.83,25.95,303.83849999999995,0]
[null,{"$f":"'namerena data'!A678+('namerena data'!B678-1)/24","v":"2013-07-29"},{"$f":"IF('namerena data'!C678>0,'namerena data'!C678/1000,0)","v":0},31,25.91,203.21000000000004,0]
[null,{"$f":"'namerena data'!A679+('namerena data'!B679-1)/24","v":"2013-07-29T01:00:00"},{"$f":"IF('namerena data'!C679>0,'namerena data'!C679/1000,0)","v":0},28.3,25.91,133.25300000000004,0]
[null,{"$f":"'namerena data'!A680+('namerena data'!B680-1)/24","v":"2013-07-29T02:00:00"},{"$f":"IF('namerena data'!C680>0,'namerena data'!C680/1000,0)","v":0},27,25.91,99.57000000000005,0]
[null,{"$f":"'namerena data'!A681+('namerena data'!B681-1)/24","v":"2013-07-29T03:00:00"},{"$f":"IF('namerena data'!C681>0,'namerena data'!C681/1000,0)","v":0},26.94,25.91,98.0154,0]
[null,{"$f":"'namerena data'!A682+('namerena data'!B682-1)/24","v":"2013-07-29T04:00:00"},{"$f":"IF('namerena data'!C682>0,'namerena data'!C682/1000,0)","v":0},27.7,25.91,117.70699999999999,0]
[null,{"$f":"'namerena data'!A683+('namerena data'!B683-1)/24","v":"2013-07-29T05:00:00"},{"$f":"IF('namerena data'!C683>0,'namerena data'!C683/1000,0)","v":0},29.3,25.91,159.16300000000001,0]
[null,{"$f":"'namerena data'!A684+('namerena data'!B684-1)/24","v":"2013-07-29T06:00:00"},{"$f":"IF('namerena data'!C684>0,'namerena data'!C684/1000,0)","v":0},39.200000000000003,25.91,415.67200000000003,0]
[null,{"$f":"'namerena data'!A685+('namerena data'!B685-1)/24","v":"2013-07-29T07:00:00"},{"$f":"IF('namerena data'!C685>0,'namerena data'!C685/1000,0)","v":0},49.48,25.91,682.02679999999987,0]
[null,{"$f":"'namerena data'!A686+('namerena data'!B686-1)/24","v":"2013-07-29T08:00:00"},{"$f":"IF('namerena data'!C686>0,'namerena data'!C686/1000,0)","v":0},51.84,25.91,743.17440000000011,0]
[null,{"$f":"'namerena data'!A687+('namerena data'!B687-1)/24","v":"2013-07-29T09:00:00"},{"$f":"IF('namerena data'!C687>0,'namerena data'!C687/1000,0)","v":0},54.66,25.91,816.24059999999986,0]
[null,{"$f":"'namerena data'!A688+('namerena data'!B688-1)/24","v":"2013-07-29T10:00:00"},{"$f":"IF('namerena data'!C688>0,'namerena data'!C688/1000,0)","v":0},55.84,25.91,846.81440000000021,0]
[null,{"$f":"'namerena data'!A689+('namerena data'!B689-1)/24","v":"2013-07-29T11:00:00"},{"$f":"IF('namerena data'!C689>0,'namerena data'!C689/1000,0)","v":0},59.5,25.91,941.64499999999998,0]
[null,{"$f":"'namerena data'!A690+('namerena data'!B690-1)/24","v":"2013-07-29T12:00:00"},{"$f":"IF('namerena data'!C690>0,'namerena data'!C690/1000,0)","v":0},60,25.91,954.59999999999991,0]
[null,{"$f":"'namerena data'!A691+('namerena data'!B691-1)/24","v":"2013-07-29T13:00:00"},{"$f":"IF('namerena data'!C691>0,'namerena data'!C691/1000,0)","v":0},57.35,25.91,885.93849999999998,0]
[null,{"$f":"'namerena data'!A692+('namerena data'!B692-1)/24","v":"2013-07-29T14:00:00"},{"$f":"IF('namerena data'!C692>0,'namerena data'!C692/1000,0)","v":0},55,25.91,825.05,0]
[null,{"$f":"'namerena data'!A693+('namerena data'!B693-1)/24","v":"2013-07-29T15:00:00"},{"$f":"IF('namerena data'!C693>0,'namerena data'!C693/1000,0)","v":0},55,25.91,825.05,0]
[null,{"$f":"'namerena data'!A694+('namerena data'!B694-1)/24","v":"2013-07-29T16:00:00"},{"$f":"IF('namerena data'!C694>0,'namerena data'!C694/1000,0)","v":0},51.5,25.91,734.36500000000001,0]
[null,{"$f":"'namerena data'!A695+('namerena data'!B695-1)/24","v":"2013-07-29T17:00:00"},{"$f":"IF('namerena data'!C695>0,'namerena data'!C695/1000,0)","v":0},52.9,25.91,770.6389999999999,0]
[null,{"$f":"'namerena data'!A696+('namerena data'!B696-1)/24","v":"2013-07-29T18:00:00"},{"$f":"IF('namerena data'!C696>0,'namerena data'!C696/1000,0)","v":0},53.82,25.91,794.47620000000006,0]
[null,{"$f":"'namerena data'!A697+('namerena data'!B697-1)/24","v":"2013-07-29T19:00:00"},{"$f":"IF('namerena data'!C697>0,'namerena data'!C697/1000,0)","v":0},55.7,25.91,843.18700000000013,0]
[null,{"$f":"'namerena data'!A698+('namerena data'!B698-1)/24","v":"2013-07-29T20:00:00"},{"$f":"IF('namerena data'!C698>0,'namerena data'!C698/1000,0)","v":0},50.24,25.91,701.71839999999997,0]
[null,{"$f":"'namerena data'!A699+('namerena data'!B699-1)/24","v":"2013-07-29T21:00:00"},{"$f":"IF('namerena data'!C699>0,'namerena data'!C699/1000,0)","v":0},49.1,25.91,672.18100000000004,0]
[null,{"$f":"'namerena data'!A700+('namerena data'!B700-1)/24","v":"2013-07-29T22:00:00"},{"$f":"IF('namerena data'!C700>0,'namerena data'!C700/1000,0)","v":0},49,25.91,669.58999999999992,0]
[null,{"$f":"'namerena data'!A701+('namerena data'!B701-1)/24","v":"2013-07-29T23:00:00"},{"$f":"IF('namerena data'!C701>0,'namerena data'!C701/1000,0)","v":0},38.700000000000003,25.91,402.7170000000001,0]
[null,{"$f":"'namerena data'!A702+('namerena data'!B702-1)/24","v":"2013-07-30"},{"$f":"IF('namerena data'!C702>0,'namerena data'!C702/1000,0)","v":0},33.83,25.85,274.50549999999998,0]
[null,{"$f":"'namerena data'!A703+('namerena data'!B703-1)/24","v":"2013-07-30T01:00:00"},{"$f":"IF('namerena data'!C703>0,'namerena data'!C703/1000,0)","v":0},30.23,25.85,181.44550000000004,0]
[null,{"$f":"'namerena data'!A704+('namerena data'!B704-1)/24","v":"2013-07-30T02:00:00"},{"$f":"IF('namerena data'!C704>0,'namerena data'!C704/1000,0)","v":0},27.48,25.85,110.35800000000006,0]
[null,{"$f":"'namerena data'!A705+('namerena data'!B705-1)/24","v":"2013-07-30T03:00:00"},{"$f":"IF('namerena data'!C705>0,'namerena data'!C705/1000,0)","v":0},26.38,25.85,81.923000000000002,0]
[null,{"$f":"'namerena data'!A706+('namerena data'!B706-1)/24","v":"2013-07-30T04:00:00"},{"$f":"IF('namerena data'!C706>0,'namerena data'!C706/1000,0)","v":0},26.38,25.85,81.923000000000002,0]
[null,{"$f":"'namerena data'!A707+('namerena data'!B707-1)/24","v":"2013-07-30T05:00:00"},{"$f":"IF('namerena data'!C707>0,'namerena data'!C707/1000,0)","v":0},28.77,25.85,143.70450000000005,0]
[null,{"$f":"'namerena data'!A708+('namerena data'!B708-1)/24","v":"2013-07-30T06:00:00"},{"$f":"IF('namerena data'!C708>0,'namerena data'!C708/1000,0)","v":0},35.9,25.85,328.01499999999999,0]
[null,{"$f":"'namerena data'!A709+('namerena data'!B709-1)/24","v":"2013-07-30T07:00:00"},{"$f":"IF('namerena data'!C709>0,'namerena data'!C709/1000,0)","v":0},44,25.85,537.40000000000009,0]
[null,{"$f":"'namerena data'!A710+('namerena data'!B710-1)/24","v":"2013-07-30T08:00:00"},{"$f":"IF('namerena data'!C710>0,'namerena data'!C710/1000,0)","v":0},46.3,25.85,596.85500000000002,0]
[null,{"$f":"'namerena data'!A711+('namerena data'!B711-1)/24","v":"2013-07-30T09:00:00"},{"$f":"IF('namerena data'!C711>0,'namerena data'!C711/1000,0)","v":0},45,25.85,{"$f":"+IF(AND(ISNUMBER(D721),ISNUMBER(E721)),D721*E721-$F$13,0)","v":563.25},{"$f":"+(C721*F721)","v":0}]
[null,{"$f":"'namerena data'!A712+('namerena data'!B712-1)/24","v":"2013-07-30T10:00:00"},{"$f":"IF('namerena data'!C712>0,'namerena data'!C712/1000,0)","v":0},44.31,25.85,545.41350000000011,0]
[null,{"$f":"'namerena data'!A713+('namerena data'!B713-1)/24","v":"2013-07-30T11:00:00"},{"$f":"IF('namerena data'!C713>0,'namerena data'!C713/1000,0)","v":0},44.23,25.85,543.3454999999999,0]
[null,{"$f":"'namerena data'!A714+('namerena data'!B714-1)/24","v":"2013-07-30T12:00:00"},{"$f":"IF('namerena data'!C714>0,'namerena data'!C714/1000,0)","v":0},39.32,25.85,416.42200000000003,0]
[null,{"$f":"'namerena data'!A715+('namerena data'!B715-1)/24","v":"2013-07-30T13:00:00"},{"$f":"IF('namerena data'!C715>0,'namerena data'!C715/1000,0)","v":0},36.32,25.85,338.87200000000007,0]
[null,{"$f":"'namerena data'!A716+('namerena data'!B716-1)/24","v":"2013-07-30T14:00:00"},{"$f":"IF('namerena data'!C716>0,'namerena data'!C716/1000,0)","v":0},35.32,25.85,313.02200000000005,0]
[null,{"$f":"'namerena data'!A717+('namerena data'!B717-1)/24","v":"2013-07-30T15:00:00"},{"$f":"IF('namerena data'!C717>0,'namerena data'!C717/1000,0)","v":0},34,25.85,278.90000000000009,0]
[null,{"$f":"'namerena data'!A718+('namerena data'!B718-1)/24","v":"2013-07-30T16:00:00"},{"$f":"IF('namerena data'!C718>0,'namerena data'!C718/1000,0)","v":0},35.1,25.85,307.33500000000004,0]
[null,{"$f":"'namerena data'!A719+('namerena data'!B719-1)/24","v":"2013-07-30T17:00:00"},{"$f":"IF('namerena data'!C719>0,'namerena data'!C719/1000,0)","v":0},39.65,25.85,424.9525000000001,0]
[null,{"$f":"'namerena data'!A720+('namerena data'!B720-1)/24","v":"2013-07-30T18:00:00"},{"$f":"IF('namerena data'!C720>0,'namerena data'!C720/1000,0)","v":0},41.25,25.85,466.3125,0]
[null,{"$f":"'namerena data'!A721+('namerena data'!B721-1)/24","v":"2013-07-30T19:00:00"},{"$f":"IF('namerena data'!C721>0,'namerena data'!C721/1000,0)","v":0},44.28,25.85,544.63800000000015,0]
[null,{"$f":"'namerena data'!A722+('namerena data'!B722-1)/24","v":"2013-07-30T20:00:00"},{"$f":"IF('namerena data'!C722>0,'namerena data'!C722/1000,0)","v":0},44.33,25.85,545.93049999999994,0]
[null,{"$f":"'namerena data'!A723+('namerena data'!B723-1)/24","v":"2013-07-30T21:00:00"},{"$f":"IF('namerena data'!C723>0,'namerena data'!C723/1000,0)","v":0},44.28,25.85,544.63800000000015,0]
[null,{"$f":"'namerena data'!A724+('namerena data'!B724-1)/24","v":"2013-07-30T22:00:00"},{"$f":"IF('namerena data'!C724>0,'namerena data'!C724/1000,0)","v":0},45.07,25.85,565.05950000000007,0]
[null,{"$f":"'namerena data'!A725+('namerena data'!B725-1)/24","v":"2013-07-30T23:00:00"},{"$f":"IF('namerena data'!C725>0,'namerena data'!C725/1000,0)","v":0},36.799999999999997,25.85,351.28,0]
[null,{"$f":"'namerena data'!A726+('namerena data'!B726-1)/24","v":"2013-07-31"},{"$f":"IF('namerena data'!C726>0,'namerena data'!C726/1000,0)","v":0},32,25.86,227.51999999999998,0]
[null,{"$f":"'namerena data'!A727+('namerena data'!B727-1)/24","v":"2013-07-31T01:00:00"},{"$f":"IF('namerena data'!C727>0,'namerena data'!C727/1000,0)","v":0},29.8,25.86,170.62800000000004,0]
[null,{"$f":"'namerena data'!A728+('namerena data'!B728-1)/24","v":"2013-07-31T02:00:00"},{"$f":"IF('namerena data'!C728>0,'namerena data'!C728/1000,0)","v":0},26,25.86,72.360000000000014,0]
[null,{"$f":"'namerena data'!A729+('namerena data'!B729-1)/24","v":"2013-07-31T03:00:00"},{"$f":"IF('namerena data'!C729>0,'namerena data'!C729/1000,0)","v":0},23.66,25.86,11.847599999999943,0]
[null,{"$f":"'namerena data'!A730+('namerena data'!B730-1)/24","v":"2013-07-31T04:00:00"},{"$f":"IF('namerena data'!C730>0,'namerena data'!C730/1000,0)","v":0},23.5,25.86,7.7100000000000364,0]
[null,{"$f":"'namerena data'!A731+('namerena data'!B731-1)/24","v":"2013-07-31T05:00:00"},{"$f":"IF('namerena data'!C731>0,'namerena data'!C731/1000,0)","v":0},26.08,25.86,74.42879999999991,0]
[null,{"$f":"'namerena data'!A732+('namerena data'!B732-1)/24","v":"2013-07-31T06:00:00"},{"$f":"IF('namerena data'!C732>0,'namerena data'!C732/1000,0)","v":0},33.229999999999997,25.86,259.32779999999991,0]
[null,{"$f":"'namerena data'!A733+('namerena data'!B733-1)/24","v":"2013-07-31T07:00:00"},{"$f":"IF('namerena data'!C733>0,'namerena data'!C733/1000,0)","v":0},42.6,25.86,501.63599999999997,0]
[null,{"$f":"'namerena data'!A734+('namerena data'!B734-1)/24","v":"2013-07-31T08:00:00"},{"$f":"IF('namerena data'!C734>0,'namerena data'!C734/1000,0)","v":0},44.2,25.86,543.01199999999994,0]
[null,{"$f":"'namerena data'!A735+('namerena data'!B735-1)/24","v":"2013-07-31T09:00:00"},{"$f":"IF('namerena data'!C735>0,'namerena data'!C735/1000,0)","v":0},43.61,25.86,527.75459999999998,0]
[null,{"$f":"'namerena data'!A736+('namerena data'!B736-1)/24","v":"2013-07-31T10:00:00"},{"$f":"IF('namerena data'!C736>0,'namerena data'!C736/1000,0)","v":0},42.1,25.86,488.7059999999999,0]
[null,{"$f":"'namerena data'!A737+('namerena data'!B737-1)/24","v":"2013-07-31T11:00:00"},{"$f":"IF('namerena data'!C737>0,'namerena data'!C737/1000,0)","v":0},41.5,25.86,473.19000000000005,0]
[null,{"$f":"'namerena data'!A738+('namerena data'!B738-1)/24","v":"2013-07-31T12:00:00"},{"$f":"IF('namerena data'!C738>0,'namerena data'!C738/1000,0)","v":0},39.93,25.86,432.58979999999997,0]
[null,{"$f":"'namerena data'!A739+('namerena data'!B739-1)/24","v":"2013-07-31T13:00:00"},{"$f":"IF('namerena data'!C739>0,'namerena data'!C739/1000,0)","v":0},38.020000000000003,25.86,383.19720000000007,0]
[null,{"$f":"'namerena data'!A740+('namerena data'!B740-1)/24","v":"2013-07-31T14:00:00"},{"$f":"IF('namerena data'!C740>0,'namerena data'!C740/1000,0)","v":0},34.08,25.86,281.30879999999991,0]
[null,{"$f":"'namerena data'!A741+('namerena data'!B741-1)/24","v":"2013-07-31T15:00:00"},{"$f":"IF('namerena data'!C741>0,'namerena data'!C741/1000,0)","v":0},35.25,25.86,311.56499999999994,0]
[null,{"$f":"'namerena data'!A742+('namerena data'!B742-1)/24","v":"2013-07-31T16:00:00"},{"$f":"IF('namerena data'!C742>0,'namerena data'!C742/1000,0)","v":0},35.96,25.86,329.92560000000003,0]
[null,{"$f":"'namerena data'!A743+('namerena data'!B743-1)/24","v":"2013-07-31T17:00:00"},{"$f":"IF('namerena data'!C743>0,'namerena data'!C743/1000,0)","v":0},39.799999999999997,25.86,429.22799999999984,0]
[null,{"$f":"'namerena data'!A744+('namerena data'!B744-1)/24","v":"2013-07-31T18:00:00"},{"$f":"IF('namerena data'!C744>0,'namerena data'!C744/1000,0)","v":0},42.3,25.86,493.87799999999993,0]
[null,{"$f":"'namerena data'!A745+('namerena data'!B745-1)/24","v":"2013-07-31T19:00:00"},{"$f":"IF('namerena data'!C745>0,'namerena data'!C745/1000,0)","v":0},47.03,25.86,616.19579999999996,0]
[null,{"$f":"'namerena data'!A746+('namerena data'!B746-1)/24","v":"2013-07-31T20:00:00"},{"$f":"IF('namerena data'!C746>0,'namerena data'!C746/1000,0)","v":0},49,25.86,667.13999999999987,0]
[null,{"$f":"'namerena data'!A747+('namerena data'!B747-1)/24","v":"2013-07-31T21:00:00"},{"$f":"IF('namerena data'!C747>0,'namerena data'!C747/1000,0)","v":0},49,25.86,667.13999999999987,0]
[null,{"$f":"'namerena data'!A748+('namerena data'!B748-1)/24","v":"2013-07-31T22:00:00"},{"$f":"IF('namerena data'!C748>0,'namerena data'!C748/1000,0)","v":0},49.7,25.86,685.24199999999996,0]
[null,{"$f":"'namerena data'!A749+('namerena data'!B749-1)/24","v":"2013-07-31T23:00:00"},{"$f":"IF('namerena data'!C749>0,'namerena data'!C749/1000,0)","v":0},38.61,25.86,398.45459999999991,0]
[null,{"$f":"'namerena data'!A750+('namerena data'!B750-1)/24","v":"2013-08-01"},{"$f":"IF('namerena data'!C750>0,'namerena data'!C750/1000,0)","v":0},32.57,25.954999999999998,{"$f":"+IF(AND(ISNUMBER(D760),ISNUMBER(E760)),D760*E760-$F$13,0)","v":245.35434999999995},{"$f":"+(C760*F760)","v":0}]
[null,{"$f":"'namerena data'!A751+('namerena data'!B751-1)/24","v":"2013-08-01T01:00:00"},{"$f":"IF('namerena data'!C751>0,'namerena data'!C751/1000,0)","v":0},29.5,25.954999999999998,{"$f":"+IF(AND(ISNUMBER(D761),ISNUMBER(E761)),D761*E761-$F$13,0)","v":165.6724999999999},{"$f":"+(C761*F761)","v":0}]
[null,{"$f":"'namerena data'!A752+('namerena data'!B752-1)/24","v":"2013-08-01T02:00:00"},{"$f":"IF('namerena data'!C752>0,'namerena data'!C752/1000,0)","v":0},27,25.954999999999998,100.78499999999997,0]
[null,{"$f":"'namerena data'!A753+('namerena data'!B753-1)/24","v":"2013-08-01T03:00:00"},{"$f":"IF('namerena data'!C753>0,'namerena data'!C753/1000,0)","v":0},25.61,25.954999999999998,64.707549999999969,0]
[null,{"$f":"'namerena data'!A754+('namerena data'!B754-1)/24","v":"2013-08-01T04:00:00"},{"$f":"IF('namerena data'!C754>0,'namerena data'!C754/1000,0)","v":0},25.61,25.954999999999998,64.707549999999969,0]
[null,{"$f":"'namerena data'!A755+('namerena data'!B755-1)/24","v":"2013-08-01T05:00:00"},{"$f":"IF('namerena data'!C755>0,'namerena data'!C755/1000,0)","v":0},28.9,25.954999999999998,150.09949999999992,0]
[null,{"$f":"'namerena data'!A756+('namerena data'!B756-1)/24","v":"2013-08-01T06:00:00"},{"$f":"IF('namerena data'!C756>0,'namerena data'!C756/1000,0)","v":0},32.51,25.954999999999998,243.7970499999999,0]
[null,{"$f":"'namerena data'!A757+('namerena data'!B757-1)/24","v":"2013-08-01T07:00:00"},{"$f":"IF('namerena data'!C757>0,'namerena data'!C757/1000,0)","v":0},43,25.954999999999998,516.06499999999983,0]
[null,{"$f":"'namerena data'!A758+('namerena data'!B758-1)/24","v":"2013-08-01T08:00:00"},{"$f":"IF('namerena data'!C758>0,'namerena data'!C758/1000,0)","v":0},45.63,25.954999999999998,584.32664999999997,0]
[null,{"$f":"'namerena data'!A759+('namerena data'!B759-1)/24","v":"2013-08-01T09:00:00"},{"$f":"IF('namerena data'!C759>0,'namerena data'!C759/1000,0)","v":0},44,25.954999999999998,542.02,0]
[null,{"$f":"'namerena data'!A760+('namerena data'!B760-1)/24","v":"2013-08-01T10:00:00"},{"$f":"IF('namerena data'!C760>0,'namerena data'!C760/1000,0)","v":0},43.08,25.954999999999998,518.14139999999998,0]
[null,{"$f":"'namerena data'!A761+('namerena data'!B761-1)/24","v":"2013-08-01T11:00:00"},{"$f":"IF('namerena data'!C761>0,'namerena data'!C761/1000,0)","v":0},42.74,25.954999999999998,509.31670000000008,0]
[null,{"$f":"'namerena data'!A762+('namerena data'!B762-1)/24","v":"2013-08-01T12:00:00"},{"$f":"IF('namerena data'!C762>0,'namerena data'!C762/1000,0)","v":0},39.36,25.954999999999998,421.58879999999988,0]
[null,{"$f":"'namerena data'!A763+('namerena data'!B763-1)/24","v":"2013-08-01T13:00:00"},{"$f":"IF('namerena data'!C763>0,'namerena data'!C763/1000,0)","v":0},35,25.954999999999998,308.42499999999995,0]
[null,{"$f":"'namerena data'!A764+('namerena data'!B764-1)/24","v":"2013-08-01T14:00:00"},{"$f":"IF('namerena data'!C764>0,'namerena data'!C764/1000,0)","v":0},34,25.954999999999998,282.46999999999991,0]
[null,{"$f":"'namerena data'!A765+('namerena data'!B765-1)/24","v":"2013-08-01T15:00:00"},{"$f":"IF('namerena data'!C765>0,'namerena data'!C765/1000,0)","v":0},34.07,25.954999999999998,284.28684999999996,0]
[null,{"$f":"'namerena data'!A766+('namerena data'!B766-1)/24","v":"2013-08-01T16:00:00"},{"$f":"IF('namerena data'!C766>0,'namerena data'!C766/1000,0)","v":0},36.17,25.954999999999998,338.79234999999994,0]
[null,{"$f":"'namerena data'!A767+('namerena data'!B767-1)/24","v":"2013-08-01T17:00:00"},{"$f":"IF('namerena data'!C767>0,'namerena data'!C767/1000,0)","v":0},41.7,25.954999999999998,482.32349999999997,0]
[null,{"$f":"'namerena data'!A768+('namerena data'!B768-1)/24","v":"2013-08-01T18:00:00"},{"$f":"IF('namerena data'!C768>0,'namerena data'!C768/1000,0)","v":0},43.9,25.954999999999998,539.42449999999985,0]
[null,{"$f":"'namerena data'!A769+('namerena data'!B769-1)/24","v":"2013-08-01T19:00:00"},{"$f":"IF('namerena data'!C769>0,'namerena data'!C769/1000,0)","v":0},46.58,25.954999999999998,608.98389999999995,0]
[null,{"$f":"'namerena data'!A770+('namerena data'!B770-1)/24","v":"2013-08-01T20:00:00"},{"$f":"IF('namerena data'!C770>0,'namerena data'!C770/1000,0)","v":0},47.8,25.954999999999998,640.64899999999989,0]
[null,{"$f":"'namerena data'!A771+('namerena data'!B771-1)/24","v":"2013-08-01T21:00:00"},{"$f":"IF('namerena data'!C771>0,'namerena data'!C771/1000,0)","v":0},45.4,25.954999999999998,578.35699999999997,0]
[null,{"$f":"'namerena data'!A772+('namerena data'!B772-1)/24","v":"2013-08-01T22:00:00"},{"$f":"IF('namerena data'!C772>0,'namerena data'!C772/1000,0)","v":0},43.79,25.954999999999998,536.56944999999996,0]
[null,{"$f":"'namerena data'!A773+('namerena data'!B773-1)/24","v":"2013-08-01T23:00:00"},{"$f":"IF('namerena data'!C773>0,'namerena data'!C773/1000,0)","v":0},34.380000000000003,25.954999999999998,292.3329,0]
[null,{"$f":"'namerena data'!A774+('namerena data'!B774-1)/24","v":"2013-08-02"},{"$f":"IF('namerena data'!C774>0,'namerena data'!C774/1000,0)","v":0},33.020000000000003,25.95,256.86900000000003,0]
[null,{"$f":"'namerena data'!A775+('namerena data'!B775-1)/24","v":"2013-08-02T01:00:00"},{"$f":"IF('namerena data'!C775>0,'namerena data'!C775/1000,0)","v":0},30,25.95,178.5,0]
[null,{"$f":"'namerena data'!A776+('namerena data'!B776-1)/24","v":"2013-08-02T02:00:00"},{"$f":"IF('namerena data'!C776>0,'namerena data'!C776/1000,0)","v":0},27.5,25.95,113.625,0]
[null,{"$f":"'namerena data'!A777+('namerena data'!B777-1)/24","v":"2013-08-02T03:00:00"},{"$f":"IF('namerena data'!C777>0,'namerena data'!C777/1000,0)","v":0},26.25,25.95,81.1875,0]
[null,{"$f":"'namerena data'!A778+('namerena data'!B778-1)/24","v":"2013-08-02T04:00:00"},{"$f":"IF('namerena data'!C778>0,'namerena data'!C778/1000,0)","v":0},26,25.95,74.699999999999932,0]
[null,{"$f":"'namerena data'!A779+('namerena data'!B779-1)/24","v":"2013-08-02T05:00:00"},{"$f":"IF('namerena data'!C779>0,'namerena data'!C779/1000,0)","v":0},28.78,25.95,146.84100000000001,0]
[null,{"$f":"'namerena data'!A780+('namerena data'!B780-1)/24","v":"2013-08-02T06:00:00"},{"$f":"IF('namerena data'!C780>0,'namerena data'!C780/1000,0)","v":0},36.21,25.95,339.64949999999999,0]
[null,{"$f":"'namerena data'!A781+('namerena data'!B781-1)/24","v":"2013-08-02T07:00:00"},{"$f":"IF('namerena data'!C781>0,'namerena data'!C781/1000,0)","v":0},42.7,25.95,508.06500000000005,0]
[null,{"$f":"'namerena data'!A782+('namerena data'!B782-1)/24","v":"2013-08-02T08:00:00"},{"$f":"IF('namerena data'!C782>0,'namerena data'!C782/1000,0)","v":0},46.7,25.95,611.86500000000001,0]
[null,{"$f":"'namerena data'!A783+('namerena data'!B783-1)/24","v":"2013-08-02T09:00:00"},{"$f":"IF('namerena data'!C783>0,'namerena data'!C783/1000,0)","v":0},46.11,25.95,596.55449999999996,0]
[null,{"$f":"'namerena data'!A784+('namerena data'!B784-1)/24","v":"2013-08-02T10:00:00"},{"$f":"IF('namerena data'!C784>0,'namerena data'!C784/1000,0)","v":0},44.63,25.95,558.14850000000001,0]
[null,{"$f":"'namerena data'!A785+('namerena data'!B785-1)/24","v":"2013-08-02T11:00:00"},{"$f":"IF('namerena data'!C785>0,'namerena data'!C785/1000,0)","v":0},43.6,25.95,531.42000000000007,0]
[null,{"$f":"'namerena data'!A786+('namerena data'!B786-1)/24","v":"2013-08-02T12:00:00"},{"$f":"IF('namerena data'!C786>0,'namerena data'!C786/1000,0)","v":0},38.049999999999997,25.95,387.39749999999992,0]
[null,{"$f":"'namerena data'!A787+('namerena data'!B787-1)/24","v":"2013-08-02T13:00:00"},{"$f":"IF('namerena data'!C787>0,'namerena data'!C787/1000,0)","v":0},37,25.95,360.15,0]
[null,{"$f":"'namerena data'!A788+('namerena data'!B788-1)/24","v":"2013-08-02T14:00:00"},{"$f":"IF('namerena data'!C788>0,'namerena data'!C788/1000,0)","v":0},35.700000000000003,25.95,326.41500000000008,0]
[null,{"$f":"'namerena data'!A789+('namerena data'!B789-1)/24","v":"2013-08-02T15:00:00"},{"$f":"IF('namerena data'!C789>0,'namerena data'!C789/1000,0)","v":0},35.4,25.95,318.62999999999988,0]
[null,{"$f":"'namerena data'!A790+('namerena data'!B790-1)/24","v":"2013-08-02T16:00:00"},{"$f":"IF('namerena data'!C790>0,'namerena data'!C790/1000,0)","v":0},35.79,25.95,328.75049999999999,0]
[null,{"$f":"'namerena data'!A791+('namerena data'!B791-1)/24","v":"2013-08-02T17:00:00"},{"$f":"IF('namerena data'!C791>0,'namerena data'!C791/1000,0)","v":0},39.799999999999997,25.95,432.80999999999995,0]
[null,{"$f":"'namerena data'!A792+('namerena data'!B792-1)/24","v":"2013-08-02T18:00:00"},{"$f":"IF('namerena data'!C792>0,'namerena data'!C792/1000,0)","v":0},45.2,25.95,572.94000000000005,0]
[null,{"$f":"'namerena data'!A793+('namerena data'!B793-1)/24","v":"2013-08-02T19:00:00"},{"$f":"IF('namerena data'!C793>0,'namerena data'!C793/1000,0)","v":0},45.42,25.95,578.64900000000011,0]
[null,{"$f":"'namerena data'!A794+('namerena data'!B794-1)/24","v":"2013-08-02T20:00:00"},{"$f":"IF('namerena data'!C794>0,'namerena data'!C794/1000,0)","v":0},41,25.95,463.95000000000005,0]
[null,{"$f":"'namerena data'!A795+('namerena data'!B795-1)/24","v":"2013-08-02T21:00:00"},{"$f":"IF('namerena data'!C795>0,'namerena data'!C795/1000,0)","v":0},40,25.95,438,0]
[null,{"$f":"'namerena data'!A796+('namerena data'!B796-1)/24","v":"2013-08-02T22:00:00"},{"$f":"IF('namerena data'!C796>0,'namerena data'!C796/1000,0)","v":0},39.5,25.95,425.02499999999986,0]
[null,{"$f":"'namerena data'!A797+('namerena data'!B797-1)/24","v":"2013-08-02T23:00:00"},{"$f":"IF('namerena data'!C797>0,'namerena data'!C797/1000,0)","v":0},35,25.95,308.25,0]
[null,{"$f":"'namerena data'!A798+('namerena data'!B798-1)/24","v":"2013-08-03"},{"$f":"IF('namerena data'!C798>0,'namerena data'!C798/1000,0)","v":0},29.8,25.95,173.30999999999995,0]
[null,{"$f":"'namerena data'!A799+('namerena data'!B799-1)/24","v":"2013-08-03T01:00:00"},{"$f":"IF('namerena data'!C799>0,'namerena data'!C799/1000,0)","v":0},28.2,25.95,131.78999999999996,0]
[null,{"$f":"'namerena data'!A800+('namerena data'!B800-1)/24","v":"2013-08-03T02:00:00"},{"$f":"IF('namerena data'!C800>0,'namerena data'!C800/1000,0)","v":0},27.61,25.95,116.47949999999992,0]
[null,{"$f":"'namerena data'!A801+('namerena data'!B801-1)/24","v":"2013-08-03T03:00:00"},{"$f":"IF('namerena data'!C801>0,'namerena data'!C801/1000,0)","v":0},26.6,25.95,90.269999999999982,0]
[null,{"$f":"'namerena data'!A802+('namerena data'!B802-1)/24","v":"2013-08-03T04:00:00"},{"$f":"IF('namerena data'!C802>0,'namerena data'!C802/1000,0)","v":0},26.3,25.95,82.485000000000014,0]
[null,{"$f":"'namerena data'!A803+('namerena data'!B803-1)/24","v":"2013-08-03T05:00:00"},{"$f":"IF('namerena data'!C803>0,'namerena data'!C803/1000,0)","v":0},25.33,25.95,57.313499999999976,0]
[null,{"$f":"'namerena data'!A804+('namerena data'!B804-1)/24","v":"2013-08-03T06:00:00"},{"$f":"IF('namerena data'!C804>0,'namerena data'!C804/1000,0)","v":0},25.8,25.95,69.509999999999991,0]
[null,{"$f":"'namerena data'!A805+('namerena data'!B805-1)/24","v":"2013-08-03T07:00:00"},{"$f":"IF('namerena data'!C805>0,'namerena data'!C805/1000,0)","v":0},28.3,25.95,134.38499999999999,0]
[null,{"$f":"'namerena data'!A806+('namerena data'!B806-1)/24","v":"2013-08-03T08:00:00"},{"$f":"IF('namerena data'!C806>0,'namerena data'!C806/1000,0)","v":0},30.7,25.95,196.66499999999996,0]
[null,{"$f":"'namerena data'!A807+('namerena data'!B807-1)/24","v":"2013-08-03T09:00:00"},{"$f":"IF('namerena data'!C807>0,'namerena data'!C807/1000,0)","v":0},32,25.95,230.39999999999998,0]
[null,{"$f":"'namerena data'!A808+('namerena data'!B808-1)/24","v":"2013-08-03T10:00:00"},{"$f":"IF('namerena data'!C808>0,'namerena data'!C808/1000,0)","v":0},32,25.95,230.39999999999998,0]
[null,{"$f":"'namerena data'!A809+('namerena data'!B809-1)/24","v":"2013-08-03T11:00:00"},{"$f":"IF('namerena data'!C809>0,'namerena data'!C809/1000,0)","v":0},31.1,25.95,207.04499999999996,0]
[null,{"$f":"'namerena data'!A810+('namerena data'!B810-1)/24","v":"2013-08-03T12:00:00"},{"$f":"IF('namerena data'!C810>0,'namerena data'!C810/1000,0)","v":0},27.98,25.95,126.08100000000002,0]
[null,{"$f":"'namerena data'!A811+('namerena data'!B811-1)/24","v":"2013-08-03T13:00:00"},{"$f":"IF('namerena data'!C811>0,'namerena data'!C811/1000,0)","v":0},25.25,25.95,55.237499999999955,0]
[null,{"$f":"'namerena data'!A812+('namerena data'!B812-1)/24","v":"2013-08-03T14:00:00"},{"$f":"IF('namerena data'!C812>0,'namerena data'!C812/1000,0)","v":0},21.8,25.95,-34.289999999999964,0]
[null,{"$f":"'namerena data'!A813+('namerena data'!B813-1)/24","v":"2013-08-03T15:00:00"},{"$f":"IF('namerena data'!C813>0,'namerena data'!C813/1000,0)","v":0},21.06,25.95,-53.493000000000052,0]
[null,{"$f":"'namerena data'!A814+('namerena data'!B814-1)/24","v":"2013-08-03T16:00:00"},{"$f":"IF('namerena data'!C814>0,'namerena data'!C814/1000,0)","v":0},25.7,25.95,66.914999999999964,0]
[null,{"$f":"'namerena data'!A815+('namerena data'!B815-1)/24","v":"2013-08-03T17:00:00"},{"$f":"IF('namerena data'!C815>0,'namerena data'!C815/1000,0)","v":0},29.3,25.95,{"$f":"+IF(AND(ISNUMBER(D825),ISNUMBER(E825)),D825*E825-$F$13,0)","v":160.33500000000004},{"$f":"+(C825*F825)","v":0}]
[null,{"$f":"'namerena data'!A816+('namerena data'!B816-1)/24","v":"2013-08-03T18:00:00"},{"$f":"IF('namerena data'!C816>0,'namerena data'!C816/1000,0)","v":0},33.200000000000003,25.95,261.54000000000008,0]
[null,{"$f":"'namerena data'!A817+('namerena data'!B817-1)/24","v":"2013-08-03T19:00:00"},{"$f":"IF('namerena data'!C817>0,'namerena data'!C817/1000,0)","v":0},34.630000000000003,25.95,298.64850000000001,0]
[null,{"$f":"'namerena data'!A818+('namerena data'!B818-1)/24","v":"2013-08-03T20:00:00"},{"$f":"IF('namerena data'!C818>0,'namerena data'!C818/1000,0)","v":0},32.200000000000003,25.95,235.59000000000003,0]
[null,{"$f":"'namerena data'!A819+('namerena data'!B819-1)/24","v":"2013-08-03T21:00:00"},{"$f":"IF('namerena data'!C819>0,'namerena data'!C819/1000,0)","v":0},34.200000000000003,25.95,287.49,0]
[null,{"$f":"'namerena data'!A820+('namerena data'!B820-1)/24","v":"2013-08-03T22:00:00"},{"$f":"IF('namerena data'!C820>0,'namerena data'!C820/1000,0)","v":0},36.200000000000003,25.95,339.3900000000001,0]
[null,{"$f":"'namerena data'!A821+('namerena data'!B821-1)/24","v":"2013-08-03T23:00:00"},{"$f":"IF('namerena data'!C821>0,'namerena data'!C821/1000,0)","v":0},30.75,25.95,197.96249999999998,0]
[null,{"$f":"'namerena data'!A822+('namerena data'!B822-1)/24","v":"2013-08-04"},{"$f":"IF('namerena data'!C822>0,'namerena data'!C822/1000,0)","v":0},27.34,25.95,109.47299999999996,0]
[null,{"$f":"'namerena data'!A823+('namerena data'!B823-1)/24","v":"2013-08-04T01:00:00"},{"$f":"IF('namerena data'!C823>0,'namerena data'!C823/1000,0)","v":0},22.87,25.95,-6.5235000000000127,0]
[null,{"$f":"'namerena data'!A824+('namerena data'!B824-1)/24","v":"2013-08-04T02:00:00"},{"$f":"IF('namerena data'!C824>0,'namerena data'!C824/1000,0)","v":0},20.88,25.95,-58.163999999999987,0]
[null,{"$f":"'namerena data'!A825+('namerena data'!B825-1)/24","v":"2013-08-04T03:00:00"},{"$f":"IF('namerena data'!C825>0,'namerena data'!C825/1000,0)","v":0},18.899999999999999,25.95,-109.54500000000007,0]
[null,{"$f":"'namerena data'!A826+('namerena data'!B826-1)/24","v":"2013-08-04T04:00:00"},{"$f":"IF('namerena data'!C826>0,'namerena data'!C826/1000,0)","v":0},19.37,25.95,-97.348500000000001,0]
[null,{"$f":"'namerena data'!A827+('namerena data'!B827-1)/24","v":"2013-08-04T05:00:00"},{"$f":"IF('namerena data'!C827>0,'namerena data'!C827/1000,0)","v":0},17.559999999999999,25.95,-144.31800000000004,0]
[null,{"$f":"'namerena data'!A828+('namerena data'!B828-1)/24","v":"2013-08-04T06:00:00"},{"$f":"IF('namerena data'!C828>0,'namerena data'!C828/1000,0)","v":0},17.8,25.95,-138.08999999999997,0]
[null,{"$f":"'namerena data'!A829+('namerena data'!B829-1)/24","v":"2013-08-04T07:00:00"},{"$f":"IF('namerena data'!C829>0,'namerena data'!C829/1000,0)","v":0},18.78,25.95,-112.65899999999999,0]
[null,{"$f":"'namerena data'!A830+('namerena data'!B830-1)/24","v":"2013-08-04T08:00:00"},{"$f":"IF('namerena data'!C830>0,'namerena data'!C830/1000,0)","v":0},19.57,25.95,-92.158500000000004,0]
[null,{"$f":"'namerena data'!A831+('namerena data'!B831-1)/24","v":"2013-08-04T09:00:00"},{"$f":"IF('namerena data'!C831>0,'namerena data'!C831/1000,0)","v":0},21.73,25.95,-36.106499999999983,0]
[null,{"$f":"'namerena data'!A832+('namerena data'!B832-1)/24","v":"2013-08-04T10:00:00"},{"$f":"IF('namerena data'!C832>0,'namerena data'!C832/1000,0)","v":0},25.93,25.95,72.883500000000026,0]
[null,{"$f":"'namerena data'!A833+('namerena data'!B833-1)/24","v":"2013-08-04T11:00:00"},{"$f":"IF('namerena data'!C833>0,'namerena data'!C833/1000,0)","v":0},27,25.95,100.64999999999998,0]
[null,{"$f":"'namerena data'!A834+('namerena data'!B834-1)/24","v":"2013-08-04T12:00:00"},{"$f":"IF('namerena data'!C834>0,'namerena data'!C834/1000,0)","v":0},25,25.95,48.75,0]
[null,{"$f":"'namerena data'!A835+('namerena data'!B835-1)/24","v":"2013-08-04T13:00:00"},{"$f":"IF('namerena data'!C835>0,'namerena data'!C835/1000,0)","v":0},23.66,25.95,13.976999999999975,0]
[null,{"$f":"'namerena data'!A836+('namerena data'!B836-1)/24","v":"2013-08-04T14:00:00"},{"$f":"IF('namerena data'!C836>0,'namerena data'!C836/1000,0)","v":0},21.24,25.95,-48.822000000000003,0]
[null,{"$f":"'namerena data'!A837+('namerena data'!B837-1)/24","v":"2013-08-04T15:00:00"},{"$f":"IF('namerena data'!C837>0,'namerena data'!C837/1000,0)","v":0},20.81,25.95,-59.980500000000006,0]
[null,{"$f":"'namerena data'!A838+('namerena data'!B838-1)/24","v":"2013-08-04T16:00:00"},{"$f":"IF('namerena data'!C838>0,'namerena data'!C838/1000,0)","v":0},24.94,25.95,47.192999999999984,0]
[null,{"$f":"'namerena data'!A839+('namerena data'!B839-1)/24","v":"2013-08-04T17:00:00"},{"$f":"IF('namerena data'!C839>0,'namerena data'!C839/1000,0)","v":0},28.6,25.95,142.17000000000007,0]
[null,{"$f":"'namerena data'!A840+('namerena data'!B840-1)/24","v":"2013-08-04T18:00:00"},{"$f":"IF('namerena data'!C840>0,'namerena data'!C840/1000,0)","v":0},35.46,25.95,320.18700000000001,0]
[null,{"$f":"'namerena data'!A841+('namerena data'!B841-1)/24","v":"2013-08-04T19:00:00"},{"$f":"IF('namerena data'!C841>0,'namerena data'!C841/1000,0)","v":0},37.590000000000003,25.95,375.46050000000002,0]
[null,{"$f":"'namerena data'!A842+('namerena data'!B842-1)/24","v":"2013-08-04T20:00:00"},{"$f":"IF('namerena data'!C842>0,'namerena data'!C842/1000,0)","v":0},38.99,25.95,411.79050000000007,0]
[null,{"$f":"'namerena data'!A843+('namerena data'!B843-1)/24","v":"2013-08-04T21:00:00"},{"$f":"IF('namerena data'!C843>0,'namerena data'!C843/1000,0)","v":0},42.66,25.95,507.02699999999982,0]
[null,{"$f":"'namerena data'!A844+('namerena data'!B844-1)/24","v":"2013-08-04T22:00:00"},{"$f":"IF('namerena data'!C844>0,'namerena data'!C844/1000,0)","v":0},39.46,25.95,423.98699999999997,0]
[null,{"$f":"'namerena data'!A845+('namerena data'!B845-1)/24","v":"2013-08-04T23:00:00"},{"$f":"IF('namerena data'!C845>0,'namerena data'!C845/1000,0)","v":0},34.03,25.95,283.07849999999996,0]
[null,{"$f":"'namerena data'!A846+('namerena data'!B846-1)/24","v":"2013-08-05"},{"$f":"IF('namerena data'!C846>0,'namerena data'!C846/1000,0)","v":0},30,25.934999999999999,178.04999999999995,0]
[null,{"$f":"'namerena data'!A847+('namerena data'!B847-1)/24","v":"2013-08-05T01:00:00"},{"$f":"IF('namerena data'!C847>0,'namerena data'!C847/1000,0)","v":0},27.9,25.934999999999999,123.58649999999989,0]
[null,{"$f":"'namerena data'!A848+('namerena data'!B848-1)/24","v":"2013-08-05T02:00:00"},{"$f":"IF('namerena data'!C848>0,'namerena data'!C848/1000,0)","v":0},26.05,25.934999999999999,75.606750000000034,0]
[null,{"$f":"'namerena data'!A849+('namerena data'!B849-1)/24","v":"2013-08-05T03:00:00"},{"$f":"IF('namerena data'!C849>0,'namerena data'!C849/1000,0)","v":0},25.3,25.934999999999999,56.155499999999961,0]
[null,{"$f":"'namerena data'!A850+('namerena data'!B850-1)/24","v":"2013-08-05T04:00:00"},{"$f":"IF('namerena data'!C850>0,'namerena data'!C850/1000,0)","v":0},25.82,25.934999999999999,69.641700000000014,0]
[null,{"$f":"'namerena data'!A851+('namerena data'!B851-1)/24","v":"2013-08-05T05:00:00"},{"$f":"IF('namerena data'!C851>0,'namerena data'!C851/1000,0)","v":0},26.8,25.934999999999999,95.057999999999993,0]
[null,{"$f":"'namerena data'!A852+('namerena data'!B852-1)/24","v":"2013-08-05T06:00:00"},{"$f":"IF('namerena data'!C852>0,'namerena data'!C852/1000,0)","v":0},37.1,25.934999999999999,362.18849999999998,0]
[null,{"$f":"'namerena data'!A853+('namerena data'!B853-1)/24","v":"2013-08-05T07:00:00"},{"$f":"IF('namerena data'!C853>0,'namerena data'!C853/1000,0)","v":0},48.1,25.934999999999999,647.47350000000006,0]
[null,{"$f":"'namerena data'!A854+('namerena data'!B854-1)/24","v":"2013-08-05T08:00:00"},{"$f":"IF('namerena data'!C854>0,'namerena data'!C854/1000,0)","v":0},47.48,25.934999999999999,631.39379999999983,0]
[null,{"$f":"'namerena data'!A855+('namerena data'!B855-1)/24","v":"2013-08-05T09:00:00"},{"$f":"IF('namerena data'!C855>0,'namerena data'!C855/1000,0)","v":0},47.58,25.934999999999999,633.9873,0]
[null,{"$f":"'namerena data'!A856+('namerena data'!B856-1)/24","v":"2013-08-05T10:00:00"},{"$f":"IF('namerena data'!C856>0,'namerena data'!C856/1000,0)","v":0},47.5,25.934999999999999,631.91249999999991,0]
[null,{"$f":"'namerena data'!A857+('namerena data'!B857-1)/24","v":"2013-08-05T11:00:00"},{"$f":"IF('namerena data'!C857>0,'namerena data'!C857/1000,0)","v":0},46.7,25.934999999999999,611.16450000000009,0]
[null,{"$f":"'namerena data'!A858+('namerena data'!B858-1)/24","v":"2013-08-05T12:00:00"},{"$f":"IF('namerena data'!C858>0,'namerena data'!C858/1000,0)","v":0},46.61,25.934999999999999,608.83034999999995,0]
[null,{"$f":"'namerena data'!A859+('namerena data'!B859-1)/24","v":"2013-08-05T13:00:00"},{"$f":"IF('namerena data'!C859>0,'namerena data'!C859/1000,0)","v":0},43,25.934999999999999,515.20499999999993,0]
[null,{"$f":"'namerena data'!A860+('namerena data'!B860-1)/24","v":"2013-08-05T14:00:00"},{"$f":"IF('namerena data'!C860>0,'namerena data'!C860/1000,0)","v":0},43.99,25.934999999999999,540.88065000000006,0]
[null,{"$f":"'namerena data'!A861+('namerena data'!B861-1)/24","v":"2013-08-05T15:00:00"},{"$f":"IF('namerena data'!C861>0,'namerena data'!C861/1000,0)","v":0},42.5,25.934999999999999,502.23749999999995,0]
[null,{"$f":"'namerena data'!A862+('namerena data'!B862-1)/24","v":"2013-08-05T16:00:00"},{"$f":"IF('namerena data'!C862>0,'namerena data'!C862/1000,0)","v":0},44.6,25.934999999999999,556.70100000000002,0]
[null,{"$f":"'namerena data'!A863+('namerena data'!B863-1)/24","v":"2013-08-05T17:00:00"},{"$f":"IF('namerena data'!C863>0,'namerena data'!C863/1000,0)","v":0},48.66,25.934999999999999,661.99709999999982,0]
[null,{"$f":"'namerena data'!A864+('namerena data'!B864-1)/24","v":"2013-08-05T18:00:00"},{"$f":"IF('namerena data'!C864>0,'namerena data'!C864/1000,0)","v":0},49.19,25.934999999999999,675.74264999999991,0]
[null,{"$f":"'namerena data'!A865+('namerena data'!B865-1)/24","v":"2013-08-05T19:00:00"},{"$f":"IF('namerena data'!C865>0,'namerena data'!C865/1000,0)","v":0},52,25.934999999999999,748.61999999999989,0]
[null,{"$f":"'namerena data'!A866+('namerena data'!B866-1)/24","v":"2013-08-05T20:00:00"},{"$f":"IF('namerena data'!C866>0,'namerena data'!C866/1000,0)","v":0},51,25.934999999999999,722.68499999999995,0]
[null,{"$f":"'namerena data'!A867+('namerena data'!B867-1)/24","v":"2013-08-05T21:00:00"},{"$f":"IF('namerena data'!C867>0,'namerena data'!C867/1000,0)","v":0},50.19,25.934999999999999,701.67764999999986,0]
[null,{"$f":"'namerena data'!A868+('namerena data'!B868-1)/24","v":"2013-08-05T22:00:00"},{"$f":"IF('namerena data'!C868>0,'namerena data'!C868/1000,0)","v":0},49.2,25.934999999999999,676.00199999999995,0]
[null,{"$f":"'namerena data'!A869+('namerena data'!B869-1)/24","v":"2013-08-05T23:00:00"},{"$f":"IF('namerena data'!C869>0,'namerena data'!C869/1000,0)","v":0},38.08,25.934999999999999,387.60479999999995,0]
[null,{"$f":"'namerena data'!A870+('namerena data'!B870-1)/24","v":"2013-08-06"},{"$f":"IF('namerena data'!C870>0,'namerena data'!C870/1000,0)","v":0},33.159999999999997,25.92,259.50720000000001,0]
[null,{"$f":"'namerena data'!A871+('namerena data'!B871-1)/24","v":"2013-08-06T01:00:00"},{"$f":"IF('namerena data'!C871>0,'namerena data'!C871/1000,0)","v":0},30.6,25.92,193.15200000000004,0]
[null,{"$f":"'namerena data'!A872+('namerena data'!B872-1)/24","v":"2013-08-06T02:00:00"},{"$f":"IF('namerena data'!C872>0,'namerena data'!C872/1000,0)","v":0},29.02,25.92,152.19839999999999,0]
[null,{"$f":"'namerena data'!A873+('namerena data'!B873-1)/24","v":"2013-08-06T03:00:00"},{"$f":"IF('namerena data'!C873>0,'namerena data'!C873/1000,0)","v":0},27.7,25.92,117.98400000000004,0]
[null,{"$f":"'namerena data'!A874+('namerena data'!B874-1)/24","v":"2013-08-06T04:00:00"},{"$f":"IF('namerena data'!C874>0,'namerena data'!C874/1000,0)","v":0},28.35,25.92,134.83200000000011,0]
[null,{"$f":"'namerena data'!A875+('namerena data'!B875-1)/24","v":"2013-08-06T05:00:00"},{"$f":"IF('namerena data'!C875>0,'namerena data'!C875/1000,0)","v":0},29.57,25.92,166.45440000000008,0]
[null,{"$f":"'namerena data'!A876+('namerena data'!B876-1)/24","v":"2013-08-06T06:00:00"},{"$f":"IF('namerena data'!C876>0,'namerena data'!C876/1000,0)","v":0},35.35,25.92,316.27200000000005,0]
[null,{"$f":"'namerena data'!A877+('namerena data'!B877-1)/24","v":"2013-08-06T07:00:00"},{"$f":"IF('namerena data'!C877>0,'namerena data'!C877/1000,0)","v":0},45.8,25.92,587.13599999999997,0]
[null,{"$f":"'namerena data'!A878+('namerena data'!B878-1)/24","v":"2013-08-06T08:00:00"},{"$f":"IF('namerena data'!C878>0,'namerena data'!C878/1000,0)","v":0},48.17,25.92,648.56640000000016,0]
[null,{"$f":"'namerena data'!A879+('namerena data'!B879-1)/24","v":"2013-08-06T09:00:00"},{"$f":"IF('namerena data'!C879>0,'namerena data'!C879/1000,0)","v":0},48.22,25.92,{"$f":"+IF(AND(ISNUMBER(D889),ISNUMBER(E889)),D889*E889-$F$13,0)","v":649.86239999999998},{"$f":"+(C889*F889)","v":0}]
[null,{"$f":"'namerena data'!A880+('namerena data'!B880-1)/24","v":"2013-08-06T10:00:00"},{"$f":"IF('namerena data'!C880>0,'namerena data'!C880/1000,0)","v":0},46.9,25.92,615.64800000000014,0]
[null,{"$f":"'namerena data'!A881+('namerena data'!B881-1)/24","v":"2013-08-06T11:00:00"},{"$f":"IF('namerena data'!C881>0,'namerena data'!C881/1000,0)","v":0},45,25.92,566.40000000000009,0]
[null,{"$f":"'namerena data'!A882+('namerena data'!B882-1)/24","v":"2013-08-06T12:00:00"},{"$f":"IF('namerena data'!C882>0,'namerena data'!C882/1000,0)","v":0},44.63,25.92,556.80960000000005,0]
[null,{"$f":"'namerena data'!A883+('namerena data'!B883-1)/24","v":"2013-08-06T13:00:00"},{"$f":"IF('namerena data'!C883>0,'namerena data'!C883/1000,0)","v":0},43.29,25.92,522.07680000000005,0]
[null,{"$f":"'namerena data'!A884+('namerena data'!B884-1)/24","v":"2013-08-06T14:00:00"},{"$f":"IF('namerena data'!C884>0,'namerena data'!C884/1000,0)","v":0},43.65,25.92,531.40800000000013,0]
[null,{"$f":"'namerena data'!A885+('namerena data'!B885-1)/24","v":"2013-08-06T15:00:00"},{"$f":"IF('namerena data'!C885>0,'namerena data'!C885/1000,0)","v":0},44.29,25.92,547.99680000000012,0]
[null,{"$f":"'namerena data'!A886+('namerena data'!B886-1)/24","v":"2013-08-06T16:00:00"},{"$f":"IF('namerena data'!C886>0,'namerena data'!C886/1000,0)","v":0},45,25.92,566.40000000000009,0]
[null,{"$f":"'namerena data'!A887+('namerena data'!B887-1)/24","v":"2013-08-06T17:00:00"},{"$f":"IF('namerena data'!C887>0,'namerena data'!C887/1000,0)","v":0},48.2,25.92,649.34400000000005,0]
[null,{"$f":"'namerena data'!A888+('namerena data'!B888-1)/24","v":"2013-08-06T18:00:00"},{"$f":"IF('namerena data'!C888>0,'namerena data'!C888/1000,0)","v":0},49.8,25.92,690.81600000000003,0]
[null,{"$f":"'namerena data'!A889+('namerena data'!B889-1)/24","v":"2013-08-06T19:00:00"},{"$f":"IF('namerena data'!C889>0,'namerena data'!C889/1000,0)","v":0},51,25.92,721.92000000000007,0]
[null,{"$f":"'namerena data'!A890+('namerena data'!B890-1)/24","v":"2013-08-06T20:00:00"},{"$f":"IF('namerena data'!C890>0,'namerena data'!C890/1000,0)","v":0},50,25.92,696,0]
[null,{"$f":"'namerena data'!A891+('namerena data'!B891-1)/24","v":"2013-08-06T21:00:00"},{"$f":"IF('namerena data'!C891>0,'namerena data'!C891/1000,0)","v":0},48.4,25.92,654.52800000000002,0]
[null,{"$f":"'namerena data'!A892+('namerena data'!B892-1)/24","v":"2013-08-06T22:00:00"},{"$f":"IF('namerena data'!C892>0,'namerena data'!C892/1000,0)","v":0},47.62,25.92,634.31040000000007,0]
[null,{"$f":"'namerena data'!A893+('namerena data'!B893-1)/24","v":"2013-08-06T23:00:00"},{"$f":"IF('namerena data'!C893>0,'namerena data'!C893/1000,0)","v":0},35.6,25.92,322.75200000000007,0]
[null,{"$f":"'namerena data'!A894+('namerena data'!B894-1)/24","v":"2013-08-07"},{"$f":"IF('namerena data'!C894>0,'namerena data'!C894/1000,0)","v":0},29.9,25.98,176.80200000000002,0]
[null,{"$f":"'namerena data'!A895+('namerena data'!B895-1)/24","v":"2013-08-07T01:00:00"},{"$f":"IF('namerena data'!C895>0,'namerena data'!C895/1000,0)","v":0},28.7,25.98,145.62599999999998,0]
[null,{"$f":"'namerena data'!A896+('namerena data'!B896-1)/24","v":"2013-08-07T02:00:00"},{"$f":"IF('namerena data'!C896>0,'namerena data'!C896/1000,0)","v":0},25.2,25.98,54.696000000000026,0]
[null,{"$f":"'namerena data'!A897+('namerena data'!B897-1)/24","v":"2013-08-07T03:00:00"},{"$f":"IF('namerena data'!C897>0,'namerena data'!C897/1000,0)","v":0},23.59,25.98,12.868200000000002,0]
[null,{"$f":"'namerena data'!A898+('namerena data'!B898-1)/24","v":"2013-08-07T04:00:00"},{"$f":"IF('namerena data'!C898>0,'namerena data'!C898/1000,0)","v":0},25.1,25.98,52.09800000000007,0]
[null,{"$f":"'namerena data'!A899+('namerena data'!B899-1)/24","v":"2013-08-07T05:00:00"},{"$f":"IF('namerena data'!C899>0,'namerena data'!C899/1000,0)","v":0},28.35,25.98,136.53300000000002,0]
[null,{"$f":"'namerena data'!A900+('namerena data'!B900-1)/24","v":"2013-08-07T06:00:00"},{"$f":"IF('namerena data'!C900>0,'namerena data'!C900/1000,0)","v":0},33.15,25.98,261.23699999999997,0]
[null,{"$f":"'namerena data'!A901+('namerena data'!B901-1)/24","v":"2013-08-07T07:00:00"},{"$f":"IF('namerena data'!C901>0,'namerena data'!C901/1000,0)","v":0},44.7,25.98,561.30600000000004,0]
[null,{"$f":"'namerena data'!A902+('namerena data'!B902-1)/24","v":"2013-08-07T08:00:00"},{"$f":"IF('namerena data'!C902>0,'namerena data'!C902/1000,0)","v":0},43.73,25.98,536.10539999999992,0]
[null,{"$f":"'namerena data'!A903+('namerena data'!B903-1)/24","v":"2013-08-07T09:00:00"},{"$f":"IF('namerena data'!C903>0,'namerena data'!C903/1000,0)","v":0},44.2,25.98,548.31600000000003,0]
[null,{"$f":"'namerena data'!A904+('namerena data'!B904-1)/24","v":"2013-08-07T10:00:00"},{"$f":"IF('namerena data'!C904>0,'namerena data'!C904/1000,0)","v":0},44.2,25.98,548.31600000000003,0]
[null,{"$f":"'namerena data'!A905+('namerena data'!B905-1)/24","v":"2013-08-07T11:00:00"},{"$f":"IF('namerena data'!C905>0,'namerena data'!C905/1000,0)","v":0},44.2,25.98,548.31600000000003,0]
[null,{"$f":"'namerena data'!A906+('namerena data'!B906-1)/24","v":"2013-08-07T12:00:00"},{"$f":"IF('namerena data'!C906>0,'namerena data'!C906/1000,0)","v":0},44.35,25.98,552.21299999999997,0]
[null,{"$f":"'namerena data'!A907+('namerena data'!B907-1)/24","v":"2013-08-07T13:00:00"},{"$f":"IF('namerena data'!C907>0,'namerena data'!C907/1000,0)","v":0},42.19,25.98,496.09619999999995,0]
[null,{"$f":"'namerena data'!A908+('namerena data'!B908-1)/24","v":"2013-08-07T14:00:00"},{"$f":"IF('namerena data'!C908>0,'namerena data'!C908/1000,0)","v":0},40.200000000000003,25.98,444.39600000000019,0]
[null,{"$f":"'namerena data'!A909+('namerena data'!B909-1)/24","v":"2013-08-07T15:00:00"},{"$f":"IF('namerena data'!C909>0,'namerena data'!C909/1000,0)","v":0},39.4,25.98,423.61199999999997,0]
[null,{"$f":"'namerena data'!A910+('namerena data'!B910-1)/24","v":"2013-08-07T16:00:00"},{"$f":"IF('namerena data'!C910>0,'namerena data'!C910/1000,0)","v":0},39.770000000000003,25.98,433.22460000000001,0]
[null,{"$f":"'namerena data'!A911+('namerena data'!B911-1)/24","v":"2013-08-07T17:00:00"},{"$f":"IF('namerena data'!C911>0,'namerena data'!C911/1000,0)","v":0},42.9,25.98,514.54199999999992,0]
[null,{"$f":"'namerena data'!A912+('namerena data'!B912-1)/24","v":"2013-08-07T18:00:00"},{"$f":"IF('namerena data'!C912>0,'namerena data'!C912/1000,0)","v":0},42.47,25.98,503.37059999999997,0]
[null,{"$f":"'namerena data'!A913+('namerena data'!B913-1)/24","v":"2013-08-07T19:00:00"},{"$f":"IF('namerena data'!C913>0,'namerena data'!C913/1000,0)","v":0},41.7,25.98,483.36599999999999,0]
[null,{"$f":"'namerena data'!A914+('namerena data'!B914-1)/24","v":"2013-08-07T20:00:00"},{"$f":"IF('namerena data'!C914>0,'namerena data'!C914/1000,0)","v":0},41.37,25.98,474.79259999999999,0]
[null,{"$f":"'namerena data'!A915+('namerena data'!B915-1)/24","v":"2013-08-07T21:00:00"},{"$f":"IF('namerena data'!C915>0,'namerena data'!C915/1000,0)","v":0},40,25.98,439.20000000000005,0]
[null,{"$f":"'namerena data'!A916+('namerena data'!B916-1)/24","v":"2013-08-07T22:00:00"},{"$f":"IF('namerena data'!C916>0,'namerena data'!C916/1000,0)","v":0},37.4,25.98,371.65199999999993,0]
[null,{"$f":"'namerena data'!A917+('namerena data'!B917-1)/24","v":"2013-08-07T23:00:00"},{"$f":"IF('namerena data'!C917>0,'namerena data'!C917/1000,0)","v":0},28.02,25.98,127.95960000000002,0]
[null,{"$f":"'namerena data'!A918+('namerena data'!B918-1)/24","v":"2013-08-08"},{"$f":"IF('namerena data'!C918>0,'namerena data'!C918/1000,0)","v":0},29,25.815000000000001,148.63499999999999,0]
[null,{"$f":"'namerena data'!A919+('namerena data'!B919-1)/24","v":"2013-08-08T01:00:00"},{"$f":"IF('namerena data'!C919>0,'namerena data'!C919/1000,0)","v":0},27,25.815000000000001,97.004999999999995,0]
[null,{"$f":"'namerena data'!A920+('namerena data'!B920-1)/24","v":"2013-08-08T02:00:00"},{"$f":"IF('namerena data'!C920>0,'namerena data'!C920/1000,0)","v":0},25.7,25.815000000000001,63.445500000000038,0]
[null,{"$f":"'namerena data'!A921+('namerena data'!B921-1)/24","v":"2013-08-08T03:00:00"},{"$f":"IF('namerena data'!C921>0,'namerena data'!C921/1000,0)","v":0},23.92,25.815000000000001,17.494800000000055,0]
[null,{"$f":"'namerena data'!A922+('namerena data'!B922-1)/24","v":"2013-08-08T04:00:00"},{"$f":"IF('namerena data'!C922>0,'namerena data'!C922/1000,0)","v":0},24.3,25.815000000000001,27.304500000000075,0]
[null,{"$f":"'namerena data'!A923+('namerena data'!B923-1)/24","v":"2013-08-08T05:00:00"},{"$f":"IF('namerena data'!C923>0,'namerena data'!C923/1000,0)","v":0},26.8,25.815000000000001,91.842000000000098,0]
[null,{"$f":"'namerena data'!A924+('namerena data'!B924-1)/24","v":"2013-08-08T06:00:00"},{"$f":"IF('namerena data'!C924>0,'namerena data'!C924/1000,0)","v":0},37.799999999999997,25.815000000000001,375.80700000000002,0]
[null,{"$f":"'namerena data'!A925+('namerena data'!B925-1)/24","v":"2013-08-08T07:00:00"},{"$f":"IF('namerena data'!C925>0,'namerena data'!C925/1000,0)","v":0},49.22,25.815000000000001,670.61429999999996,0]
[null,{"$f":"'namerena data'!A926+('namerena data'!B926-1)/24","v":"2013-08-08T08:00:00"},{"$f":"IF('namerena data'!C926>0,'namerena data'!C926/1000,0)","v":0},57.4,25.815000000000001,881.78099999999995,0]
[null,{"$f":"'namerena data'!A927+('namerena data'!B927-1)/24","v":"2013-08-08T09:00:00"},{"$f":"IF('namerena data'!C927>0,'namerena data'!C927/1000,0)","v":0},55.8,25.815000000000001,840.47700000000009,0]
[null,{"$f":"'namerena data'!A928+('namerena data'!B928-1)/24","v":"2013-08-08T10:00:00"},{"$f":"IF('namerena data'!C928>0,'namerena data'!C928/1000,0)","v":0},54.9,25.815000000000001,817.24350000000004,0]
[null,{"$f":"'namerena data'!A929+('namerena data'!B929-1)/24","v":"2013-08-08T11:00:00"},{"$f":"IF('namerena data'!C929>0,'namerena data'!C929/1000,0)","v":0},51.5,25.815000000000001,729.47250000000008,0]
[null,{"$f":"'namerena data'!A930+('namerena data'!B930-1)/24","v":"2013-08-08T12:00:00"},{"$f":"IF('namerena data'!C930>0,'namerena data'!C930/1000,0)","v":0},48.9,25.815000000000001,662.35349999999994,0]
[null,{"$f":"'namerena data'!A931+('namerena data'!B931-1)/24","v":"2013-08-08T13:00:00"},{"$f":"IF('namerena data'!C931>0,'namerena data'!C931/1000,0)","v":0},45.9,25.815000000000001,584.9085,0]
[null,{"$f":"'namerena data'!A932+('namerena data'!B932-1)/24","v":"2013-08-08T14:00:00"},{"$f":"IF('namerena data'!C932>0,'namerena data'!C932/1000,0)","v":0},44.6,25.815000000000001,551.34900000000016,0]
[null,{"$f":"'namerena data'!A933+('namerena data'!B933-1)/24","v":"2013-08-08T15:00:00"},{"$f":"IF('namerena data'!C933>0,'namerena data'!C933/1000,0)","v":0},45.68,25.815000000000001,579.22919999999999,0]
[null,{"$f":"'namerena data'!A934+('namerena data'!B934-1)/24","v":"2013-08-08T16:00:00"},{"$f":"IF('namerena data'!C934>0,'namerena data'!C934/1000,0)","v":0},44.04,25.815000000000001,536.89260000000013,0]
[null,{"$f":"'namerena data'!A935+('namerena data'!B935-1)/24","v":"2013-08-08T17:00:00"},{"$f":"IF('namerena data'!C935>0,'namerena data'!C935/1000,0)","v":0},45.6,25.815000000000001,577.16399999999999,0]
[null,{"$f":"'namerena data'!A936+('namerena data'!B936-1)/24","v":"2013-08-08T18:00:00"},{"$f":"IF('namerena data'!C936>0,'namerena data'!C936/1000,0)","v":0},49,25.815000000000001,664.93500000000017,0]
[null,{"$f":"'namerena data'!A937+('namerena data'!B937-1)/24","v":"2013-08-08T19:00:00"},{"$f":"IF('namerena data'!C937>0,'namerena data'!C937/1000,0)","v":0},48.19,25.815000000000001,644.02485000000001,0]
[null,{"$f":"'namerena data'!A938+('namerena data'!B938-1)/24","v":"2013-08-08T20:00:00"},{"$f":"IF('namerena data'!C938>0,'namerena data'!C938/1000,0)","v":0},44.2,25.815000000000001,541.02300000000014,0]
[null,{"$f":"'namerena data'!A939+('namerena data'!B939-1)/24","v":"2013-08-08T21:00:00"},{"$f":"IF('namerena data'!C939>0,'namerena data'!C939/1000,0)","v":0},43.8,25.815000000000001,530.69699999999989,0]
[null,{"$f":"'namerena data'!A940+('namerena data'!B940-1)/24","v":"2013-08-08T22:00:00"},{"$f":"IF('namerena data'!C940>0,'namerena data'!C940/1000,0)","v":0},42.05,25.815000000000001,485.52074999999991,0]
[null,{"$f":"'namerena data'!A941+('namerena data'!B941-1)/24","v":"2013-08-08T23:00:00"},{"$f":"IF('namerena data'!C941>0,'namerena data'!C941/1000,0)","v":0},32.119999999999997,25.815000000000001,229.17779999999993,0]
[null,{"$f":"'namerena data'!A942+('namerena data'!B942-1)/24","v":"2013-08-09"},{"$f":"IF('namerena data'!C942>0,'namerena data'!C942/1000,0)","v":0},27.65,25.925000000000001,116.82624999999996,0]
[null,{"$f":"'namerena data'!A943+('namerena data'!B943-1)/24","v":"2013-08-09T01:00:00"},{"$f":"IF('namerena data'!C943>0,'namerena data'!C943/1000,0)","v":0},27.4,25.925000000000001,{"$f":"+IF(AND(ISNUMBER(D953),ISNUMBER(E953)),D953*E953-$F$13,0)","v":110.34500000000003},{"$f":"+(C953*F953)","v":0}]
[null,{"$f":"'namerena data'!A944+('namerena data'!B944-1)/24","v":"2013-08-09T02:00:00"},{"$f":"IF('namerena data'!C944>0,'namerena data'!C944/1000,0)","v":0},25.9,25.925000000000001,71.457499999999982,0]
[null,{"$f":"'namerena data'!A945+('namerena data'!B945-1)/24","v":"2013-08-09T03:00:00"},{"$f":"IF('namerena data'!C945>0,'namerena data'!C945/1000,0)","v":0},25.6,25.925000000000001,63.680000000000064,0]
[null,{"$f":"'namerena data'!A946+('namerena data'!B946-1)/24","v":"2013-08-09T04:00:00"},{"$f":"IF('namerena data'!C946>0,'namerena data'!C946/1000,0)","v":0},25.4,25.925000000000001,58.495000000000005,0]
[null,{"$f":"'namerena data'!A947+('namerena data'!B947-1)/24","v":"2013-08-09T05:00:00"},{"$f":"IF('namerena data'!C947>0,'namerena data'!C947/1000,0)","v":0},27.25,25.925000000000001,106.45625000000007,0]
[null,{"$f":"'namerena data'!A948+('namerena data'!B948-1)/24","v":"2013-08-09T06:00:00"},{"$f":"IF('namerena data'!C948>0,'namerena data'!C948/1000,0)","v":0},35.799999999999997,25.925000000000001,328.1149999999999,0]
[null,{"$f":"'namerena data'!A949+('namerena data'!B949-1)/24","v":"2013-08-09T07:00:00"},{"$f":"IF('namerena data'!C949>0,'namerena data'!C949/1000,0)","v":0},44.5,25.925000000000001,553.66250000000014,0]
[null,{"$f":"'namerena data'!A950+('namerena data'!B950-1)/24","v":"2013-08-09T08:00:00"},{"$f":"IF('namerena data'!C950>0,'namerena data'!C950/1000,0)","v":0},46.3,25.925000000000001,600.32749999999987,0]
[null,{"$f":"'namerena data'!A951+('namerena data'!B951-1)/24","v":"2013-08-09T09:00:00"},{"$f":"IF('namerena data'!C951>0,'namerena data'!C951/1000,0)","v":0},44.29,25.925000000000001,548.2182499999999,0]
[null,{"$f":"'namerena data'!A952+('namerena data'!B952-1)/24","v":"2013-08-09T10:00:00"},{"$f":"IF('namerena data'!C952>0,'namerena data'!C952/1000,0)","v":0},43.5,25.925000000000001,527.73749999999995,0]
[null,{"$f":"'namerena data'!A953+('namerena data'!B953-1)/24","v":"2013-08-09T11:00:00"},{"$f":"IF('namerena data'!C953>0,'namerena data'!C953/1000,0)","v":0},44.56,25.925000000000001,555.21800000000007,0]
[null,{"$f":"'namerena data'!A954+('namerena data'!B954-1)/24","v":"2013-08-09T12:00:00"},{"$f":"IF('namerena data'!C954>0,'namerena data'!C954/1000,0)","v":0},42,25.925000000000001,488.85000000000014,0]
[null,{"$f":"'namerena data'!A955+('namerena data'!B955-1)/24","v":"2013-08-09T13:00:00"},{"$f":"IF('namerena data'!C955>0,'namerena data'!C955/1000,0)","v":0},38.9,25.925000000000001,408.48249999999996,0]
[null,{"$f":"'namerena data'!A956+('namerena data'!B956-1)/24","v":"2013-08-09T14:00:00"},{"$f":"IF('namerena data'!C956>0,'namerena data'!C956/1000,0)","v":0},37.729999999999997,25.925000000000001,378.15024999999991,0]
[null,{"$f":"'namerena data'!A957+('namerena data'!B957-1)/24","v":"2013-08-09T15:00:00"},{"$f":"IF('namerena data'!C957>0,'namerena data'!C957/1000,0)","v":0},37.06,25.925000000000001,360.78050000000007,0]
[null,{"$f":"'namerena data'!A958+('namerena data'!B958-1)/24","v":"2013-08-09T16:00:00"},{"$f":"IF('namerena data'!C958>0,'namerena data'!C958/1000,0)","v":0},37.01,25.925000000000001,359.48424999999997,0]
[null,{"$f":"'namerena data'!A959+('namerena data'!B959-1)/24","v":"2013-08-09T17:00:00"},{"$f":"IF('namerena data'!C959>0,'namerena data'!C959/1000,0)","v":0},37.11,25.925000000000001,362.07675000000006,0]
[null,{"$f":"'namerena data'!A960+('namerena data'!B960-1)/24","v":"2013-08-09T18:00:00"},{"$f":"IF('namerena data'!C960>0,'namerena data'!C960/1000,0)","v":0},39,25.925000000000001,411.07500000000005,0]
[null,{"$f":"'namerena data'!A961+('namerena data'!B961-1)/24","v":"2013-08-09T19:00:00"},{"$f":"IF('namerena data'!C961>0,'namerena data'!C961/1000,0)","v":0},40.119999999999997,25.925000000000001,440.11099999999988,0]
[null,{"$f":"'namerena data'!A962+('namerena data'!B962-1)/24","v":"2013-08-09T20:00:00"},{"$f":"IF('namerena data'!C962>0,'namerena data'!C962/1000,0)","v":0},40.200000000000003,25.925000000000001,442.18500000000017,0]
[null,{"$f":"'namerena data'!A963+('namerena data'!B963-1)/24","v":"2013-08-09T21:00:00"},{"$f":"IF('namerena data'!C963>0,'namerena data'!C963/1000,0)","v":0},38.520000000000003,25.925000000000001,398.63100000000009,0]
[null,{"$f":"'namerena data'!A964+('namerena data'!B964-1)/24","v":"2013-08-09T22:00:00"},{"$f":"IF('namerena data'!C964>0,'namerena data'!C964/1000,0)","v":0},36.9,25.925000000000001,356.63249999999994,0]
[null,{"$f":"'namerena data'!A965+('namerena data'!B965-1)/24","v":"2013-08-09T23:00:00"},{"$f":"IF('namerena data'!C965>0,'namerena data'!C965/1000,0)","v":0},29.8,25.925000000000001,172.56500000000005,0]
[null,{"$f":"'namerena data'!A966+('namerena data'!B966-1)/24","v":"2013-08-10"},{"$f":"IF('namerena data'!C966>0,'namerena data'!C966/1000,0)","v":0},30.7,25.925000000000001,195.89750000000004,0]
[null,{"$f":"'namerena data'!A967+('namerena data'!B967-1)/24","v":"2013-08-10T01:00:00"},{"$f":"IF('namerena data'!C967>0,'namerena data'!C967/1000,0)","v":0},29.1,25.925000000000001,154.41750000000002,0]
[null,{"$f":"'namerena data'!A968+('namerena data'!B968-1)/24","v":"2013-08-10T02:00:00"},{"$f":"IF('namerena data'!C968>0,'namerena data'!C968/1000,0)","v":0},27.92,25.925000000000001,123.82600000000002,0]
[null,{"$f":"'namerena data'!A969+('namerena data'!B969-1)/24","v":"2013-08-10T03:00:00"},{"$f":"IF('namerena data'!C969>0,'namerena data'!C969/1000,0)","v":0},26.29,25.925000000000001,81.568250000000035,0]
[null,{"$f":"'namerena data'!A970+('namerena data'!B970-1)/24","v":"2013-08-10T04:00:00"},{"$f":"IF('namerena data'!C970>0,'namerena data'!C970/1000,0)","v":0},26,25.925000000000001,74.050000000000068,0]
[null,{"$f":"'namerena data'!A971+('namerena data'!B971-1)/24","v":"2013-08-10T05:00:00"},{"$f":"IF('namerena data'!C971>0,'namerena data'!C971/1000,0)","v":0},25,25.925000000000001,48.125,0]
[null,{"$f":"'namerena data'!A972+('namerena data'!B972-1)/24","v":"2013-08-10T06:00:00"},{"$f":"IF('namerena data'!C972>0,'namerena data'!C972/1000,0)","v":0},25.8,25.925000000000001,68.865000000000009,0]
[null,{"$f":"'namerena data'!A973+('namerena data'!B973-1)/24","v":"2013-08-10T07:00:00"},{"$f":"IF('namerena data'!C973>0,'namerena data'!C973/1000,0)","v":0},26.3,25.925000000000001,81.827499999999986,0]
[null,{"$f":"'namerena data'!A974+('namerena data'!B974-1)/24","v":"2013-08-10T08:00:00"},{"$f":"IF('namerena data'!C974>0,'namerena data'!C974/1000,0)","v":0},27.75,25.925000000000001,119.41875000000005,0]
[null,{"$f":"'namerena data'!A975+('namerena data'!B975-1)/24","v":"2013-08-10T09:00:00"},{"$f":"IF('namerena data'!C975>0,'namerena data'!C975/1000,0)","v":0},30.5,25.925000000000001,190.71249999999998,0]
[null,{"$f":"'namerena data'!A976+('namerena data'!B976-1)/24","v":"2013-08-10T10:00:00"},{"$f":"IF('namerena data'!C976>0,'namerena data'!C976/1000,0)","v":0},30.93,25.925000000000001,201.86025000000006,0]
[null,{"$f":"'namerena data'!A977+('namerena data'!B977-1)/24","v":"2013-08-10T11:00:00"},{"$f":"IF('namerena data'!C977>0,'namerena data'!C977/1000,0)","v":0},30.68,25.925000000000001,195.37900000000002,0]
[null,{"$f":"'namerena data'!A978+('namerena data'!B978-1)/24","v":"2013-08-10T12:00:00"},{"$f":"IF('namerena data'!C978>0,'namerena data'!C978/1000,0)","v":0},26.6,25.925000000000001,89.605000000000018,0]
[null,{"$f":"'namerena data'!A979+('namerena data'!B979-1)/24","v":"2013-08-10T13:00:00"},{"$f":"IF('namerena data'!C979>0,'namerena data'!C979/1000,0)","v":0},24,25.925000000000001,22.200000000000045,0]
[null,{"$f":"'namerena data'!A980+('namerena data'!B980-1)/24","v":"2013-08-10T14:00:00"},{"$f":"IF('namerena data'!C980>0,'namerena data'!C980/1000,0)","v":0},22.43,25.925000000000001,-18.502250000000004,0]
[null,{"$f":"'namerena data'!A981+('namerena data'!B981-1)/24","v":"2013-08-10T15:00:00"},{"$f":"IF('namerena data'!C981>0,'namerena data'!C981/1000,0)","v":0},21.9,25.925000000000001,-32.242500000000064,0]
[null,{"$f":"'namerena data'!A982+('namerena data'!B982-1)/24","v":"2013-08-10T16:00:00"},{"$f":"IF('namerena data'!C982>0,'namerena data'!C982/1000,0)","v":0},24.63,25.925000000000001,38.532749999999965,0]
[null,{"$f":"'namerena data'!A983+('namerena data'!B983-1)/24","v":"2013-08-10T17:00:00"},{"$f":"IF('namerena data'!C983>0,'namerena data'!C983/1000,0)","v":0},29.8,25.925000000000001,172.56500000000005,0]
[null,{"$f":"'namerena data'!A984+('namerena data'!B984-1)/24","v":"2013-08-10T18:00:00"},{"$f":"IF('namerena data'!C984>0,'namerena data'!C984/1000,0)","v":0},33.75,25.925000000000001,274.96875,0]
[null,{"$f":"'namerena data'!A985+('namerena data'!B985-1)/24","v":"2013-08-10T19:00:00"},{"$f":"IF('namerena data'!C985>0,'namerena data'!C985/1000,0)","v":0},35.299999999999997,25.925000000000001,315.15249999999992,0]
[null,{"$f":"'namerena data'!A986+('namerena data'!B986-1)/24","v":"2013-08-10T20:00:00"},{"$f":"IF('namerena data'!C986>0,'namerena data'!C986/1000,0)","v":0},34,25.925000000000001,281.45000000000005,0]
[null,{"$f":"'namerena data'!A987+('namerena data'!B987-1)/24","v":"2013-08-10T21:00:00"},{"$f":"IF('namerena data'!C987>0,'namerena data'!C987/1000,0)","v":0},35,25.925000000000001,307.375,0]
[null,{"$f":"'namerena data'!A988+('namerena data'!B988-1)/24","v":"2013-08-10T22:00:00"},{"$f":"IF('namerena data'!C988>0,'namerena data'!C988/1000,0)","v":0},36.659999999999997,25.925000000000001,350.41049999999996,0]
[null,{"$f":"'namerena data'!A989+('namerena data'!B989-1)/24","v":"2013-08-10T23:00:00"},{"$f":"IF('namerena data'!C989>0,'namerena data'!C989/1000,0)","v":0},29,25.925000000000001,151.82500000000005,0]
[null,{"$f":"'namerena data'!A990+('namerena data'!B990-1)/24","v":"2013-08-11"},{"$f":"IF('namerena data'!C990>0,'namerena data'!C990/1000,0)","v":0},25.2,25.925000000000001,53.309999999999945,0]
[null,{"$f":"'namerena data'!A991+('namerena data'!B991-1)/24","v":"2013-08-11T01:00:00"},{"$f":"IF('namerena data'!C991>0,'namerena data'!C991/1000,0)","v":0},20,25.925000000000001,-81.5,0]
[null,{"$f":"'namerena data'!A992+('namerena data'!B992-1)/24","v":"2013-08-11T02:00:00"},{"$f":"IF('namerena data'!C992>0,'namerena data'!C992/1000,0)","v":0},16.41,25.925000000000001,-174.57074999999998,0]
[null,{"$f":"'namerena data'!A993+('namerena data'!B993-1)/24","v":"2013-08-11T03:00:00"},{"$f":"IF('namerena data'!C993>0,'namerena data'!C993/1000,0)","v":0},15.4,25.925000000000001,-200.755,0]
[null,{"$f":"'namerena data'!A994+('namerena data'!B994-1)/24","v":"2013-08-11T04:00:00"},{"$f":"IF('namerena data'!C994>0,'namerena data'!C994/1000,0)","v":0},14.3,25.925000000000001,-229.27249999999998,0]
[null,{"$f":"'namerena data'!A995+('namerena data'!B995-1)/24","v":"2013-08-11T05:00:00"},{"$f":"IF('namerena data'!C995>0,'namerena data'!C995/1000,0)","v":0},13.67,25.925000000000001,-245.60525000000001,0]
[null,{"$f":"'namerena data'!A996+('namerena data'!B996-1)/24","v":"2013-08-11T06:00:00"},{"$f":"IF('namerena data'!C996>0,'namerena data'!C996/1000,0)","v":0},11.75,25.925000000000001,-295.38124999999997,0]
[null,{"$f":"'namerena data'!A997+('namerena data'!B997-1)/24","v":"2013-08-11T07:00:00"},{"$f":"IF('namerena data'!C997>0,'namerena data'!C997/1000,0)","v":0},13.77,25.925000000000001,-243.01274999999998,0]
[null,{"$f":"'namerena data'!A998+('namerena data'!B998-1)/24","v":"2013-08-11T08:00:00"},{"$f":"IF('namerena data'!C998>0,'namerena data'!C998/1000,0)","v":0},16,25.925000000000001,-185.2,0]
[null,{"$f":"'namerena data'!A999+('namerena data'!B999-1)/24","v":"2013-08-11T09:00:00"},{"$f":"IF('namerena data'!C999>0,'namerena data'!C999/1000,0)","v":0},18.399999999999999,25.925000000000001,-122.98000000000002,0]
[null,{"$f":"'namerena data'!A1000+('namerena data'!B1000-1)/24","v":"2013-08-11T10:00:00"},{"$f":"IF('namerena data'!C1000>0,'namerena data'!C1000/1000,0)","v":0},20,25.925000000000001,-81.5,0]
[null,{"$f":"'namerena data'!A1001+('namerena data'!B1001-1)/24","v":"2013-08-11T11:00:00"},{"$f":"IF('namerena data'!C1001>0,'namerena data'!C1001/1000,0)","v":0},19,25.925000000000001,-107.42500000000001,0]
[null,{"$f":"'namerena data'!A1002+('namerena data'!B1002-1)/24","v":"2013-08-11T12:00:00"},{"$f":"IF('namerena data'!C1002>0,'namerena data'!C1002/1000,0)","v":0},15.8,25.925000000000001,-190.38499999999999,0]
[null,{"$f":"'namerena data'!A1003+('namerena data'!B1003-1)/24","v":"2013-08-11T13:00:00"},{"$f":"IF('namerena data'!C1003>0,'namerena data'!C1003/1000,0)","v":0},11,25.925000000000001,-314.82499999999999,0]
[null,{"$f":"'namerena data'!A1004+('namerena data'!B1004-1)/24","v":"2013-08-11T14:00:00"},{"$f":"IF('namerena data'!C1004>0,'namerena data'!C1004/1000,0)","v":0},8.6999999999999993,25.925000000000001,-374.45249999999999,0]
[null,{"$f":"'namerena data'!A1005+('namerena data'!B1005-1)/24","v":"2013-08-11T15:00:00"},{"$f":"IF('namerena data'!C1005>0,'namerena data'!C1005/1000,0)","v":0},7.5,25.925000000000001,-405.5625,0]
[null,{"$f":"'namerena data'!A1006+('namerena data'!B1006-1)/24","v":"2013-08-11T16:00:00"},{"$f":"IF('namerena data'!C1006>0,'namerena data'!C1006/1000,0)","v":0},11,25.925000000000001,-314.82499999999999,0]
[null,{"$f":"'namerena data'!A1007+('namerena data'!B1007-1)/24","v":"2013-08-11T17:00:00"},{"$f":"IF('namerena data'!C1007>0,'namerena data'!C1007/1000,0)","v":0},16.149999999999999,25.925000000000001,{"$f":"+IF(AND(ISNUMBER(D1017),ISNUMBER(E1017)),D1017*E1017-$F$13,0)","v":-181.31125000000003},{"$f":"+(C1017*F1017)","v":0}]
[null,{"$f":"'namerena data'!A1008+('namerena data'!B1008-1)/24","v":"2013-08-11T18:00:00"},{"$f":"IF('namerena data'!C1008>0,'namerena data'!C1008/1000,0)","v":0},27.1,25.925000000000001,102.56750000000011,0]
[null,{"$f":"'namerena data'!A1009+('namerena data'!B1009-1)/24","v":"2013-08-11T19:00:00"},{"$f":"IF('namerena data'!C1009>0,'namerena data'!C1009/1000,0)","v":0},34.200000000000003,25.925000000000001,286.6350000000001,0]
[null,{"$f":"'namerena data'!A1010+('namerena data'!B1010-1)/24","v":"2013-08-11T20:00:00"},{"$f":"IF('namerena data'!C1010>0,'namerena data'!C1010/1000,0)","v":0},37.409999999999997,25.925000000000001,369.85424999999998,0]
[null,{"$f":"'namerena data'!A1011+('namerena data'!B1011-1)/24","v":"2013-08-11T21:00:00"},{"$f":"IF('namerena data'!C1011>0,'namerena data'!C1011/1000,0)","v":0},39.97,25.925000000000001,436.22225000000003,0]
[null,{"$f":"'namerena data'!A1012+('namerena data'!B1012-1)/24","v":"2013-08-11T22:00:00"},{"$f":"IF('namerena data'!C1012>0,'namerena data'!C1012/1000,0)","v":0},40,25.925000000000001,437,0]
[null,{"$f":"'namerena data'!A1013+('namerena data'!B1013-1)/24","v":"2013-08-11T23:00:00"},{"$f":"IF('namerena data'!C1013>0,'namerena data'!C1013/1000,0)","v":0},27.02,25.925000000000001,100.49350000000004,0]
[null,{"$f":"'namerena data'!A1014+('namerena data'!B1014-1)/24","v":"2013-08-12"},{"$f":"IF('namerena data'!C1014>0,'namerena data'!C1014/1000,0)","v":0},26,25.88,72.88,0]
[null,{"$f":"'namerena data'!A1015+('namerena data'!B1015-1)/24","v":"2013-08-12T01:00:00"},{"$f":"IF('namerena data'!C1015>0,'namerena data'!C1015/1000,0)","v":0},23.03,25.88,-3.983600000000024,0]
[null,{"$f":"'namerena data'!A1016+('namerena data'!B1016-1)/24","v":"2013-08-12T02:00:00"},{"$f":"IF('namerena data'!C1016>0,'namerena data'!C1016/1000,0)","v":0},21.12,25.88,-53.414400000000001,0]
[null,{"$f":"'namerena data'!A1017+('namerena data'!B1017-1)/24","v":"2013-08-12T03:00:00"},{"$f":"IF('namerena data'!C1017>0,'namerena data'!C1017/1000,0)","v":0},21,25.88,-56.519999999999982,0]
[null,{"$f":"'namerena data'!A1018+('namerena data'!B1018-1)/24","v":"2013-08-12T04:00:00"},{"$f":"IF('namerena data'!C1018>0,'namerena data'!C1018/1000,0)","v":0},21.3,25.88,-48.755999999999972,0]
[null,{"$f":"'namerena data'!A1019+('namerena data'!B1019-1)/24","v":"2013-08-12T05:00:00"},{"$f":"IF('namerena data'!C1019>0,'namerena data'!C1019/1000,0)","v":0},25,25.88,47,0]
[null,{"$f":"'namerena data'!A1020+('namerena data'!B1020-1)/24","v":"2013-08-12T06:00:00"},{"$f":"IF('namerena data'!C1020>0,'namerena data'!C1020/1000,0)","v":0},36.799999999999997,25.88,352.3839999999999,0]
[null,{"$f":"'namerena data'!A1021+('namerena data'!B1021-1)/24","v":"2013-08-12T07:00:00"},{"$f":"IF('namerena data'!C1021>0,'namerena data'!C1021/1000,0)","v":0},45.66,25.88,581.68079999999986,0]
[null,{"$f":"'namerena data'!A1022+('namerena data'!B1022-1)/24","v":"2013-08-12T08:00:00"},{"$f":"IF('namerena data'!C1022>0,'namerena data'!C1022/1000,0)","v":0},43.8,25.88,533.54399999999987,0]
[null,{"$f":"'namerena data'!A1023+('namerena data'!B1023-1)/24","v":"2013-08-12T09:00:00"},{"$f":"IF('namerena data'!C1023>0,'namerena data'!C1023/1000,0)","v":0},42.07,25.88,488.77160000000003,0]
[null,{"$f":"'namerena data'!A1024+('namerena data'!B1024-1)/24","v":"2013-08-12T10:00:00"},{"$f":"IF('namerena data'!C1024>0,'namerena data'!C1024/1000,0)","v":0},41.49,25.88,473.76119999999992,0]
[null,{"$f":"'namerena data'!A1025+('namerena data'!B1025-1)/24","v":"2013-08-12T11:00:00"},{"$f":"IF('namerena data'!C1025>0,'namerena data'!C1025/1000,0)","v":0},40,25.88,435.20000000000005,0]
[null,{"$f":"'namerena data'!A1026+('namerena data'!B1026-1)/24","v":"2013-08-12T12:00:00"},{"$f":"IF('namerena data'!C1026>0,'namerena data'!C1026/1000,0)","v":0},38.799999999999997,25.88,404.14399999999989,0]
[null,{"$f":"'namerena data'!A1027+('namerena data'!B1027-1)/24","v":"2013-08-12T13:00:00"},{"$f":"IF('namerena data'!C1027>0,'namerena data'!C1027/1000,0)","v":0},34.799999999999997,25.88,300.62399999999991,0]
[null,{"$f":"'namerena data'!A1028+('namerena data'!B1028-1)/24","v":"2013-08-12T14:00:00"},{"$f":"IF('namerena data'!C1028>0,'namerena data'!C1028/1000,0)","v":0},33.799999999999997,25.88,274.74399999999991,0]
[null,{"$f":"'namerena data'!A1029+('namerena data'!B1029-1)/24","v":"2013-08-12T15:00:00"},{"$f":"IF('namerena data'!C1029>0,'namerena data'!C1029/1000,0)","v":0},36.299999999999997,25.88,339.44399999999985,0]
[null,{"$f":"'namerena data'!A1030+('namerena data'!B1030-1)/24","v":"2013-08-12T16:00:00"},{"$f":"IF('namerena data'!C1030>0,'namerena data'!C1030/1000,0)","v":0},35.92,25.88,329.6096,0]
[null,{"$f":"'namerena data'!A1031+('namerena data'!B1031-1)/24","v":"2013-08-12T17:00:00"},{"$f":"IF('namerena data'!C1031>0,'namerena data'!C1031/1000,0)","v":0},40.590000000000003,25.88,450.4692,0]
[null,{"$f":"'namerena data'!A1032+('namerena data'!B1032-1)/24","v":"2013-08-12T18:00:00"},{"$f":"IF('namerena data'!C1032>0,'namerena data'!C1032/1000,0)","v":0},44.8,25.88,559.42399999999998,0]
[null,{"$f":"'namerena data'!A1033+('namerena data'!B1033-1)/24","v":"2013-08-12T19:00:00"},{"$f":"IF('namerena data'!C1033>0,'namerena data'!C1033/1000,0)","v":0},48.24,25.88,648.45119999999997,0]
[null,{"$f":"'namerena data'!A1034+('namerena data'!B1034-1)/24","v":"2013-08-12T20:00:00"},{"$f":"IF('namerena data'!C1034>0,'namerena data'!C1034/1000,0)","v":0},48.91,25.88,665.79079999999976,0]
[null,{"$f":"'namerena data'!A1035+('namerena data'!B1035-1)/24","v":"2013-08-12T21:00:00"},{"$f":"IF('namerena data'!C1035>0,'namerena data'!C1035/1000,0)","v":0},47.51,25.88,629.55879999999979,0]
[null,{"$f":"'namerena data'!A1036+('namerena data'!B1036-1)/24","v":"2013-08-12T22:00:00"},{"$f":"IF('namerena data'!C1036>0,'namerena data'!C1036/1000,0)","v":0},42.22,25.88,492.65359999999987,0]
[null,{"$f":"'namerena data'!A1037+('namerena data'!B1037-1)/24","v":"2013-08-12T23:00:00"},{"$f":"IF('namerena data'!C1037>0,'namerena data'!C1037/1000,0)","v":0},33,25.88,254.03999999999996,0]
[null,{"$f":"'namerena data'!A1038+('namerena data'!B1038-1)/24","v":"2013-08-13"},{"$f":"IF('namerena data'!C1038>0,'namerena data'!C1038/1000,0)","v":0},30.47,25.875,188.41125,0]
[null,{"$f":"'namerena data'!A1039+('namerena data'!B1039-1)/24","v":"2013-08-13T01:00:00"},{"$f":"IF('namerena data'!C1039>0,'namerena data'!C1039/1000,0)","v":0},27.19,25.875,103.54124999999999,0]
[null,{"$f":"'namerena data'!A1040+('namerena data'!B1040-1)/24","v":"2013-08-13T02:00:00"},{"$f":"IF('namerena data'!C1040>0,'namerena data'!C1040/1000,0)","v":0},26,25.875,72.75,0]
[null,{"$f":"'namerena data'!A1041+('namerena data'!B1041-1)/24","v":"2013-08-13T03:00:00"},{"$f":"IF('namerena data'!C1041>0,'namerena data'!C1041/1000,0)","v":0},25.2,25.875,52.049999999999955,0]
[null,{"$f":"'namerena data'!A1042+('namerena data'!B1042-1)/24","v":"2013-08-13T04:00:00"},{"$f":"IF('namerena data'!C1042>0,'namerena data'!C1042/1000,0)","v":0},25.81,25.875,67.833750000000009,0]
[null,{"$f":"'namerena data'!A1043+('namerena data'!B1043-1)/24","v":"2013-08-13T05:00:00"},{"$f":"IF('namerena data'!C1043>0,'namerena data'!C1043/1000,0)","v":0},28.28,25.875,131.745,0]
[null,{"$f":"'namerena data'!A1044+('namerena data'!B1044-1)/24","v":"2013-08-13T06:00:00"},{"$f":"IF('namerena data'!C1044>0,'namerena data'!C1044/1000,0)","v":0},39.43,25.875,420.25125000000003,0]
[null,{"$f":"'namerena data'!A1045+('namerena data'!B1045-1)/24","v":"2013-08-13T07:00:00"},{"$f":"IF('namerena data'!C1045>0,'namerena data'!C1045/1000,0)","v":0},45.01,25.875,564.63374999999996,0]
[null,{"$f":"'namerena data'!A1046+('namerena data'!B1046-1)/24","v":"2013-08-13T08:00:00"},{"$f":"IF('namerena data'!C1046>0,'namerena data'!C1046/1000,0)","v":0},46.02,25.875,590.76750000000015,0]
[null,{"$f":"'namerena data'!A1047+('namerena data'!B1047-1)/24","v":"2013-08-13T09:00:00"},{"$f":"IF('namerena data'!C1047>0,'namerena data'!C1047/1000,0)","v":0},44.4,25.875,548.84999999999991,0]
[null,{"$f":"'namerena data'!A1048+('namerena data'!B1048-1)/24","v":"2013-08-13T10:00:00"},{"$f":"IF('namerena data'!C1048>0,'namerena data'!C1048/1000,0)","v":0},41.1,25.875,463.46250000000009,0]
[null,{"$f":"'namerena data'!A1049+('namerena data'!B1049-1)/24","v":"2013-08-13T11:00:00"},{"$f":"IF('namerena data'!C1049>0,'namerena data'!C1049/1000,0)","v":0},41.34,25.875,469.67250000000013,0]
[null,{"$f":"'namerena data'!A1050+('namerena data'!B1050-1)/24","v":"2013-08-13T12:00:00"},{"$f":"IF('namerena data'!C1050>0,'namerena data'!C1050/1000,0)","v":0},39.15,25.875,413.00624999999991,0]
[null,{"$f":"'namerena data'!A1051+('namerena data'!B1051-1)/24","v":"2013-08-13T13:00:00"},{"$f":"IF('namerena data'!C1051>0,'namerena data'!C1051/1000,0)","v":0},35.07,25.875,307.43624999999997,0]
[null,{"$f":"'namerena data'!A1052+('namerena data'!B1052-1)/24","v":"2013-08-13T14:00:00"},{"$f":"IF('namerena data'!C1052>0,'namerena data'!C1052/1000,0)","v":0},33.54,25.875,267.84749999999997,0]
[null,{"$f":"'namerena data'!A1053+('namerena data'!B1053-1)/24","v":"2013-08-13T15:00:00"},{"$f":"IF('namerena data'!C1053>0,'namerena data'!C1053/1000,0)","v":0},32.799999999999997,25.875,248.69999999999993,0]
[null,{"$f":"'namerena data'!A1054+('namerena data'!B1054-1)/24","v":"2013-08-13T16:00:00"},{"$f":"IF('namerena data'!C1054>0,'namerena data'!C1054/1000,0)","v":0},33.83,25.875,275.35124999999994,0]
[null,{"$f":"'namerena data'!A1055+('namerena data'!B1055-1)/24","v":"2013-08-13T17:00:00"},{"$f":"IF('namerena data'!C1055>0,'namerena data'!C1055/1000,0)","v":0},38.380000000000003,25.875,393.0825000000001,0]
[null,{"$f":"'namerena data'!A1056+('namerena data'!B1056-1)/24","v":"2013-08-13T18:00:00"},{"$f":"IF('namerena data'!C1056>0,'namerena data'!C1056/1000,0)","v":0},40.619999999999997,25.875,451.04250000000002,0]
[null,{"$f":"'namerena data'!A1057+('namerena data'!B1057-1)/24","v":"2013-08-13T19:00:00"},{"$f":"IF('namerena data'!C1057>0,'namerena data'!C1057/1000,0)","v":0},45.1,25.875,566.96250000000009,0]
[null,{"$f":"'namerena data'!A1058+('namerena data'!B1058-1)/24","v":"2013-08-13T20:00:00"},{"$f":"IF('namerena data'!C1058>0,'namerena data'!C1058/1000,0)","v":0},42,25.875,486.75,0]
[null,{"$f":"'namerena data'!A1059+('namerena data'!B1059-1)/24","v":"2013-08-13T21:00:00"},{"$f":"IF('namerena data'!C1059>0,'namerena data'!C1059/1000,0)","v":0},40,25.875,435,0]
[null,{"$f":"'namerena data'!A1060+('namerena data'!B1060-1)/24","v":"2013-08-13T22:00:00"},{"$f":"IF('namerena data'!C1060>0,'namerena data'!C1060/1000,0)","v":0},37.47,25.875,369.53625,0]
[null,{"$f":"'namerena data'!A1061+('namerena data'!B1061-1)/24","v":"2013-08-13T23:00:00"},{"$f":"IF('namerena data'!C1061>0,'namerena data'!C1061/1000,0)","v":0},30.32,25.875,184.52999999999997,0]
[null,{"$f":"'namerena data'!A1062+('namerena data'!B1062-1)/24","v":"2013-08-14"},{"$f":"IF('namerena data'!C1062>0,'namerena data'!C1062/1000,0)","v":0},28.81,25.82,143.87419999999997,0]
[null,{"$f":"'namerena data'!A1063+('namerena data'!B1063-1)/24","v":"2013-08-14T01:00:00"},{"$f":"IF('namerena data'!C1063>0,'namerena data'!C1063/1000,0)","v":0},26.6,25.82,86.812000000000012,0]
[null,{"$f":"'namerena data'!A1064+('namerena data'!B1064-1)/24","v":"2013-08-14T02:00:00"},{"$f":"IF('namerena data'!C1064>0,'namerena data'!C1064/1000,0)","v":0},25.75,25.82,64.865000000000009,0]
[null,{"$f":"'namerena data'!A1065+('namerena data'!B1065-1)/24","v":"2013-08-14T03:00:00"},{"$f":"IF('namerena data'!C1065>0,'namerena data'!C1065/1000,0)","v":0},25.04,25.82,46.532799999999952,0]
[null,{"$f":"'namerena data'!A1066+('namerena data'!B1066-1)/24","v":"2013-08-14T04:00:00"},{"$f":"IF('namerena data'!C1066>0,'namerena data'!C1066/1000,0)","v":0},26.24,25.82,77.516799999999989,0]
[null,{"$f":"'namerena data'!A1067+('namerena data'!B1067-1)/24","v":"2013-08-14T05:00:00"},{"$f":"IF('namerena data'!C1067>0,'namerena data'!C1067/1000,0)","v":0},27.8,25.82,117.79600000000005,0]
[null,{"$f":"'namerena data'!A1068+('namerena data'!B1068-1)/24","v":"2013-08-14T06:00:00"},{"$f":"IF('namerena data'!C1068>0,'namerena data'!C1068/1000,0)","v":0},37.5,25.82,368.25,0]
[null,{"$f":"'namerena data'!A1069+('namerena data'!B1069-1)/24","v":"2013-08-14T07:00:00"},{"$f":"IF('namerena data'!C1069>0,'namerena data'!C1069/1000,0)","v":0},44.45,25.82,547.69900000000007,0]
[null,{"$f":"'namerena data'!A1070+('namerena data'!B1070-1)/24","v":"2013-08-14T08:00:00"},{"$f":"IF('namerena data'!C1070>0,'namerena data'!C1070/1000,0)","v":0},44.83,25.82,557.51060000000007,0]
[null,{"$f":"'namerena data'!A1071+('namerena data'!B1071-1)/24","v":"2013-08-14T09:00:00"},{"$f":"IF('namerena data'!C1071>0,'namerena data'!C1071/1000,0)","v":0},43.2,25.82,{"$f":"+IF(AND(ISNUMBER(D1081),ISNUMBER(E1081)),D1081*E1081-$F$13,0)","v":515.42399999999998},{"$f":"+(C1081*F1081)","v":0}]
[null,{"$f":"'namerena data'!A1072+('namerena data'!B1072-1)/24","v":"2013-08-14T10:00:00"},{"$f":"IF('namerena data'!C1072>0,'namerena data'!C1072/1000,0)","v":0},41.82,25.82,479.79240000000004,0]
[null,{"$f":"'namerena data'!A1073+('namerena data'!B1073-1)/24","v":"2013-08-14T11:00:00"},{"$f":"IF('namerena data'!C1073>0,'namerena data'!C1073/1000,0)","v":0},40.799999999999997,25.82,453.4559999999999,0]
[null,{"$f":"'namerena data'!A1074+('namerena data'!B1074-1)/24","v":"2013-08-14T12:00:00"},{"$f":"IF('namerena data'!C1074>0,'namerena data'!C1074/1000,0)","v":0},39,25.82,406.98,0]
[null,{"$f":"'namerena data'!A1075+('namerena data'!B1075-1)/24","v":"2013-08-14T13:00:00"},{"$f":"IF('namerena data'!C1075>0,'namerena data'!C1075/1000,0)","v":0},34.96,25.82,302.66719999999998,0]
[null,{"$f":"'namerena data'!A1076+('namerena data'!B1076-1)/24","v":"2013-08-14T14:00:00"},{"$f":"IF('namerena data'!C1076>0,'namerena data'!C1076/1000,0)","v":0},32.53,25.82,239.92460000000005,0]
[null,{"$f":"'namerena data'!A1077+('namerena data'!B1077-1)/24","v":"2013-08-14T15:00:00"},{"$f":"IF('namerena data'!C1077>0,'namerena data'!C1077/1000,0)","v":0},32.26,25.82,232.95319999999992,0]
[null,{"$f":"'namerena data'!A1078+('namerena data'!B1078-1)/24","v":"2013-08-14T16:00:00"},{"$f":"IF('namerena data'!C1078>0,'namerena data'!C1078/1000,0)","v":0},33.26,25.82,258.77319999999997,0]
[null,{"$f":"'namerena data'!A1079+('namerena data'!B1079-1)/24","v":"2013-08-14T17:00:00"},{"$f":"IF('namerena data'!C1079>0,'namerena data'!C1079/1000,0)","v":0},37.06,25.82,356.88920000000007,0]
[null,{"$f":"'namerena data'!A1080+('namerena data'!B1080-1)/24","v":"2013-08-14T18:00:00"},{"$f":"IF('namerena data'!C1080>0,'namerena data'!C1080/1000,0)","v":0},39.5,25.82,419.89,0]
[null,{"$f":"'namerena data'!A1081+('namerena data'!B1081-1)/24","v":"2013-08-14T19:00:00"},{"$f":"IF('namerena data'!C1081>0,'namerena data'!C1081/1000,0)","v":0},43,25.82,510.26,0]
[null,{"$f":"'namerena data'!A1082+('namerena data'!B1082-1)/24","v":"2013-08-14T20:00:00"},{"$f":"IF('namerena data'!C1082>0,'namerena data'!C1082/1000,0)","v":0},45.9,25.82,585.13799999999992,0]
[null,{"$f":"'namerena data'!A1083+('namerena data'!B1083-1)/24","v":"2013-08-14T21:00:00"},{"$f":"IF('namerena data'!C1083>0,'namerena data'!C1083/1000,0)","v":0},45.5,25.82,574.80999999999995,0]
[null,{"$f":"'namerena data'!A1084+('namerena data'!B1084-1)/24","v":"2013-08-14T22:00:00"},{"$f":"IF('namerena data'!C1084>0,'namerena data'!C1084/1000,0)","v":0},41.44,25.82,469.98080000000004,0]
[null,{"$f":"'namerena data'!A1085+('namerena data'!B1085-1)/24","v":"2013-08-14T23:00:00"},{"$f":"IF('namerena data'!C1085>0,'namerena data'!C1085/1000,0)","v":0},33,25.82,252.06000000000006,0]
[null,{"$f":"'namerena data'!A1086+('namerena data'!B1086-1)/24","v":"2013-08-15"},{"$f":"IF('namerena data'!C1086>0,'namerena data'!C1086/1000,0)","v":0},29.68,25.815000000000001,166.18920000000003,0]
[null,{"$f":"'namerena data'!A1087+('namerena data'!B1087-1)/24","v":"2013-08-15T01:00:00"},{"$f":"IF('namerena data'!C1087>0,'namerena data'!C1087/1000,0)","v":0},28,25.815000000000001,122.82000000000005,0]
[null,{"$f":"'namerena data'!A1088+('namerena data'!B1088-1)/24","v":"2013-08-15T02:00:00"},{"$f":"IF('namerena data'!C1088>0,'namerena data'!C1088/1000,0)","v":0},26.04,25.815000000000001,72.222600000000057,0]
[null,{"$f":"'namerena data'!A1089+('namerena data'!B1089-1)/24","v":"2013-08-15T03:00:00"},{"$f":"IF('namerena data'!C1089>0,'namerena data'!C1089/1000,0)","v":0},25.23,25.815000000000001,51.312450000000013,0]
[null,{"$f":"'namerena data'!A1090+('namerena data'!B1090-1)/24","v":"2013-08-15T04:00:00"},{"$f":"IF('namerena data'!C1090>0,'namerena data'!C1090/1000,0)","v":0},27.05,25.815000000000001,98.295749999999998,0]
[null,{"$f":"'namerena data'!A1091+('namerena data'!B1091-1)/24","v":"2013-08-15T05:00:00"},{"$f":"IF('namerena data'!C1091>0,'namerena data'!C1091/1000,0)","v":0},27.05,25.815000000000001,98.295749999999998,0]
[null,{"$f":"'namerena data'!A1092+('namerena data'!B1092-1)/24","v":"2013-08-15T06:00:00"},{"$f":"IF('namerena data'!C1092>0,'namerena data'!C1092/1000,0)","v":0},31.31,25.815000000000001,208.26765,0]
[null,{"$f":"'namerena data'!A1093+('namerena data'!B1093-1)/24","v":"2013-08-15T07:00:00"},{"$f":"IF('namerena data'!C1093>0,'namerena data'!C1093/1000,0)","v":0},38.31,25.815000000000001,388.97265000000016,0]
[null,{"$f":"'namerena data'!A1094+('namerena data'!B1094-1)/24","v":"2013-08-15T08:00:00"},{"$f":"IF('namerena data'!C1094>0,'namerena data'!C1094/1000,0)","v":0},39.22,25.815000000000001,412.46429999999998,0]
[null,{"$f":"'namerena data'!A1095+('namerena data'!B1095-1)/24","v":"2013-08-15T09:00:00"},{"$f":"IF('namerena data'!C1095>0,'namerena data'!C1095/1000,0)","v":0},33.21,25.815000000000001,257.31615000000011,0]
[null,{"$f":"'namerena data'!A1096+('namerena data'!B1096-1)/24","v":"2013-08-15T10:00:00"},{"$f":"IF('namerena data'!C1096>0,'namerena data'!C1096/1000,0)","v":0},29.8,25.815000000000001,169.28700000000003,0]
[null,{"$f":"'namerena data'!A1097+('namerena data'!B1097-1)/24","v":"2013-08-15T11:00:00"},{"$f":"IF('namerena data'!C1097>0,'namerena data'!C1097/1000,0)","v":0},29.93,25.815000000000001,172.64295000000004,0]
[null,{"$f":"'namerena data'!A1098+('namerena data'!B1098-1)/24","v":"2013-08-15T12:00:00"},{"$f":"IF('namerena data'!C1098>0,'namerena data'!C1098/1000,0)","v":0},27.78,25.815000000000001,117.14070000000004,0]
[null,{"$f":"'namerena data'!A1099+('namerena data'!B1099-1)/24","v":"2013-08-15T13:00:00"},{"$f":"IF('namerena data'!C1099>0,'namerena data'!C1099/1000,0)","v":0},25.5,25.815000000000001,58.282500000000027,0]
[null,{"$f":"'namerena data'!A1100+('namerena data'!B1100-1)/24","v":"2013-08-15T14:00:00"},{"$f":"IF('namerena data'!C1100>0,'namerena data'!C1100/1000,0)","v":0},25.26,25.815000000000001,52.086900000000128,0]
[null,{"$f":"'namerena data'!A1101+('namerena data'!B1101-1)/24","v":"2013-08-15T15:00:00"},{"$f":"IF('namerena data'!C1101>0,'namerena data'!C1101/1000,0)","v":0},25,25.815000000000001,45.375,0]
[null,{"$f":"'namerena data'!A1102+('namerena data'!B1102-1)/24","v":"2013-08-15T16:00:00"},{"$f":"IF('namerena data'!C1102>0,'namerena data'!C1102/1000,0)","v":0},29.04,25.815000000000001,149.66759999999999,0]
[null,{"$f":"'namerena data'!A1103+('namerena data'!B1103-1)/24","v":"2013-08-15T17:00:00"},{"$f":"IF('namerena data'!C1103>0,'namerena data'!C1103/1000,0)","v":0},34.03,25.815000000000001,278.48445000000004,0]
[null,{"$f":"'namerena data'!A1104+('namerena data'!B1104-1)/24","v":"2013-08-15T18:00:00"},{"$f":"IF('namerena data'!C1104>0,'namerena data'!C1104/1000,0)","v":0},40.549999999999997,25.815000000000001,446.79825000000005,0]
[null,{"$f":"'namerena data'!A1105+('namerena data'!B1105-1)/24","v":"2013-08-15T19:00:00"},{"$f":"IF('namerena data'!C1105>0,'namerena data'!C1105/1000,0)","v":0},44.1,25.815000000000001,538.44150000000013,0]
[null,{"$f":"'namerena data'!A1106+('namerena data'!B1106-1)/24","v":"2013-08-15T20:00:00"},{"$f":"IF('namerena data'!C1106>0,'namerena data'!C1106/1000,0)","v":0},45.19,25.815000000000001,566.57985000000008,0]
[null,{"$f":"'namerena data'!A1107+('namerena data'!B1107-1)/24","v":"2013-08-15T21:00:00"},{"$f":"IF('namerena data'!C1107>0,'namerena data'!C1107/1000,0)","v":0},43.01,25.815000000000001,510.30314999999996,0]
[null,{"$f":"'namerena data'!A1108+('namerena data'!B1108-1)/24","v":"2013-08-15T22:00:00"},{"$f":"IF('namerena data'!C1108>0,'namerena data'!C1108/1000,0)","v":0},35.9,25.815000000000001,326.75850000000003,0]
[null,{"$f":"'namerena data'!A1109+('namerena data'!B1109-1)/24","v":"2013-08-15T23:00:00"},{"$f":"IF('namerena data'!C1109>0,'namerena data'!C1109/1000,0)","v":0},30,25.815000000000001,174.45000000000005,0]
[null,{"$f":"'namerena data'!A1110+('namerena data'!B1110-1)/24","v":"2013-08-16"},{"$f":"IF('namerena data'!C1110>0,'namerena data'!C1110/1000,0)","v":0},29,25.8,148.20000000000005,0]
[null,{"$f":"'namerena data'!A1111+('namerena data'!B1111-1)/24","v":"2013-08-16T01:00:00"},{"$f":"IF('namerena data'!C1111>0,'namerena data'!C1111/1000,0)","v":0},27.03,25.8,97.374000000000024,0]
[null,{"$f":"'namerena data'!A1112+('namerena data'!B1112-1)/24","v":"2013-08-16T02:00:00"},{"$f":"IF('namerena data'!C1112>0,'namerena data'!C1112/1000,0)","v":0},25.56,25.8,59.447999999999979,0]
[null,{"$f":"'namerena data'!A1113+('namerena data'!B1113-1)/24","v":"2013-08-16T03:00:00"},{"$f":"IF('namerena data'!C1113>0,'namerena data'!C1113/1000,0)","v":0},25,25.8,45,0]
[null,{"$f":"'namerena data'!A1114+('namerena data'!B1114-1)/24","v":"2013-08-16T04:00:00"},{"$f":"IF('namerena data'!C1114>0,'namerena data'!C1114/1000,0)","v":0},25,25.8,45,0]
[null,{"$f":"'namerena data'!A1115+('namerena data'!B1115-1)/24","v":"2013-08-16T05:00:00"},{"$f":"IF('namerena data'!C1115>0,'namerena data'!C1115/1000,0)","v":0},27.6,25.8,112.08000000000004,0]
[null,{"$f":"'namerena data'!A1116+('namerena data'!B1116-1)/24","v":"2013-08-16T06:00:00"},{"$f":"IF('namerena data'!C1116>0,'namerena data'!C1116/1000,0)","v":0},39.200000000000003,25.8,411.36000000000013,0]
[null,{"$f":"'namerena data'!A1117+('namerena data'!B1117-1)/24","v":"2013-08-16T07:00:00"},{"$f":"IF('namerena data'!C1117>0,'namerena data'!C1117/1000,0)","v":0},45.6,25.8,576.48,0]
[null,{"$f":"'namerena data'!A1118+('namerena data'!B1118-1)/24","v":"2013-08-16T08:00:00"},{"$f":"IF('namerena data'!C1118>0,'namerena data'!C1118/1000,0)","v":0},44,25.8,535.20000000000005,0]
[null,{"$f":"'namerena data'!A1119+('namerena data'!B1119-1)/24","v":"2013-08-16T09:00:00"},{"$f":"IF('namerena data'!C1119>0,'namerena data'!C1119/1000,0)","v":0},38.9,25.8,403.62,0]
[null,{"$f":"'namerena data'!A1120+('namerena data'!B1120-1)/24","v":"2013-08-16T10:00:00"},{"$f":"IF('namerena data'!C1120>0,'namerena data'!C1120/1000,0)","v":0},35.049999999999997,25.8,304.28999999999996,0]
[null,{"$f":"'namerena data'!A1121+('namerena data'!B1121-1)/24","v":"2013-08-16T11:00:00"},{"$f":"IF('namerena data'!C1121>0,'namerena data'!C1121/1000,0)","v":0},32.880000000000003,25.8,248.30400000000009,0]
[null,{"$f":"'namerena data'!A1122+('namerena data'!B1122-1)/24","v":"2013-08-16T12:00:00"},{"$f":"IF('namerena data'!C1122>0,'namerena data'!C1122/1000,0)","v":0},31,25.8,199.80000000000007,0]
[null,{"$f":"'namerena data'!A1123+('namerena data'!B1123-1)/24","v":"2013-08-16T13:00:00"},{"$f":"IF('namerena data'!C1123>0,'namerena data'!C1123/1000,0)","v":0},28.1,25.8,124.98000000000002,0]
[null,{"$f":"'namerena data'!A1124+('namerena data'!B1124-1)/24","v":"2013-08-16T14:00:00"},{"$f":"IF('namerena data'!C1124>0,'namerena data'!C1124/1000,0)","v":0},27.1,25.8,99.180000000000064,0]
[null,{"$f":"'namerena data'!A1125+('namerena data'!B1125-1)/24","v":"2013-08-16T15:00:00"},{"$f":"IF('namerena data'!C1125>0,'namerena data'!C1125/1000,0)","v":0},28,25.8,122.39999999999998,0]
[null,{"$f":"'namerena data'!A1126+('namerena data'!B1126-1)/24","v":"2013-08-16T16:00:00"},{"$f":"IF('namerena data'!C1126>0,'namerena data'!C1126/1000,0)","v":0},30.86,25.8,196.18799999999999,0]
[null,{"$f":"'namerena data'!A1127+('namerena data'!B1127-1)/24","v":"2013-08-16T17:00:00"},{"$f":"IF('namerena data'!C1127>0,'namerena data'!C1127/1000,0)","v":0},37.18,25.8,359.24400000000003,0]
[null,{"$f":"'namerena data'!A1128+('namerena data'!B1128-1)/24","v":"2013-08-16T18:00:00"},{"$f":"IF('namerena data'!C1128>0,'namerena data'!C1128/1000,0)","v":0},40.270000000000003,25.8,438.96600000000012,0]
[null,{"$f":"'namerena data'!A1129+('namerena data'!B1129-1)/24","v":"2013-08-16T19:00:00"},{"$f":"IF('namerena data'!C1129>0,'namerena data'!C1129/1000,0)","v":0},44.59,25.8,550.42200000000003,0]
[null,{"$f":"'namerena data'!A1130+('namerena data'!B1130-1)/24","v":"2013-08-16T20:00:00"},{"$f":"IF('namerena data'!C1130>0,'namerena data'!C1130/1000,0)","v":0},45.1,25.8,563.58000000000015,0]
[null,{"$f":"'namerena data'!A1131+('namerena data'!B1131-1)/24","v":"2013-08-16T21:00:00"},{"$f":"IF('namerena data'!C1131>0,'namerena data'!C1131/1000,0)","v":0},42.03,25.8,484.37400000000002,0]
[null,{"$f":"'namerena data'!A1132+('namerena data'!B1132-1)/24","v":"2013-08-16T22:00:00"},{"$f":"IF('namerena data'!C1132>0,'namerena data'!C1132/1000,0)","v":0},36.5,25.8,341.70000000000005,0]
[null,{"$f":"'namerena data'!A1133+('namerena data'!B1133-1)/24","v":"2013-08-16T23:00:00"},{"$f":"IF('namerena data'!C1133>0,'namerena data'!C1133/1000,0)","v":0},31.06,25.8,201.34799999999996,0]
[null,{"$f":"'namerena data'!A1134+('namerena data'!B1134-1)/24","v":"2013-08-17"},{"$f":"IF('namerena data'!C1134>0,'namerena data'!C1134/1000,0)","v":0},33.700000000000003,25.8,269.46000000000015,0]
[null,{"$f":"'namerena data'!A1135+('namerena data'!B1135-1)/24","v":"2013-08-17T01:00:00"},{"$f":"IF('namerena data'!C1135>0,'namerena data'!C1135/1000,0)","v":0},31.11,25.8,{"$f":"+IF(AND(ISNUMBER(D1145),ISNUMBER(E1145)),D1145*E1145-$F$13,0)","v":202.63800000000003},{"$f":"+(C1145*F1145)","v":0}]
[null,{"$f":"'namerena data'!A1136+('namerena data'!B1136-1)/24","v":"2013-08-17T02:00:00"},{"$f":"IF('namerena data'!C1136>0,'namerena data'!C1136/1000,0)","v":0},29.3,25.8,155.94000000000005,0]
[null,{"$f":"'namerena data'!A1137+('namerena data'!B1137-1)/24","v":"2013-08-17T03:00:00"},{"$f":"IF('namerena data'!C1137>0,'namerena data'!C1137/1000,0)","v":0},27.6,25.8,112.08000000000004,0]
[null,{"$f":"'namerena data'!A1138+('namerena data'!B1138-1)/24","v":"2013-08-17T04:00:00"},{"$f":"IF('namerena data'!C1138>0,'namerena data'!C1138/1000,0)","v":0},27.7,25.8,114.65999999999997,0]
[null,{"$f":"'namerena data'!A1139+('namerena data'!B1139-1)/24","v":"2013-08-17T05:00:00"},{"$f":"IF('namerena data'!C1139>0,'namerena data'!C1139/1000,0)","v":0},27,25.8,96.600000000000023,0]
[null,{"$f":"'namerena data'!A1140+('namerena data'!B1140-1)/24","v":"2013-08-17T06:00:00"},{"$f":"IF('namerena data'!C1140>0,'namerena data'!C1140/1000,0)","v":0},29.04,25.8,149.23199999999997,0]
[null,{"$f":"'namerena data'!A1141+('namerena data'!B1141-1)/24","v":"2013-08-17T07:00:00"},{"$f":"IF('namerena data'!C1141>0,'namerena data'!C1141/1000,0)","v":0},32.200000000000003,25.8,230.7600000000001,0]
[null,{"$f":"'namerena data'!A1142+('namerena data'!B1142-1)/24","v":"2013-08-17T08:00:00"},{"$f":"IF('namerena data'!C1142>0,'namerena data'!C1142/1000,0)","v":0},32.799999999999997,25.8,246.2399999999999,0]
[null,{"$f":"'namerena data'!A1143+('namerena data'!B1143-1)/24","v":"2013-08-17T09:00:00"},{"$f":"IF('namerena data'!C1143>0,'namerena data'!C1143/1000,0)","v":0},35.630000000000003,25.8,319.25400000000013,0]
[null,{"$f":"'namerena data'!A1144+('namerena data'!B1144-1)/24","v":"2013-08-17T10:00:00"},{"$f":"IF('namerena data'!C1144>0,'namerena data'!C1144/1000,0)","v":0},35.85,25.8,324.93000000000006,0]
[null,{"$f":"'namerena data'!A1145+('namerena data'!B1145-1)/24","v":"2013-08-17T11:00:00"},{"$f":"IF('namerena data'!C1145>0,'namerena data'!C1145/1000,0)","v":0},35,25.8,303,0]
[null,{"$f":"'namerena data'!A1146+('namerena data'!B1146-1)/24","v":"2013-08-17T12:00:00"},{"$f":"IF('namerena data'!C1146>0,'namerena data'!C1146/1000,0)","v":0},31.11,25.8,202.63800000000003,0]
[null,{"$f":"'namerena data'!A1147+('namerena data'!B1147-1)/24","v":"2013-08-17T13:00:00"},{"$f":"IF('namerena data'!C1147>0,'namerena data'!C1147/1000,0)","v":0},28.09,25.8,124.72199999999998,0]
[null,{"$f":"'namerena data'!A1148+('namerena data'!B1148-1)/24","v":"2013-08-17T14:00:00"},{"$f":"IF('namerena data'!C1148>0,'namerena data'!C1148/1000,0)","v":0},26.22,25.8,76.475999999999999,0]
[null,{"$f":"'namerena data'!A1149+('namerena data'!B1149-1)/24","v":"2013-08-17T15:00:00"},{"$f":"IF('namerena data'!C1149>0,'namerena data'!C1149/1000,0)","v":0},27.39,25.8,106.66200000000003,0]
[null,{"$f":"'namerena data'!A1150+('namerena data'!B1150-1)/24","v":"2013-08-17T16:00:00"},{"$f":"IF('namerena data'!C1150>0,'namerena data'!C1150/1000,0)","v":0},29.13,25.8,151.55399999999997,0]
[null,{"$f":"'namerena data'!A1151+('namerena data'!B1151-1)/24","v":"2013-08-17T17:00:00"},{"$f":"IF('namerena data'!C1151>0,'namerena data'!C1151/1000,0)","v":0},33.9,25.8,274.62,0]
[null,{"$f":"'namerena data'!A1152+('namerena data'!B1152-1)/24","v":"2013-08-17T18:00:00"},{"$f":"IF('namerena data'!C1152>0,'namerena data'!C1152/1000,0)","v":0},36.369999999999997,25.8,338.346,0]
[null,{"$f":"'namerena data'!A1153+('namerena data'!B1153-1)/24","v":"2013-08-17T19:00:00"},{"$f":"IF('namerena data'!C1153>0,'namerena data'!C1153/1000,0)","v":0},40.89,25.8,454.96199999999999,0]
[null,{"$f":"'namerena data'!A1154+('namerena data'!B1154-1)/24","v":"2013-08-17T20:00:00"},{"$f":"IF('namerena data'!C1154>0,'namerena data'!C1154/1000,0)","v":0},41.7,25.8,475.86000000000013,0]
[null,{"$f":"'namerena data'!A1155+('namerena data'!B1155-1)/24","v":"2013-08-17T21:00:00"},{"$f":"IF('namerena data'!C1155>0,'namerena data'!C1155/1000,0)","v":0},41.4,25.8,468.11999999999989,0]
[null,{"$f":"'namerena data'!A1156+('namerena data'!B1156-1)/24","v":"2013-08-17T22:00:00"},{"$f":"IF('namerena data'!C1156>0,'namerena data'!C1156/1000,0)","v":0},39.06,25.8,407.74800000000005,0]
[null,{"$f":"'namerena data'!A1157+('namerena data'!B1157-1)/24","v":"2013-08-17T23:00:00"},{"$f":"IF('namerena data'!C1157>0,'namerena data'!C1157/1000,0)","v":0},33.57,25.8,266.10599999999999,0]
[null,{"$f":"'namerena data'!A1158+('namerena data'!B1158-1)/24","v":"2013-08-18"},{"$f":"IF('namerena data'!C1158>0,'namerena data'!C1158/1000,0)","v":0},25.4,25.8,55.319999999999936,0]
[null,{"$f":"'namerena data'!A1159+('namerena data'!B1159-1)/24","v":"2013-08-18T01:00:00"},{"$f":"IF('namerena data'!C1159>0,'namerena data'!C1159/1000,0)","v":0},22.11,25.8,-29.562000000000012,0]
[null,{"$f":"'namerena data'!A1160+('namerena data'!B1160-1)/24","v":"2013-08-18T02:00:00"},{"$f":"IF('namerena data'!C1160>0,'namerena data'!C1160/1000,0)","v":0},20.5,25.8,-71.100000000000023,0]
[null,{"$f":"'namerena data'!A1161+('namerena data'!B1161-1)/24","v":"2013-08-18T03:00:00"},{"$f":"IF('namerena data'!C1161>0,'namerena data'!C1161/1000,0)","v":0},17.899999999999999,25.8,-138.18,0]
[null,{"$f":"'namerena data'!A1162+('namerena data'!B1162-1)/24","v":"2013-08-18T04:00:00"},{"$f":"IF('namerena data'!C1162>0,'namerena data'!C1162/1000,0)","v":0},17,25.8,-161.39999999999998,0]
[null,{"$f":"'namerena data'!A1163+('namerena data'!B1163-1)/24","v":"2013-08-18T05:00:00"},{"$f":"IF('namerena data'!C1163>0,'namerena data'!C1163/1000,0)","v":0},17.5,25.8,-148.5,0]
[null,{"$f":"'namerena data'!A1164+('namerena data'!B1164-1)/24","v":"2013-08-18T06:00:00"},{"$f":"IF('namerena data'!C1164>0,'namerena data'!C1164/1000,0)","v":0},17.100000000000001,25.8,-158.81999999999994,0]
[null,{"$f":"'namerena data'!A1165+('namerena data'!B1165-1)/24","v":"2013-08-18T07:00:00"},{"$f":"IF('namerena data'!C1165>0,'namerena data'!C1165/1000,0)","v":0},19,25.8,-109.80000000000001,0]
[null,{"$f":"'namerena data'!A1166+('namerena data'!B1166-1)/24","v":"2013-08-18T08:00:00"},{"$f":"IF('namerena data'!C1166>0,'namerena data'!C1166/1000,0)","v":0},21.02,25.8,-57.683999999999969,0]
[null,{"$f":"'namerena data'!A1167+('namerena data'!B1167-1)/24","v":"2013-08-18T09:00:00"},{"$f":"IF('namerena data'!C1167>0,'namerena data'!C1167/1000,0)","v":0},19.920000000000002,25.8,-86.063999999999965,0]
[null,{"$f":"'namerena data'!A1168+('namerena data'!B1168-1)/24","v":"2013-08-18T10:00:00"},{"$f":"IF('namerena data'!C1168>0,'namerena data'!C1168/1000,0)","v":0},20.399999999999999,25.8,-73.680000000000064,0]
[null,{"$f":"'namerena data'!A1169+('namerena data'!B1169-1)/24","v":"2013-08-18T11:00:00"},{"$f":"IF('namerena data'!C1169>0,'namerena data'!C1169/1000,0)","v":0},22.47,25.8,-20.274000000000001,0]
[null,{"$f":"'namerena data'!A1170+('namerena data'!B1170-1)/24","v":"2013-08-18T12:00:00"},{"$f":"IF('namerena data'!C1170>0,'namerena data'!C1170/1000,0)","v":0},19.600000000000001,25.8,-94.319999999999936,0]
[null,{"$f":"'namerena data'!A1171+('namerena data'!B1171-1)/24","v":"2013-08-18T13:00:00"},{"$f":"IF('namerena data'!C1171>0,'namerena data'!C1171/1000,0)","v":0},14.75,25.8,-219.45,0]
[null,{"$f":"'namerena data'!A1172+('namerena data'!B1172-1)/24","v":"2013-08-18T14:00:00"},{"$f":"IF('namerena data'!C1172>0,'namerena data'!C1172/1000,0)","v":0},11.97,25.8,-291.17399999999998,0]
[null,{"$f":"'namerena data'!A1173+('namerena data'!B1173-1)/24","v":"2013-08-18T15:00:00"},{"$f":"IF('namerena data'!C1173>0,'namerena data'!C1173/1000,0)","v":0},12.23,25.8,-284.46600000000001,0]
[null,{"$f":"'namerena data'!A1174+('namerena data'!B1174-1)/24","v":"2013-08-18T16:00:00"},{"$f":"IF('namerena data'!C1174>0,'namerena data'!C1174/1000,0)","v":0},16.78,25.8,-167.07599999999996,0]
[null,{"$f":"'namerena data'!A1175+('namerena data'!B1175-1)/24","v":"2013-08-18T17:00:00"},{"$f":"IF('namerena data'!C1175>0,'namerena data'!C1175/1000,0)","v":0},24.1,25.8,21.780000000000086,0]
[null,{"$f":"'namerena data'!A1176+('namerena data'!B1176-1)/24","v":"2013-08-18T18:00:00"},{"$f":"IF('namerena data'!C1176>0,'namerena data'!C1176/1000,0)","v":0},29.44,25.8,159.55200000000002,0]
[null,{"$f":"'namerena data'!A1177+('namerena data'!B1177-1)/24","v":"2013-08-18T19:00:00"},{"$f":"IF('namerena data'!C1177>0,'namerena data'!C1177/1000,0)","v":0},33.020000000000003,25.8,251.91600000000005,0]
[null,{"$f":"'namerena data'!A1178+('namerena data'!B1178-1)/24","v":"2013-08-18T20:00:00"},{"$f":"IF('namerena data'!C1178>0,'namerena data'!C1178/1000,0)","v":0},36.299999999999997,25.8,336.53999999999996,0]
[null,{"$f":"'namerena data'!A1179+('namerena data'!B1179-1)/24","v":"2013-08-18T21:00:00"},{"$f":"IF('namerena data'!C1179>0,'namerena data'!C1179/1000,0)","v":0},38,25.8,380.4,0]
[null,{"$f":"'namerena data'!A1180+('namerena data'!B1180-1)/24","v":"2013-08-18T22:00:00"},{"$f":"IF('namerena data'!C1180>0,'namerena data'!C1180/1000,0)","v":0},38.5,25.8,393.30000000000007,0]
[null,{"$f":"'namerena data'!A1181+('namerena data'!B1181-1)/24","v":"2013-08-18T23:00:00"},{"$f":"IF('namerena data'!C1181>0,'namerena data'!C1181/1000,0)","v":0},30.84,25.8,195.67200000000003,0]
[null,{"$f":"'namerena data'!A1182+('namerena data'!B1182-1)/24","v":"2013-08-19"},{"$f":"IF('namerena data'!C1182>0,'namerena data'!C1182/1000,0)","v":0},35.04,25.855,305.95920000000001,0]
[null,{"$f":"'namerena data'!A1183+('namerena data'!B1183-1)/24","v":"2013-08-19T01:00:00"},{"$f":"IF('namerena data'!C1183>0,'namerena data'!C1183/1000,0)","v":0},31.58,25.855,216.5009,0]
[null,{"$f":"'namerena data'!A1184+('namerena data'!B1184-1)/24","v":"2013-08-19T02:00:00"},{"$f":"IF('namerena data'!C1184>0,'namerena data'!C1184/1000,0)","v":0},28.04,25.855,124.9742,0]
[null,{"$f":"'namerena data'!A1185+('namerena data'!B1185-1)/24","v":"2013-08-19T03:00:00"},{"$f":"IF('namerena data'!C1185>0,'namerena data'!C1185/1000,0)","v":0},26.55,25.855,86.450249999999983,0]
[null,{"$f":"'namerena data'!A1186+('namerena data'!B1186-1)/24","v":"2013-08-19T04:00:00"},{"$f":"IF('namerena data'!C1186>0,'namerena data'!C1186/1000,0)","v":0},26.71,25.855,90.58705000000009,0]
[null,{"$f":"'namerena data'!A1187+('namerena data'!B1187-1)/24","v":"2013-08-19T05:00:00"},{"$f":"IF('namerena data'!C1187>0,'namerena data'!C1187/1000,0)","v":0},31.03,25.855,202.28065000000004,0]
[null,{"$f":"'namerena data'!A1188+('namerena data'!B1188-1)/24","v":"2013-08-19T06:00:00"},{"$f":"IF('namerena data'!C1188>0,'namerena data'!C1188/1000,0)","v":0},38.93,25.855,406.53515000000004,0]
[null,{"$f":"'namerena data'!A1189+('namerena data'!B1189-1)/24","v":"2013-08-19T07:00:00"},{"$f":"IF('namerena data'!C1189>0,'namerena data'!C1189/1000,0)","v":0},52.44,25.855,755.83619999999996,0]
[null,{"$f":"'namerena data'!A1190+('namerena data'!B1190-1)/24","v":"2013-08-19T08:00:00"},{"$f":"IF('namerena data'!C1190>0,'namerena data'!C1190/1000,0)","v":0},61.51,25.855,990.34105,0]
[null,{"$f":"'namerena data'!A1191+('namerena data'!B1191-1)/24","v":"2013-08-19T09:00:00"},{"$f":"IF('namerena data'!C1191>0,'namerena data'!C1191/1000,0)","v":0},61.24,25.855,983.36020000000008,0]
[null,{"$f":"'namerena data'!A1192+('namerena data'!B1192-1)/24","v":"2013-08-19T10:00:00"},{"$f":"IF('namerena data'!C1192>0,'namerena data'!C1192/1000,0)","v":0},64.78,25.855,1074.8869,0]
[null,{"$f":"'namerena data'!A1193+('namerena data'!B1193-1)/24","v":"2013-08-19T11:00:00"},{"$f":"IF('namerena data'!C1193>0,'namerena data'!C1193/1000,0)","v":0},67,25.855,1132.2850000000001,0]
[null,{"$f":"'namerena data'!A1194+('namerena data'!B1194-1)/24","v":"2013-08-19T12:00:00"},{"$f":"IF('namerena data'!C1194>0,'namerena data'!C1194/1000,0)","v":0},66.92,25.855,1130.2166,0]
[null,{"$f":"'namerena data'!A1195+('namerena data'!B1195-1)/24","v":"2013-08-19T13:00:00"},{"$f":"IF('namerena data'!C1195>0,'namerena data'!C1195/1000,0)","v":0},63.24,25.855,1035.0702000000001,0]
[null,{"$f":"'namerena data'!A1196+('namerena data'!B1196-1)/24","v":"2013-08-19T14:00:00"},{"$f":"IF('namerena data'!C1196>0,'namerena data'!C1196/1000,0)","v":0},59.98,25.855,950.78289999999993,0]
[null,{"$f":"'namerena data'!A1197+('namerena data'!B1197-1)/24","v":"2013-08-19T15:00:00"},{"$f":"IF('namerena data'!C1197>0,'namerena data'!C1197/1000,0)","v":0},59.5,25.855,938.37249999999995,0]
[null,{"$f":"'namerena data'!A1198+('namerena data'!B1198-1)/24","v":"2013-08-19T16:00:00"},{"$f":"IF('namerena data'!C1198>0,'namerena data'!C1198/1000,0)","v":0},58.07,25.855,901.39985000000001,0]
[null,{"$f":"'namerena data'!A1199+('namerena data'!B1199-1)/24","v":"2013-08-19T17:00:00"},{"$f":"IF('namerena data'!C1199>0,'namerena data'!C1199/1000,0)","v":0},55.97,25.855,{"$f":"+IF(AND(ISNUMBER(D1209),ISNUMBER(E1209)),D1209*E1209-$F$13,0)","v":847.10435000000007},{"$f":"+(C1209*F1209)","v":0}]
[null,{"$f":"'namerena data'!A1200+('namerena data'!B1200-1)/24","v":"2013-08-19T18:00:00"},{"$f":"IF('namerena data'!C1200>0,'namerena data'!C1200/1000,0)","v":0},58.04,25.855,900.62419999999997,0]
[null,{"$f":"'namerena data'!A1201+('namerena data'!B1201-1)/24","v":"2013-08-19T19:00:00"},{"$f":"IF('namerena data'!C1201>0,'namerena data'!C1201/1000,0)","v":0},59.02,25.855,925.96210000000019,0]
[null,{"$f":"'namerena data'!A1202+('namerena data'!B1202-1)/24","v":"2013-08-19T20:00:00"},{"$f":"IF('namerena data'!C1202>0,'namerena data'!C1202/1000,0)","v":0},53.92,25.855,794.10159999999996,0]
[null,{"$f":"'namerena data'!A1203+('namerena data'!B1203-1)/24","v":"2013-08-19T21:00:00"},{"$f":"IF('namerena data'!C1203>0,'namerena data'!C1203/1000,0)","v":0},52,25.855,744.46,0]
[null,{"$f":"'namerena data'!A1204+('namerena data'!B1204-1)/24","v":"2013-08-19T22:00:00"},{"$f":"IF('namerena data'!C1204>0,'namerena data'!C1204/1000,0)","v":0},48.09,25.855,643.36695000000009,0]
[null,{"$f":"'namerena data'!A1205+('namerena data'!B1205-1)/24","v":"2013-08-19T23:00:00"},{"$f":"IF('namerena data'!C1205>0,'namerena data'!C1205/1000,0)","v":0},36.83,25.855,352.23964999999998,0]
[null,{"$f":"'namerena data'!A1206+('namerena data'!B1206-1)/24","v":"2013-08-20"},{"$f":"IF('namerena data'!C1206>0,'namerena data'!C1206/1000,0)","v":0},32.880000000000003,25.774999999999999,247.48199999999997,0]
[null,{"$f":"'namerena data'!A1207+('namerena data'!B1207-1)/24","v":"2013-08-20T01:00:00"},{"$f":"IF('namerena data'!C1207>0,'namerena data'!C1207/1000,0)","v":0},31.93,25.774999999999999,222.99574999999993,0]
[null,{"$f":"'namerena data'!A1208+('namerena data'!B1208-1)/24","v":"2013-08-20T02:00:00"},{"$f":"IF('namerena data'!C1208>0,'namerena data'!C1208/1000,0)","v":0},30.66,25.774999999999999,190.26149999999996,0]
[null,{"$f":"'namerena data'!A1209+('namerena data'!B1209-1)/24","v":"2013-08-20T03:00:00"},{"$f":"IF('namerena data'!C1209>0,'namerena data'!C1209/1000,0)","v":0},29.98,25.774999999999999,172.73449999999991,0]
[null,{"$f":"'namerena data'!A1210+('namerena data'!B1210-1)/24","v":"2013-08-20T04:00:00"},{"$f":"IF('namerena data'!C1210>0,'namerena data'!C1210/1000,0)","v":0},30,25.774999999999999,173.25,0]
[null,{"$f":"'namerena data'!A1211+('namerena data'!B1211-1)/24","v":"2013-08-20T05:00:00"},{"$f":"IF('namerena data'!C1211>0,'namerena data'!C1211/1000,0)","v":0},31.3,25.774999999999999,206.75749999999994,0]
[null,{"$f":"'namerena data'!A1212+('namerena data'!B1212-1)/24","v":"2013-08-20T06:00:00"},{"$f":"IF('namerena data'!C1212>0,'namerena data'!C1212/1000,0)","v":0},39,25.774999999999999,405.22499999999991,0]
[null,{"$f":"'namerena data'!A1213+('namerena data'!B1213-1)/24","v":"2013-08-20T07:00:00"},{"$f":"IF('namerena data'!C1213>0,'namerena data'!C1213/1000,0)","v":0},49.55,25.774999999999999,677.15124999999989,0]
[null,{"$f":"'namerena data'!A1214+('namerena data'!B1214-1)/24","v":"2013-08-20T08:00:00"},{"$f":"IF('namerena data'!C1214>0,'namerena data'!C1214/1000,0)","v":0},54.68,25.774999999999999,809.37699999999995,0]
[null,{"$f":"'namerena data'!A1215+('namerena data'!B1215-1)/24","v":"2013-08-20T09:00:00"},{"$f":"IF('namerena data'!C1215>0,'namerena data'!C1215/1000,0)","v":0},56.03,25.774999999999999,844.17325000000005,0]
[null,{"$f":"'namerena data'!A1216+('namerena data'!B1216-1)/24","v":"2013-08-20T10:00:00"},{"$f":"IF('namerena data'!C1216>0,'namerena data'!C1216/1000,0)","v":0},54,25.774999999999999,791.84999999999991,0]
[null,{"$f":"'namerena data'!A1217+('namerena data'!B1217-1)/24","v":"2013-08-20T11:00:00"},{"$f":"IF('namerena data'!C1217>0,'namerena data'!C1217/1000,0)","v":0},55.7,25.774999999999999,835.66750000000002,0]
[null,{"$f":"'namerena data'!A1218+('namerena data'!B1218-1)/24","v":"2013-08-20T12:00:00"},{"$f":"IF('namerena data'!C1218>0,'namerena data'!C1218/1000,0)","v":0},51.8,25.774999999999999,735.14499999999975,0]
[null,{"$f":"'namerena data'!A1219+('namerena data'!B1219-1)/24","v":"2013-08-20T13:00:00"},{"$f":"IF('namerena data'!C1219>0,'namerena data'!C1219/1000,0)","v":0},49.7,25.774999999999999,681.01749999999993,0]
[null,{"$f":"'namerena data'!A1220+('namerena data'!B1220-1)/24","v":"2013-08-20T14:00:00"},{"$f":"IF('namerena data'!C1220>0,'namerena data'!C1220/1000,0)","v":0},46.1,25.774999999999999,588.22749999999996,0]
[null,{"$f":"'namerena data'!A1221+('namerena data'!B1221-1)/24","v":"2013-08-20T15:00:00"},{"$f":"IF('namerena data'!C1221>0,'namerena data'!C1221/1000,0)","v":0},44.7,25.774999999999999,552.14249999999993,0]
[null,{"$f":"'namerena data'!A1222+('namerena data'!B1222-1)/24","v":"2013-08-20T16:00:00"},{"$f":"IF('namerena data'!C1222>0,'namerena data'!C1222/1000,0)","v":0},48.47,25.774999999999999,649.3142499999999,0]
[null,{"$f":"'namerena data'!A1223+('namerena data'!B1223-1)/24","v":"2013-08-20T17:00:00"},{"$f":"IF('namerena data'!C1223>0,'namerena data'!C1223/1000,0)","v":0},51.97,25.774999999999999,739.52674999999999,0]
[null,{"$f":"'namerena data'!A1224+('namerena data'!B1224-1)/24","v":"2013-08-20T18:00:00"},{"$f":"IF('namerena data'!C1224>0,'namerena data'!C1224/1000,0)","v":0},55.7,25.774999999999999,835.66750000000002,0]
[null,{"$f":"'namerena data'!A1225+('namerena data'!B1225-1)/24","v":"2013-08-20T19:00:00"},{"$f":"IF('namerena data'!C1225>0,'namerena data'!C1225/1000,0)","v":0},57.85,25.774999999999999,891.08375000000001,0]
[null,{"$f":"'namerena data'!A1226+('namerena data'!B1226-1)/24","v":"2013-08-20T20:00:00"},{"$f":"IF('namerena data'!C1226>0,'namerena data'!C1226/1000,0)","v":0},59.7,25.774999999999999,938.76749999999993,0]
[null,{"$f":"'namerena data'!A1227+('namerena data'!B1227-1)/24","v":"2013-08-20T21:00:00"},{"$f":"IF('namerena data'!C1227>0,'namerena data'!C1227/1000,0)","v":0},54.62,25.774999999999999,807.8304999999998,0]
[null,{"$f":"'namerena data'!A1228+('namerena data'!B1228-1)/24","v":"2013-08-20T22:00:00"},{"$f":"IF('namerena data'!C1228>0,'namerena data'!C1228/1000,0)","v":0},48.56,25.774999999999999,651.63400000000001,0]
[null,{"$f":"'namerena data'!A1229+('namerena data'!B1229-1)/24","v":"2013-08-20T23:00:00"},{"$f":"IF('namerena data'!C1229>0,'namerena data'!C1229/1000,0)","v":0},36.08,25.774999999999999,329.96199999999988,0]
[null,{"$f":"'namerena data'!A1230+('namerena data'!B1230-1)/24","v":"2013-08-21"},{"$f":"IF('namerena data'!C1230>0,'namerena data'!C1230/1000,0)","v":0},32.03,25.774999999999999,225.57325000000003,0]
[null,{"$f":"'namerena data'!A1231+('namerena data'!B1231-1)/24","v":"2013-08-21T01:00:00"},{"$f":"IF('namerena data'!C1231>0,'namerena data'!C1231/1000,0)","v":0},31.4,25.774999999999999,209.33499999999992,0]
[null,{"$f":"'namerena data'!A1232+('namerena data'!B1232-1)/24","v":"2013-08-21T02:00:00"},{"$f":"IF('namerena data'!C1232>0,'namerena data'!C1232/1000,0)","v":0},29.9,25.774999999999999,170.6724999999999,0]
[null,{"$f":"'namerena data'!A1233+('namerena data'!B1233-1)/24","v":"2013-08-21T03:00:00"},{"$f":"IF('namerena data'!C1233>0,'namerena data'!C1233/1000,0)","v":0},29.6,25.774999999999999,162.93999999999994,0]
[null,{"$f":"'namerena data'!A1234+('namerena data'!B1234-1)/24","v":"2013-08-21T04:00:00"},{"$f":"IF('namerena data'!C1234>0,'namerena data'!C1234/1000,0)","v":0},30.1,25.774999999999999,175.82749999999999,0]
[null,{"$f":"'namerena data'!A1235+('namerena data'!B1235-1)/24","v":"2013-08-21T05:00:00"},{"$f":"IF('namerena data'!C1235>0,'namerena data'!C1235/1000,0)","v":0},31.19,25.774999999999999,203.92224999999996,0]
[null,{"$f":"'namerena data'!A1236+('namerena data'!B1236-1)/24","v":"2013-08-21T06:00:00"},{"$f":"IF('namerena data'!C1236>0,'namerena data'!C1236/1000,0)","v":0},41.74,25.774999999999999,475.84850000000006,0]
[null,{"$f":"'namerena data'!A1237+('namerena data'!B1237-1)/24","v":"2013-08-21T07:00:00"},{"$f":"IF('namerena data'!C1237>0,'namerena data'!C1237/1000,0)","v":0},50.7,25.774999999999999,706.79250000000002,0]
[null,{"$f":"'namerena data'!A1238+('namerena data'!B1238-1)/24","v":"2013-08-21T08:00:00"},{"$f":"IF('namerena data'!C1238>0,'namerena data'!C1238/1000,0)","v":0},54.1,25.774999999999999,794.42750000000001,0]
[null,{"$f":"'namerena data'!A1239+('namerena data'!B1239-1)/24","v":"2013-08-21T09:00:00"},{"$f":"IF('namerena data'!C1239>0,'namerena data'!C1239/1000,0)","v":0},52,25.774999999999999,740.3,0]
[null,{"$f":"'namerena data'!A1240+('namerena data'!B1240-1)/24","v":"2013-08-21T10:00:00"},{"$f":"IF('namerena data'!C1240>0,'namerena data'!C1240/1000,0)","v":0},50.13,25.774999999999999,692.10075000000006,0]
[null,{"$f":"'namerena data'!A1241+('namerena data'!B1241-1)/24","v":"2013-08-21T11:00:00"},{"$f":"IF('namerena data'!C1241>0,'namerena data'!C1241/1000,0)","v":0},50.29,25.774999999999999,696.22474999999986,0]
[null,{"$f":"'namerena data'!A1242+('namerena data'!B1242-1)/24","v":"2013-08-21T12:00:00"},{"$f":"IF('namerena data'!C1242>0,'namerena data'!C1242/1000,0)","v":0},46.25,25.774999999999999,592.09375,0]
[null,{"$f":"'namerena data'!A1243+('namerena data'!B1243-1)/24","v":"2013-08-21T13:00:00"},{"$f":"IF('namerena data'!C1243>0,'namerena data'!C1243/1000,0)","v":0},45.3,25.774999999999999,567.60749999999985,0]
[null,{"$f":"'namerena data'!A1244+('namerena data'!B1244-1)/24","v":"2013-08-21T14:00:00"},{"$f":"IF('namerena data'!C1244>0,'namerena data'!C1244/1000,0)","v":0},44.3,25.774999999999999,541.83249999999975,0]
[null,{"$f":"'namerena data'!A1245+('namerena data'!B1245-1)/24","v":"2013-08-21T15:00:00"},{"$f":"IF('namerena data'!C1245>0,'namerena data'!C1245/1000,0)","v":0},43.8,25.774999999999999,528.94499999999994,0]
[null,{"$f":"'namerena data'!A1246+('namerena data'!B1246-1)/24","v":"2013-08-21T16:00:00"},{"$f":"IF('namerena data'!C1246>0,'namerena data'!C1246/1000,0)","v":0},43.01,25.774999999999999,508.58274999999981,0]
[null,{"$f":"'namerena data'!A1247+('namerena data'!B1247-1)/24","v":"2013-08-21T17:00:00"},{"$f":"IF('namerena data'!C1247>0,'namerena data'!C1247/1000,0)","v":0},48.8,25.774999999999999,657.81999999999994,0]
[null,{"$f":"'namerena data'!A1248+('namerena data'!B1248-1)/24","v":"2013-08-21T18:00:00"},{"$f":"IF('namerena data'!C1248>0,'namerena data'!C1248/1000,0)","v":0},51.51,25.774999999999999,727.6702499999999,0]
[null,{"$f":"'namerena data'!A1249+('namerena data'!B1249-1)/24","v":"2013-08-21T19:00:00"},{"$f":"IF('namerena data'!C1249>0,'namerena data'!C1249/1000,0)","v":0},55.21,25.774999999999999,823.03774999999996,0]
[null,{"$f":"'namerena data'!A1250+('namerena data'!B1250-1)/24","v":"2013-08-21T20:00:00"},{"$f":"IF('namerena data'!C1250>0,'namerena data'!C1250/1000,0)","v":0},56.1,25.774999999999999,845.97749999999996,0]
[null,{"$f":"'namerena data'!A1251+('namerena data'!B1251-1)/24","v":"2013-08-21T21:00:00"},{"$f":"IF('namerena data'!C1251>0,'namerena data'!C1251/1000,0)","v":0},52.25,25.774999999999999,746.74374999999986,0]
[null,{"$f":"'namerena data'!A1252+('namerena data'!B1252-1)/24","v":"2013-08-21T22:00:00"},{"$f":"IF('namerena data'!C1252>0,'namerena data'!C1252/1000,0)","v":0},42.45,25.774999999999999,494.14875000000006,0]
[null,{"$f":"'namerena data'!A1253+('namerena data'!B1253-1)/24","v":"2013-08-21T23:00:00"},{"$f":"IF('namerena data'!C1253>0,'namerena data'!C1253/1000,0)","v":0},35.75,25.774999999999999,321.45624999999995,0]
[null,{"$f":"'namerena data'!A1254+('namerena data'!B1254-1)/24","v":"2013-08-22"},{"$f":"IF('namerena data'!C1254>0,'namerena data'!C1254/1000,0)","v":0},35.700000000000003,25.74,318.91800000000001,0]
[null,{"$f":"'namerena data'!A1255+('namerena data'!B1255-1)/24","v":"2013-08-22T01:00:00"},{"$f":"IF('namerena data'!C1255>0,'namerena data'!C1255/1000,0)","v":0},34.090000000000003,25.74,277.47660000000008,0]
[null,{"$f":"'namerena data'!A1256+('namerena data'!B1256-1)/24","v":"2013-08-22T02:00:00"},{"$f":"IF('namerena data'!C1256>0,'namerena data'!C1256/1000,0)","v":0},32.270000000000003,25.74,230.62980000000005,0]
[null,{"$f":"'namerena data'!A1257+('namerena data'!B1257-1)/24","v":"2013-08-22T03:00:00"},{"$f":"IF('namerena data'!C1257>0,'namerena data'!C1257/1000,0)","v":0},30.3,25.74,179.92200000000003,0]
[null,{"$f":"'namerena data'!A1258+('namerena data'!B1258-1)/24","v":"2013-08-22T04:00:00"},{"$f":"IF('namerena data'!C1258>0,'namerena data'!C1258/1000,0)","v":0},30.61,25.74,187.90139999999997,0]
[null,{"$f":"'namerena data'!A1259+('namerena data'!B1259-1)/24","v":"2013-08-22T05:00:00"},{"$f":"IF('namerena data'!C1259>0,'namerena data'!C1259/1000,0)","v":0},33.94,25.74,273.61559999999986,0]
[null,{"$f":"'namerena data'!A1260+('namerena data'!B1260-1)/24","v":"2013-08-22T06:00:00"},{"$f":"IF('namerena data'!C1260>0,'namerena data'!C1260/1000,0)","v":0},45.5,25.74,571.16999999999985,0]
[null,{"$f":"'namerena data'!A1261+('namerena data'!B1261-1)/24","v":"2013-08-22T07:00:00"},{"$f":"IF('namerena data'!C1261>0,'namerena data'!C1261/1000,0)","v":0},58,25.74,892.91999999999985,0]
[null,{"$f":"'namerena data'!A1262+('namerena data'!B1262-1)/24","v":"2013-08-22T08:00:00"},{"$f":"IF('namerena data'!C1262>0,'namerena data'!C1262/1000,0)","v":0},59,25.74,918.65999999999985,0]
[null,{"$f":"'namerena data'!A1263+('namerena data'!B1263-1)/24","v":"2013-08-22T09:00:00"},{"$f":"IF('namerena data'!C1263>0,'namerena data'!C1263/1000,0)","v":0},54.5,25.74,{"$f":"+IF(AND(ISNUMBER(D1273),ISNUMBER(E1273)),D1273*E1273-$F$13,0)","v":802.82999999999993},{"$f":"+(C1273*F1273)","v":0}]
[null,{"$f":"'namerena data'!A1264+('namerena data'!B1264-1)/24","v":"2013-08-22T10:00:00"},{"$f":"IF('namerena data'!C1264>0,'namerena data'!C1264/1000,0)","v":0},52.69,25.74,756.24059999999986,0]
[null,{"$f":"'namerena data'!A1265+('namerena data'!B1265-1)/24","v":"2013-08-22T11:00:00"},{"$f":"IF('namerena data'!C1265>0,'namerena data'!C1265/1000,0)","v":0},52.6,25.74,753.92399999999998,0]
[null,{"$f":"'namerena data'!A1266+('namerena data'!B1266-1)/24","v":"2013-08-22T12:00:00"},{"$f":"IF('namerena data'!C1266>0,'namerena data'!C1266/1000,0)","v":0},50.39,25.74,697.03859999999986,0]
[null,{"$f":"'namerena data'!A1267+('namerena data'!B1267-1)/24","v":"2013-08-22T13:00:00"},{"$f":"IF('namerena data'!C1267>0,'namerena data'!C1267/1000,0)","v":0},48.5,25.74,648.38999999999987,0]
[null,{"$f":"'namerena data'!A1268+('namerena data'!B1268-1)/24","v":"2013-08-22T14:00:00"},{"$f":"IF('namerena data'!C1268>0,'namerena data'!C1268/1000,0)","v":0},46.93,25.74,607.97820000000002,0]
[null,{"$f":"'namerena data'!A1269+('namerena data'!B1269-1)/24","v":"2013-08-22T15:00:00"},{"$f":"IF('namerena data'!C1269>0,'namerena data'!C1269/1000,0)","v":0},46.7,25.74,602.05799999999999,0]
[null,{"$f":"'namerena data'!A1270+('namerena data'!B1270-1)/24","v":"2013-08-22T16:00:00"},{"$f":"IF('namerena data'!C1270>0,'namerena data'!C1270/1000,0)","v":0},45.78,25.74,578.3771999999999,0]
[null,{"$f":"'namerena data'!A1271+('namerena data'!B1271-1)/24","v":"2013-08-22T17:00:00"},{"$f":"IF('namerena data'!C1271>0,'namerena data'!C1271/1000,0)","v":0},49.81,25.74,682.10940000000005,0]
[null,{"$f":"'namerena data'!A1272+('namerena data'!B1272-1)/24","v":"2013-08-22T18:00:00"},{"$f":"IF('namerena data'!C1272>0,'namerena data'!C1272/1000,0)","v":0},51.9,25.74,735.90599999999995,0]
[null,{"$f":"'namerena data'!A1273+('namerena data'!B1273-1)/24","v":"2013-08-22T19:00:00"},{"$f":"IF('namerena data'!C1273>0,'namerena data'!C1273/1000,0)","v":0},55.19,25.74,820.59059999999977,0]
[null,{"$f":"'namerena data'!A1274+('namerena data'!B1274-1)/24","v":"2013-08-22T20:00:00"},{"$f":"IF('namerena data'!C1274>0,'namerena data'!C1274/1000,0)","v":0},55.33,25.74,824.19419999999991,0]
[null,{"$f":"'namerena data'!A1275+('namerena data'!B1275-1)/24","v":"2013-08-22T21:00:00"},{"$f":"IF('namerena data'!C1275>0,'namerena data'!C1275/1000,0)","v":0},52.5,25.74,751.34999999999991,0]
[null,{"$f":"'namerena data'!A1276+('namerena data'!B1276-1)/24","v":"2013-08-22T22:00:00"},{"$f":"IF('namerena data'!C1276>0,'namerena data'!C1276/1000,0)","v":0},44.2,25.74,537.70800000000008,0]
[null,{"$f":"'namerena data'!A1277+('namerena data'!B1277-1)/24","v":"2013-08-22T23:00:00"},{"$f":"IF('namerena data'!C1277>0,'namerena data'!C1277/1000,0)","v":0},36.46,25.74,338.48039999999992,0]
[null,{"$f":"'namerena data'!A1278+('namerena data'!B1278-1)/24","v":"2013-08-23"},{"$f":"IF('namerena data'!C1278>0,'namerena data'!C1278/1000,0)","v":0},34.6,25.664999999999999,288.00900000000001,0]
[null,{"$f":"'namerena data'!A1279+('namerena data'!B1279-1)/24","v":"2013-08-23T01:00:00"},{"$f":"IF('namerena data'!C1279>0,'namerena data'!C1279/1000,0)","v":0},34.619999999999997,25.664999999999999,288.52229999999986,0]
[null,{"$f":"'namerena data'!A1280+('namerena data'!B1280-1)/24","v":"2013-08-23T02:00:00"},{"$f":"IF('namerena data'!C1280>0,'namerena data'!C1280/1000,0)","v":0},32.200000000000003,25.664999999999999,226.41300000000001,0]
[null,{"$f":"'namerena data'!A1281+('namerena data'!B1281-1)/24","v":"2013-08-23T03:00:00"},{"$f":"IF('namerena data'!C1281>0,'namerena data'!C1281/1000,0)","v":0},29.99,25.664999999999999,169.6933499999999,0]
[null,{"$f":"'namerena data'!A1282+('namerena data'!B1282-1)/24","v":"2013-08-23T04:00:00"},{"$f":"IF('namerena data'!C1282>0,'namerena data'!C1282/1000,0)","v":0},31,25.664999999999999,195.61500000000001,0]
[null,{"$f":"'namerena data'!A1283+('namerena data'!B1283-1)/24","v":"2013-08-23T05:00:00"},{"$f":"IF('namerena data'!C1283>0,'namerena data'!C1283/1000,0)","v":0},33.700000000000003,25.664999999999999,264.91050000000007,0]
[null,{"$f":"'namerena data'!A1284+('namerena data'!B1284-1)/24","v":"2013-08-23T06:00:00"},{"$f":"IF('namerena data'!C1284>0,'namerena data'!C1284/1000,0)","v":0},39.200000000000003,25.664999999999999,406.06799999999998,0]
[null,{"$f":"'namerena data'!A1285+('namerena data'!B1285-1)/24","v":"2013-08-23T07:00:00"},{"$f":"IF('namerena data'!C1285>0,'namerena data'!C1285/1000,0)","v":0},51,25.664999999999999,708.91499999999996,0]
[null,{"$f":"'namerena data'!A1286+('namerena data'!B1286-1)/24","v":"2013-08-23T08:00:00"},{"$f":"IF('namerena data'!C1286>0,'namerena data'!C1286/1000,0)","v":0},55.5,25.664999999999999,824.40750000000003,0]
[null,{"$f":"'namerena data'!A1287+('namerena data'!B1287-1)/24","v":"2013-08-23T09:00:00"},{"$f":"IF('namerena data'!C1287>0,'namerena data'!C1287/1000,0)","v":0},57.7,25.664999999999999,880.87049999999999,0]
[null,{"$f":"'namerena data'!A1288+('namerena data'!B1288-1)/24","v":"2013-08-23T10:00:00"},{"$f":"IF('namerena data'!C1288>0,'namerena data'!C1288/1000,0)","v":0},57,25.664999999999999,862.90499999999997,0]
[null,{"$f":"'namerena data'!A1289+('namerena data'!B1289-1)/24","v":"2013-08-23T11:00:00"},{"$f":"IF('namerena data'!C1289>0,'namerena data'!C1289/1000,0)","v":0},58.09,25.664999999999999,890.87985000000003,0]
[null,{"$f":"'namerena data'!A1290+('namerena data'!B1290-1)/24","v":"2013-08-23T12:00:00"},{"$f":"IF('namerena data'!C1290>0,'namerena data'!C1290/1000,0)","v":0},53.6,25.664999999999999,775.64400000000001,0]
[null,{"$f":"'namerena data'!A1291+('namerena data'!B1291-1)/24","v":"2013-08-23T13:00:00"},{"$f":"IF('namerena data'!C1291>0,'namerena data'!C1291/1000,0)","v":0},49.92,25.664999999999999,681.19679999999994,0]
[null,{"$f":"'namerena data'!A1292+('namerena data'!B1292-1)/24","v":"2013-08-23T14:00:00"},{"$f":"IF('namerena data'!C1292>0,'namerena data'!C1292/1000,0)","v":0},46.4,25.664999999999999,590.85599999999999,0]
[null,{"$f":"'namerena data'!A1293+('namerena data'!B1293-1)/24","v":"2013-08-23T15:00:00"},{"$f":"IF('namerena data'!C1293>0,'namerena data'!C1293/1000,0)","v":0},46.4,25.664999999999999,590.85599999999999,0]
[null,{"$f":"'namerena data'!A1294+('namerena data'!B1294-1)/24","v":"2013-08-23T16:00:00"},{"$f":"IF('namerena data'!C1294>0,'namerena data'!C1294/1000,0)","v":0},44.6,25.664999999999999,544.65900000000011,0]
[null,{"$f":"'namerena data'!A1295+('namerena data'!B1295-1)/24","v":"2013-08-23T17:00:00"},{"$f":"IF('namerena data'!C1295>0,'namerena data'!C1295/1000,0)","v":0},47.6,25.664999999999999,621.654,0]
[null,{"$f":"'namerena data'!A1296+('namerena data'!B1296-1)/24","v":"2013-08-23T18:00:00"},{"$f":"IF('namerena data'!C1296>0,'namerena data'!C1296/1000,0)","v":0},48.1,25.664999999999999,634.48649999999998,0]
[null,{"$f":"'namerena data'!A1297+('namerena data'!B1297-1)/24","v":"2013-08-23T19:00:00"},{"$f":"IF('namerena data'!C1297>0,'namerena data'!C1297/1000,0)","v":0},49.4,25.664999999999999,667.85099999999989,0]
[null,{"$f":"'namerena data'!A1298+('namerena data'!B1298-1)/24","v":"2013-08-23T20:00:00"},{"$f":"IF('namerena data'!C1298>0,'namerena data'!C1298/1000,0)","v":0},49.49,25.664999999999999,670.16084999999998,0]
[null,{"$f":"'namerena data'!A1299+('namerena data'!B1299-1)/24","v":"2013-08-23T21:00:00"},{"$f":"IF('namerena data'!C1299>0,'namerena data'!C1299/1000,0)","v":0},45.6,25.664999999999999,570.32400000000007,0]
[null,{"$f":"'namerena data'!A1300+('namerena data'!B1300-1)/24","v":"2013-08-23T22:00:00"},{"$f":"IF('namerena data'!C1300>0,'namerena data'!C1300/1000,0)","v":0},42.3,25.664999999999999,485.62949999999978,0]
[null,{"$f":"'namerena data'!A1301+('namerena data'!B1301-1)/24","v":"2013-08-23T23:00:00"},{"$f":"IF('namerena data'!C1301>0,'namerena data'!C1301/1000,0)","v":0},33.950000000000003,25.664999999999999,271.32675000000006,0]
[null,{"$f":"'namerena data'!A1302+('namerena data'!B1302-1)/24","v":"2013-08-24"},{"$f":"IF('namerena data'!C1302>0,'namerena data'!C1302/1000,0)","v":0},34.4,25.664999999999999,282.87599999999998,0]
[null,{"$f":"'namerena data'!A1303+('namerena data'!B1303-1)/24","v":"2013-08-24T01:00:00"},{"$f":"IF('namerena data'!C1303>0,'namerena data'!C1303/1000,0)","v":0},30.24,25.664999999999999,176.10959999999989,0]
[null,{"$f":"'namerena data'!A1304+('namerena data'!B1304-1)/24","v":"2013-08-24T02:00:00"},{"$f":"IF('namerena data'!C1304>0,'namerena data'!C1304/1000,0)","v":0},28.37,25.664999999999999,128.11604999999997,0]
[null,{"$f":"'namerena data'!A1305+('namerena data'!B1305-1)/24","v":"2013-08-24T03:00:00"},{"$f":"IF('namerena data'!C1305>0,'namerena data'!C1305/1000,0)","v":0},27.22,25.664999999999999,98.601299999999924,0]
[null,{"$f":"'namerena data'!A1306+('namerena data'!B1306-1)/24","v":"2013-08-24T04:00:00"},{"$f":"IF('namerena data'!C1306>0,'namerena data'!C1306/1000,0)","v":0},27,25.664999999999999,92.954999999999927,0]
[null,{"$f":"'namerena data'!A1307+('namerena data'!B1307-1)/24","v":"2013-08-24T05:00:00"},{"$f":"IF('namerena data'!C1307>0,'namerena data'!C1307/1000,0)","v":0},26.5,25.664999999999999,80.122499999999945,0]
[null,{"$f":"'namerena data'!A1308+('namerena data'!B1308-1)/24","v":"2013-08-24T06:00:00"},{"$f":"IF('namerena data'!C1308>0,'namerena data'!C1308/1000,0)","v":0},28.04,25.664999999999999,119.64659999999992,0]
[null,{"$f":"'namerena data'!A1309+('namerena data'!B1309-1)/24","v":"2013-08-24T07:00:00"},{"$f":"IF('namerena data'!C1309>0,'namerena data'!C1309/1000,0)","v":0},31.15,25.664999999999999,199.46474999999998,0]
[null,{"$f":"'namerena data'!A1310+('namerena data'!B1310-1)/24","v":"2013-08-24T08:00:00"},{"$f":"IF('namerena data'!C1310>0,'namerena data'!C1310/1000,0)","v":0},34.1,25.664999999999999,275.17650000000003,0]
[null,{"$f":"'namerena data'!A1311+('namerena data'!B1311-1)/24","v":"2013-08-24T09:00:00"},{"$f":"IF('namerena data'!C1311>0,'namerena data'!C1311/1000,0)","v":0},35.1,25.664999999999999,300.8415,0]
[null,{"$f":"'namerena data'!A1312+('namerena data'!B1312-1)/24","v":"2013-08-24T10:00:00"},{"$f":"IF('namerena data'!C1312>0,'namerena data'!C1312/1000,0)","v":0},34.1,25.664999999999999,275.17650000000003,0]
[null,{"$f":"'namerena data'!A1313+('namerena data'!B1313-1)/24","v":"2013-08-24T11:00:00"},{"$f":"IF('namerena data'!C1313>0,'namerena data'!C1313/1000,0)","v":0},33.299999999999997,25.664999999999999,254.64449999999988,0]
[null,{"$f":"'namerena data'!A1314+('namerena data'!B1314-1)/24","v":"2013-08-24T12:00:00"},{"$f":"IF('namerena data'!C1314>0,'namerena data'!C1314/1000,0)","v":0},31.73,25.664999999999999,214.35045000000002,0]
[null,{"$f":"'namerena data'!A1315+('namerena data'!B1315-1)/24","v":"2013-08-24T13:00:00"},{"$f":"IF('namerena data'!C1315>0,'namerena data'!C1315/1000,0)","v":0},28.4,25.664999999999999,128.88599999999997,0]
[null,{"$f":"'namerena data'!A1316+('namerena data'!B1316-1)/24","v":"2013-08-24T14:00:00"},{"$f":"IF('namerena data'!C1316>0,'namerena data'!C1316/1000,0)","v":0},28,25.664999999999999,118.62,0]
[null,{"$f":"'namerena data'!A1317+('namerena data'!B1317-1)/24","v":"2013-08-24T15:00:00"},{"$f":"IF('namerena data'!C1317>0,'namerena data'!C1317/1000,0)","v":0},29.2,25.664999999999999,149.41800000000001,0]
[null,{"$f":"'namerena data'!A1318+('namerena data'!B1318-1)/24","v":"2013-08-24T16:00:00"},{"$f":"IF('namerena data'!C1318>0,'namerena data'!C1318/1000,0)","v":0},29.9,25.664999999999999,167.38349999999991,0]
[null,{"$f":"'namerena data'!A1319+('namerena data'!B1319-1)/24","v":"2013-08-24T17:00:00"},{"$f":"IF('namerena data'!C1319>0,'namerena data'!C1319/1000,0)","v":0},33.229999999999997,25.664999999999999,252.84794999999986,0]
[null,{"$f":"'namerena data'!A1320+('namerena data'!B1320-1)/24","v":"2013-08-24T18:00:00"},{"$f":"IF('namerena data'!C1320>0,'namerena data'!C1320/1000,0)","v":0},35.04,25.664999999999999,299.30159999999989,0]
[null,{"$f":"'namerena data'!A1321+('namerena data'!B1321-1)/24","v":"2013-08-24T19:00:00"},{"$f":"IF('namerena data'!C1321>0,'namerena data'!C1321/1000,0)","v":0},36.46,25.664999999999999,335.74590000000001,0]
[null,{"$f":"'namerena data'!A1322+('namerena data'!B1322-1)/24","v":"2013-08-24T20:00:00"},{"$f":"IF('namerena data'!C1322>0,'namerena data'!C1322/1000,0)","v":0},37.5,25.664999999999999,362.4375,0]
[null,{"$f":"'namerena data'!A1323+('namerena data'!B1323-1)/24","v":"2013-08-24T21:00:00"},{"$f":"IF('namerena data'!C1323>0,'namerena data'!C1323/1000,0)","v":0},36.43,25.664999999999999,334.97595000000001,0]
[null,{"$f":"'namerena data'!A1324+('namerena data'!B1324-1)/24","v":"2013-08-24T22:00:00"},{"$f":"IF('namerena data'!C1324>0,'namerena data'!C1324/1000,0)","v":0},34,25.664999999999999,272.61,0]
[null,{"$f":"'namerena data'!A1325+('namerena data'!B1325-1)/24","v":"2013-08-24T23:00:00"},{"$f":"IF('namerena data'!C1325>0,'namerena data'!C1325/1000,0)","v":0},29.7,25.664999999999999,162.25049999999999,0]
[null,{"$f":"'namerena data'!A1326+('namerena data'!B1326-1)/24","v":"2013-08-25"},{"$f":"IF('namerena data'!C1326>0,'namerena data'!C1326/1000,0)","v":0},27.17,25.664999999999999,97.318049999999971,0]
[null,{"$f":"'namerena data'!A1327+('namerena data'!B1327-1)/24","v":"2013-08-25T01:00:00"},{"$f":"IF('namerena data'!C1327>0,'namerena data'!C1327/1000,0)","v":0},23,25.664999999999999,{"$f":"+IF(AND(ISNUMBER(D1337),ISNUMBER(E1337)),D1337*E1337-$F$13,0)","v":-9.7050000000000409},{"$f":"+(C1337*F1337)","v":0}]
[null,{"$f":"'namerena data'!A1328+('namerena data'!B1328-1)/24","v":"2013-08-25T02:00:00"},{"$f":"IF('namerena data'!C1328>0,'namerena data'!C1328/1000,0)","v":0},20.5,25.664999999999999,-73.867500000000064,0]
[null,{"$f":"'namerena data'!A1329+('namerena data'!B1329-1)/24","v":"2013-08-25T03:00:00"},{"$f":"IF('namerena data'!C1329>0,'namerena data'!C1329/1000,0)","v":0},18.559999999999999,25.664999999999999,-123.65760000000006,0]
[null,{"$f":"'namerena data'!A1330+('namerena data'!B1330-1)/24","v":"2013-08-25T04:00:00"},{"$f":"IF('namerena data'!C1330>0,'namerena data'!C1330/1000,0)","v":0},17.8,25.664999999999999,-143.16300000000001,0]
[null,{"$f":"'namerena data'!A1331+('namerena data'!B1331-1)/24","v":"2013-08-25T05:00:00"},{"$f":"IF('namerena data'!C1331>0,'namerena data'!C1331/1000,0)","v":0},15.99,25.664999999999999,-189.61664999999999,0]
[null,{"$f":"'namerena data'!A1332+('namerena data'!B1332-1)/24","v":"2013-08-25T06:00:00"},{"$f":"IF('namerena data'!C1332>0,'namerena data'!C1332/1000,0)","v":0},15.2,25.664999999999999,-209.89200000000005,0]
[null,{"$f":"'namerena data'!A1333+('namerena data'!B1333-1)/24","v":"2013-08-25T07:00:00"},{"$f":"IF('namerena data'!C1333>0,'namerena data'!C1333/1000,0)","v":0},18.8,25.664999999999999,-117.49799999999999,0]
[null,{"$f":"'namerena data'!A1334+('namerena data'!B1334-1)/24","v":"2013-08-25T08:00:00"},{"$f":"IF('namerena data'!C1334>0,'namerena data'!C1334/1000,0)","v":0},23.57,25.664999999999999,4.9240499999999656,0]
[null,{"$f":"'namerena data'!A1335+('namerena data'!B1335-1)/24","v":"2013-08-25T09:00:00"},{"$f":"IF('namerena data'!C1335>0,'namerena data'!C1335/1000,0)","v":0},27.15,25.664999999999999,96.804749999999899,0]
[null,{"$f":"'namerena data'!A1336+('namerena data'!B1336-1)/24","v":"2013-08-25T10:00:00"},{"$f":"IF('namerena data'!C1336>0,'namerena data'!C1336/1000,0)","v":0},29.35,25.664999999999999,153.26774999999998,0]
[null,{"$f":"'namerena data'!A1337+('namerena data'!B1337-1)/24","v":"2013-08-25T11:00:00"},{"$f":"IF('namerena data'!C1337>0,'namerena data'!C1337/1000,0)","v":0},30.35,25.664999999999999,178.93275000000006,0]
[null,{"$f":"'namerena data'!A1338+('namerena data'!B1338-1)/24","v":"2013-08-25T12:00:00"},{"$f":"IF('namerena data'!C1338>0,'namerena data'!C1338/1000,0)","v":0},28.69,25.664999999999999,136.32884999999999,0]
[null,{"$f":"'namerena data'!A1339+('namerena data'!B1339-1)/24","v":"2013-08-25T13:00:00"},{"$f":"IF('namerena data'!C1339>0,'namerena data'!C1339/1000,0)","v":0},27.75,25.664999999999999,112.20375000000001,0]
[null,{"$f":"'namerena data'!A1340+('namerena data'!B1340-1)/24","v":"2013-08-25T14:00:00"},{"$f":"IF('namerena data'!C1340>0,'namerena data'!C1340/1000,0)","v":0},26.13,25.664999999999999,70.626449999999977,0]
[null,{"$f":"'namerena data'!A1341+('namerena data'!B1341-1)/24","v":"2013-08-25T15:00:00"},{"$f":"IF('namerena data'!C1341>0,'namerena data'!C1341/1000,0)","v":0},27,25.664999999999999,92.954999999999927,0]
[null,{"$f":"'namerena data'!A1342+('namerena data'!B1342-1)/24","v":"2013-08-25T16:00:00"},{"$f":"IF('namerena data'!C1342>0,'namerena data'!C1342/1000,0)","v":0},26.7,25.664999999999999,85.255499999999984,0]
[null,{"$f":"'namerena data'!A1343+('namerena data'!B1343-1)/24","v":"2013-08-25T17:00:00"},{"$f":"IF('namerena data'!C1343>0,'namerena data'!C1343/1000,0)","v":0},28.54,25.664999999999999,132.4790999999999,0]
[null,{"$f":"'namerena data'!A1344+('namerena data'!B1344-1)/24","v":"2013-08-25T18:00:00"},{"$f":"IF('namerena data'!C1344>0,'namerena data'!C1344/1000,0)","v":0},33.17,25.664999999999999,251.30804999999998,0]
[null,{"$f":"'namerena data'!A1345+('namerena data'!B1345-1)/24","v":"2013-08-25T19:00:00"},{"$f":"IF('namerena data'!C1345>0,'namerena data'!C1345/1000,0)","v":0},33.75,25.664999999999999,266.19375000000002,0]
[null,{"$f":"'namerena data'!A1346+('namerena data'!B1346-1)/24","v":"2013-08-25T20:00:00"},{"$f":"IF('namerena data'!C1346>0,'namerena data'!C1346/1000,0)","v":0},35.61,25.664999999999999,313.9306499999999,0]
[null,{"$f":"'namerena data'!A1347+('namerena data'!B1347-1)/24","v":"2013-08-25T21:00:00"},{"$f":"IF('namerena data'!C1347>0,'namerena data'!C1347/1000,0)","v":0},36.6,25.664999999999999,339.33900000000006,0]
[null,{"$f":"'namerena data'!A1348+('namerena data'!B1348-1)/24","v":"2013-08-25T22:00:00"},{"$f":"IF('namerena data'!C1348>0,'namerena data'!C1348/1000,0)","v":0},35.49,25.664999999999999,310.85085000000004,0]
[null,{"$f":"'namerena data'!A1349+('namerena data'!B1349-1)/24","v":"2013-08-25T23:00:00"},{"$f":"IF('namerena data'!C1349>0,'namerena data'!C1349/1000,0)","v":0},32.1,25.664999999999999,223.84649999999999,0]
[null,{"$f":"'namerena data'!A1350+('namerena data'!B1350-1)/24","v":"2013-08-26"},{"$f":"IF('namerena data'!C1350>0,'namerena data'!C1350/1000,0)","v":0},27.3,25.625,99.5625,0]
[null,{"$f":"'namerena data'!A1351+('namerena data'!B1351-1)/24","v":"2013-08-26T01:00:00"},{"$f":"IF('namerena data'!C1351>0,'namerena data'!C1351/1000,0)","v":0},26.7,25.625,84.1875,0]
[null,{"$f":"'namerena data'!A1352+('namerena data'!B1352-1)/24","v":"2013-08-26T02:00:00"},{"$f":"IF('namerena data'!C1352>0,'namerena data'!C1352/1000,0)","v":0},25.1,25.625,43.1875,0]
[null,{"$f":"'namerena data'!A1353+('namerena data'!B1353-1)/24","v":"2013-08-26T03:00:00"},{"$f":"IF('namerena data'!C1353>0,'namerena data'!C1353/1000,0)","v":0},23.79,25.625,9.6187499999999773,0]
[null,{"$f":"'namerena data'!A1354+('namerena data'!B1354-1)/24","v":"2013-08-26T04:00:00"},{"$f":"IF('namerena data'!C1354>0,'namerena data'!C1354/1000,0)","v":0},24.9,25.625,38.0625,0]
[null,{"$f":"'namerena data'!A1355+('namerena data'!B1355-1)/24","v":"2013-08-26T05:00:00"},{"$f":"IF('namerena data'!C1355>0,'namerena data'!C1355/1000,0)","v":0},28.53,25.625,131.08125000000007,0]
[null,{"$f":"'namerena data'!A1356+('namerena data'!B1356-1)/24","v":"2013-08-26T06:00:00"},{"$f":"IF('namerena data'!C1356>0,'namerena data'!C1356/1000,0)","v":0},40.1,25.625,427.5625,0]
[null,{"$f":"'namerena data'!A1357+('namerena data'!B1357-1)/24","v":"2013-08-26T07:00:00"},{"$f":"IF('namerena data'!C1357>0,'namerena data'!C1357/1000,0)","v":0},52.29,25.625,739.93125000000009,0]
[null,{"$f":"'namerena data'!A1358+('namerena data'!B1358-1)/24","v":"2013-08-26T08:00:00"},{"$f":"IF('namerena data'!C1358>0,'namerena data'!C1358/1000,0)","v":0},60.49,25.625,950.05625000000009,0]
[null,{"$f":"'namerena data'!A1359+('namerena data'!B1359-1)/24","v":"2013-08-26T09:00:00"},{"$f":"IF('namerena data'!C1359>0,'namerena data'!C1359/1000,0)","v":0},62.82,25.625,1009.7625,0]
[null,{"$f":"'namerena data'!A1360+('namerena data'!B1360-1)/24","v":"2013-08-26T10:00:00"},{"$f":"IF('namerena data'!C1360>0,'namerena data'!C1360/1000,0)","v":0},63.5,25.625,1027.1875,0]
[null,{"$f":"'namerena data'!A1361+('namerena data'!B1361-1)/24","v":"2013-08-26T11:00:00"},{"$f":"IF('namerena data'!C1361>0,'namerena data'!C1361/1000,0)","v":0},63.5,25.625,1027.1875,0]
[null,{"$f":"'namerena data'!A1362+('namerena data'!B1362-1)/24","v":"2013-08-26T12:00:00"},{"$f":"IF('namerena data'!C1362>0,'namerena data'!C1362/1000,0)","v":0},63.6,25.625,1029.75,0]
[null,{"$f":"'namerena data'!A1363+('namerena data'!B1363-1)/24","v":"2013-08-26T13:00:00"},{"$f":"IF('namerena data'!C1363>0,'namerena data'!C1363/1000,0)","v":0},62.9,25.625,1011.8125,0]
[null,{"$f":"'namerena data'!A1364+('namerena data'!B1364-1)/24","v":"2013-08-26T14:00:00"},{"$f":"IF('namerena data'!C1364>0,'namerena data'!C1364/1000,0)","v":0},53.56,25.625,772.47500000000014,0]
[null,{"$f":"'namerena data'!A1365+('namerena data'!B1365-1)/24","v":"2013-08-26T15:00:00"},{"$f":"IF('namerena data'!C1365>0,'namerena data'!C1365/1000,0)","v":0},51.6,25.625,722.25,0]
[null,{"$f":"'namerena data'!A1366+('namerena data'!B1366-1)/24","v":"2013-08-26T16:00:00"},{"$f":"IF('namerena data'!C1366>0,'namerena data'!C1366/1000,0)","v":0},51.55,25.625,720.96875,0]
[null,{"$f":"'namerena data'!A1367+('namerena data'!B1367-1)/24","v":"2013-08-26T17:00:00"},{"$f":"IF('namerena data'!C1367>0,'namerena data'!C1367/1000,0)","v":0},51.53,25.625,720.45624999999995,0]
[null,{"$f":"'namerena data'!A1368+('namerena data'!B1368-1)/24","v":"2013-08-26T18:00:00"},{"$f":"IF('namerena data'!C1368>0,'namerena data'!C1368/1000,0)","v":0},55.1,25.625,811.9375,0]
[null,{"$f":"'namerena data'!A1369+('namerena data'!B1369-1)/24","v":"2013-08-26T19:00:00"},{"$f":"IF('namerena data'!C1369>0,'namerena data'!C1369/1000,0)","v":0},55.9,25.625,832.4375,0]
[null,{"$f":"'namerena data'!A1370+('namerena data'!B1370-1)/24","v":"2013-08-26T20:00:00"},{"$f":"IF('namerena data'!C1370>0,'namerena data'!C1370/1000,0)","v":0},58.9,25.625,909.3125,0]
[null,{"$f":"'namerena data'!A1371+('namerena data'!B1371-1)/24","v":"2013-08-26T21:00:00"},{"$f":"IF('namerena data'!C1371>0,'namerena data'!C1371/1000,0)","v":0},53,25.625,758.125,0]
[null,{"$f":"'namerena data'!A1372+('namerena data'!B1372-1)/24","v":"2013-08-26T22:00:00"},{"$f":"IF('namerena data'!C1372>0,'namerena data'!C1372/1000,0)","v":0},46.8,25.625,599.25,0]
[null,{"$f":"'namerena data'!A1373+('namerena data'!B1373-1)/24","v":"2013-08-26T23:00:00"},{"$f":"IF('namerena data'!C1373>0,'namerena data'!C1373/1000,0)","v":0},36.299999999999997,25.625,330.18749999999989,0]
[null,{"$f":"'namerena data'!A1374+('namerena data'!B1374-1)/24","v":"2013-08-27"},{"$f":"IF('namerena data'!C1374>0,'namerena data'!C1374/1000,0)","v":0},34.299999999999997,25.76,283.56799999999998,0]
[null,{"$f":"'namerena data'!A1375+('namerena data'!B1375-1)/24","v":"2013-08-27T01:00:00"},{"$f":"IF('namerena data'!C1375>0,'namerena data'!C1375/1000,0)","v":0},32.200000000000003,25.76,229.47200000000009,0]
[null,{"$f":"'namerena data'!A1376+('namerena data'!B1376-1)/24","v":"2013-08-27T02:00:00"},{"$f":"IF('namerena data'!C1376>0,'namerena data'!C1376/1000,0)","v":0},30.01,25.76,173.05760000000009,0]
[null,{"$f":"'namerena data'!A1377+('namerena data'!B1377-1)/24","v":"2013-08-27T03:00:00"},{"$f":"IF('namerena data'!C1377>0,'namerena data'!C1377/1000,0)","v":0},28.4,25.76,131.58400000000006,0]
[null,{"$f":"'namerena data'!A1378+('namerena data'!B1378-1)/24","v":"2013-08-27T04:00:00"},{"$f":"IF('namerena data'!C1378>0,'namerena data'!C1378/1000,0)","v":0},29.13,25.76,150.38880000000006,0]
[null,{"$f":"'namerena data'!A1379+('namerena data'!B1379-1)/24","v":"2013-08-27T05:00:00"},{"$f":"IF('namerena data'!C1379>0,'namerena data'!C1379/1000,0)","v":0},32,25.76,224.32000000000005,0]
[null,{"$f":"'namerena data'!A1380+('namerena data'!B1380-1)/24","v":"2013-08-27T06:00:00"},{"$f":"IF('namerena data'!C1380>0,'namerena data'!C1380/1000,0)","v":0},44.59,25.76,548.63840000000005,0]
[null,{"$f":"'namerena data'!A1381+('namerena data'!B1381-1)/24","v":"2013-08-27T07:00:00"},{"$f":"IF('namerena data'!C1381>0,'namerena data'!C1381/1000,0)","v":0},56.6,25.76,858.01600000000008,0]
[null,{"$f":"'namerena data'!A1382+('namerena data'!B1382-1)/24","v":"2013-08-27T08:00:00"},{"$f":"IF('namerena data'!C1382>0,'namerena data'!C1382/1000,0)","v":0},59.35,25.76,928.85600000000022,0]
[null,{"$f":"'namerena data'!A1383+('namerena data'!B1383-1)/24","v":"2013-08-27T09:00:00"},{"$f":"IF('namerena data'!C1383>0,'namerena data'!C1383/1000,0)","v":0},62.8,25.76,1017.7280000000001,0]
[null,{"$f":"'namerena data'!A1384+('namerena data'!B1384-1)/24","v":"2013-08-27T10:00:00"},{"$f":"IF('namerena data'!C1384>0,'namerena data'!C1384/1000,0)","v":0},62,25.76,997.12000000000012,0]
[null,{"$f":"'namerena data'!A1385+('namerena data'!B1385-1)/24","v":"2013-08-27T11:00:00"},{"$f":"IF('namerena data'!C1385>0,'namerena data'!C1385/1000,0)","v":0},64.36,25.76,1057.9136000000001,0]
[null,{"$f":"'namerena data'!A1386+('namerena data'!B1386-1)/24","v":"2013-08-27T12:00:00"},{"$f":"IF('namerena data'!C1386>0,'namerena data'!C1386/1000,0)","v":0},61.5,25.76,984.24,0]
[null,{"$f":"'namerena data'!A1387+('namerena data'!B1387-1)/24","v":"2013-08-27T13:00:00"},{"$f":"IF('namerena data'!C1387>0,'namerena data'!C1387/1000,0)","v":0},60.3,25.76,953.32799999999997,0]
[null,{"$f":"'namerena data'!A1388+('namerena data'!B1388-1)/24","v":"2013-08-27T14:00:00"},{"$f":"IF('namerena data'!C1388>0,'namerena data'!C1388/1000,0)","v":0},58.16,25.76,898.2016000000001,0]
[null,{"$f":"'namerena data'!A1389+('namerena data'!B1389-1)/24","v":"2013-08-27T15:00:00"},{"$f":"IF('namerena data'!C1389>0,'namerena data'!C1389/1000,0)","v":0},56.8,25.76,863.16800000000012,0]
[null,{"$f":"'namerena data'!A1390+('namerena data'!B1390-1)/24","v":"2013-08-27T16:00:00"},{"$f":"IF('namerena data'!C1390>0,'namerena data'!C1390/1000,0)","v":0},56.9,25.76,865.74400000000014,0]
[null,{"$f":"'namerena data'!A1391+('namerena data'!B1391-1)/24","v":"2013-08-27T17:00:00"},{"$f":"IF('namerena data'!C1391>0,'namerena data'!C1391/1000,0)","v":0},57,25.76,{"$f":"+IF(AND(ISNUMBER(D1401),ISNUMBER(E1401)),D1401*E1401-$F$13,0)","v":868.32000000000016},{"$f":"+(C1401*F1401)","v":0}]
[null,{"$f":"'namerena data'!A1392+('namerena data'!B1392-1)/24","v":"2013-08-27T18:00:00"},{"$f":"IF('namerena data'!C1392>0,'namerena data'!C1392/1000,0)","v":0},58.2,25.76,899.2320000000002,0]
[null,{"$f":"'namerena data'!A1393+('namerena data'!B1393-1)/24","v":"2013-08-27T19:00:00"},{"$f":"IF('namerena data'!C1393>0,'namerena data'!C1393/1000,0)","v":0},60.75,25.76,964.92000000000007,0]
[null,{"$f":"'namerena data'!A1394+('namerena data'!B1394-1)/24","v":"2013-08-27T20:00:00"},{"$f":"IF('namerena data'!C1394>0,'namerena data'!C1394/1000,0)","v":0},65.2,25.76,1079.5520000000001,0]
[null,{"$f":"'namerena data'!A1395+('namerena data'!B1395-1)/24","v":"2013-08-27T21:00:00"},{"$f":"IF('namerena data'!C1395>0,'namerena data'!C1395/1000,0)","v":0},56.95,25.76,867.03200000000015,0]
[null,{"$f":"'namerena data'!A1396+('namerena data'!B1396-1)/24","v":"2013-08-27T22:00:00"},{"$f":"IF('namerena data'!C1396>0,'namerena data'!C1396/1000,0)","v":0},52.44,25.76,750.85439999999994,0]
[null,{"$f":"'namerena data'!A1397+('namerena data'!B1397-1)/24","v":"2013-08-27T23:00:00"},{"$f":"IF('namerena data'!C1397>0,'namerena data'!C1397/1000,0)","v":0},39.1,25.76,407.21600000000012,0]
[null,{"$f":"'namerena data'!A1398+('namerena data'!B1398-1)/24","v":"2013-08-28"},{"$f":"IF('namerena data'!C1398>0,'namerena data'!C1398/1000,0)","v":0},35,25.715,300.02499999999998,0]
[null,{"$f":"'namerena data'!A1399+('namerena data'!B1399-1)/24","v":"2013-08-28T01:00:00"},{"$f":"IF('namerena data'!C1399>0,'namerena data'!C1399/1000,0)","v":0},33.93,25.715,272.50995,0]
[null,{"$f":"'namerena data'!A1400+('namerena data'!B1400-1)/24","v":"2013-08-28T02:00:00"},{"$f":"IF('namerena data'!C1400>0,'namerena data'!C1400/1000,0)","v":0},32.5,25.715,235.73749999999995,0]
[null,{"$f":"'namerena data'!A1401+('namerena data'!B1401-1)/24","v":"2013-08-28T03:00:00"},{"$f":"IF('namerena data'!C1401>0,'namerena data'!C1401/1000,0)","v":0},31,25.715,197.16499999999996,0]
[null,{"$f":"'namerena data'!A1402+('namerena data'!B1402-1)/24","v":"2013-08-28T04:00:00"},{"$f":"IF('namerena data'!C1402>0,'namerena data'!C1402/1000,0)","v":0},30.9,25.715,194.59349999999995,0]
[null,{"$f":"'namerena data'!A1403+('namerena data'!B1403-1)/24","v":"2013-08-28T05:00:00"},{"$f":"IF('namerena data'!C1403>0,'namerena data'!C1403/1000,0)","v":0},35.5,25.715,312.88250000000005,0]
[null,{"$f":"'namerena data'!A1404+('namerena data'!B1404-1)/24","v":"2013-08-28T06:00:00"},{"$f":"IF('namerena data'!C1404>0,'namerena data'!C1404/1000,0)","v":0},46.32,25.715,591.11879999999996,0]
[null,{"$f":"'namerena data'!A1405+('namerena data'!B1405-1)/24","v":"2013-08-28T07:00:00"},{"$f":"IF('namerena data'!C1405>0,'namerena data'!C1405/1000,0)","v":0},60.4,25.715,953.18599999999992,0]
[null,{"$f":"'namerena data'!A1406+('namerena data'!B1406-1)/24","v":"2013-08-28T08:00:00"},{"$f":"IF('namerena data'!C1406>0,'namerena data'!C1406/1000,0)","v":0},62.9,25.715,1017.4735000000001,0]
[null,{"$f":"'namerena data'!A1407+('namerena data'!B1407-1)/24","v":"2013-08-28T09:00:00"},{"$f":"IF('namerena data'!C1407>0,'namerena data'!C1407/1000,0)","v":0},64,25.715,1045.76,0]
[null,{"$f":"'namerena data'!A1408+('namerena data'!B1408-1)/24","v":"2013-08-28T10:00:00"},{"$f":"IF('namerena data'!C1408>0,'namerena data'!C1408/1000,0)","v":0},64.900000000000006,25.715,1068.9035000000001,0]
[null,{"$f":"'namerena data'!A1409+('namerena data'!B1409-1)/24","v":"2013-08-28T11:00:00"},{"$f":"IF('namerena data'!C1409>0,'namerena data'!C1409/1000,0)","v":0},64.88,25.715,1068.3891999999998,0]
[null,{"$f":"'namerena data'!A1410+('namerena data'!B1410-1)/24","v":"2013-08-28T12:00:00"},{"$f":"IF('namerena data'!C1410>0,'namerena data'!C1410/1000,0)","v":0},63,25.715,1020.0450000000001,0]
[null,{"$f":"'namerena data'!A1411+('namerena data'!B1411-1)/24","v":"2013-08-28T13:00:00"},{"$f":"IF('namerena data'!C1411>0,'namerena data'!C1411/1000,0)","v":0},61.9,25.715,991.75849999999991,0]
[null,{"$f":"'namerena data'!A1412+('namerena data'!B1412-1)/24","v":"2013-08-28T14:00:00"},{"$f":"IF('namerena data'!C1412>0,'namerena data'!C1412/1000,0)","v":0},59.3,25.715,924.89949999999999,0]
[null,{"$f":"'namerena data'!A1413+('namerena data'!B1413-1)/24","v":"2013-08-28T15:00:00"},{"$f":"IF('namerena data'!C1413>0,'namerena data'!C1413/1000,0)","v":0},58.42,25.715,902.27030000000013,0]
[null,{"$f":"'namerena data'!A1414+('namerena data'!B1414-1)/24","v":"2013-08-28T16:00:00"},{"$f":"IF('namerena data'!C1414>0,'namerena data'!C1414/1000,0)","v":0},53.6,25.715,778.32400000000007,0]
[null,{"$f":"'namerena data'!A1415+('namerena data'!B1415-1)/24","v":"2013-08-28T17:00:00"},{"$f":"IF('namerena data'!C1415>0,'namerena data'!C1415/1000,0)","v":0},55.7,25.715,832.32550000000015,0]
[null,{"$f":"'namerena data'!A1416+('namerena data'!B1416-1)/24","v":"2013-08-28T18:00:00"},{"$f":"IF('namerena data'!C1416>0,'namerena data'!C1416/1000,0)","v":0},55.52,25.715,827.69680000000017,0]
[null,{"$f":"'namerena data'!A1417+('namerena data'!B1417-1)/24","v":"2013-08-28T19:00:00"},{"$f":"IF('namerena data'!C1417>0,'namerena data'!C1417/1000,0)","v":0},57.7,25.715,883.75549999999998,0]
[null,{"$f":"'namerena data'!A1418+('namerena data'!B1418-1)/24","v":"2013-08-28T20:00:00"},{"$f":"IF('namerena data'!C1418>0,'namerena data'!C1418/1000,0)","v":0},60.59,25.715,958.07185000000004,0]
[null,{"$f":"'namerena data'!A1419+('namerena data'!B1419-1)/24","v":"2013-08-28T21:00:00"},{"$f":"IF('namerena data'!C1419>0,'namerena data'!C1419/1000,0)","v":0},55.85,25.715,836.18274999999994,0]
[null,{"$f":"'namerena data'!A1420+('namerena data'!B1420-1)/24","v":"2013-08-28T22:00:00"},{"$f":"IF('namerena data'!C1420>0,'namerena data'!C1420/1000,0)","v":0},49.21,25.715,665.43515000000002,0]
[null,{"$f":"'namerena data'!A1421+('namerena data'!B1421-1)/24","v":"2013-08-28T23:00:00"},{"$f":"IF('namerena data'!C1421>0,'namerena data'!C1421/1000,0)","v":0},41.25,25.715,460.74375000000009,0]
[null,{"$f":"'namerena data'!A1422+('namerena data'!B1422-1)/24","v":"2013-08-29"},{"$f":"IF('namerena data'!C1422>0,'namerena data'!C1422/1000,0)","v":0},36.03,25.68,{"$f":"+IF(AND(ISNUMBER(D1432),ISNUMBER(E1432)),D1432*E1432-$F$13,0)","v":325.25040000000001},{"$f":"+(C1432*F1432)","v":0}]
[null,{"$f":"'namerena data'!A1423+('namerena data'!B1423-1)/24","v":"2013-08-29T01:00:00"},{"$f":"IF('namerena data'!C1423>0,'namerena data'!C1423/1000,0)","v":0},35.07,25.68,{"$f":"+IF(AND(ISNUMBER(D1433),ISNUMBER(E1433)),D1433*E1433-$F$13,0)","v":300.59759999999994},{"$f":"+(C1433*F1433)","v":0}]
[null,{"$f":"'namerena data'!A1424+('namerena data'!B1424-1)/24","v":"2013-08-29T02:00:00"},{"$f":"IF('namerena data'!C1424>0,'namerena data'!C1424/1000,0)","v":0},33.97,25.68,272.34960000000001,0]
[null,{"$f":"'namerena data'!A1425+('namerena data'!B1425-1)/24","v":"2013-08-29T03:00:00"},{"$f":"IF('namerena data'!C1425>0,'namerena data'!C1425/1000,0)","v":0},32.81,25.68,242.56080000000009,0]
[null,{"$f":"'namerena data'!A1426+('namerena data'!B1426-1)/24","v":"2013-08-29T04:00:00"},{"$f":"IF('namerena data'!C1426>0,'namerena data'!C1426/1000,0)","v":0},32.93,25.68,245.64239999999995,0]
[null,{"$f":"'namerena data'!A1427+('namerena data'!B1427-1)/24","v":"2013-08-29T05:00:00"},{"$f":"IF('namerena data'!C1427>0,'namerena data'!C1427/1000,0)","v":0},36.799999999999997,25.68,345.02399999999989,0]
[null,{"$f":"'namerena data'!A1428+('namerena data'!B1428-1)/24","v":"2013-08-29T06:00:00"},{"$f":"IF('namerena data'!C1428>0,'namerena data'!C1428/1000,0)","v":0},50.73,25.68,702.74639999999999,0]
[null,{"$f":"'namerena data'!A1429+('namerena data'!B1429-1)/24","v":"2013-08-29T07:00:00"},{"$f":"IF('namerena data'!C1429>0,'namerena data'!C1429/1000,0)","v":0},64.099999999999994,25.68,1046.0879999999997,0]
[null,{"$f":"'namerena data'!A1430+('namerena data'!B1430-1)/24","v":"2013-08-29T08:00:00"},{"$f":"IF('namerena data'!C1430>0,'namerena data'!C1430/1000,0)","v":0},64.2,25.68,1048.6559999999999,0]
[null,{"$f":"'namerena data'!A1431+('namerena data'!B1431-1)/24","v":"2013-08-29T09:00:00"},{"$f":"IF('namerena data'!C1431>0,'namerena data'!C1431/1000,0)","v":0},61.07,25.68,968.27759999999989,0]
[null,{"$f":"'namerena data'!A1432+('namerena data'!B1432-1)/24","v":"2013-08-29T10:00:00"},{"$f":"IF('namerena data'!C1432>0,'namerena data'!C1432/1000,0)","v":0},59.82,25.68,936.17759999999998,0]
[null,{"$f":"'namerena data'!A1433+('namerena data'!B1433-1)/24","v":"2013-08-29T11:00:00"},{"$f":"IF('namerena data'!C1433>0,'namerena data'!C1433/1000,0)","v":0},60.06,25.68,942.34079999999994,0]
[null,{"$f":"'namerena data'!A1434+('namerena data'!B1434-1)/24","v":"2013-08-29T12:00:00"},{"$f":"IF('namerena data'!C1434>0,'namerena data'!C1434/1000,0)","v":0},55,25.68,812.40000000000009,0]
[null,{"$f":"'namerena data'!A1435+('namerena data'!B1435-1)/24","v":"2013-08-29T13:00:00"},{"$f":"IF('namerena data'!C1435>0,'namerena data'!C1435/1000,0)","v":0},53,25.68,761.04,0]
[null,{"$f":"'namerena data'!A1436+('namerena data'!B1436-1)/24","v":"2013-08-29T14:00:00"},{"$f":"IF('namerena data'!C1436>0,'namerena data'!C1436/1000,0)","v":0},53.07,25.68,762.83760000000007,0]
[null,{"$f":"'namerena data'!A1437+('namerena data'!B1437-1)/24","v":"2013-08-29T15:00:00"},{"$f":"IF('namerena data'!C1437>0,'namerena data'!C1437/1000,0)","v":0},53.88,25.68,783.63840000000005,0]
[null,{"$f":"'namerena data'!A1438+('namerena data'!B1438-1)/24","v":"2013-08-29T16:00:00"},{"$f":"IF('namerena data'!C1438>0,'namerena data'!C1438/1000,0)","v":0},55.9,25.68,835.51199999999994,0]
[null,{"$f":"'namerena data'!A1439+('namerena data'!B1439-1)/24","v":"2013-08-29T17:00:00"},{"$f":"IF('namerena data'!C1439>0,'namerena data'!C1439/1000,0)","v":0},58.6,25.68,904.84799999999996,0]
[null,{"$f":"'namerena data'!A1440+('namerena data'!B1440-1)/24","v":"2013-08-29T18:00:00"},{"$f":"IF('namerena data'!C1440>0,'namerena data'!C1440/1000,0)","v":0},62.09,25.68,994.47120000000018,0]
[null,{"$f":"'namerena data'!A1441+('namerena data'!B1441-1)/24","v":"2013-08-29T19:00:00"},{"$f":"IF('namerena data'!C1441>0,'namerena data'!C1441/1000,0)","v":0},65.099999999999994,25.68,1071.7679999999998,0]
[null,{"$f":"'namerena data'!A1442+('namerena data'!B1442-1)/24","v":"2013-08-29T20:00:00"},{"$f":"IF('namerena data'!C1442>0,'namerena data'!C1442/1000,0)","v":0},69.2,25.68,1177.056,0]
[null,{"$f":"'namerena data'!A1443+('namerena data'!B1443-1)/24","v":"2013-08-29T21:00:00"},{"$f":"IF('namerena data'!C1443>0,'namerena data'!C1443/1000,0)","v":0},60.82,25.68,961.85760000000005,0]
[null,{"$f":"'namerena data'!A1444+('namerena data'!B1444-1)/24","v":"2013-08-29T22:00:00"},{"$f":"IF('namerena data'!C1444>0,'namerena data'!C1444/1000,0)","v":0},52.6,25.68,750.76800000000003,0]
[null,{"$f":"'namerena data'!A1445+('namerena data'!B1445-1)/24","v":"2013-08-29T23:00:00"},{"$f":"IF('namerena data'!C1445>0,'namerena data'!C1445/1000,0)","v":0},40.22,25.68,432.84960000000001,0]
[null,{"$f":"'namerena data'!A1446+('namerena data'!B1446-1)/24","v":"2013-08-30"},{"$f":"IF('namerena data'!C1446>0,'namerena data'!C1446/1000,0)","v":0},35.200000000000003,25.734999999999999,305.87200000000007,0]
[null,{"$f":"'namerena data'!A1447+('namerena data'!B1447-1)/24","v":"2013-08-30T01:00:00"},{"$f":"IF('namerena data'!C1447>0,'namerena data'!C1447/1000,0)","v":0},34.049999999999997,25.734999999999999,276.27674999999988,0]
[null,{"$f":"'namerena data'!A1448+('namerena data'!B1448-1)/24","v":"2013-08-30T02:00:00"},{"$f":"IF('namerena data'!C1448>0,'namerena data'!C1448/1000,0)","v":0},32.26,25.734999999999999,230.21109999999987,0]
[null,{"$f":"'namerena data'!A1449+('namerena data'!B1449-1)/24","v":"2013-08-30T03:00:00"},{"$f":"IF('namerena data'!C1449>0,'namerena data'!C1449/1000,0)","v":0},30.98,25.734999999999999,197.27030000000002,0]
[null,{"$f":"'namerena data'!A1450+('namerena data'!B1450-1)/24","v":"2013-08-30T04:00:00"},{"$f":"IF('namerena data'!C1450>0,'namerena data'!C1450/1000,0)","v":0},30.91,25.734999999999999,195.46884999999997,0]
[null,{"$f":"'namerena data'!A1451+('namerena data'!B1451-1)/24","v":"2013-08-30T05:00:00"},{"$f":"IF('namerena data'!C1451>0,'namerena data'!C1451/1000,0)","v":0},35,25.734999999999999,300.72500000000002,0]
[null,{"$f":"'namerena data'!A1452+('namerena data'!B1452-1)/24","v":"2013-08-30T06:00:00"},{"$f":"IF('namerena data'!C1452>0,'namerena data'!C1452/1000,0)","v":0},47.7,25.734999999999999,627.55950000000007,0]
[null,{"$f":"'namerena data'!A1453+('namerena data'!B1453-1)/24","v":"2013-08-30T07:00:00"},{"$f":"IF('namerena data'!C1453>0,'namerena data'!C1453/1000,0)","v":0},60.07,25.734999999999999,945.90145000000007,0]
[null,{"$f":"'namerena data'!A1454+('namerena data'!B1454-1)/24","v":"2013-08-30T08:00:00"},{"$f":"IF('namerena data'!C1454>0,'namerena data'!C1454/1000,0)","v":0},61.19,25.734999999999999,974.72464999999988,0]
[null,{"$f":"'namerena data'!A1455+('namerena data'!B1455-1)/24","v":"2013-08-30T09:00:00"},{"$f":"IF('namerena data'!C1455>0,'namerena data'!C1455/1000,0)","v":0},60.08,25.734999999999999,946.15879999999993,0]
[null,{"$f":"'namerena data'!A1456+('namerena data'!B1456-1)/24","v":"2013-08-30T10:00:00"},{"$f":"IF('namerena data'!C1456>0,'namerena data'!C1456/1000,0)","v":0},58.7,25.734999999999999,910.64450000000011,0]
[null,{"$f":"'namerena data'!A1457+('namerena data'!B1457-1)/24","v":"2013-08-30T11:00:00"},{"$f":"IF('namerena data'!C1457>0,'namerena data'!C1457/1000,0)","v":0},58.17,25.734999999999999,897.00495000000001,0]
[null,{"$f":"'namerena data'!A1458+('namerena data'!B1458-1)/24","v":"2013-08-30T12:00:00"},{"$f":"IF('namerena data'!C1458>0,'namerena data'!C1458/1000,0)","v":0},54.6,25.734999999999999,805.13100000000009,0]
[null,{"$f":"'namerena data'!A1459+('namerena data'!B1459-1)/24","v":"2013-08-30T13:00:00"},{"$f":"IF('namerena data'!C1459>0,'namerena data'!C1459/1000,0)","v":0},52.38,25.734999999999999,747.99929999999995,0]
[null,{"$f":"'namerena data'!A1460+('namerena data'!B1460-1)/24","v":"2013-08-30T14:00:00"},{"$f":"IF('namerena data'!C1460>0,'namerena data'!C1460/1000,0)","v":0},51.09,25.734999999999999,714.80115000000001,0]
[null,{"$f":"'namerena data'!A1461+('namerena data'!B1461-1)/24","v":"2013-08-30T15:00:00"},{"$f":"IF('namerena data'!C1461>0,'namerena data'!C1461/1000,0)","v":0},50.18,25.734999999999999,691.38229999999999,0]
[null,{"$f":"'namerena data'!A1462+('namerena data'!B1462-1)/24","v":"2013-08-30T16:00:00"},{"$f":"IF('namerena data'!C1462>0,'namerena data'!C1462/1000,0)","v":0},51.18,25.734999999999999,717.11729999999989,0]
[null,{"$f":"'namerena data'!A1463+('namerena data'!B1463-1)/24","v":"2013-08-30T17:00:00"},{"$f":"IF('namerena data'!C1463>0,'namerena data'!C1463/1000,0)","v":0},55.17,25.734999999999999,819.79995000000008,0]
[null,{"$f":"'namerena data'!A1464+('namerena data'!B1464-1)/24","v":"2013-08-30T18:00:00"},{"$f":"IF('namerena data'!C1464>0,'namerena data'!C1464/1000,0)","v":0},55.68,25.734999999999999,832.9248,0]
[null,{"$f":"'namerena data'!A1465+('namerena data'!B1465-1)/24","v":"2013-08-30T19:00:00"},{"$f":"IF('namerena data'!C1465>0,'namerena data'!C1465/1000,0)","v":0},57.54,25.734999999999999,880.79189999999994,0]
[null,{"$f":"'namerena data'!A1466+('namerena data'!B1466-1)/24","v":"2013-08-30T20:00:00"},{"$f":"IF('namerena data'!C1466>0,'namerena data'!C1466/1000,0)","v":0},60.7,25.734999999999999,962.11450000000013,0]
[null,{"$f":"'namerena data'!A1467+('namerena data'!B1467-1)/24","v":"2013-08-30T21:00:00"},{"$f":"IF('namerena data'!C1467>0,'namerena data'!C1467/1000,0)","v":0},56.58,25.734999999999999,856.08629999999994,0]
[null,{"$f":"'namerena data'!A1468+('namerena data'!B1468-1)/24","v":"2013-08-30T22:00:00"},{"$f":"IF('namerena data'!C1468>0,'namerena data'!C1468/1000,0)","v":0},48.5,25.734999999999999,648.14750000000004,0]
[null,{"$f":"'namerena data'!A1469+('namerena data'!B1469-1)/24","v":"2013-08-30T23:00:00"},{"$f":"IF('namerena data'!C1469>0,'namerena data'!C1469/1000,0)","v":0},40.49,25.734999999999999,442.01015000000007,0]
[null,{"$f":"'namerena data'!A1470+('namerena data'!B1470-1)/24","v":"2013-08-31"},{"$f":"IF('namerena data'!C1470>0,'namerena data'!C1470/1000,0)","v":0},34.94,25.734999999999999,299.18089999999995,0]
[null,{"$f":"'namerena data'!A1471+('namerena data'!B1471-1)/24","v":"2013-08-31T01:00:00"},{"$f":"IF('namerena data'!C1471>0,'namerena data'!C1471/1000,0)","v":0},33.049999999999997,25.734999999999999,250.54174999999987,0]
[null,{"$f":"'namerena data'!A1472+('namerena data'!B1472-1)/24","v":"2013-08-31T02:00:00"},{"$f":"IF('namerena data'!C1472>0,'namerena data'!C1472/1000,0)","v":0},29.21,25.734999999999999,151.71934999999996,0]
[null,{"$f":"'namerena data'!A1473+('namerena data'!B1473-1)/24","v":"2013-08-31T03:00:00"},{"$f":"IF('namerena data'!C1473>0,'namerena data'!C1473/1000,0)","v":0},27.61,25.734999999999999,110.54334999999992,0]
[null,{"$f":"'namerena data'!A1474+('namerena data'!B1474-1)/24","v":"2013-08-31T04:00:00"},{"$f":"IF('namerena data'!C1474>0,'namerena data'!C1474/1000,0)","v":0},26.75,25.734999999999999,88.411249999999995,0]
[null,{"$f":"'namerena data'!A1475+('namerena data'!B1475-1)/24","v":"2013-08-31T05:00:00"},{"$f":"IF('namerena data'!C1475>0,'namerena data'!C1475/1000,0)","v":0},26.9,25.734999999999999,92.271499999999946,0]
[null,{"$f":"'namerena data'!A1476+('namerena data'!B1476-1)/24","v":"2013-08-31T06:00:00"},{"$f":"IF('namerena data'!C1476>0,'namerena data'!C1476/1000,0)","v":0},27.07,25.734999999999999,96.646449999999959,0]
[null,{"$f":"'namerena data'!A1477+('namerena data'!B1477-1)/24","v":"2013-08-31T07:00:00"},{"$f":"IF('namerena data'!C1477>0,'namerena data'!C1477/1000,0)","v":0},30,25.734999999999999,172.04999999999995,0]
[null,{"$f":"'namerena data'!A1478+('namerena data'!B1478-1)/24","v":"2013-08-31T08:00:00"},{"$f":"IF('namerena data'!C1478>0,'namerena data'!C1478/1000,0)","v":0},32.700000000000003,25.734999999999999,241.53450000000009,0]
[null,{"$f":"'namerena data'!A1479+('namerena data'!B1479-1)/24","v":"2013-08-31T09:00:00"},{"$f":"IF('namerena data'!C1479>0,'namerena data'!C1479/1000,0)","v":0},36.57,25.734999999999999,341.12895000000003,0]
[null,{"$f":"'namerena data'!A1480+('namerena data'!B1480-1)/24","v":"2013-08-31T10:00:00"},{"$f":"IF('namerena data'!C1480>0,'namerena data'!C1480/1000,0)","v":0},35.1,25.734999999999999,303.29849999999999,0]
[null,{"$f":"'namerena data'!A1481+('namerena data'!B1481-1)/24","v":"2013-08-31T11:00:00"},{"$f":"IF('namerena data'!C1481>0,'namerena data'!C1481/1000,0)","v":0},33.299999999999997,25.734999999999999,256.9754999999999,0]
[null,{"$f":"'namerena data'!A1482+('namerena data'!B1482-1)/24","v":"2013-08-31T12:00:00"},{"$f":"IF('namerena data'!C1482>0,'namerena data'!C1482/1000,0)","v":0},30.3,25.734999999999999,179.77049999999997,0]
[null,{"$f":"'namerena data'!A1483+('namerena data'!B1483-1)/24","v":"2013-08-31T13:00:00"},{"$f":"IF('namerena data'!C1483>0,'namerena data'!C1483/1000,0)","v":0},27.7,25.734999999999999,112.85949999999991,0]
[null,{"$f":"'namerena data'!A1484+('namerena data'!B1484-1)/24","v":"2013-08-31T14:00:00"},{"$f":"IF('namerena data'!C1484>0,'namerena data'!C1484/1000,0)","v":0},27.3,25.734999999999999,102.56550000000004,0]
[null,{"$f":"'namerena data'!A1485+('namerena data'!B1485-1)/24","v":"2013-08-31T15:00:00"},{"$f":"IF('namerena data'!C1485>0,'namerena data'!C1485/1000,0)","v":0},27.2,25.734999999999999,99.991999999999962,0]
[null,{"$f":"'namerena data'!A1486+('namerena data'!B1486-1)/24","v":"2013-08-31T16:00:00"},{"$f":"IF('namerena data'!C1486>0,'namerena data'!C1486/1000,0)","v":0},30.9,25.734999999999999,195.2115,0]
[null,{"$f":"'namerena data'!A1487+('namerena data'!B1487-1)/24","v":"2013-08-31T17:00:00"},{"$f":"IF('namerena data'!C1487>0,'namerena data'!C1487/1000,0)","v":0},34.1,25.734999999999999,{"$f":"+IF(AND(ISNUMBER(D1497),ISNUMBER(E1497)),D1497*E1497-$F$13,0)","v":277.56349999999998},{"$f":"+(C1497*F1497)","v":0}]
[null,{"$f":"'namerena data'!A1488+('namerena data'!B1488-1)/24","v":"2013-08-31T18:00:00"},{"$f":"IF('namerena data'!C1488>0,'namerena data'!C1488/1000,0)","v":0},35.21,25.734999999999999,306.12935000000004,0]
[null,{"$f":"'namerena data'!A1489+('namerena data'!B1489-1)/24","v":"2013-08-31T19:00:00"},{"$f":"IF('namerena data'!C1489>0,'namerena data'!C1489/1000,0)","v":0},38.94,25.734999999999999,402.12089999999989,0]
[null,{"$f":"'namerena data'!A1490+('namerena data'!B1490-1)/24","v":"2013-08-31T20:00:00"},{"$f":"IF('namerena data'!C1490>0,'namerena data'!C1490/1000,0)","v":0},41.44,25.734999999999999,466.45839999999998,0]
[null,{"$f":"'namerena data'!A1491+('namerena data'!B1491-1)/24","v":"2013-08-31T21:00:00"},{"$f":"IF('namerena data'!C1491>0,'namerena data'!C1491/1000,0)","v":0},38.43,25.734999999999999,388.99604999999997,0]
[null,{"$f":"'namerena data'!A1492+('namerena data'!B1492-1)/24","v":"2013-08-31T22:00:00"},{"$f":"IF('namerena data'!C1492>0,'namerena data'!C1492/1000,0)","v":0},35.090000000000003,25.734999999999999,303.04115000000002,0]
[null,{"$f":"'namerena data'!A1493+('namerena data'!B1493-1)/24","v":"2013-08-31T23:00:00"},{"$f":"IF('namerena data'!C1493>0,'namerena data'!C1493/1000,0)","v":0},30.59,25.734999999999999,187.23365000000001,0]
[null,{"$f":"'namerena data'!A1494+('namerena data'!B1494-1)/24","v":"2013-09-01"},{"$f":"IF('namerena data'!C1494>0,'namerena data'!C1494/1000,0)","v":0},29.6,25.734999999999999,161.75599999999997,0]
[null,{"$f":"'namerena data'!A1495+('namerena data'!B1495-1)/24","v":"2013-09-01T01:00:00"},{"$f":"IF('namerena data'!C1495>0,'namerena data'!C1495/1000,0)","v":0},25.15,25.734999999999999,47.235249999999951,0]
[null,{"$f":"'namerena data'!A1496+('namerena data'!B1496-1)/24","v":"2013-09-01T02:00:00"},{"$f":"IF('namerena data'!C1496>0,'namerena data'!C1496/1000,0)","v":0},23.84,25.734999999999999,13.522399999999948,0]
[null,{"$f":"'namerena data'!A1497+('namerena data'!B1497-1)/24","v":"2013-09-01T03:00:00"},{"$f":"IF('namerena data'!C1497>0,'namerena data'!C1497/1000,0)","v":0},21,25.734999999999999,-59.565000000000055,0]
[null,{"$f":"'namerena data'!A1498+('namerena data'!B1498-1)/24","v":"2013-09-01T04:00:00"},{"$f":"IF('namerena data'!C1498>0,'namerena data'!C1498/1000,0)","v":0},20.149999999999999,25.734999999999999,-81.439750000000004,0]
[null,{"$f":"'namerena data'!A1499+('namerena data'!B1499-1)/24","v":"2013-09-01T05:00:00"},{"$f":"IF('namerena data'!C1499>0,'namerena data'!C1499/1000,0)","v":0},18.07,25.734999999999999,-134.96854999999999,0]
[null,{"$f":"'namerena data'!A1500+('namerena data'!B1500-1)/24","v":"2013-09-01T06:00:00"},{"$f":"IF('namerena data'!C1500>0,'namerena data'!C1500/1000,0)","v":0},18.39,25.734999999999999,-126.73334999999997,0]
[null,{"$f":"'namerena data'!A1501+('namerena data'!B1501-1)/24","v":"2013-09-01T07:00:00"},{"$f":"IF('namerena data'!C1501>0,'namerena data'!C1501/1000,0)","v":0},20.100000000000001,25.734999999999999,-82.726499999999987,0]
[null,{"$f":"'namerena data'!A1502+('namerena data'!B1502-1)/24","v":"2013-09-01T08:00:00"},{"$f":"IF('namerena data'!C1502>0,'namerena data'!C1502/1000,0)","v":0},24.22,25.734999999999999,23.301699999999983,0]
[null,{"$f":"'namerena data'!A1503+('namerena data'!B1503-1)/24","v":"2013-09-01T09:00:00"},{"$f":"IF('namerena data'!C1503>0,'namerena data'!C1503/1000,0)","v":0},26.3,25.734999999999999,76.830500000000029,0]
[null,{"$f":"'namerena data'!A1504+('namerena data'!B1504-1)/24","v":"2013-09-01T10:00:00"},{"$f":"IF('namerena data'!C1504>0,'namerena data'!C1504/1000,0)","v":0},26.9,25.734999999999999,92.271499999999946,0]
[null,{"$f":"'namerena data'!A1505+('namerena data'!B1505-1)/24","v":"2013-09-01T11:00:00"},{"$f":"IF('namerena data'!C1505>0,'namerena data'!C1505/1000,0)","v":0},27.8,25.734999999999999,115.43299999999999,0]
[null,{"$f":"'namerena data'!A1506+('namerena data'!B1506-1)/24","v":"2013-09-01T12:00:00"},{"$f":"IF('namerena data'!C1506>0,'namerena data'!C1506/1000,0)","v":0},24.4,25.734999999999999,27.933999999999969,0]
[null,{"$f":"'namerena data'!A1507+('namerena data'!B1507-1)/24","v":"2013-09-01T13:00:00"},{"$f":"IF('namerena data'!C1507>0,'namerena data'!C1507/1000,0)","v":0},18.78,25.734999999999999,-116.69669999999996,0]
[null,{"$f":"'namerena data'!A1508+('namerena data'!B1508-1)/24","v":"2013-09-01T14:00:00"},{"$f":"IF('namerena data'!C1508>0,'namerena data'!C1508/1000,0)","v":0},16.899999999999999,25.734999999999999,-165.07850000000002,0]
[null,{"$f":"'namerena data'!A1509+('namerena data'!B1509-1)/24","v":"2013-09-01T15:00:00"},{"$f":"IF('namerena data'!C1509>0,'namerena data'!C1509/1000,0)","v":0},17,25.734999999999999,-162.505,0]
[null,{"$f":"'namerena data'!A1510+('namerena data'!B1510-1)/24","v":"2013-09-01T16:00:00"},{"$f":"IF('namerena data'!C1510>0,'namerena data'!C1510/1000,0)","v":0},19.100000000000001,25.734999999999999,-108.4615,0]
[null,{"$f":"'namerena data'!A1511+('namerena data'!B1511-1)/24","v":"2013-09-01T17:00:00"},{"$f":"IF('namerena data'!C1511>0,'namerena data'!C1511/1000,0)","v":0},23.9,25.734999999999999,15.066499999999905,0]
[null,{"$f":"'namerena data'!A1512+('namerena data'!B1512-1)/24","v":"2013-09-01T18:00:00"},{"$f":"IF('namerena data'!C1512>0,'namerena data'!C1512/1000,0)","v":0},32.54,25.734999999999999,237.41689999999994,0]
[null,{"$f":"'namerena data'!A1513+('namerena data'!B1513-1)/24","v":"2013-09-01T19:00:00"},{"$f":"IF('namerena data'!C1513>0,'namerena data'!C1513/1000,0)","v":0},36.4,25.734999999999999,336.75399999999991,0]
[null,{"$f":"'namerena data'!A1514+('namerena data'!B1514-1)/24","v":"2013-09-01T20:00:00"},{"$f":"IF('namerena data'!C1514>0,'namerena data'!C1514/1000,0)","v":0},38.4,25.734999999999999,388.22399999999993,0]
[null,{"$f":"'namerena data'!A1515+('namerena data'!B1515-1)/24","v":"2013-09-01T21:00:00"},{"$f":"IF('namerena data'!C1515>0,'namerena data'!C1515/1000,0)","v":0},37.700000000000003,25.734999999999999,370.20950000000005,0]
[null,{"$f":"'namerena data'!A1516+('namerena data'!B1516-1)/24","v":"2013-09-01T22:00:00"},{"$f":"IF('namerena data'!C1516>0,'namerena data'!C1516/1000,0)","v":0},36.56,25.734999999999999,340.87160000000006,0]
[null,{"$f":"'namerena data'!A1517+('namerena data'!B1517-1)/24","v":"2013-09-01T23:00:00"},{"$f":"IF('namerena data'!C1517>0,'namerena data'!C1517/1000,0)","v":0},35,25.734999999999999,300.72500000000002,0]
[null,{"$f":"'namerena data'!A1518+('namerena data'!B1518-1)/24","v":"2013-09-02"},{"$f":"IF('namerena data'!C1518>0,'namerena data'!C1518/1000,0)","v":0},28.6,25.684999999999999,134.59100000000001,0]
[null,{"$f":"'namerena data'!A1519+('namerena data'!B1519-1)/24","v":"2013-09-02T01:00:00"},{"$f":"IF('namerena data'!C1519>0,'namerena data'!C1519/1000,0)","v":0},27.22,25.684999999999999,99.14569999999992,0]
[null,{"$f":"'namerena data'!A1520+('namerena data'!B1520-1)/24","v":"2013-09-02T02:00:00"},{"$f":"IF('namerena data'!C1520>0,'namerena data'!C1520/1000,0)","v":0},23,25.684999999999999,-9.2450000000000045,0]
[null,{"$f":"'namerena data'!A1521+('namerena data'!B1521-1)/24","v":"2013-09-02T03:00:00"},{"$f":"IF('namerena data'!C1521>0,'namerena data'!C1521/1000,0)","v":0},26,25.684999999999999,67.809999999999945,0]
[null,{"$f":"'namerena data'!A1522+('namerena data'!B1522-1)/24","v":"2013-09-02T04:00:00"},{"$f":"IF('namerena data'!C1522>0,'namerena data'!C1522/1000,0)","v":0},26.23,25.684999999999999,73.71754999999996,0]
[null,{"$f":"'namerena data'!A1523+('namerena data'!B1523-1)/24","v":"2013-09-02T05:00:00"},{"$f":"IF('namerena data'!C1523>0,'namerena data'!C1523/1000,0)","v":0},27.9,25.684999999999999,116.61149999999998,0]
[null,{"$f":"'namerena data'!A1524+('namerena data'!B1524-1)/24","v":"2013-09-02T06:00:00"},{"$f":"IF('namerena data'!C1524>0,'namerena data'!C1524/1000,0)","v":0},37.49,25.684999999999999,362.93065000000001,0]
[null,{"$f":"'namerena data'!A1525+('namerena data'!B1525-1)/24","v":"2013-09-02T07:00:00"},{"$f":"IF('namerena data'!C1525>0,'namerena data'!C1525/1000,0)","v":0},48.1,25.684999999999999,635.44849999999997,0]
[null,{"$f":"'namerena data'!A1526+('namerena data'!B1526-1)/24","v":"2013-09-02T08:00:00"},{"$f":"IF('namerena data'!C1526>0,'namerena data'!C1526/1000,0)","v":0},50.08,25.684999999999999,686.30479999999989,0]
[null,{"$f":"'namerena data'!A1527+('namerena data'!B1527-1)/24","v":"2013-09-02T09:00:00"},{"$f":"IF('namerena data'!C1527>0,'namerena data'!C1527/1000,0)","v":0},51,25.684999999999999,709.93499999999995,0]
[null,{"$f":"'namerena data'!A1528+('namerena data'!B1528-1)/24","v":"2013-09-02T10:00:00"},{"$f":"IF('namerena data'!C1528>0,'namerena data'!C1528/1000,0)","v":0},48.4,25.684999999999999,643.154,0]
[null,{"$f":"'namerena data'!A1529+('namerena data'!B1529-1)/24","v":"2013-09-02T11:00:00"},{"$f":"IF('namerena data'!C1529>0,'namerena data'!C1529/1000,0)","v":0},50.52,25.684999999999999,697.60619999999994,0]
[null,{"$f":"'namerena data'!A1530+('namerena data'!B1530-1)/24","v":"2013-09-02T12:00:00"},{"$f":"IF('namerena data'!C1530>0,'namerena data'!C1530/1000,0)","v":0},49.78,25.684999999999999,678.59929999999986,0]
[null,{"$f":"'namerena data'!A1531+('namerena data'!B1531-1)/24","v":"2013-09-02T13:00:00"},{"$f":"IF('namerena data'!C1531>0,'namerena data'!C1531/1000,0)","v":0},47.25,25.684999999999999,613.61625000000004,0]
[null,{"$f":"'namerena data'!A1532+('namerena data'!B1532-1)/24","v":"2013-09-02T14:00:00"},{"$f":"IF('namerena data'!C1532>0,'namerena data'!C1532/1000,0)","v":0},42.98,25.684999999999999,503.94129999999996,0]
[null,{"$f":"'namerena data'!A1533+('namerena data'!B1533-1)/24","v":"2013-09-02T15:00:00"},{"$f":"IF('namerena data'!C1533>0,'namerena data'!C1533/1000,0)","v":0},44,25.684999999999999,530.13999999999987,0]
[null,{"$f":"'namerena data'!A1534+('namerena data'!B1534-1)/24","v":"2013-09-02T16:00:00"},{"$f":"IF('namerena data'!C1534>0,'namerena data'!C1534/1000,0)","v":0},44.92,25.684999999999999,553.77019999999993,0]
[null,{"$f":"'namerena data'!A1535+('namerena data'!B1535-1)/24","v":"2013-09-02T17:00:00"},{"$f":"IF('namerena data'!C1535>0,'namerena data'!C1535/1000,0)","v":0},47.21,25.684999999999999,612.58884999999987,0]
[null,{"$f":"'namerena data'!A1536+('namerena data'!B1536-1)/24","v":"2013-09-02T18:00:00"},{"$f":"IF('namerena data'!C1536>0,'namerena data'!C1536/1000,0)","v":0},48.13,25.684999999999999,636.21904999999992,0]
[null,{"$f":"'namerena data'!A1537+('namerena data'!B1537-1)/24","v":"2013-09-02T19:00:00"},{"$f":"IF('namerena data'!C1537>0,'namerena data'!C1537/1000,0)","v":0},51.54,25.684999999999999,723.80489999999986,0]
[null,{"$f":"'namerena data'!A1538+('namerena data'!B1538-1)/24","v":"2013-09-02T20:00:00"},{"$f":"IF('namerena data'!C1538>0,'namerena data'!C1538/1000,0)","v":0},54,25.684999999999999,786.99,0]
[null,{"$f":"'namerena data'!A1539+('namerena data'!B1539-1)/24","v":"2013-09-02T21:00:00"},{"$f":"IF('namerena data'!C1539>0,'namerena data'!C1539/1000,0)","v":0},45.18,25.684999999999999,560.44830000000002,0]
[null,{"$f":"'namerena data'!A1540+('namerena data'!B1540-1)/24","v":"2013-09-02T22:00:00"},{"$f":"IF('namerena data'!C1540>0,'namerena data'!C1540/1000,0)","v":0},41,25.684999999999999,453.08500000000004,0]
[null,{"$f":"'namerena data'!A1541+('namerena data'!B1541-1)/24","v":"2013-09-02T23:00:00"},{"$f":"IF('namerena data'!C1541>0,'namerena data'!C1541/1000,0)","v":0},33.520000000000003,25.684999999999999,260.96120000000008,0]
[null,{"$f":"'namerena data'!A1542+('namerena data'!B1542-1)/24","v":"2013-09-03"},{"$f":"IF('namerena data'!C1542>0,'namerena data'!C1542/1000,0)","v":0},28.05,25.72,121.44600000000003,0]
[null,{"$f":"'namerena data'!A1543+('namerena data'!B1543-1)/24","v":"2013-09-03T01:00:00"},{"$f":"IF('namerena data'!C1543>0,'namerena data'!C1543/1000,0)","v":0},27.9,25.72,117.58799999999997,0]
[null,{"$f":"'namerena data'!A1544+('namerena data'!B1544-1)/24","v":"2013-09-03T02:00:00"},{"$f":"IF('namerena data'!C1544>0,'namerena data'!C1544/1000,0)","v":0},27.05,25.72,95.725999999999999,0]
[null,{"$f":"'namerena data'!A1545+('namerena data'!B1545-1)/24","v":"2013-09-03T03:00:00"},{"$f":"IF('namerena data'!C1545>0,'namerena data'!C1545/1000,0)","v":0},26,25.72,68.720000000000027,0]
[null,{"$f":"'namerena data'!A1546+('namerena data'!B1546-1)/24","v":"2013-09-03T04:00:00"},{"$f":"IF('namerena data'!C1546>0,'namerena data'!C1546/1000,0)","v":0},27.61,25.72,110.12919999999997,0]
[null,{"$f":"'namerena data'!A1547+('namerena data'!B1547-1)/24","v":"2013-09-03T05:00:00"},{"$f":"IF('namerena data'!C1547>0,'namerena data'!C1547/1000,0)","v":0},32,25.72,223.03999999999996,0]
[null,{"$f":"'namerena data'!A1548+('namerena data'!B1548-1)/24","v":"2013-09-03T06:00:00"},{"$f":"IF('namerena data'!C1548>0,'namerena data'!C1548/1000,0)","v":0},41.73,25.72,473.29559999999992,0]
[null,{"$f":"'namerena data'!A1549+('namerena data'!B1549-1)/24","v":"2013-09-03T07:00:00"},{"$f":"IF('namerena data'!C1549>0,'namerena data'!C1549/1000,0)","v":0},55.29,25.72,822.05880000000002,0]
[null,{"$f":"'namerena data'!A1550+('namerena data'!B1550-1)/24","v":"2013-09-03T08:00:00"},{"$f":"IF('namerena data'!C1550>0,'namerena data'!C1550/1000,0)","v":0},61.09,25.72,971.23479999999995,0]
[null,{"$f":"'namerena data'!A1551+('namerena data'!B1551-1)/24","v":"2013-09-03T09:00:00"},{"$f":"IF('namerena data'!C1551>0,'namerena data'!C1551/1000,0)","v":0},60,25.72,{"$f":"+IF(AND(ISNUMBER(D1561),ISNUMBER(E1561)),D1561*E1561-$F$13,0)","v":943.19999999999982},{"$f":"+(C1561*F1561)","v":0}]
[null,{"$f":"'namerena data'!A1552+('namerena data'!B1552-1)/24","v":"2013-09-03T10:00:00"},{"$f":"IF('namerena data'!C1552>0,'namerena data'!C1552/1000,0)","v":0},58.1,25.72,894.33199999999988,0]
[null,{"$f":"'namerena data'!A1553+('namerena data'!B1553-1)/24","v":"2013-09-03T11:00:00"},{"$f":"IF('namerena data'!C1553>0,'namerena data'!C1553/1000,0)","v":0},59,25.72,917.48,0]
[null,{"$f":"'namerena data'!A1554+('namerena data'!B1554-1)/24","v":"2013-09-03T12:00:00"},{"$f":"IF('namerena data'!C1554>0,'namerena data'!C1554/1000,0)","v":0},57.1,25.72,868.61200000000008,0]
[null,{"$f":"'namerena data'!A1555+('namerena data'!B1555-1)/24","v":"2013-09-03T13:00:00"},{"$f":"IF('namerena data'!C1555>0,'namerena data'!C1555/1000,0)","v":0},56,25.72,840.31999999999994,0]
[null,{"$f":"'namerena data'!A1556+('namerena data'!B1556-1)/24","v":"2013-09-03T14:00:00"},{"$f":"IF('namerena data'!C1556>0,'namerena data'!C1556/1000,0)","v":0},52.97,25.72,762.38839999999982,0]
[null,{"$f":"'namerena data'!A1557+('namerena data'!B1557-1)/24","v":"2013-09-03T15:00:00"},{"$f":"IF('namerena data'!C1557>0,'namerena data'!C1557/1000,0)","v":0},53,25.72,763.15999999999985,0]
[null,{"$f":"'namerena data'!A1558+('namerena data'!B1558-1)/24","v":"2013-09-03T16:00:00"},{"$f":"IF('namerena data'!C1558>0,'namerena data'!C1558/1000,0)","v":0},53.1,25.72,765.73199999999997,0]
[null,{"$f":"'namerena data'!A1559+('namerena data'!B1559-1)/24","v":"2013-09-03T17:00:00"},{"$f":"IF('namerena data'!C1559>0,'namerena data'!C1559/1000,0)","v":0},55.75,25.72,833.88999999999987,0]
[null,{"$f":"'namerena data'!A1560+('namerena data'!B1560-1)/24","v":"2013-09-03T18:00:00"},{"$f":"IF('namerena data'!C1560>0,'namerena data'!C1560/1000,0)","v":0},61.94,25.72,993.0967999999998,0]
[null,{"$f":"'namerena data'!A1561+('namerena data'!B1561-1)/24","v":"2013-09-03T19:00:00"},{"$f":"IF('namerena data'!C1561>0,'namerena data'!C1561/1000,0)","v":0},64.8,25.72,1066.6559999999999,0]
[null,{"$f":"'namerena data'!A1562+('namerena data'!B1562-1)/24","v":"2013-09-03T20:00:00"},{"$f":"IF('namerena data'!C1562>0,'namerena data'!C1562/1000,0)","v":0},69.63,25.72,1190.8835999999999,0]
[null,{"$f":"'namerena data'!A1563+('namerena data'!B1563-1)/24","v":"2013-09-03T21:00:00"},{"$f":"IF('namerena data'!C1563>0,'namerena data'!C1563/1000,0)","v":0},61,25.72,968.91999999999985,0]
[null,{"$f":"'namerena data'!A1564+('namerena data'!B1564-1)/24","v":"2013-09-03T22:00:00"},{"$f":"IF('namerena data'!C1564>0,'namerena data'!C1564/1000,0)","v":0},52.8,25.72,758.01599999999985,0]
[null,{"$f":"'namerena data'!A1565+('namerena data'!B1565-1)/24","v":"2013-09-03T23:00:00"},{"$f":"IF('namerena data'!C1565>0,'namerena data'!C1565/1000,0)","v":0},42.14,25.72,483.84079999999994,0]
[null,{"$f":"'namerena data'!A1566+('namerena data'!B1566-1)/24","v":"2013-09-04"},{"$f":"IF('namerena data'!C1566>0,'namerena data'!C1566/1000,0)","v":0},37,25.78,353.86,0]
[null,{"$f":"'namerena data'!A1567+('namerena data'!B1567-1)/24","v":"2013-09-04T01:00:00"},{"$f":"IF('namerena data'!C1567>0,'namerena data'!C1567/1000,0)","v":0},35.799999999999997,25.78,322.92399999999998,0]
[null,{"$f":"'namerena data'!A1568+('namerena data'!B1568-1)/24","v":"2013-09-04T02:00:00"},{"$f":"IF('namerena data'!C1568>0,'namerena data'!C1568/1000,0)","v":0},34,25.78,276.52,0]
[null,{"$f":"'namerena data'!A1569+('namerena data'!B1569-1)/24","v":"2013-09-04T03:00:00"},{"$f":"IF('namerena data'!C1569>0,'namerena data'!C1569/1000,0)","v":0},33.090000000000003,25.78,253.06020000000012,0]
[null,{"$f":"'namerena data'!A1570+('namerena data'!B1570-1)/24","v":"2013-09-04T04:00:00"},{"$f":"IF('namerena data'!C1570>0,'namerena data'!C1570/1000,0)","v":0},32.5,25.78,237.85000000000002,0]
[null,{"$f":"'namerena data'!A1571+('namerena data'!B1571-1)/24","v":"2013-09-04T05:00:00"},{"$f":"IF('namerena data'!C1571>0,'namerena data'!C1571/1000,0)","v":0},36.6,25.78,343.54800000000012,0]
[null,{"$f":"'namerena data'!A1572+('namerena data'!B1572-1)/24","v":"2013-09-04T06:00:00"},{"$f":"IF('namerena data'!C1572>0,'namerena data'!C1572/1000,0)","v":0},53.8,25.78,786.96399999999994,0]
[null,{"$f":"'namerena data'!A1573+('namerena data'!B1573-1)/24","v":"2013-09-04T07:00:00"},{"$f":"IF('namerena data'!C1573>0,'namerena data'!C1573/1000,0)","v":0},65.400000000000006,25.78,1086.0120000000002,0]
[null,{"$f":"'namerena data'!A1574+('namerena data'!B1574-1)/24","v":"2013-09-04T08:00:00"},{"$f":"IF('namerena data'!C1574>0,'namerena data'!C1574/1000,0)","v":0},64.959999999999994,25.78,1074.6687999999999,0]
[null,{"$f":"'namerena data'!A1575+('namerena data'!B1575-1)/24","v":"2013-09-04T09:00:00"},{"$f":"IF('namerena data'!C1575>0,'namerena data'!C1575/1000,0)","v":0},59.2,25.78,926.17600000000016,0]
[null,{"$f":"'namerena data'!A1576+('namerena data'!B1576-1)/24","v":"2013-09-04T10:00:00"},{"$f":"IF('namerena data'!C1576>0,'namerena data'!C1576/1000,0)","v":0},56.5,25.78,856.57000000000016,0]
[null,{"$f":"'namerena data'!A1577+('namerena data'!B1577-1)/24","v":"2013-09-04T11:00:00"},{"$f":"IF('namerena data'!C1577>0,'namerena data'!C1577/1000,0)","v":0},56.98,25.78,868.94440000000009,0]
[null,{"$f":"'namerena data'!A1578+('namerena data'!B1578-1)/24","v":"2013-09-04T12:00:00"},{"$f":"IF('namerena data'!C1578>0,'namerena data'!C1578/1000,0)","v":0},54.09,25.78,794.44020000000023,0]
[null,{"$f":"'namerena data'!A1579+('namerena data'!B1579-1)/24","v":"2013-09-04T13:00:00"},{"$f":"IF('namerena data'!C1579>0,'namerena data'!C1579/1000,0)","v":0},52.1,25.78,743.13800000000015,0]
[null,{"$f":"'namerena data'!A1580+('namerena data'!B1580-1)/24","v":"2013-09-04T14:00:00"},{"$f":"IF('namerena data'!C1580>0,'namerena data'!C1580/1000,0)","v":0},51.24,25.78,720.96720000000005,0]
[null,{"$f":"'namerena data'!A1581+('namerena data'!B1581-1)/24","v":"2013-09-04T15:00:00"},{"$f":"IF('namerena data'!C1581>0,'namerena data'!C1581/1000,0)","v":0},51.28,25.78,721.99840000000017,0]
[null,{"$f":"'namerena data'!A1582+('namerena data'!B1582-1)/24","v":"2013-09-04T16:00:00"},{"$f":"IF('namerena data'!C1582>0,'namerena data'!C1582/1000,0)","v":0},52,25.78,740.56,0]
[null,{"$f":"'namerena data'!A1583+('namerena data'!B1583-1)/24","v":"2013-09-04T17:00:00"},{"$f":"IF('namerena data'!C1583>0,'namerena data'!C1583/1000,0)","v":0},55.79,25.78,838.26620000000003,0]
[null,{"$f":"'namerena data'!A1584+('namerena data'!B1584-1)/24","v":"2013-09-04T18:00:00"},{"$f":"IF('namerena data'!C1584>0,'namerena data'!C1584/1000,0)","v":0},59.2,25.78,926.17600000000016,0]
[null,{"$f":"'namerena data'!A1585+('namerena data'!B1585-1)/24","v":"2013-09-04T19:00:00"},{"$f":"IF('namerena data'!C1585>0,'namerena data'!C1585/1000,0)","v":0},64.7,25.78,1067.9660000000001,0]
[null,{"$f":"'namerena data'!A1586+('namerena data'!B1586-1)/24","v":"2013-09-04T20:00:00"},{"$f":"IF('namerena data'!C1586>0,'namerena data'!C1586/1000,0)","v":0},68.62,25.78,1169.0236000000002,0]
[null,{"$f":"'namerena data'!A1587+('namerena data'!B1587-1)/24","v":"2013-09-04T21:00:00"},{"$f":"IF('namerena data'!C1587>0,'namerena data'!C1587/1000,0)","v":0},59.51,25.78,934.16779999999994,0]
[null,{"$f":"'namerena data'!A1588+('namerena data'!B1588-1)/24","v":"2013-09-04T22:00:00"},{"$f":"IF('namerena data'!C1588>0,'namerena data'!C1588/1000,0)","v":0},51.01,25.78,715.03780000000006,0]
[null,{"$f":"'namerena data'!A1589+('namerena data'!B1589-1)/24","v":"2013-09-04T23:00:00"},{"$f":"IF('namerena data'!C1589>0,'namerena data'!C1589/1000,0)","v":0},39.83,25.78,426.81739999999991,0]
[null,{"$f":"'namerena data'!A1590+('namerena data'!B1590-1)/24","v":"2013-09-05"},{"$f":"IF('namerena data'!C1590>0,'namerena data'!C1590/1000,0)","v":0},34.9,25.74,298.32599999999991,0]
[null,{"$f":"'namerena data'!A1591+('namerena data'!B1591-1)/24","v":"2013-09-05T01:00:00"},{"$f":"IF('namerena data'!C1591>0,'namerena data'!C1591/1000,0)","v":0},34,25.74,275.15999999999997,0]
[null,{"$f":"'namerena data'!A1592+('namerena data'!B1592-1)/24","v":"2013-09-05T02:00:00"},{"$f":"IF('namerena data'!C1592>0,'namerena data'!C1592/1000,0)","v":0},32.17,25.74,228.05579999999998,0]
[null,{"$f":"'namerena data'!A1593+('namerena data'!B1593-1)/24","v":"2013-09-05T03:00:00"},{"$f":"IF('namerena data'!C1593>0,'namerena data'!C1593/1000,0)","v":0},30.05,25.74,173.48699999999997,0]
[null,{"$f":"'namerena data'!A1594+('namerena data'!B1594-1)/24","v":"2013-09-05T04:00:00"},{"$f":"IF('namerena data'!C1594>0,'namerena data'!C1594/1000,0)","v":0},31.42,25.74,208.75080000000003,0]
[null,{"$f":"'namerena data'!A1595+('namerena data'!B1595-1)/24","v":"2013-09-05T05:00:00"},{"$f":"IF('namerena data'!C1595>0,'namerena data'!C1595/1000,0)","v":0},34,25.74,275.15999999999997,0]
[null,{"$f":"'namerena data'!A1596+('namerena data'!B1596-1)/24","v":"2013-09-05T06:00:00"},{"$f":"IF('namerena data'!C1596>0,'namerena data'!C1596/1000,0)","v":0},48.37,25.74,645.04379999999992,0]
[null,{"$f":"'namerena data'!A1597+('namerena data'!B1597-1)/24","v":"2013-09-05T07:00:00"},{"$f":"IF('namerena data'!C1597>0,'namerena data'!C1597/1000,0)","v":0},60.02,25.74,944.91480000000001,0]
[null,{"$f":"'namerena data'!A1598+('namerena data'!B1598-1)/24","v":"2013-09-05T08:00:00"},{"$f":"IF('namerena data'!C1598>0,'namerena data'!C1598/1000,0)","v":0},59.37,25.74,928.18379999999979,0]
[null,{"$f":"'namerena data'!A1599+('namerena data'!B1599-1)/24","v":"2013-09-05T09:00:00"},{"$f":"IF('namerena data'!C1599>0,'namerena data'!C1599/1000,0)","v":0},57.65,25.74,883.91099999999983,0]
[null,{"$f":"'namerena data'!A1600+('namerena data'!B1600-1)/24","v":"2013-09-05T10:00:00"},{"$f":"IF('namerena data'!C1600>0,'namerena data'!C1600/1000,0)","v":0},54.1,25.74,792.53399999999988,0]
[null,{"$f":"'namerena data'!A1601+('namerena data'!B1601-1)/24","v":"2013-09-05T11:00:00"},{"$f":"IF('namerena data'!C1601>0,'namerena data'!C1601/1000,0)","v":0},52.25,25.74,744.91499999999996,0]
[null,{"$f":"'namerena data'!A1602+('namerena data'!B1602-1)/24","v":"2013-09-05T12:00:00"},{"$f":"IF('namerena data'!C1602>0,'namerena data'!C1602/1000,0)","v":0},48.74,25.74,654.56760000000008,0]
[null,{"$f":"'namerena data'!A1603+('namerena data'!B1603-1)/24","v":"2013-09-05T13:00:00"},{"$f":"IF('namerena data'!C1603>0,'namerena data'!C1603/1000,0)","v":0},46.8,25.74,604.63199999999983,0]
[null,{"$f":"'namerena data'!A1604+('namerena data'!B1604-1)/24","v":"2013-09-05T14:00:00"},{"$f":"IF('namerena data'!C1604>0,'namerena data'!C1604/1000,0)","v":0},45.17,25.74,562.67579999999998,0]
[null,{"$f":"'namerena data'!A1605+('namerena data'!B1605-1)/24","v":"2013-09-05T15:00:00"},{"$f":"IF('namerena data'!C1605>0,'namerena data'!C1605/1000,0)","v":0},45.84,25.74,579.92160000000013,0]
[null,{"$f":"'namerena data'!A1606+('namerena data'!B1606-1)/24","v":"2013-09-05T16:00:00"},{"$f":"IF('namerena data'!C1606>0,'namerena data'!C1606/1000,0)","v":0},48.4,25.74,645.8159999999998,0]
[null,{"$f":"'namerena data'!A1607+('namerena data'!B1607-1)/24","v":"2013-09-05T17:00:00"},{"$f":"IF('namerena data'!C1607>0,'namerena data'!C1607/1000,0)","v":0},53.31,25.74,772.19939999999997,0]
[null,{"$f":"'namerena data'!A1608+('namerena data'!B1608-1)/24","v":"2013-09-05T18:00:00"},{"$f":"IF('namerena data'!C1608>0,'namerena data'!C1608/1000,0)","v":0},59,25.74,918.65999999999985,0]
[null,{"$f":"'namerena data'!A1609+('namerena data'!B1609-1)/24","v":"2013-09-05T19:00:00"},{"$f":"IF('namerena data'!C1609>0,'namerena data'!C1609/1000,0)","v":0},61.4,25.74,980.43599999999992,0]
[null,{"$f":"'namerena data'!A1610+('namerena data'!B1610-1)/24","v":"2013-09-05T20:00:00"},{"$f":"IF('namerena data'!C1610>0,'namerena data'!C1610/1000,0)","v":0},66,25.74,1098.8399999999999,0]
[null,{"$f":"'namerena data'!A1611+('namerena data'!B1611-1)/24","v":"2013-09-05T21:00:00"},{"$f":"IF('namerena data'!C1611>0,'namerena data'!C1611/1000,0)","v":0},54.94,25.74,814.15559999999982,0]
[null,{"$f":"'namerena data'!A1612+('namerena data'!B1612-1)/24","v":"2013-09-05T22:00:00"},{"$f":"IF('namerena data'!C1612>0,'namerena data'!C1612/1000,0)","v":0},46.73,25.74,602.83019999999988,0]
[null,{"$f":"'namerena data'!A1613+('namerena data'!B1613-1)/24","v":"2013-09-05T23:00:00"},{"$f":"IF('namerena data'!C1613>0,'namerena data'!C1613/1000,0)","v":0},35.81,25.74,321.74940000000004,0]
[null,{"$f":"'namerena data'!A1614+('namerena data'!B1614-1)/24","v":"2013-09-06"},{"$f":"IF('namerena data'!C1614>0,'namerena data'!C1614/1000,0)","v":0},31.8,25.76,219.16800000000012,0]
[null,{"$f":"'namerena data'!A1615+('namerena data'!B1615-1)/24","v":"2013-09-06T01:00:00"},{"$f":"IF('namerena data'!C1615>0,'namerena data'!C1615/1000,0)","v":0},32,25.76,{"$f":"+IF(AND(ISNUMBER(D1625),ISNUMBER(E1625)),D1625*E1625-$F$13,0)","v":224.32000000000005},{"$f":"+(C1625*F1625)","v":0}]
[null,{"$f":"'namerena data'!A1616+('namerena data'!B1616-1)/24","v":"2013-09-06T02:00:00"},{"$f":"IF('namerena data'!C1616>0,'namerena data'!C1616/1000,0)","v":0},30.81,25.76,193.66560000000004,0]
[null,{"$f":"'namerena data'!A1617+('namerena data'!B1617-1)/24","v":"2013-09-06T03:00:00"},{"$f":"IF('namerena data'!C1617>0,'namerena data'!C1617/1000,0)","v":0},29.02,25.76,147.55520000000001,0]
[null,{"$f":"'namerena data'!A1618+('namerena data'!B1618-1)/24","v":"2013-09-06T04:00:00"},{"$f":"IF('namerena data'!C1618>0,'namerena data'!C1618/1000,0)","v":0},30.09,25.76,175.11840000000007,0]
[null,{"$f":"'namerena data'!A1619+('namerena data'!B1619-1)/24","v":"2013-09-06T05:00:00"},{"$f":"IF('namerena data'!C1619>0,'namerena data'!C1619/1000,0)","v":0},33.06,25.76,251.62560000000008,0]
[null,{"$f":"'namerena data'!A1620+('namerena data'!B1620-1)/24","v":"2013-09-06T06:00:00"},{"$f":"IF('namerena data'!C1620>0,'namerena data'!C1620/1000,0)","v":0},49.3,25.76,669.96800000000007,0]
[null,{"$f":"'namerena data'!A1621+('namerena data'!B1621-1)/24","v":"2013-09-06T07:00:00"},{"$f":"IF('namerena data'!C1621>0,'namerena data'!C1621/1000,0)","v":0},57.4,25.76,878.62400000000002,0]
[null,{"$f":"'namerena data'!A1622+('namerena data'!B1622-1)/24","v":"2013-09-06T08:00:00"},{"$f":"IF('namerena data'!C1622>0,'namerena data'!C1622/1000,0)","v":0},60.4,25.76,955.904,0]
[null,{"$f":"'namerena data'!A1623+('namerena data'!B1623-1)/24","v":"2013-09-06T09:00:00"},{"$f":"IF('namerena data'!C1623>0,'namerena data'!C1623/1000,0)","v":0},57.2,25.76,873.47200000000021,0]
[null,{"$f":"'namerena data'!A1624+('namerena data'!B1624-1)/24","v":"2013-09-06T10:00:00"},{"$f":"IF('namerena data'!C1624>0,'namerena data'!C1624/1000,0)","v":0},48.9,25.76,659.66399999999999,0]
[null,{"$f":"'namerena data'!A1625+('namerena data'!B1625-1)/24","v":"2013-09-06T11:00:00"},{"$f":"IF('namerena data'!C1625>0,'namerena data'!C1625/1000,0)","v":0},45.03,25.76,559.97280000000001,0]
[null,{"$f":"'namerena data'!A1626+('namerena data'!B1626-1)/24","v":"2013-09-06T12:00:00"},{"$f":"IF('namerena data'!C1626>0,'namerena data'!C1626/1000,0)","v":0},40.15,25.76,434.26400000000012,0]
[null,{"$f":"'namerena data'!A1627+('namerena data'!B1627-1)/24","v":"2013-09-06T13:00:00"},{"$f":"IF('namerena data'!C1627>0,'namerena data'!C1627/1000,0)","v":0},33.299999999999997,25.76,257.80799999999999,0]
[null,{"$f":"'namerena data'!A1628+('namerena data'!B1628-1)/24","v":"2013-09-06T14:00:00"},{"$f":"IF('namerena data'!C1628>0,'namerena data'!C1628/1000,0)","v":0},31.25,25.76,205,0]
[null,{"$f":"'namerena data'!A1629+('namerena data'!B1629-1)/24","v":"2013-09-06T15:00:00"},{"$f":"IF('namerena data'!C1629>0,'namerena data'!C1629/1000,0)","v":0},32.9,25.76,247.50400000000002,0]
[null,{"$f":"'namerena data'!A1630+('namerena data'!B1630-1)/24","v":"2013-09-06T16:00:00"},{"$f":"IF('namerena data'!C1630>0,'namerena data'!C1630/1000,0)","v":0},37,25.76,353.12,0]
[null,{"$f":"'namerena data'!A1631+('namerena data'!B1631-1)/24","v":"2013-09-06T17:00:00"},{"$f":"IF('namerena data'!C1631>0,'namerena data'!C1631/1000,0)","v":0},47.44,25.76,622.05439999999999,0]
[null,{"$f":"'namerena data'!A1632+('namerena data'!B1632-1)/24","v":"2013-09-06T18:00:00"},{"$f":"IF('namerena data'!C1632>0,'namerena data'!C1632/1000,0)","v":0},53.42,25.76,776.09920000000011,0]
[null,{"$f":"'namerena data'!A1633+('namerena data'!B1633-1)/24","v":"2013-09-06T19:00:00"},{"$f":"IF('namerena data'!C1633>0,'namerena data'!C1633/1000,0)","v":0},57.4,25.76,878.62400000000002,0]
[null,{"$f":"'namerena data'!A1634+('namerena data'!B1634-1)/24","v":"2013-09-06T20:00:00"},{"$f":"IF('namerena data'!C1634>0,'namerena data'!C1634/1000,0)","v":0},58,25.76,894.08000000000015,0]
[null,{"$f":"'namerena data'!A1635+('namerena data'!B1635-1)/24","v":"2013-09-06T21:00:00"},{"$f":"IF('namerena data'!C1635>0,'namerena data'!C1635/1000,0)","v":0},46.7,25.76,602.99200000000019,0]
[null,{"$f":"'namerena data'!A1636+('namerena data'!B1636-1)/24","v":"2013-09-06T22:00:00"},{"$f":"IF('namerena data'!C1636>0,'namerena data'!C1636/1000,0)","v":0},34.69,25.76,293.61440000000005,0]
[null,{"$f":"'namerena data'!A1637+('namerena data'!B1637-1)/24","v":"2013-09-06T23:00:00"},{"$f":"IF('namerena data'!C1637>0,'namerena data'!C1637/1000,0)","v":0},31,25.76,198.56000000000006,0]
[null,{"$f":"'namerena data'!A1638+('namerena data'!B1638-1)/24","v":"2013-09-07"},{"$f":"IF('namerena data'!C1638>0,'namerena data'!C1638/1000,0)","v":0},34.700000000000003,25.76,293.87200000000007,0]
[null,{"$f":"'namerena data'!A1639+('namerena data'!B1639-1)/24","v":"2013-09-07T01:00:00"},{"$f":"IF('namerena data'!C1639>0,'namerena data'!C1639/1000,0)","v":0},33.869999999999997,25.76,272.49119999999994,0]
[null,{"$f":"'namerena data'!A1640+('namerena data'!B1640-1)/24","v":"2013-09-07T02:00:00"},{"$f":"IF('namerena data'!C1640>0,'namerena data'!C1640/1000,0)","v":0},33,25.76,250.08000000000004,0]
[null,{"$f":"'namerena data'!A1641+('namerena data'!B1641-1)/24","v":"2013-09-07T03:00:00"},{"$f":"IF('namerena data'!C1641>0,'namerena data'!C1641/1000,0)","v":0},32,25.76,224.32000000000005,0]
[null,{"$f":"'namerena data'!A1642+('namerena data'!B1642-1)/24","v":"2013-09-07T04:00:00"},{"$f":"IF('namerena data'!C1642>0,'namerena data'!C1642/1000,0)","v":0},32.700000000000003,25.76,242.35200000000009,0]
[null,{"$f":"'namerena data'!A1643+('namerena data'!B1643-1)/24","v":"2013-09-07T05:00:00"},{"$f":"IF('namerena data'!C1643>0,'namerena data'!C1643/1000,0)","v":0},33.39,25.76,260.1264000000001,0]
[null,{"$f":"'namerena data'!A1644+('namerena data'!B1644-1)/24","v":"2013-09-07T06:00:00"},{"$f":"IF('namerena data'!C1644>0,'namerena data'!C1644/1000,0)","v":0},34.200000000000003,25.76,280.99200000000008,0]
[null,{"$f":"'namerena data'!A1645+('namerena data'!B1645-1)/24","v":"2013-09-07T07:00:00"},{"$f":"IF('namerena data'!C1645>0,'namerena data'!C1645/1000,0)","v":0},35.6,25.76,317.05600000000004,0]
[null,{"$f":"'namerena data'!A1646+('namerena data'!B1646-1)/24","v":"2013-09-07T08:00:00"},{"$f":"IF('namerena data'!C1646>0,'namerena data'!C1646/1000,0)","v":0},37.9,25.76,376.30399999999997,0]
[null,{"$f":"'namerena data'!A1647+('namerena data'!B1647-1)/24","v":"2013-09-07T09:00:00"},{"$f":"IF('namerena data'!C1647>0,'namerena data'!C1647/1000,0)","v":0},39.619999999999997,25.76,420.61119999999994,0]
[null,{"$f":"'namerena data'!A1648+('namerena data'!B1648-1)/24","v":"2013-09-07T10:00:00"},{"$f":"IF('namerena data'!C1648>0,'namerena data'!C1648/1000,0)","v":0},37.82,25.76,374.24320000000012,0]
[null,{"$f":"'namerena data'!A1649+('namerena data'!B1649-1)/24","v":"2013-09-07T11:00:00"},{"$f":"IF('namerena data'!C1649>0,'namerena data'!C1649/1000,0)","v":0},35.96,25.76,326.32960000000003,0]
[null,{"$f":"'namerena data'!A1650+('namerena data'!B1650-1)/24","v":"2013-09-07T12:00:00"},{"$f":"IF('namerena data'!C1650>0,'namerena data'!C1650/1000,0)","v":0},32.32,25.76,232.56320000000005,0]
[null,{"$f":"'namerena data'!A1651+('namerena data'!B1651-1)/24","v":"2013-09-07T13:00:00"},{"$f":"IF('namerena data'!C1651>0,'namerena data'!C1651/1000,0)","v":0},30.65,25.76,189.54399999999998,0]
[null,{"$f":"'namerena data'!A1652+('namerena data'!B1652-1)/24","v":"2013-09-07T14:00:00"},{"$f":"IF('namerena data'!C1652>0,'namerena data'!C1652/1000,0)","v":0},29.13,25.76,150.38880000000006,0]
[null,{"$f":"'namerena data'!A1653+('namerena data'!B1653-1)/24","v":"2013-09-07T15:00:00"},{"$f":"IF('namerena data'!C1653>0,'namerena data'!C1653/1000,0)","v":0},30,25.76,172.80000000000007,0]
[null,{"$f":"'namerena data'!A1654+('namerena data'!B1654-1)/24","v":"2013-09-07T16:00:00"},{"$f":"IF('namerena data'!C1654>0,'namerena data'!C1654/1000,0)","v":0},33.880000000000003,25.76,272.74880000000007,0]
[null,{"$f":"'namerena data'!A1655+('namerena data'!B1655-1)/24","v":"2013-09-07T17:00:00"},{"$f":"IF('namerena data'!C1655>0,'namerena data'!C1655/1000,0)","v":0},39,25.76,404.6400000000001,0]
[null,{"$f":"'namerena data'!A1656+('namerena data'!B1656-1)/24","v":"2013-09-07T18:00:00"},{"$f":"IF('namerena data'!C1656>0,'namerena data'!C1656/1000,0)","v":0},42.9,25.76,505.10400000000004,0]
[null,{"$f":"'namerena data'!A1657+('namerena data'!B1657-1)/24","v":"2013-09-07T19:00:00"},{"$f":"IF('namerena data'!C1657>0,'namerena data'!C1657/1000,0)","v":0},47.26,25.76,617.41759999999999,0]
[null,{"$f":"'namerena data'!A1658+('namerena data'!B1658-1)/24","v":"2013-09-07T20:00:00"},{"$f":"IF('namerena data'!C1658>0,'namerena data'!C1658/1000,0)","v":0},47,25.76,610.72,0]
[null,{"$f":"'namerena data'!A1659+('namerena data'!B1659-1)/24","v":"2013-09-07T21:00:00"},{"$f":"IF('namerena data'!C1659>0,'namerena data'!C1659/1000,0)","v":0},43,25.76,507.68000000000006,0]
[null,{"$f":"'namerena data'!A1660+('namerena data'!B1660-1)/24","v":"2013-09-07T22:00:00"},{"$f":"IF('namerena data'!C1660>0,'namerena data'!C1660/1000,0)","v":0},37.9,25.76,376.30399999999997,0]
[null,{"$f":"'namerena data'!A1661+('namerena data'!B1661-1)/24","v":"2013-09-07T23:00:00"},{"$f":"IF('namerena data'!C1661>0,'namerena data'!C1661/1000,0)","v":0},34.659999999999997,25.76,292.84159999999997,0]
[null,{"$f":"'namerena data'!A1662+('namerena data'!B1662-1)/24","v":"2013-09-08"},{"$f":"IF('namerena data'!C1662>0,'namerena data'!C1662/1000,0)","v":0},34.799999999999997,25.76,296.44799999999998,0]
[null,{"$f":"'namerena data'!A1663+('namerena data'!B1663-1)/24","v":"2013-09-08T01:00:00"},{"$f":"IF('namerena data'!C1663>0,'namerena data'!C1663/1000,0)","v":0},29.2,25.76,152.19200000000001,0]
[null,{"$f":"'namerena data'!A1664+('namerena data'!B1664-1)/24","v":"2013-09-08T02:00:00"},{"$f":"IF('namerena data'!C1664>0,'namerena data'!C1664/1000,0)","v":0},26.4,25.76,80.063999999999965,0]
[null,{"$f":"'namerena data'!A1665+('namerena data'!B1665-1)/24","v":"2013-09-08T03:00:00"},{"$f":"IF('namerena data'!C1665>0,'namerena data'!C1665/1000,0)","v":0},23.02,25.76,-7.004799999999932,0]
[null,{"$f":"'namerena data'!A1666+('namerena data'!B1666-1)/24","v":"2013-09-08T04:00:00"},{"$f":"IF('namerena data'!C1666>0,'namerena data'!C1666/1000,0)","v":0},23.5,25.76,5.3600000000000136,0]
[null,{"$f":"'namerena data'!A1667+('namerena data'!B1667-1)/24","v":"2013-09-08T05:00:00"},{"$f":"IF('namerena data'!C1667>0,'namerena data'!C1667/1000,0)","v":0},23.08,25.76,-5.4592000000000098,0]
[null,{"$f":"'namerena data'!A1668+('namerena data'!B1668-1)/24","v":"2013-09-08T06:00:00"},{"$f":"IF('namerena data'!C1668>0,'namerena data'!C1668/1000,0)","v":0},22,25.76,-33.279999999999973,0]
[null,{"$f":"'namerena data'!A1669+('namerena data'!B1669-1)/24","v":"2013-09-08T07:00:00"},{"$f":"IF('namerena data'!C1669>0,'namerena data'!C1669/1000,0)","v":0},24.23,25.76,24.164800000000014,0]
[null,{"$f":"'namerena data'!A1670+('namerena data'!B1670-1)/24","v":"2013-09-08T08:00:00"},{"$f":"IF('namerena data'!C1670>0,'namerena data'!C1670/1000,0)","v":0},28.4,25.76,131.58400000000006,0]
[null,{"$f":"'namerena data'!A1671+('namerena data'!B1671-1)/24","v":"2013-09-08T09:00:00"},{"$f":"IF('namerena data'!C1671>0,'namerena data'!C1671/1000,0)","v":0},31.7,25.76,216.59199999999998,0]
[null,{"$f":"'namerena data'!A1672+('namerena data'!B1672-1)/24","v":"2013-09-08T10:00:00"},{"$f":"IF('namerena data'!C1672>0,'namerena data'!C1672/1000,0)","v":0},33,25.76,250.08000000000004,0]
[null,{"$f":"'namerena data'!A1673+('namerena data'!B1673-1)/24","v":"2013-09-08T11:00:00"},{"$f":"IF('namerena data'!C1673>0,'namerena data'!C1673/1000,0)","v":0},33.950000000000003,25.76,274.55200000000013,0]
[null,{"$f":"'namerena data'!A1674+('namerena data'!B1674-1)/24","v":"2013-09-08T12:00:00"},{"$f":"IF('namerena data'!C1674>0,'namerena data'!C1674/1000,0)","v":0},30.75,25.76,192.12,0]
[null,{"$f":"'namerena data'!A1675+('namerena data'!B1675-1)/24","v":"2013-09-08T13:00:00"},{"$f":"IF('namerena data'!C1675>0,'namerena data'!C1675/1000,0)","v":0},26,25.76,69.759999999999991,0]
[null,{"$f":"'namerena data'!A1676+('namerena data'!B1676-1)/24","v":"2013-09-08T14:00:00"},{"$f":"IF('namerena data'!C1676>0,'namerena data'!C1676/1000,0)","v":0},24.6,25.76,33.696000000000026,0]
[null,{"$f":"'namerena data'!A1677+('namerena data'!B1677-1)/24","v":"2013-09-08T15:00:00"},{"$f":"IF('namerena data'!C1677>0,'namerena data'!C1677/1000,0)","v":0},25,25.76,44,0]
[null,{"$f":"'namerena data'!A1678+('namerena data'!B1678-1)/24","v":"2013-09-08T16:00:00"},{"$f":"IF('namerena data'!C1678>0,'namerena data'!C1678/1000,0)","v":0},28.06,25.76,122.82560000000001,0]
[null,{"$f":"'namerena data'!A1679+('namerena data'!B1679-1)/24","v":"2013-09-08T17:00:00"},{"$f":"IF('namerena data'!C1679>0,'namerena data'!C1679/1000,0)","v":0},35,25.76,{"$f":"+IF(AND(ISNUMBER(D1689),ISNUMBER(E1689)),D1689*E1689-$F$13,0)","v":301.60000000000002},{"$f":"+(C1689*F1689)","v":0}]
[null,{"$f":"'namerena data'!A1680+('namerena data'!B1680-1)/24","v":"2013-09-08T18:00:00"},{"$f":"IF('namerena data'!C1680>0,'namerena data'!C1680/1000,0)","v":0},38,25.76,378.88000000000011,0]
[null,{"$f":"'namerena data'!A1681+('namerena data'!B1681-1)/24","v":"2013-09-08T19:00:00"},{"$f":"IF('namerena data'!C1681>0,'namerena data'!C1681/1000,0)","v":0},39.54,25.76,418.55040000000008,0]
[null,{"$f":"'namerena data'!A1682+('namerena data'!B1682-1)/24","v":"2013-09-08T20:00:00"},{"$f":"IF('namerena data'!C1682>0,'namerena data'!C1682/1000,0)","v":0},45.9,25.76,582.38400000000001,0]
[null,{"$f":"'namerena data'!A1683+('namerena data'!B1683-1)/24","v":"2013-09-08T21:00:00"},{"$f":"IF('namerena data'!C1683>0,'namerena data'!C1683/1000,0)","v":0},38,25.76,378.88000000000011,0]
[null,{"$f":"'namerena data'!A1684+('namerena data'!B1684-1)/24","v":"2013-09-08T22:00:00"},{"$f":"IF('namerena data'!C1684>0,'namerena data'!C1684/1000,0)","v":0},37.85,25.76,375.01600000000008,0]
[null,{"$f":"'namerena data'!A1685+('namerena data'!B1685-1)/24","v":"2013-09-08T23:00:00"},{"$f":"IF('namerena data'!C1685>0,'namerena data'!C1685/1000,0)","v":0},33,25.76,250.08000000000004,0]
[null,{"$f":"'namerena data'!A1686+('namerena data'!B1686-1)/24","v":"2013-09-09"},{"$f":"IF('namerena data'!C1686>0,'namerena data'!C1686/1000,0)","v":0},29.46,25.83,160.95179999999993,0]
[null,{"$f":"'namerena data'!A1687+('namerena data'!B1687-1)/24","v":"2013-09-09T01:00:00"},{"$f":"IF('namerena data'!C1687>0,'namerena data'!C1687/1000,0)","v":0},28.93,25.83,147.26189999999997,0]
[null,{"$f":"'namerena data'!A1688+('namerena data'!B1688-1)/24","v":"2013-09-09T02:00:00"},{"$f":"IF('namerena data'!C1688>0,'namerena data'!C1688/1000,0)","v":0},28.32,25.83,131.50559999999996,0]
[null,{"$f":"'namerena data'!A1689+('namerena data'!B1689-1)/24","v":"2013-09-09T03:00:00"},{"$f":"IF('namerena data'!C1689>0,'namerena data'!C1689/1000,0)","v":0},27.04,25.83,98.443199999999933,0]
[null,{"$f":"'namerena data'!A1690+('namerena data'!B1690-1)/24","v":"2013-09-09T04:00:00"},{"$f":"IF('namerena data'!C1690>0,'namerena data'!C1690/1000,0)","v":0},27.9,25.83,120.65699999999993,0]
[null,{"$f":"'namerena data'!A1691+('namerena data'!B1691-1)/24","v":"2013-09-09T05:00:00"},{"$f":"IF('namerena data'!C1691>0,'namerena data'!C1691/1000,0)","v":0},31,25.83,200.7299999999999,0]
[null,{"$f":"'namerena data'!A1692+('namerena data'!B1692-1)/24","v":"2013-09-09T06:00:00"},{"$f":"IF('namerena data'!C1692>0,'namerena data'!C1692/1000,0)","v":0},47.27,25.83,620.9840999999999,0]
[null,{"$f":"'namerena data'!A1693+('namerena data'!B1693-1)/24","v":"2013-09-09T07:00:00"},{"$f":"IF('namerena data'!C1693>0,'namerena data'!C1693/1000,0)","v":0},59.8,25.83,944.63399999999979,0]
[null,{"$f":"'namerena data'!A1694+('namerena data'!B1694-1)/24","v":"2013-09-09T08:00:00"},{"$f":"IF('namerena data'!C1694>0,'namerena data'!C1694/1000,0)","v":0},62.62,25.83,1017.4745999999998,0]
[null,{"$f":"'namerena data'!A1695+('namerena data'!B1695-1)/24","v":"2013-09-09T09:00:00"},{"$f":"IF('namerena data'!C1695>0,'namerena data'!C1695/1000,0)","v":0},65.69,25.83,1096.7726999999998,0]
[null,{"$f":"'namerena data'!A1696+('namerena data'!B1696-1)/24","v":"2013-09-09T10:00:00"},{"$f":"IF('namerena data'!C1696>0,'namerena data'!C1696/1000,0)","v":0},64.819999999999993,25.83,1074.3005999999998,0]
[null,{"$f":"'namerena data'!A1697+('namerena data'!B1697-1)/24","v":"2013-09-09T11:00:00"},{"$f":"IF('namerena data'!C1697>0,'namerena data'!C1697/1000,0)","v":0},65,25.83,1078.9499999999998,0]
[null,{"$f":"'namerena data'!A1698+('namerena data'!B1698-1)/24","v":"2013-09-09T12:00:00"},{"$f":"IF('namerena data'!C1698>0,'namerena data'!C1698/1000,0)","v":0},63.5,25.83,1040.2049999999999,0]
[null,{"$f":"'namerena data'!A1699+('namerena data'!B1699-1)/24","v":"2013-09-09T13:00:00"},{"$f":"IF('namerena data'!C1699>0,'namerena data'!C1699/1000,0)","v":0},60.27,25.83,956.77410000000009,0]
[null,{"$f":"'namerena data'!A1700+('namerena data'!B1700-1)/24","v":"2013-09-09T14:00:00"},{"$f":"IF('namerena data'!C1700>0,'namerena data'!C1700/1000,0)","v":0},55.43,25.83,831.75689999999986,0]
[null,{"$f":"'namerena data'!A1701+('namerena data'!B1701-1)/24","v":"2013-09-09T15:00:00"},{"$f":"IF('namerena data'!C1701>0,'namerena data'!C1701/1000,0)","v":0},55,25.83,820.64999999999986,0]
[null,{"$f":"'namerena data'!A1702+('namerena data'!B1702-1)/24","v":"2013-09-09T16:00:00"},{"$f":"IF('namerena data'!C1702>0,'namerena data'!C1702/1000,0)","v":0},53.03,25.83,769.7648999999999,0]
[null,{"$f":"'namerena data'!A1703+('namerena data'!B1703-1)/24","v":"2013-09-09T17:00:00"},{"$f":"IF('namerena data'!C1703>0,'namerena data'!C1703/1000,0)","v":0},55,25.83,820.64999999999986,0]
[null,{"$f":"'namerena data'!A1704+('namerena data'!B1704-1)/24","v":"2013-09-09T18:00:00"},{"$f":"IF('namerena data'!C1704>0,'namerena data'!C1704/1000,0)","v":0},57.27,25.83,879.28410000000008,0]
[null,{"$f":"'namerena data'!A1705+('namerena data'!B1705-1)/24","v":"2013-09-09T19:00:00"},{"$f":"IF('namerena data'!C1705>0,'namerena data'!C1705/1000,0)","v":0},66,25.83,1104.78,0]
[null,{"$f":"'namerena data'!A1706+('namerena data'!B1706-1)/24","v":"2013-09-09T20:00:00"},{"$f":"IF('namerena data'!C1706>0,'namerena data'!C1706/1000,0)","v":0},83,25.83,1543.8899999999999,0]
[null,{"$f":"'namerena data'!A1707+('namerena data'!B1707-1)/24","v":"2013-09-09T21:00:00"},{"$f":"IF('namerena data'!C1707>0,'namerena data'!C1707/1000,0)","v":0},56,25.83,846.48,0]
[null,{"$f":"'namerena data'!A1708+('namerena data'!B1708-1)/24","v":"2013-09-09T22:00:00"},{"$f":"IF('namerena data'!C1708>0,'namerena data'!C1708/1000,0)","v":0},51.93,25.83,741.35189999999989,0]
[null,{"$f":"'namerena data'!A1709+('namerena data'!B1709-1)/24","v":"2013-09-09T23:00:00"},{"$f":"IF('namerena data'!C1709>0,'namerena data'!C1709/1000,0)","v":0},38.630000000000003,25.83,397.81290000000001,0]
[null,{"$f":"'namerena data'!A1710+('namerena data'!B1710-1)/24","v":"2013-09-10"},{"$f":"IF('namerena data'!C1710>0,'namerena data'!C1710/1000,0)","v":0},34,25.835000000000001,278.39,0]
[null,{"$f":"'namerena data'!A1711+('namerena data'!B1711-1)/24","v":"2013-09-10T01:00:00"},{"$f":"IF('namerena data'!C1711>0,'namerena data'!C1711/1000,0)","v":0},32.89,25.835000000000001,249.71315000000004,0]
[null,{"$f":"'namerena data'!A1712+('namerena data'!B1712-1)/24","v":"2013-09-10T02:00:00"},{"$f":"IF('namerena data'!C1712>0,'namerena data'!C1712/1000,0)","v":0},30.98,25.835000000000001,200.36830000000009,0]
[null,{"$f":"'namerena data'!A1713+('namerena data'!B1713-1)/24","v":"2013-09-10T03:00:00"},{"$f":"IF('namerena data'!C1713>0,'namerena data'!C1713/1000,0)","v":0},30,25.835000000000001,175.05000000000007,0]
[null,{"$f":"'namerena data'!A1714+('namerena data'!B1714-1)/24","v":"2013-09-10T04:00:00"},{"$f":"IF('namerena data'!C1714>0,'namerena data'!C1714/1000,0)","v":0},30.86,25.835000000000001,197.2681,0]
[null,{"$f":"'namerena data'!A1715+('namerena data'!B1715-1)/24","v":"2013-09-10T05:00:00"},{"$f":"IF('namerena data'!C1715>0,'namerena data'!C1715/1000,0)","v":0},34.450000000000003,25.835000000000001,290.01575000000014,0]
[null,{"$f":"'namerena data'!A1716+('namerena data'!B1716-1)/24","v":"2013-09-10T06:00:00"},{"$f":"IF('namerena data'!C1716>0,'namerena data'!C1716/1000,0)","v":0},51.3,25.835000000000001,725.33549999999991,0]
[null,{"$f":"'namerena data'!A1717+('namerena data'!B1717-1)/24","v":"2013-09-10T07:00:00"},{"$f":"IF('namerena data'!C1717>0,'namerena data'!C1717/1000,0)","v":0},63.08,25.835000000000001,1029.6718000000001,0]
[null,{"$f":"'namerena data'!A1718+('namerena data'!B1718-1)/24","v":"2013-09-10T08:00:00"},{"$f":"IF('namerena data'!C1718>0,'namerena data'!C1718/1000,0)","v":0},65.790000000000006,25.835000000000001,1099.6846500000001,0]
[null,{"$f":"'namerena data'!A1719+('namerena data'!B1719-1)/24","v":"2013-09-10T09:00:00"},{"$f":"IF('namerena data'!C1719>0,'namerena data'!C1719/1000,0)","v":0},65.040000000000006,25.835000000000001,1080.3084000000001,0]
[null,{"$f":"'namerena data'!A1720+('namerena data'!B1720-1)/24","v":"2013-09-10T10:00:00"},{"$f":"IF('namerena data'!C1720>0,'namerena data'!C1720/1000,0)","v":0},65.510000000000005,25.835000000000001,1092.4508500000002,0]
[null,{"$f":"'namerena data'!A1721+('namerena data'!B1721-1)/24","v":"2013-09-10T11:00:00"},{"$f":"IF('namerena data'!C1721>0,'namerena data'!C1721/1000,0)","v":0},65.09,25.835000000000001,1081.6001500000002,0]
[null,{"$f":"'namerena data'!A1722+('namerena data'!B1722-1)/24","v":"2013-09-10T12:00:00"},{"$f":"IF('namerena data'!C1722>0,'namerena data'!C1722/1000,0)","v":0},62,25.835000000000001,1001.77,0]
[null,{"$f":"'namerena data'!A1723+('namerena data'!B1723-1)/24","v":"2013-09-10T13:00:00"},{"$f":"IF('namerena data'!C1723>0,'namerena data'!C1723/1000,0)","v":0},59.92,25.835000000000001,948.03320000000008,0]
[null,{"$f":"'namerena data'!A1724+('namerena data'!B1724-1)/24","v":"2013-09-10T14:00:00"},{"$f":"IF('namerena data'!C1724>0,'namerena data'!C1724/1000,0)","v":0},57.73,25.835000000000001,891.45454999999993,0]
[null,{"$f":"'namerena data'!A1725+('namerena data'!B1725-1)/24","v":"2013-09-10T15:00:00"},{"$f":"IF('namerena data'!C1725>0,'namerena data'!C1725/1000,0)","v":0},57.08,25.835000000000001,874.66180000000008,0]
[null,{"$f":"'namerena data'!A1726+('namerena data'!B1726-1)/24","v":"2013-09-10T16:00:00"},{"$f":"IF('namerena data'!C1726>0,'namerena data'!C1726/1000,0)","v":0},55,25.835000000000001,820.92499999999995,0]
[null,{"$f":"'namerena data'!A1727+('namerena data'!B1727-1)/24","v":"2013-09-10T17:00:00"},{"$f":"IF('namerena data'!C1727>0,'namerena data'!C1727/1000,0)","v":0},57.09,25.835000000000001,874.92015000000015,0]
[null,{"$f":"'namerena data'!A1728+('namerena data'!B1728-1)/24","v":"2013-09-10T18:00:00"},{"$f":"IF('namerena data'!C1728>0,'namerena data'!C1728/1000,0)","v":0},59.44,25.835000000000001,935.63239999999996,0]
[null,{"$f":"'namerena data'!A1729+('namerena data'!B1729-1)/24","v":"2013-09-10T19:00:00"},{"$f":"IF('namerena data'!C1729>0,'namerena data'!C1729/1000,0)","v":0},66,25.835000000000001,1105.1100000000001,0]
[null,{"$f":"'namerena data'!A1730+('namerena data'!B1730-1)/24","v":"2013-09-10T20:00:00"},{"$f":"IF('namerena data'!C1730>0,'namerena data'!C1730/1000,0)","v":0},67.400000000000006,25.835000000000001,1141.2790000000002,0]
[null,{"$f":"'namerena data'!A1731+('namerena data'!B1731-1)/24","v":"2013-09-10T21:00:00"},{"$f":"IF('namerena data'!C1731>0,'namerena data'!C1731/1000,0)","v":0},55,25.835000000000001,820.92499999999995,0]
[null,{"$f":"'namerena data'!A1732+('namerena data'!B1732-1)/24","v":"2013-09-10T22:00:00"},{"$f":"IF('namerena data'!C1732>0,'namerena data'!C1732/1000,0)","v":0},45.99,25.835000000000001,588.15165000000002,0]
[null,{"$f":"'namerena data'!A1733+('namerena data'!B1733-1)/24","v":"2013-09-10T23:00:00"},{"$f":"IF('namerena data'!C1733>0,'namerena data'!C1733/1000,0)","v":0},36.700000000000003,25.835000000000001,348.14450000000011,0]
[null,{"$f":"'namerena data'!A1734+('namerena data'!B1734-1)/24","v":"2013-09-11"},{"$f":"IF('namerena data'!C1734>0,'namerena data'!C1734/1000,0)","v":0},32,25.774999999999999,224.79999999999995,0]
[null,{"$f":"'namerena data'!A1735+('namerena data'!B1735-1)/24","v":"2013-09-11T01:00:00"},{"$f":"IF('namerena data'!C1735>0,'namerena data'!C1735/1000,0)","v":0},28,25.774999999999999,121.69999999999993,0]
[null,{"$f":"'namerena data'!A1736+('namerena data'!B1736-1)/24","v":"2013-09-11T02:00:00"},{"$f":"IF('namerena data'!C1736>0,'namerena data'!C1736/1000,0)","v":0},26.2,25.774999999999999,75.30499999999995,0]
[null,{"$f":"'namerena data'!A1737+('namerena data'!B1737-1)/24","v":"2013-09-11T03:00:00"},{"$f":"IF('namerena data'!C1737>0,'namerena data'!C1737/1000,0)","v":0},25,25.774999999999999,44.375,0]
[null,{"$f":"'namerena data'!A1738+('namerena data'!B1738-1)/24","v":"2013-09-11T04:00:00"},{"$f":"IF('namerena data'!C1738>0,'namerena data'!C1738/1000,0)","v":0},27,25.774999999999999,95.924999999999955,0]
[null,{"$f":"'namerena data'!A1739+('namerena data'!B1739-1)/24","v":"2013-09-11T05:00:00"},{"$f":"IF('namerena data'!C1739>0,'namerena data'!C1739/1000,0)","v":0},31,25.774999999999999,199.02499999999998,0]
[null,{"$f":"'namerena data'!A1740+('namerena data'!B1740-1)/24","v":"2013-09-11T06:00:00"},{"$f":"IF('namerena data'!C1740>0,'namerena data'!C1740/1000,0)","v":0},44.09,25.774999999999999,536.41975000000002,0]
[null,{"$f":"'namerena data'!A1741+('namerena data'!B1741-1)/24","v":"2013-09-11T07:00:00"},{"$f":"IF('namerena data'!C1741>0,'namerena data'!C1741/1000,0)","v":0},57.07,25.774999999999999,870.97924999999987,0]
[null,{"$f":"'namerena data'!A1742+('namerena data'!B1742-1)/24","v":"2013-09-11T08:00:00"},{"$f":"IF('namerena data'!C1742>0,'namerena data'!C1742/1000,0)","v":0},60.18,25.774999999999999,951.1395,0]
[null,{"$f":"'namerena data'!A1743+('namerena data'!B1743-1)/24","v":"2013-09-11T09:00:00"},{"$f":"IF('namerena data'!C1743>0,'namerena data'!C1743/1000,0)","v":0},59.96,25.774999999999999,{"$f":"+IF(AND(ISNUMBER(D1753),ISNUMBER(E1753)),D1753*E1753-$F$13,0)","v":945.46899999999982},{"$f":"+(C1753*F1753)","v":0}]
[null,{"$f":"'namerena data'!A1744+('namerena data'!B1744-1)/24","v":"2013-09-11T10:00:00"},{"$f":"IF('namerena data'!C1744>0,'namerena data'!C1744/1000,0)","v":0},58.76,25.774999999999999,914.53899999999976,0]
[null,{"$f":"'namerena data'!A1745+('namerena data'!B1745-1)/24","v":"2013-09-11T11:00:00"},{"$f":"IF('namerena data'!C1745>0,'namerena data'!C1745/1000,0)","v":0},59.72,25.774999999999999,939.2829999999999,0]
[null,{"$f":"'namerena data'!A1746+('namerena data'!B1746-1)/24","v":"2013-09-11T12:00:00"},{"$f":"IF('namerena data'!C1746>0,'namerena data'!C1746/1000,0)","v":0},58.56,25.774999999999999,909.38400000000001,0]
[null,{"$f":"'namerena data'!A1747+('namerena data'!B1747-1)/24","v":"2013-09-11T13:00:00"},{"$f":"IF('namerena data'!C1747>0,'namerena data'!C1747/1000,0)","v":0},57.73,25.774999999999999,887.99074999999993,0]
[null,{"$f":"'namerena data'!A1748+('namerena data'!B1748-1)/24","v":"2013-09-11T14:00:00"},{"$f":"IF('namerena data'!C1748>0,'namerena data'!C1748/1000,0)","v":0},55.6,25.774999999999999,833.08999999999992,0]
[null,{"$f":"'namerena data'!A1749+('namerena data'!B1749-1)/24","v":"2013-09-11T15:00:00"},{"$f":"IF('namerena data'!C1749>0,'namerena data'!C1749/1000,0)","v":0},55.66,25.774999999999999,834.63649999999984,0]
[null,{"$f":"'namerena data'!A1750+('namerena data'!B1750-1)/24","v":"2013-09-11T16:00:00"},{"$f":"IF('namerena data'!C1750>0,'namerena data'!C1750/1000,0)","v":0},53.06,25.774999999999999,767.62149999999997,0]
[null,{"$f":"'namerena data'!A1751+('namerena data'!B1751-1)/24","v":"2013-09-11T17:00:00"},{"$f":"IF('namerena data'!C1751>0,'namerena data'!C1751/1000,0)","v":0},54.7,25.774999999999999,809.89249999999993,0]
[null,{"$f":"'namerena data'!A1752+('namerena data'!B1752-1)/24","v":"2013-09-11T18:00:00"},{"$f":"IF('namerena data'!C1752>0,'namerena data'!C1752/1000,0)","v":0},59.4,25.774999999999999,931.03499999999985,0]
[null,{"$f":"'namerena data'!A1753+('namerena data'!B1753-1)/24","v":"2013-09-11T19:00:00"},{"$f":"IF('namerena data'!C1753>0,'namerena data'!C1753/1000,0)","v":0},62.15,25.774999999999999,1001.9162499999998,0]
[null,{"$f":"'namerena data'!A1754+('namerena data'!B1754-1)/24","v":"2013-09-11T20:00:00"},{"$f":"IF('namerena data'!C1754>0,'namerena data'!C1754/1000,0)","v":0},61.98,25.774999999999999,997.53449999999975,0]
[null,{"$f":"'namerena data'!A1755+('namerena data'!B1755-1)/24","v":"2013-09-11T21:00:00"},{"$f":"IF('namerena data'!C1755>0,'namerena data'!C1755/1000,0)","v":0},51.34,25.774999999999999,723.28850000000011,0]
[null,{"$f":"'namerena data'!A1756+('namerena data'!B1756-1)/24","v":"2013-09-11T22:00:00"},{"$f":"IF('namerena data'!C1756>0,'namerena data'!C1756/1000,0)","v":0},46.19,25.774999999999999,590.54724999999985,0]
[null,{"$f":"'namerena data'!A1757+('namerena data'!B1757-1)/24","v":"2013-09-11T23:00:00"},{"$f":"IF('namerena data'!C1757>0,'namerena data'!C1757/1000,0)","v":0},34.5,25.774999999999999,289.23749999999995,0]
[null,{"$f":"'namerena data'!A1758+('namerena data'!B1758-1)/24","v":"2013-09-12"},{"$f":"IF('namerena data'!C1758>0,'namerena data'!C1758/1000,0)","v":0},33.21,25.815000000000001,257.31615000000011,0]
[null,{"$f":"'namerena data'!A1759+('namerena data'!B1759-1)/24","v":"2013-09-12T01:00:00"},{"$f":"IF('namerena data'!C1759>0,'namerena data'!C1759/1000,0)","v":0},29.7,25.815000000000001,166.70550000000003,0]
[null,{"$f":"'namerena data'!A1760+('namerena data'!B1760-1)/24","v":"2013-09-12T02:00:00"},{"$f":"IF('namerena data'!C1760>0,'namerena data'!C1760/1000,0)","v":0},28.47,25.815000000000001,134.95304999999996,0]
[null,{"$f":"'namerena data'!A1761+('namerena data'!B1761-1)/24","v":"2013-09-12T03:00:00"},{"$f":"IF('namerena data'!C1761>0,'namerena data'!C1761/1000,0)","v":0},27.26,25.815000000000001,103.71690000000012,0]
[null,{"$f":"'namerena data'!A1762+('namerena data'!B1762-1)/24","v":"2013-09-12T04:00:00"},{"$f":"IF('namerena data'!C1762>0,'namerena data'!C1762/1000,0)","v":0},28.12,25.815000000000001,125.91780000000006,0]
[null,{"$f":"'namerena data'!A1763+('namerena data'!B1763-1)/24","v":"2013-09-12T05:00:00"},{"$f":"IF('namerena data'!C1763>0,'namerena data'!C1763/1000,0)","v":0},31.66,25.815000000000001,217.30290000000002,0]
[null,{"$f":"'namerena data'!A1764+('namerena data'!B1764-1)/24","v":"2013-09-12T06:00:00"},{"$f":"IF('namerena data'!C1764>0,'namerena data'!C1764/1000,0)","v":0},47.87,25.815000000000001,635.76405,0]
[null,{"$f":"'namerena data'!A1765+('namerena data'!B1765-1)/24","v":"2013-09-12T07:00:00"},{"$f":"IF('namerena data'!C1765>0,'namerena data'!C1765/1000,0)","v":0},59.83,25.815000000000001,944.51144999999997,0]
[null,{"$f":"'namerena data'!A1766+('namerena data'!B1766-1)/24","v":"2013-09-12T08:00:00"},{"$f":"IF('namerena data'!C1766>0,'namerena data'!C1766/1000,0)","v":0},63,25.815000000000001,1026.345,0]
[null,{"$f":"'namerena data'!A1767+('namerena data'!B1767-1)/24","v":"2013-09-12T09:00:00"},{"$f":"IF('namerena data'!C1767>0,'namerena data'!C1767/1000,0)","v":0},63.18,25.815000000000001,1030.9917,0]
[null,{"$f":"'namerena data'!A1768+('namerena data'!B1768-1)/24","v":"2013-09-12T10:00:00"},{"$f":"IF('namerena data'!C1768>0,'namerena data'!C1768/1000,0)","v":0},61.67,25.815000000000001,992.01105000000007,0]
[null,{"$f":"'namerena data'!A1769+('namerena data'!B1769-1)/24","v":"2013-09-12T11:00:00"},{"$f":"IF('namerena data'!C1769>0,'namerena data'!C1769/1000,0)","v":0},60.55,25.815000000000001,963.09825000000001,0]
[null,{"$f":"'namerena data'!A1770+('namerena data'!B1770-1)/24","v":"2013-09-12T12:00:00"},{"$f":"IF('namerena data'!C1770>0,'namerena data'!C1770/1000,0)","v":0},58,25.815000000000001,897.27,0]
[null,{"$f":"'namerena data'!A1771+('namerena data'!B1771-1)/24","v":"2013-09-12T13:00:00"},{"$f":"IF('namerena data'!C1771>0,'namerena data'!C1771/1000,0)","v":0},58.23,25.815000000000001,903.20744999999988,0]
[null,{"$f":"'namerena data'!A1772+('namerena data'!B1772-1)/24","v":"2013-09-12T14:00:00"},{"$f":"IF('namerena data'!C1772>0,'namerena data'!C1772/1000,0)","v":0},55.09,25.815000000000001,822.14835000000016,0]
[null,{"$f":"'namerena data'!A1773+('namerena data'!B1773-1)/24","v":"2013-09-12T15:00:00"},{"$f":"IF('namerena data'!C1773>0,'namerena data'!C1773/1000,0)","v":0},54.1,25.815000000000001,796.5915,0]
[null,{"$f":"'namerena data'!A1774+('namerena data'!B1774-1)/24","v":"2013-09-12T16:00:00"},{"$f":"IF('namerena data'!C1774>0,'namerena data'!C1774/1000,0)","v":0},53.55,25.815000000000001,782.39325000000008,0]
[null,{"$f":"'namerena data'!A1775+('namerena data'!B1775-1)/24","v":"2013-09-12T17:00:00"},{"$f":"IF('namerena data'!C1775>0,'namerena data'!C1775/1000,0)","v":0},56.08,25.815000000000001,847.7052000000001,0]
[null,{"$f":"'namerena data'!A1776+('namerena data'!B1776-1)/24","v":"2013-09-12T18:00:00"},{"$f":"IF('namerena data'!C1776>0,'namerena data'!C1776/1000,0)","v":0},58.02,25.815000000000001,897.78630000000021,0]
[null,{"$f":"'namerena data'!A1777+('namerena data'!B1777-1)/24","v":"2013-09-12T19:00:00"},{"$f":"IF('namerena data'!C1777>0,'namerena data'!C1777/1000,0)","v":0},63.3,25.815000000000001,1034.0895,0]
[null,{"$f":"'namerena data'!A1778+('namerena data'!B1778-1)/24","v":"2013-09-12T20:00:00"},{"$f":"IF('namerena data'!C1778>0,'namerena data'!C1778/1000,0)","v":0},63.1,25.815000000000001,1028.9265,0]
[null,{"$f":"'namerena data'!A1779+('namerena data'!B1779-1)/24","v":"2013-09-12T21:00:00"},{"$f":"IF('namerena data'!C1779>0,'namerena data'!C1779/1000,0)","v":0},56.88,25.815000000000001,868.35720000000015,0]
[null,{"$f":"'namerena data'!A1780+('namerena data'!B1780-1)/24","v":"2013-09-12T22:00:00"},{"$f":"IF('namerena data'!C1780>0,'namerena data'!C1780/1000,0)","v":0},48.1,25.815000000000001,641.70150000000012,0]
[null,{"$f":"'namerena data'!A1781+('namerena data'!B1781-1)/24","v":"2013-09-12T23:00:00"},{"$f":"IF('namerena data'!C1781>0,'namerena data'!C1781/1000,0)","v":0},38.119999999999997,25.815000000000001,384.06780000000003,0]
[null,{"$f":"'namerena data'!A1782+('namerena data'!B1782-1)/24","v":"2013-09-13"},{"$f":"IF('namerena data'!C1782>0,'namerena data'!C1782/1000,0)","v":0},33.99,25.774999999999999,276.09225000000004,0]
[null,{"$f":"'namerena data'!A1783+('namerena data'!B1783-1)/24","v":"2013-09-13T01:00:00"},{"$f":"IF('namerena data'!C1783>0,'namerena data'!C1783/1000,0)","v":0},30.88,25.774999999999999,195.9319999999999,0]
[null,{"$f":"'namerena data'!A1784+('namerena data'!B1784-1)/24","v":"2013-09-13T02:00:00"},{"$f":"IF('namerena data'!C1784>0,'namerena data'!C1784/1000,0)","v":0},28.67,25.774999999999999,138.96924999999999,0]
[null,{"$f":"'namerena data'!A1785+('namerena data'!B1785-1)/24","v":"2013-09-13T03:00:00"},{"$f":"IF('namerena data'!C1785>0,'namerena data'!C1785/1000,0)","v":0},27.4,25.774999999999999,106.2349999999999,0]
[null,{"$f":"'namerena data'!A1786+('namerena data'!B1786-1)/24","v":"2013-09-13T04:00:00"},{"$f":"IF('namerena data'!C1786>0,'namerena data'!C1786/1000,0)","v":0},28.95,25.774999999999999,146.18624999999997,0]
[null,{"$f":"'namerena data'!A1787+('namerena data'!B1787-1)/24","v":"2013-09-13T05:00:00"},{"$f":"IF('namerena data'!C1787>0,'namerena data'!C1787/1000,0)","v":0},32.67,25.774999999999999,242.06925000000001,0]
[null,{"$f":"'namerena data'!A1788+('namerena data'!B1788-1)/24","v":"2013-09-13T06:00:00"},{"$f":"IF('namerena data'!C1788>0,'namerena data'!C1788/1000,0)","v":0},49,25.774999999999999,662.97499999999991,0]
[null,{"$f":"'namerena data'!A1789+('namerena data'!B1789-1)/24","v":"2013-09-13T07:00:00"},{"$f":"IF('namerena data'!C1789>0,'namerena data'!C1789/1000,0)","v":0},59.8,25.774999999999999,941.3449999999998,0]
[null,{"$f":"'namerena data'!A1790+('namerena data'!B1790-1)/24","v":"2013-09-13T08:00:00"},{"$f":"IF('namerena data'!C1790>0,'namerena data'!C1790/1000,0)","v":0},65,25.774999999999999,1075.375,0]
[null,{"$f":"'namerena data'!A1791+('namerena data'!B1791-1)/24","v":"2013-09-13T09:00:00"},{"$f":"IF('namerena data'!C1791>0,'namerena data'!C1791/1000,0)","v":0},65.180000000000007,25.774999999999999,1080.0145,0]
[null,{"$f":"'namerena data'!A1792+('namerena data'!B1792-1)/24","v":"2013-09-13T10:00:00"},{"$f":"IF('namerena data'!C1792>0,'namerena data'!C1792/1000,0)","v":0},62.03,25.774999999999999,998.82324999999992,0]
[null,{"$f":"'namerena data'!A1793+('namerena data'!B1793-1)/24","v":"2013-09-13T11:00:00"},{"$f":"IF('namerena data'!C1793>0,'namerena data'!C1793/1000,0)","v":0},60.97,25.774999999999999,971.5017499999999,0]
[null,{"$f":"'namerena data'!A1794+('namerena data'!B1794-1)/24","v":"2013-09-13T12:00:00"},{"$f":"IF('namerena data'!C1794>0,'namerena data'!C1794/1000,0)","v":0},56.51,25.774999999999999,856.5452499999999,0]
[null,{"$f":"'namerena data'!A1795+('namerena data'!B1795-1)/24","v":"2013-09-13T13:00:00"},{"$f":"IF('namerena data'!C1795>0,'namerena data'!C1795/1000,0)","v":0},53.08,25.774999999999999,768.13699999999994,0]
[null,{"$f":"'namerena data'!A1796+('namerena data'!B1796-1)/24","v":"2013-09-13T14:00:00"},{"$f":"IF('namerena data'!C1796>0,'namerena data'!C1796/1000,0)","v":0},49.08,25.774999999999999,665.03699999999981,0]
[null,{"$f":"'namerena data'!A1797+('namerena data'!B1797-1)/24","v":"2013-09-13T15:00:00"},{"$f":"IF('namerena data'!C1797>0,'namerena data'!C1797/1000,0)","v":0},48.47,25.774999999999999,649.3142499999999,0]
[null,{"$f":"'namerena data'!A1798+('namerena data'!B1798-1)/24","v":"2013-09-13T16:00:00"},{"$f":"IF('namerena data'!C1798>0,'namerena data'!C1798/1000,0)","v":0},47.8,25.774999999999999,632.04499999999985,0]
[null,{"$f":"'namerena data'!A1799+('namerena data'!B1799-1)/24","v":"2013-09-13T17:00:00"},{"$f":"IF('namerena data'!C1799>0,'namerena data'!C1799/1000,0)","v":0},51.1,25.774999999999999,717.10249999999996,0]
[null,{"$f":"'namerena data'!A1800+('namerena data'!B1800-1)/24","v":"2013-09-13T18:00:00"},{"$f":"IF('namerena data'!C1800>0,'namerena data'!C1800/1000,0)","v":0},54.38,25.774999999999999,801.64449999999988,0]
[null,{"$f":"'namerena data'!A1801+('namerena data'!B1801-1)/24","v":"2013-09-13T19:00:00"},{"$f":"IF('namerena data'!C1801>0,'namerena data'!C1801/1000,0)","v":0},57.18,25.774999999999999,873.81449999999995,0]
[null,{"$f":"'namerena data'!A1802+('namerena data'!B1802-1)/24","v":"2013-09-13T20:00:00"},{"$f":"IF('namerena data'!C1802>0,'namerena data'!C1802/1000,0)","v":0},56.11,25.774999999999999,846.23524999999995,0]
[null,{"$f":"'namerena data'!A1803+('namerena data'!B1803-1)/24","v":"2013-09-13T21:00:00"},{"$f":"IF('namerena data'!C1803>0,'namerena data'!C1803/1000,0)","v":0},48.6,25.774999999999999,652.66499999999996,0]
[null,{"$f":"'namerena data'!A1804+('namerena data'!B1804-1)/24","v":"2013-09-13T22:00:00"},{"$f":"IF('namerena data'!C1804>0,'namerena data'!C1804/1000,0)","v":0},44.39,25.774999999999999,544.15224999999987,0]
[null,{"$f":"'namerena data'!A1805+('namerena data'!B1805-1)/24","v":"2013-09-13T23:00:00"},{"$f":"IF('namerena data'!C1805>0,'namerena data'!C1805/1000,0)","v":0},34.380000000000003,25.774999999999999,286.14449999999999,0]
[null,{"$f":"'namerena data'!A1806+('namerena data'!B1806-1)/24","v":"2013-09-14"},{"$f":"IF('namerena data'!C1806>0,'namerena data'!C1806/1000,0)","v":0},31,25.774999999999999,199.02499999999998,0]
[null,{"$f":"'namerena data'!A1807+('namerena data'!B1807-1)/24","v":"2013-09-14T01:00:00"},{"$f":"IF('namerena data'!C1807>0,'namerena data'!C1807/1000,0)","v":0},28.56,25.774999999999999,{"$f":"+IF(AND(ISNUMBER(D1817),ISNUMBER(E1817)),D1817*E1817-$F$13,0)","v":136.1339999999999},{"$f":"+(C1817*F1817)","v":0}]
[null,{"$f":"'namerena data'!A1808+('namerena data'!B1808-1)/24","v":"2013-09-14T02:00:00"},{"$f":"IF('namerena data'!C1808>0,'namerena data'!C1808/1000,0)","v":0},28.35,25.774999999999999,130.72124999999994,0]
[null,{"$f":"'namerena data'!A1809+('namerena data'!B1809-1)/24","v":"2013-09-14T03:00:00"},{"$f":"IF('namerena data'!C1809>0,'namerena data'!C1809/1000,0)","v":0},27.25,25.774999999999999,102.36874999999998,0]
[null,{"$f":"'namerena data'!A1810+('namerena data'!B1810-1)/24","v":"2013-09-14T04:00:00"},{"$f":"IF('namerena data'!C1810>0,'namerena data'!C1810/1000,0)","v":0},27.06,25.774999999999999,97.471499999999878,0]
[null,{"$f":"'namerena data'!A1811+('namerena data'!B1811-1)/24","v":"2013-09-14T05:00:00"},{"$f":"IF('namerena data'!C1811>0,'namerena data'!C1811/1000,0)","v":0},27.3,25.774999999999999,103.65750000000003,0]
[null,{"$f":"'namerena data'!A1812+('namerena data'!B1812-1)/24","v":"2013-09-14T06:00:00"},{"$f":"IF('namerena data'!C1812>0,'namerena data'!C1812/1000,0)","v":0},28.69,25.774999999999999,139.48474999999996,0]
[null,{"$f":"'namerena data'!A1813+('namerena data'!B1813-1)/24","v":"2013-09-14T07:00:00"},{"$f":"IF('namerena data'!C1813>0,'namerena data'!C1813/1000,0)","v":0},32.5,25.774999999999999,237.6875,0]
[null,{"$f":"'namerena data'!A1814+('namerena data'!B1814-1)/24","v":"2013-09-14T08:00:00"},{"$f":"IF('namerena data'!C1814>0,'namerena data'!C1814/1000,0)","v":0},36.5,25.774999999999999,340.78749999999991,0]
[null,{"$f":"'namerena data'!A1815+('namerena data'!B1815-1)/24","v":"2013-09-14T09:00:00"},{"$f":"IF('namerena data'!C1815>0,'namerena data'!C1815/1000,0)","v":0},41.11,25.774999999999999,459.61024999999995,0]
[null,{"$f":"'namerena data'!A1816+('namerena data'!B1816-1)/24","v":"2013-09-14T10:00:00"},{"$f":"IF('namerena data'!C1816>0,'namerena data'!C1816/1000,0)","v":0},43.07,25.774999999999999,510.12924999999996,0]
[null,{"$f":"'namerena data'!A1817+('namerena data'!B1817-1)/24","v":"2013-09-14T11:00:00"},{"$f":"IF('namerena data'!C1817>0,'namerena data'!C1817/1000,0)","v":0},43.33,25.774999999999999,516.83074999999985,0]
[null,{"$f":"'namerena data'!A1818+('namerena data'!B1818-1)/24","v":"2013-09-14T12:00:00"},{"$f":"IF('namerena data'!C1818>0,'namerena data'!C1818/1000,0)","v":0},40.700000000000003,25.774999999999999,449.04250000000002,0]
[null,{"$f":"'namerena data'!A1819+('namerena data'!B1819-1)/24","v":"2013-09-14T13:00:00"},{"$f":"IF('namerena data'!C1819>0,'namerena data'!C1819/1000,0)","v":0},39,25.774999999999999,405.22499999999991,0]
[null,{"$f":"'namerena data'!A1820+('namerena data'!B1820-1)/24","v":"2013-09-14T14:00:00"},{"$f":"IF('namerena data'!C1820>0,'namerena data'!C1820/1000,0)","v":0},36.700000000000003,25.774999999999999,345.9425,0]
[null,{"$f":"'namerena data'!A1821+('namerena data'!B1821-1)/24","v":"2013-09-14T15:00:00"},{"$f":"IF('namerena data'!C1821>0,'namerena data'!C1821/1000,0)","v":0},34.799999999999997,25.774999999999999,296.96999999999991,0]
[null,{"$f":"'namerena data'!A1822+('namerena data'!B1822-1)/24","v":"2013-09-14T16:00:00"},{"$f":"IF('namerena data'!C1822>0,'namerena data'!C1822/1000,0)","v":0},35.24,25.774999999999999,308.31100000000004,0]
[null,{"$f":"'namerena data'!A1823+('namerena data'!B1823-1)/24","v":"2013-09-14T17:00:00"},{"$f":"IF('namerena data'!C1823>0,'namerena data'!C1823/1000,0)","v":0},38.200000000000003,25.774999999999999,384.60500000000002,0]
[null,{"$f":"'namerena data'!A1824+('namerena data'!B1824-1)/24","v":"2013-09-14T18:00:00"},{"$f":"IF('namerena data'!C1824>0,'namerena data'!C1824/1000,0)","v":0},42,25.774999999999999,482.54999999999995,0]
[null,{"$f":"'namerena data'!A1825+('namerena data'!B1825-1)/24","v":"2013-09-14T19:00:00"},{"$f":"IF('namerena data'!C1825>0,'namerena data'!C1825/1000,0)","v":0},43.96,25.774999999999999,533.06899999999996,0]
[null,{"$f":"'namerena data'!A1826+('namerena data'!B1826-1)/24","v":"2013-09-14T20:00:00"},{"$f":"IF('namerena data'!C1826>0,'namerena data'!C1826/1000,0)","v":0},42,25.774999999999999,482.54999999999995,0]
[null,{"$f":"'namerena data'!A1827+('namerena data'!B1827-1)/24","v":"2013-09-14T21:00:00"},{"$f":"IF('namerena data'!C1827>0,'namerena data'!C1827/1000,0)","v":0},37.909999999999997,25.774999999999999,377.13024999999982,0]
[null,{"$f":"'namerena data'!A1828+('namerena data'!B1828-1)/24","v":"2013-09-14T22:00:00"},{"$f":"IF('namerena data'!C1828>0,'namerena data'!C1828/1000,0)","v":0},34.92,25.774999999999999,300.06299999999999,0]
[null,{"$f":"'namerena data'!A1829+('namerena data'!B1829-1)/24","v":"2013-09-14T23:00:00"},{"$f":"IF('namerena data'!C1829>0,'namerena data'!C1829/1000,0)","v":0},29.82,25.774999999999999,168.6105,0]
[null,{"$f":"'namerena data'!A1830+('namerena data'!B1830-1)/24","v":"2013-09-15"},{"$f":"IF('namerena data'!C1830>0,'namerena data'!C1830/1000,0)","v":0},27.1,25.774999999999999,98.502500000000055,0]
[null,{"$f":"'namerena data'!A1831+('namerena data'!B1831-1)/24","v":"2013-09-15T01:00:00"},{"$f":"IF('namerena data'!C1831>0,'namerena data'!C1831/1000,0)","v":0},23.17,25.774999999999999,-2.7932499999999436,0]
[null,{"$f":"'namerena data'!A1832+('namerena data'!B1832-1)/24","v":"2013-09-15T02:00:00"},{"$f":"IF('namerena data'!C1832>0,'namerena data'!C1832/1000,0)","v":0},20.6,25.774999999999999,-69.034999999999968,0]
[null,{"$f":"'namerena data'!A1833+('namerena data'!B1833-1)/24","v":"2013-09-15T03:00:00"},{"$f":"IF('namerena data'!C1833>0,'namerena data'!C1833/1000,0)","v":0},19.38,25.774999999999999,-100.48050000000006,0]
[null,{"$f":"'namerena data'!A1834+('namerena data'!B1834-1)/24","v":"2013-09-15T04:00:00"},{"$f":"IF('namerena data'!C1834>0,'namerena data'!C1834/1000,0)","v":0},18.600000000000001,25.774999999999999,-120.58499999999998,0]
[null,{"$f":"'namerena data'!A1835+('namerena data'!B1835-1)/24","v":"2013-09-15T05:00:00"},{"$f":"IF('namerena data'!C1835>0,'namerena data'!C1835/1000,0)","v":0},20.079999999999998,25.774999999999999,-82.438000000000102,0]
[null,{"$f":"'namerena data'!A1836+('namerena data'!B1836-1)/24","v":"2013-09-15T06:00:00"},{"$f":"IF('namerena data'!C1836>0,'namerena data'!C1836/1000,0)","v":0},21.42,25.774999999999999,-47.899499999999989,0]
[null,{"$f":"'namerena data'!A1837+('namerena data'!B1837-1)/24","v":"2013-09-15T07:00:00"},{"$f":"IF('namerena data'!C1837>0,'namerena data'!C1837/1000,0)","v":0},22.46,25.774999999999999,-21.093500000000063,0]
[null,{"$f":"'namerena data'!A1838+('namerena data'!B1838-1)/24","v":"2013-09-15T08:00:00"},{"$f":"IF('namerena data'!C1838>0,'namerena data'!C1838/1000,0)","v":0},27.52,25.774999999999999,109.32799999999997,0]
[null,{"$f":"'namerena data'!A1839+('namerena data'!B1839-1)/24","v":"2013-09-15T09:00:00"},{"$f":"IF('namerena data'!C1839>0,'namerena data'!C1839/1000,0)","v":0},33.299999999999997,25.774999999999999,258.30749999999989,0]
[null,{"$f":"'namerena data'!A1840+('namerena data'!B1840-1)/24","v":"2013-09-15T10:00:00"},{"$f":"IF('namerena data'!C1840>0,'namerena data'!C1840/1000,0)","v":0},34.97,25.774999999999999,301.35174999999992,0]
[null,{"$f":"'namerena data'!A1841+('namerena data'!B1841-1)/24","v":"2013-09-15T11:00:00"},{"$f":"IF('namerena data'!C1841>0,'namerena data'!C1841/1000,0)","v":0},35.5,25.774999999999999,315.01249999999993,0]
[null,{"$f":"'namerena data'!A1842+('namerena data'!B1842-1)/24","v":"2013-09-15T12:00:00"},{"$f":"IF('namerena data'!C1842>0,'namerena data'!C1842/1000,0)","v":0},33.97,25.774999999999999,275.57674999999995,0]
[null,{"$f":"'namerena data'!A1843+('namerena data'!B1843-1)/24","v":"2013-09-15T13:00:00"},{"$f":"IF('namerena data'!C1843>0,'namerena data'!C1843/1000,0)","v":0},30.9,25.774999999999999,196.44749999999988,0]
[null,{"$f":"'namerena data'!A1844+('namerena data'!B1844-1)/24","v":"2013-09-15T14:00:00"},{"$f":"IF('namerena data'!C1844>0,'namerena data'!C1844/1000,0)","v":0},28.85,25.774999999999999,143.60874999999999,0]
[null,{"$f":"'namerena data'!A1845+('namerena data'!B1845-1)/24","v":"2013-09-15T15:00:00"},{"$f":"IF('namerena data'!C1845>0,'namerena data'!C1845/1000,0)","v":0},26.6,25.774999999999999,85.615000000000009,0]
[null,{"$f":"'namerena data'!A1846+('namerena data'!B1846-1)/24","v":"2013-09-15T16:00:00"},{"$f":"IF('namerena data'!C1846>0,'namerena data'!C1846/1000,0)","v":0},30.5,25.774999999999999,186.13749999999993,0]
[null,{"$f":"'namerena data'!A1847+('namerena data'!B1847-1)/24","v":"2013-09-15T17:00:00"},{"$f":"IF('namerena data'!C1847>0,'namerena data'!C1847/1000,0)","v":0},32,25.774999999999999,224.79999999999995,0]
[null,{"$f":"'namerena data'!A1848+('namerena data'!B1848-1)/24","v":"2013-09-15T18:00:00"},{"$f":"IF('namerena data'!C1848>0,'namerena data'!C1848/1000,0)","v":0},34.799999999999997,25.774999999999999,296.96999999999991,0]
[null,{"$f":"'namerena data'!A1849+('namerena data'!B1849-1)/24","v":"2013-09-15T19:00:00"},{"$f":"IF('namerena data'!C1849>0,'namerena data'!C1849/1000,0)","v":0},40,25.774999999999999,431,0]
[null,{"$f":"'namerena data'!A1850+('namerena data'!B1850-1)/24","v":"2013-09-15T20:00:00"},{"$f":"IF('namerena data'!C1850>0,'namerena data'!C1850/1000,0)","v":0},40.450000000000003,25.774999999999999,442.59875000000011,0]
[null,{"$f":"'namerena data'!A1851+('namerena data'!B1851-1)/24","v":"2013-09-15T21:00:00"},{"$f":"IF('namerena data'!C1851>0,'namerena data'!C1851/1000,0)","v":0},34.81,25.774999999999999,297.22775000000001,0]
[null,{"$f":"'namerena data'!A1852+('namerena data'!B1852-1)/24","v":"2013-09-15T22:00:00"},{"$f":"IF('namerena data'!C1852>0,'namerena data'!C1852/1000,0)","v":0},32.1,25.774999999999999,227.37749999999994,0]
[null,{"$f":"'namerena data'!A1853+('namerena data'!B1853-1)/24","v":"2013-09-15T23:00:00"},{"$f":"IF('namerena data'!C1853>0,'namerena data'!C1853/1000,0)","v":0},28.3,25.774999999999999,129.4325,0]
[null,{"$f":"'namerena data'!A1854+('namerena data'!B1854-1)/24","v":"2013-09-16"},{"$f":"IF('namerena data'!C1854>0,'namerena data'!C1854/1000,0)","v":0},20.239999999999998,25.765000000000001,-78.516399999999976,0]
[null,{"$f":"'namerena data'!A1855+('namerena data'!B1855-1)/24","v":"2013-09-16T01:00:00"},{"$f":"IF('namerena data'!C1855>0,'namerena data'!C1855/1000,0)","v":0},15,25.765000000000001,-213.52499999999998,0]
[null,{"$f":"'namerena data'!A1856+('namerena data'!B1856-1)/24","v":"2013-09-16T02:00:00"},{"$f":"IF('namerena data'!C1856>0,'namerena data'!C1856/1000,0)","v":0},11.15,25.765000000000001,-312.72024999999996,0]
[null,{"$f":"'namerena data'!A1857+('namerena data'!B1857-1)/24","v":"2013-09-16T03:00:00"},{"$f":"IF('namerena data'!C1857>0,'namerena data'!C1857/1000,0)","v":0},10.18,25.765000000000001,-337.71230000000003,0]
[null,{"$f":"'namerena data'!A1858+('namerena data'!B1858-1)/24","v":"2013-09-16T04:00:00"},{"$f":"IF('namerena data'!C1858>0,'namerena data'!C1858/1000,0)","v":0},11.02,25.765000000000001,-316.06970000000001,0]
[null,{"$f":"'namerena data'!A1859+('namerena data'!B1859-1)/24","v":"2013-09-16T05:00:00"},{"$f":"IF('namerena data'!C1859>0,'namerena data'!C1859/1000,0)","v":0},17,25.765000000000001,-161.995,0]
[null,{"$f":"'namerena data'!A1860+('namerena data'!B1860-1)/24","v":"2013-09-16T06:00:00"},{"$f":"IF('namerena data'!C1860>0,'namerena data'!C1860/1000,0)","v":0},36,25.765000000000001,327.53999999999996,0]
[null,{"$f":"'namerena data'!A1861+('namerena data'!B1861-1)/24","v":"2013-09-16T07:00:00"},{"$f":"IF('namerena data'!C1861>0,'namerena data'!C1861/1000,0)","v":0},47.55,25.765000000000001,625.12574999999993,0]
[null,{"$f":"'namerena data'!A1862+('namerena data'!B1862-1)/24","v":"2013-09-16T08:00:00"},{"$f":"IF('namerena data'!C1862>0,'namerena data'!C1862/1000,0)","v":0},51,25.765000000000001,714.0150000000001,0]
[null,{"$f":"'namerena data'!A1863+('namerena data'!B1863-1)/24","v":"2013-09-16T09:00:00"},{"$f":"IF('namerena data'!C1863>0,'namerena data'!C1863/1000,0)","v":0},50.13,25.765000000000001,691.59945000000016,0]
[null,{"$f":"'namerena data'!A1864+('namerena data'!B1864-1)/24","v":"2013-09-16T10:00:00"},{"$f":"IF('namerena data'!C1864>0,'namerena data'!C1864/1000,0)","v":0},49.1,25.765000000000001,665.06150000000002,0]
[null,{"$f":"'namerena data'!A1865+('namerena data'!B1865-1)/24","v":"2013-09-16T11:00:00"},{"$f":"IF('namerena data'!C1865>0,'namerena data'!C1865/1000,0)","v":0},49.34,25.765000000000001,671.24510000000009,0]
[null,{"$f":"'namerena data'!A1866+('namerena data'!B1866-1)/24","v":"2013-09-16T12:00:00"},{"$f":"IF('namerena data'!C1866>0,'namerena data'!C1866/1000,0)","v":0},49.5,25.765000000000001,675.36750000000006,0]
[null,{"$f":"'namerena data'!A1867+('namerena data'!B1867-1)/24","v":"2013-09-16T13:00:00"},{"$f":"IF('namerena data'!C1867>0,'namerena data'!C1867/1000,0)","v":0},48.4,25.765000000000001,647.02600000000007,0]
[null,{"$f":"'namerena data'!A1868+('namerena data'!B1868-1)/24","v":"2013-09-16T14:00:00"},{"$f":"IF('namerena data'!C1868>0,'namerena data'!C1868/1000,0)","v":0},46.8,25.765000000000001,605.80199999999991,0]
[null,{"$f":"'namerena data'!A1869+('namerena data'!B1869-1)/24","v":"2013-09-16T15:00:00"},{"$f":"IF('namerena data'!C1869>0,'namerena data'!C1869/1000,0)","v":0},48.67,25.765000000000001,653.98255000000017,0]
[null,{"$f":"'namerena data'!A1870+('namerena data'!B1870-1)/24","v":"2013-09-16T16:00:00"},{"$f":"IF('namerena data'!C1870>0,'namerena data'!C1870/1000,0)","v":0},47,25.765000000000001,610.95499999999993,0]
[null,{"$f":"'namerena data'!A1871+('namerena data'!B1871-1)/24","v":"2013-09-16T17:00:00"},{"$f":"IF('namerena data'!C1871>0,'namerena data'!C1871/1000,0)","v":0},51,25.765000000000001,{"$f":"+IF(AND(ISNUMBER(D1881),ISNUMBER(E1881)),D1881*E1881-$F$13,0)","v":714.0150000000001},{"$f":"+(C1881*F1881)","v":0}]
[null,{"$f":"'namerena data'!A1872+('namerena data'!B1872-1)/24","v":"2013-09-16T18:00:00"},{"$f":"IF('namerena data'!C1872>0,'namerena data'!C1872/1000,0)","v":0},57,25.765000000000001,868.60500000000002,0]
[null,{"$f":"'namerena data'!A1873+('namerena data'!B1873-1)/24","v":"2013-09-16T19:00:00"},{"$f":"IF('namerena data'!C1873>0,'namerena data'!C1873/1000,0)","v":0},63,25.765000000000001,1023.1949999999999,0]
[null,{"$f":"'namerena data'!A1874+('namerena data'!B1874-1)/24","v":"2013-09-16T20:00:00"},{"$f":"IF('namerena data'!C1874>0,'namerena data'!C1874/1000,0)","v":0},64,25.765000000000001,1048.96,0]
[null,{"$f":"'namerena data'!A1875+('namerena data'!B1875-1)/24","v":"2013-09-16T21:00:00"},{"$f":"IF('namerena data'!C1875>0,'namerena data'!C1875/1000,0)","v":0},50,25.765000000000001,688.25,0]
[null,{"$f":"'namerena data'!A1876+('namerena data'!B1876-1)/24","v":"2013-09-16T22:00:00"},{"$f":"IF('namerena data'!C1876>0,'namerena data'!C1876/1000,0)","v":0},41.4,25.765000000000001,466.67100000000005,0]
[null,{"$f":"'namerena data'!A1877+('namerena data'!B1877-1)/24","v":"2013-09-16T23:00:00"},{"$f":"IF('namerena data'!C1877>0,'namerena data'!C1877/1000,0)","v":0},34.44,25.765000000000001,287.34659999999997,0]
[null,{"$f":"'namerena data'!A1878+('namerena data'!B1878-1)/24","v":"2013-09-17"},{"$f":"IF('namerena data'!C1878>0,'namerena data'!C1878/1000,0)","v":0},31.74,25.72,216.35279999999989,0]
[null,{"$f":"'namerena data'!A1879+('namerena data'!B1879-1)/24","v":"2013-09-17T01:00:00"},{"$f":"IF('namerena data'!C1879>0,'namerena data'!C1879/1000,0)","v":0},28.8,25.72,140.73599999999999,0]
[null,{"$f":"'namerena data'!A1880+('namerena data'!B1880-1)/24","v":"2013-09-17T02:00:00"},{"$f":"IF('namerena data'!C1880>0,'namerena data'!C1880/1000,0)","v":0},25.89,25.72,65.890800000000013,0]
[null,{"$f":"'namerena data'!A1881+('namerena data'!B1881-1)/24","v":"2013-09-17T03:00:00"},{"$f":"IF('namerena data'!C1881>0,'namerena data'!C1881/1000,0)","v":0},23.51,25.72,4.6771999999999707,0]
[null,{"$f":"'namerena data'!A1882+('namerena data'!B1882-1)/24","v":"2013-09-17T04:00:00"},{"$f":"IF('namerena data'!C1882>0,'namerena data'!C1882/1000,0)","v":0},24.05,25.72,18.566000000000031,0]
[null,{"$f":"'namerena data'!A1883+('namerena data'!B1883-1)/24","v":"2013-09-17T05:00:00"},{"$f":"IF('namerena data'!C1883>0,'namerena data'!C1883/1000,0)","v":0},29.97,25.72,170.82839999999999,0]
[null,{"$f":"'namerena data'!A1884+('namerena data'!B1884-1)/24","v":"2013-09-17T06:00:00"},{"$f":"IF('namerena data'!C1884>0,'namerena data'!C1884/1000,0)","v":0},45.39,25.72,567.43079999999986,0]
[null,{"$f":"'namerena data'!A1885+('namerena data'!B1885-1)/24","v":"2013-09-17T07:00:00"},{"$f":"IF('namerena data'!C1885>0,'namerena data'!C1885/1000,0)","v":0},58.3,25.72,899.47599999999989,0]
[null,{"$f":"'namerena data'!A1886+('namerena data'!B1886-1)/24","v":"2013-09-17T08:00:00"},{"$f":"IF('namerena data'!C1886>0,'namerena data'!C1886/1000,0)","v":0},55.08,25.72,816.6576,0]
[null,{"$f":"'namerena data'!A1887+('namerena data'!B1887-1)/24","v":"2013-09-17T09:00:00"},{"$f":"IF('namerena data'!C1887>0,'namerena data'!C1887/1000,0)","v":0},50,25.72,686,0]
[null,{"$f":"'namerena data'!A1888+('namerena data'!B1888-1)/24","v":"2013-09-17T10:00:00"},{"$f":"IF('namerena data'!C1888>0,'namerena data'!C1888/1000,0)","v":0},46.3,25.72,590.83599999999979,0]
[null,{"$f":"'namerena data'!A1889+('namerena data'!B1889-1)/24","v":"2013-09-17T11:00:00"},{"$f":"IF('namerena data'!C1889>0,'namerena data'!C1889/1000,0)","v":0},45,25.72,557.39999999999986,0]
[null,{"$f":"'namerena data'!A1890+('namerena data'!B1890-1)/24","v":"2013-09-17T12:00:00"},{"$f":"IF('namerena data'!C1890>0,'namerena data'!C1890/1000,0)","v":0},39,25.72,403.07999999999993,0]
[null,{"$f":"'namerena data'!A1891+('namerena data'!B1891-1)/24","v":"2013-09-17T13:00:00"},{"$f":"IF('namerena data'!C1891>0,'namerena data'!C1891/1000,0)","v":0},36.92,25.72,349.58240000000001,0]
[null,{"$f":"'namerena data'!A1892+('namerena data'!B1892-1)/24","v":"2013-09-17T14:00:00"},{"$f":"IF('namerena data'!C1892>0,'namerena data'!C1892/1000,0)","v":0},36.799999999999997,25.72,346.49599999999987,0]
[null,{"$f":"'namerena data'!A1893+('namerena data'!B1893-1)/24","v":"2013-09-17T15:00:00"},{"$f":"IF('namerena data'!C1893>0,'namerena data'!C1893/1000,0)","v":0},37.700000000000003,25.72,369.64400000000001,0]
[null,{"$f":"'namerena data'!A1894+('namerena data'!B1894-1)/24","v":"2013-09-17T16:00:00"},{"$f":"IF('namerena data'!C1894>0,'namerena data'!C1894/1000,0)","v":0},39.93,25.72,426.99959999999987,0]
[null,{"$f":"'namerena data'!A1895+('namerena data'!B1895-1)/24","v":"2013-09-17T17:00:00"},{"$f":"IF('namerena data'!C1895>0,'namerena data'!C1895/1000,0)","v":0},45,25.72,557.39999999999986,0]
[null,{"$f":"'namerena data'!A1896+('namerena data'!B1896-1)/24","v":"2013-09-17T18:00:00"},{"$f":"IF('namerena data'!C1896>0,'namerena data'!C1896/1000,0)","v":0},51.03,25.72,712.49160000000006,0]
[null,{"$f":"'namerena data'!A1897+('namerena data'!B1897-1)/24","v":"2013-09-17T19:00:00"},{"$f":"IF('namerena data'!C1897>0,'namerena data'!C1897/1000,0)","v":0},59.94,25.72,941.65679999999998,0]
[null,{"$f":"'namerena data'!A1898+('namerena data'!B1898-1)/24","v":"2013-09-17T20:00:00"},{"$f":"IF('namerena data'!C1898>0,'namerena data'!C1898/1000,0)","v":0},59.14,25.72,921.08079999999995,0]
[null,{"$f":"'namerena data'!A1899+('namerena data'!B1899-1)/24","v":"2013-09-17T21:00:00"},{"$f":"IF('namerena data'!C1899>0,'namerena data'!C1899/1000,0)","v":0},47,25.72,608.83999999999992,0]
[null,{"$f":"'namerena data'!A1900+('namerena data'!B1900-1)/24","v":"2013-09-17T22:00:00"},{"$f":"IF('namerena data'!C1900>0,'namerena data'!C1900/1000,0)","v":0},39.200000000000003,25.72,408.22400000000005,0]
[null,{"$f":"'namerena data'!A1901+('namerena data'!B1901-1)/24","v":"2013-09-17T23:00:00"},{"$f":"IF('namerena data'!C1901>0,'namerena data'!C1901/1000,0)","v":0},33.700000000000003,25.72,266.76400000000001,0]
[null,{"$f":"'namerena data'!A1902+('namerena data'!B1902-1)/24","v":"2013-09-18"},{"$f":"IF('namerena data'!C1902>0,'namerena data'!C1902/1000,0)","v":0},29.29,25.81,155.97489999999993,0]
[null,{"$f":"'namerena data'!A1903+('namerena data'!B1903-1)/24","v":"2013-09-18T01:00:00"},{"$f":"IF('namerena data'!C1903>0,'namerena data'!C1903/1000,0)","v":0},26.21,25.81,76.480099999999993,0]
[null,{"$f":"'namerena data'!A1904+('namerena data'!B1904-1)/24","v":"2013-09-18T02:00:00"},{"$f":"IF('namerena data'!C1904>0,'namerena data'!C1904/1000,0)","v":0},23.92,25.81,17.375200000000063,0]
[null,{"$f":"'namerena data'!A1905+('namerena data'!B1905-1)/24","v":"2013-09-18T03:00:00"},{"$f":"IF('namerena data'!C1905>0,'namerena data'!C1905/1000,0)","v":0},20.93,25.81,-59.796699999999987,0]
[null,{"$f":"'namerena data'!A1906+('namerena data'!B1906-1)/24","v":"2013-09-18T04:00:00"},{"$f":"IF('namerena data'!C1906>0,'namerena data'!C1906/1000,0)","v":0},23.31,25.81,1.6310999999999467,0]
[null,{"$f":"'namerena data'!A1907+('namerena data'!B1907-1)/24","v":"2013-09-18T05:00:00"},{"$f":"IF('namerena data'!C1907>0,'namerena data'!C1907/1000,0)","v":0},28.4,25.81,133.00399999999991,0]
[null,{"$f":"'namerena data'!A1908+('namerena data'!B1908-1)/24","v":"2013-09-18T06:00:00"},{"$f":"IF('namerena data'!C1908>0,'namerena data'!C1908/1000,0)","v":0},44,25.81,535.63999999999987,0]
[null,{"$f":"'namerena data'!A1909+('namerena data'!B1909-1)/24","v":"2013-09-18T07:00:00"},{"$f":"IF('namerena data'!C1909>0,'namerena data'!C1909/1000,0)","v":0},59.2,25.81,927.952,0]
[null,{"$f":"'namerena data'!A1910+('namerena data'!B1910-1)/24","v":"2013-09-18T08:00:00"},{"$f":"IF('namerena data'!C1910>0,'namerena data'!C1910/1000,0)","v":0},63.18,25.81,1030.6758,0]
[null,{"$f":"'namerena data'!A1911+('namerena data'!B1911-1)/24","v":"2013-09-18T09:00:00"},{"$f":"IF('namerena data'!C1911>0,'namerena data'!C1911/1000,0)","v":0},65,25.81,1077.6499999999999,0]
[null,{"$f":"'namerena data'!A1912+('namerena data'!B1912-1)/24","v":"2013-09-18T10:00:00"},{"$f":"IF('namerena data'!C1912>0,'namerena data'!C1912/1000,0)","v":0},62.9,25.81,1023.4489999999998,0]
[null,{"$f":"'namerena data'!A1913+('namerena data'!B1913-1)/24","v":"2013-09-18T11:00:00"},{"$f":"IF('namerena data'!C1913>0,'namerena data'!C1913/1000,0)","v":0},66.62,25.81,1119.4621999999999,0]
[null,{"$f":"'namerena data'!A1914+('namerena data'!B1914-1)/24","v":"2013-09-18T12:00:00"},{"$f":"IF('namerena data'!C1914>0,'namerena data'!C1914/1000,0)","v":0},64.290000000000006,25.81,1059.3249000000001,0]
[null,{"$f":"'namerena data'!A1915+('namerena data'!B1915-1)/24","v":"2013-09-18T13:00:00"},{"$f":"IF('namerena data'!C1915>0,'namerena data'!C1915/1000,0)","v":0},65.3,25.81,1085.3929999999998,0]
[null,{"$f":"'namerena data'!A1916+('namerena data'!B1916-1)/24","v":"2013-09-18T14:00:00"},{"$f":"IF('namerena data'!C1916>0,'namerena data'!C1916/1000,0)","v":0},57.4,25.81,881.49399999999991,0]
[null,{"$f":"'namerena data'!A1917+('namerena data'!B1917-1)/24","v":"2013-09-18T15:00:00"},{"$f":"IF('namerena data'!C1917>0,'namerena data'!C1917/1000,0)","v":0},55,25.81,819.55,0]
[null,{"$f":"'namerena data'!A1918+('namerena data'!B1918-1)/24","v":"2013-09-18T16:00:00"},{"$f":"IF('namerena data'!C1918>0,'namerena data'!C1918/1000,0)","v":0},54,25.81,793.74,0]
[null,{"$f":"'namerena data'!A1919+('namerena data'!B1919-1)/24","v":"2013-09-18T17:00:00"},{"$f":"IF('namerena data'!C1919>0,'namerena data'!C1919/1000,0)","v":0},53.45,25.81,779.54449999999997,0]
[null,{"$f":"'namerena data'!A1920+('namerena data'!B1920-1)/24","v":"2013-09-18T18:00:00"},{"$f":"IF('namerena data'!C1920>0,'namerena data'!C1920/1000,0)","v":0},56.8,25.81,866.00799999999981,0]
[null,{"$f":"'namerena data'!A1921+('namerena data'!B1921-1)/24","v":"2013-09-18T19:00:00"},{"$f":"IF('namerena data'!C1921>0,'namerena data'!C1921/1000,0)","v":0},62.23,25.81,1006.1562999999999,0]
[null,{"$f":"'namerena data'!A1922+('namerena data'!B1922-1)/24","v":"2013-09-18T20:00:00"},{"$f":"IF('namerena data'!C1922>0,'namerena data'!C1922/1000,0)","v":0},61,25.81,974.40999999999985,0]
[null,{"$f":"'namerena data'!A1923+('namerena data'!B1923-1)/24","v":"2013-09-18T21:00:00"},{"$f":"IF('namerena data'!C1923>0,'namerena data'!C1923/1000,0)","v":0},50,25.81,690.5,0]
[null,{"$f":"'namerena data'!A1924+('namerena data'!B1924-1)/24","v":"2013-09-18T22:00:00"},{"$f":"IF('namerena data'!C1924>0,'namerena data'!C1924/1000,0)","v":0},40.44,25.81,443.75639999999999,0]
[null,{"$f":"'namerena data'!A1925+('namerena data'!B1925-1)/24","v":"2013-09-18T23:00:00"},{"$f":"IF('namerena data'!C1925>0,'namerena data'!C1925/1000,0)","v":0},34.01,25.81,277.79809999999986,0]
[null,{"$f":"'namerena data'!A1926+('namerena data'!B1926-1)/24","v":"2013-09-19"},{"$f":"IF('namerena data'!C1926>0,'namerena data'!C1926/1000,0)","v":0},30.64,25.734999999999999,188.5204,0]
[null,{"$f":"'namerena data'!A1927+('namerena data'!B1927-1)/24","v":"2013-09-19T01:00:00"},{"$f":"IF('namerena data'!C1927>0,'namerena data'!C1927/1000,0)","v":0},27.93,25.734999999999999,118.77855,0]
[null,{"$f":"'namerena data'!A1928+('namerena data'!B1928-1)/24","v":"2013-09-19T02:00:00"},{"$f":"IF('namerena data'!C1928>0,'namerena data'!C1928/1000,0)","v":0},25.23,25.734999999999999,49.29404999999997,0]
[null,{"$f":"'namerena data'!A1929+('namerena data'!B1929-1)/24","v":"2013-09-19T03:00:00"},{"$f":"IF('namerena data'!C1929>0,'namerena data'!C1929/1000,0)","v":0},21.7,25.734999999999999,-41.550500000000056,0]
[null,{"$f":"'namerena data'!A1930+('namerena data'!B1930-1)/24","v":"2013-09-19T04:00:00"},{"$f":"IF('namerena data'!C1930>0,'namerena data'!C1930/1000,0)","v":0},23.9,25.734999999999999,15.066499999999905,0]
[null,{"$f":"'namerena data'!A1931+('namerena data'!B1931-1)/24","v":"2013-09-19T05:00:00"},{"$f":"IF('namerena data'!C1931>0,'namerena data'!C1931/1000,0)","v":0},29,25.734999999999999,146.31499999999994,0]
[null,{"$f":"'namerena data'!A1932+('namerena data'!B1932-1)/24","v":"2013-09-19T06:00:00"},{"$f":"IF('namerena data'!C1932>0,'namerena data'!C1932/1000,0)","v":0},48,25.734999999999999,635.28,0]
[null,{"$f":"'namerena data'!A1933+('namerena data'!B1933-1)/24","v":"2013-09-19T07:00:00"},{"$f":"IF('namerena data'!C1933>0,'namerena data'!C1933/1000,0)","v":0},61.65,25.734999999999999,986.56274999999982,0]
[null,{"$f":"'namerena data'!A1934+('namerena data'!B1934-1)/24","v":"2013-09-19T08:00:00"},{"$f":"IF('namerena data'!C1934>0,'namerena data'!C1934/1000,0)","v":0},60.85,25.734999999999999,965.97475000000009,0]
[null,{"$f":"'namerena data'!A1935+('namerena data'!B1935-1)/24","v":"2013-09-19T09:00:00"},{"$f":"IF('namerena data'!C1935>0,'namerena data'!C1935/1000,0)","v":0},61,25.734999999999999,{"$f":"+IF(AND(ISNUMBER(D1945),ISNUMBER(E1945)),D1945*E1945-$F$13,0)","v":969.83500000000004},{"$f":"+(C1945*F1945)","v":0}]
[null,{"$f":"'namerena data'!A1936+('namerena data'!B1936-1)/24","v":"2013-09-19T10:00:00"},{"$f":"IF('namerena data'!C1936>0,'namerena data'!C1936/1000,0)","v":0},56.56,25.734999999999999,855.57159999999999,0]
[null,{"$f":"'namerena data'!A1937+('namerena data'!B1937-1)/24","v":"2013-09-19T11:00:00"},{"$f":"IF('namerena data'!C1937>0,'namerena data'!C1937/1000,0)","v":0},53.55,25.734999999999999,778.10924999999997,0]
[null,{"$f":"'namerena data'!A1938+('namerena data'!B1938-1)/24","v":"2013-09-19T12:00:00"},{"$f":"IF('namerena data'!C1938>0,'namerena data'!C1938/1000,0)","v":0},50.52,25.734999999999999,700.13220000000001,0]
[null,{"$f":"'namerena data'!A1939+('namerena data'!B1939-1)/24","v":"2013-09-19T13:00:00"},{"$f":"IF('namerena data'!C1939>0,'namerena data'!C1939/1000,0)","v":0},48.94,25.734999999999999,659.4708999999998,0]
[null,{"$f":"'namerena data'!A1940+('namerena data'!B1940-1)/24","v":"2013-09-19T14:00:00"},{"$f":"IF('namerena data'!C1940>0,'namerena data'!C1940/1000,0)","v":0},50.28,25.734999999999999,693.95579999999995,0]
[null,{"$f":"'namerena data'!A1941+('namerena data'!B1941-1)/24","v":"2013-09-19T15:00:00"},{"$f":"IF('namerena data'!C1941>0,'namerena data'!C1941/1000,0)","v":0},50.62,25.734999999999999,702.70569999999998,0]
[null,{"$f":"'namerena data'!A1942+('namerena data'!B1942-1)/24","v":"2013-09-19T16:00:00"},{"$f":"IF('namerena data'!C1942>0,'namerena data'!C1942/1000,0)","v":0},50.23,25.734999999999999,692.66904999999997,0]
[null,{"$f":"'namerena data'!A1943+('namerena data'!B1943-1)/24","v":"2013-09-19T17:00:00"},{"$f":"IF('namerena data'!C1943>0,'namerena data'!C1943/1000,0)","v":0},52.94,25.734999999999999,762.41089999999986,0]
[null,{"$f":"'namerena data'!A1944+('namerena data'!B1944-1)/24","v":"2013-09-19T18:00:00"},{"$f":"IF('namerena data'!C1944>0,'namerena data'!C1944/1000,0)","v":0},58.45,25.734999999999999,904.21074999999996,0]
[null,{"$f":"'namerena data'!A1945+('namerena data'!B1945-1)/24","v":"2013-09-19T19:00:00"},{"$f":"IF('namerena data'!C1945>0,'namerena data'!C1945/1000,0)","v":0},66.39,25.734999999999999,1108.54665,0]
[null,{"$f":"'namerena data'!A1946+('namerena data'!B1946-1)/24","v":"2013-09-19T20:00:00"},{"$f":"IF('namerena data'!C1946>0,'namerena data'!C1946/1000,0)","v":0},66.72,25.734999999999999,1117.0391999999999,0]
[null,{"$f":"'namerena data'!A1947+('namerena data'!B1947-1)/24","v":"2013-09-19T21:00:00"},{"$f":"IF('namerena data'!C1947>0,'namerena data'!C1947/1000,0)","v":0},53.27,25.734999999999999,770.90345000000002,0]
[null,{"$f":"'namerena data'!A1948+('namerena data'!B1948-1)/24","v":"2013-09-19T22:00:00"},{"$f":"IF('namerena data'!C1948>0,'namerena data'!C1948/1000,0)","v":0},43.89,25.734999999999999,529.50915000000009,0]
[null,{"$f":"'namerena data'!A1949+('namerena data'!B1949-1)/24","v":"2013-09-19T23:00:00"},{"$f":"IF('namerena data'!C1949>0,'namerena data'!C1949/1000,0)","v":0},34,25.734999999999999,274.99,0]
[null,{"$f":"'namerena data'!A1950+('namerena data'!B1950-1)/24","v":"2013-09-20"},{"$f":"IF('namerena data'!C1950>0,'namerena data'!C1950/1000,0)","v":0},31.91,25.824999999999999,224.07574999999997,0]
[null,{"$f":"'namerena data'!A1951+('namerena data'!B1951-1)/24","v":"2013-09-20T01:00:00"},{"$f":"IF('namerena data'!C1951>0,'namerena data'!C1951/1000,0)","v":0},29.95,25.824999999999999,173.45875000000001,0]
[null,{"$f":"'namerena data'!A1952+('namerena data'!B1952-1)/24","v":"2013-09-20T02:00:00"},{"$f":"IF('namerena data'!C1952>0,'namerena data'!C1952/1000,0)","v":0},26,25.824999999999999,71.449999999999932,0]
[null,{"$f":"'namerena data'!A1953+('namerena data'!B1953-1)/24","v":"2013-09-20T03:00:00"},{"$f":"IF('namerena data'!C1953>0,'namerena data'!C1953/1000,0)","v":0},24.2,25.824999999999999,24.964999999999918,0]
[null,{"$f":"'namerena data'!A1954+('namerena data'!B1954-1)/24","v":"2013-09-20T04:00:00"},{"$f":"IF('namerena data'!C1954>0,'namerena data'!C1954/1000,0)","v":0},26,25.824999999999999,71.449999999999932,0]
[null,{"$f":"'namerena data'!A1955+('namerena data'!B1955-1)/24","v":"2013-09-20T05:00:00"},{"$f":"IF('namerena data'!C1955>0,'namerena data'!C1955/1000,0)","v":0},30.94,25.824999999999999,199.02549999999997,0]
[null,{"$f":"'namerena data'!A1956+('namerena data'!B1956-1)/24","v":"2013-09-20T06:00:00"},{"$f":"IF('namerena data'!C1956>0,'namerena data'!C1956/1000,0)","v":0},48.9,25.824999999999999,662.84249999999997,0]
[null,{"$f":"'namerena data'!A1957+('namerena data'!B1957-1)/24","v":"2013-09-20T07:00:00"},{"$f":"IF('namerena data'!C1957>0,'namerena data'!C1957/1000,0)","v":0},62.26,25.824999999999999,1007.8644999999999,0]
[null,{"$f":"'namerena data'!A1958+('namerena data'!B1958-1)/24","v":"2013-09-20T08:00:00"},{"$f":"IF('namerena data'!C1958>0,'namerena data'!C1958/1000,0)","v":0},66.03,25.824999999999999,1105.2247500000001,0]
[null,{"$f":"'namerena data'!A1959+('namerena data'!B1959-1)/24","v":"2013-09-20T09:00:00"},{"$f":"IF('namerena data'!C1959>0,'namerena data'!C1959/1000,0)","v":0},66.900000000000006,25.824999999999999,1127.6925000000001,0]
[null,{"$f":"'namerena data'!A1960+('namerena data'!B1960-1)/24","v":"2013-09-20T10:00:00"},{"$f":"IF('namerena data'!C1960>0,'namerena data'!C1960/1000,0)","v":0},67.22,25.824999999999999,1135.9565,0]
[null,{"$f":"'namerena data'!A1961+('namerena data'!B1961-1)/24","v":"2013-09-20T11:00:00"},{"$f":"IF('namerena data'!C1961>0,'namerena data'!C1961/1000,0)","v":0},67.34,25.824999999999999,1139.0554999999999,0]
[null,{"$f":"'namerena data'!A1962+('namerena data'!B1962-1)/24","v":"2013-09-20T12:00:00"},{"$f":"IF('namerena data'!C1962>0,'namerena data'!C1962/1000,0)","v":0},61.96,25.824999999999999,1000.117,0]
[null,{"$f":"'namerena data'!A1963+('namerena data'!B1963-1)/24","v":"2013-09-20T13:00:00"},{"$f":"IF('namerena data'!C1963>0,'namerena data'!C1963/1000,0)","v":0},59.42,25.824999999999999,934.52150000000006,0]
[null,{"$f":"'namerena data'!A1964+('namerena data'!B1964-1)/24","v":"2013-09-20T14:00:00"},{"$f":"IF('namerena data'!C1964>0,'namerena data'!C1964/1000,0)","v":0},56.37,25.824999999999999,855.75524999999993,0]
[null,{"$f":"'namerena data'!A1965+('namerena data'!B1965-1)/24","v":"2013-09-20T15:00:00"},{"$f":"IF('namerena data'!C1965>0,'namerena data'!C1965/1000,0)","v":0},54.41,25.824999999999999,805.13824999999997,0]
[null,{"$f":"'namerena data'!A1966+('namerena data'!B1966-1)/24","v":"2013-09-20T16:00:00"},{"$f":"IF('namerena data'!C1966>0,'namerena data'!C1966/1000,0)","v":0},52.58,25.824999999999999,757.87850000000003,0]
[null,{"$f":"'namerena data'!A1967+('namerena data'!B1967-1)/24","v":"2013-09-20T17:00:00"},{"$f":"IF('namerena data'!C1967>0,'namerena data'!C1967/1000,0)","v":0},56,25.824999999999999,846.2,0]
[null,{"$f":"'namerena data'!A1968+('namerena data'!B1968-1)/24","v":"2013-09-20T18:00:00"},{"$f":"IF('namerena data'!C1968>0,'namerena data'!C1968/1000,0)","v":0},59.89,25.824999999999999,946.65924999999993,0]
[null,{"$f":"'namerena data'!A1969+('namerena data'!B1969-1)/24","v":"2013-09-20T19:00:00"},{"$f":"IF('namerena data'!C1969>0,'namerena data'!C1969/1000,0)","v":0},65.48,25.824999999999999,1091.021,0]
[null,{"$f":"'namerena data'!A1970+('namerena data'!B1970-1)/24","v":"2013-09-20T20:00:00"},{"$f":"IF('namerena data'!C1970>0,'namerena data'!C1970/1000,0)","v":0},63.54,25.824999999999999,1040.9204999999999,0]
[null,{"$f":"'namerena data'!A1971+('namerena data'!B1971-1)/24","v":"2013-09-20T21:00:00"},{"$f":"IF('namerena data'!C1971>0,'namerena data'!C1971/1000,0)","v":0},52,25.824999999999999,742.89999999999986,0]
[null,{"$f":"'namerena data'!A1972+('namerena data'!B1972-1)/24","v":"2013-09-20T22:00:00"},{"$f":"IF('namerena data'!C1972>0,'namerena data'!C1972/1000,0)","v":0},43.32,25.824999999999999,518.73900000000003,0]
[null,{"$f":"'namerena data'!A1973+('namerena data'!B1973-1)/24","v":"2013-09-20T23:00:00"},{"$f":"IF('namerena data'!C1973>0,'namerena data'!C1973/1000,0)","v":0},34.61,25.824999999999999,293.80324999999993,0]
[null,{"$f":"'namerena data'!A1974+('namerena data'!B1974-1)/24","v":"2013-09-21"},{"$f":"IF('namerena data'!C1974>0,'namerena data'!C1974/1000,0)","v":0},35.81,25.824999999999999,324.79325000000006,0]
[null,{"$f":"'namerena data'!A1975+('namerena data'!B1975-1)/24","v":"2013-09-21T01:00:00"},{"$f":"IF('namerena data'!C1975>0,'namerena data'!C1975/1000,0)","v":0},34.32,25.824999999999999,286.31399999999996,0]
[null,{"$f":"'namerena data'!A1976+('namerena data'!B1976-1)/24","v":"2013-09-21T02:00:00"},{"$f":"IF('namerena data'!C1976>0,'namerena data'!C1976/1000,0)","v":0},32.64,25.824999999999999,242.928,0]
[null,{"$f":"'namerena data'!A1977+('namerena data'!B1977-1)/24","v":"2013-09-21T03:00:00"},{"$f":"IF('namerena data'!C1977>0,'namerena data'!C1977/1000,0)","v":0},30.08,25.824999999999999,176.81599999999992,0]
[null,{"$f":"'namerena data'!A1978+('namerena data'!B1978-1)/24","v":"2013-09-21T04:00:00"},{"$f":"IF('namerena data'!C1978>0,'namerena data'!C1978/1000,0)","v":0},29.62,25.824999999999999,164.93650000000002,0]
[null,{"$f":"'namerena data'!A1979+('namerena data'!B1979-1)/24","v":"2013-09-21T05:00:00"},{"$f":"IF('namerena data'!C1979>0,'namerena data'!C1979/1000,0)","v":0},29.4,25.824999999999999,159.255,0]
[null,{"$f":"'namerena data'!A1980+('namerena data'!B1980-1)/24","v":"2013-09-21T06:00:00"},{"$f":"IF('namerena data'!C1980>0,'namerena data'!C1980/1000,0)","v":0},32.96,25.824999999999999,251.19200000000001,0]
[null,{"$f":"'namerena data'!A1981+('namerena data'!B1981-1)/24","v":"2013-09-21T07:00:00"},{"$f":"IF('namerena data'!C1981>0,'namerena data'!C1981/1000,0)","v":0},36.35,25.824999999999999,338.73874999999998,0]
[null,{"$f":"'namerena data'!A1982+('namerena data'!B1982-1)/24","v":"2013-09-21T08:00:00"},{"$f":"IF('namerena data'!C1982>0,'namerena data'!C1982/1000,0)","v":0},43.9,25.824999999999999,533.71749999999997,0]
[null,{"$f":"'namerena data'!A1983+('namerena data'!B1983-1)/24","v":"2013-09-21T09:00:00"},{"$f":"IF('namerena data'!C1983>0,'namerena data'!C1983/1000,0)","v":0},47.45,25.824999999999999,625.39625000000001,0]
[null,{"$f":"'namerena data'!A1984+('namerena data'!B1984-1)/24","v":"2013-09-21T10:00:00"},{"$f":"IF('namerena data'!C1984>0,'namerena data'!C1984/1000,0)","v":0},47.59,25.824999999999999,629.01175000000012,0]
[null,{"$f":"'namerena data'!A1985+('namerena data'!B1985-1)/24","v":"2013-09-21T11:00:00"},{"$f":"IF('namerena data'!C1985>0,'namerena data'!C1985/1000,0)","v":0},47.37,25.824999999999999,623.33024999999998,0]
[null,{"$f":"'namerena data'!A1986+('namerena data'!B1986-1)/24","v":"2013-09-21T12:00:00"},{"$f":"IF('namerena data'!C1986>0,'namerena data'!C1986/1000,0)","v":0},42.8,25.824999999999999,505.30999999999995,0]
[null,{"$f":"'namerena data'!A1987+('namerena data'!B1987-1)/24","v":"2013-09-21T13:00:00"},{"$f":"IF('namerena data'!C1987>0,'namerena data'!C1987/1000,0)","v":0},38.07,25.824999999999999,383.15774999999996,0]
[null,{"$f":"'namerena data'!A1988+('namerena data'!B1988-1)/24","v":"2013-09-21T14:00:00"},{"$f":"IF('namerena data'!C1988>0,'namerena data'!C1988/1000,0)","v":0},35.03,25.824999999999999,304.64975000000004,0]
[null,{"$f":"'namerena data'!A1989+('namerena data'!B1989-1)/24","v":"2013-09-21T15:00:00"},{"$f":"IF('namerena data'!C1989>0,'namerena data'!C1989/1000,0)","v":0},34.81,25.824999999999999,298.96825000000001,0]
[null,{"$f":"'namerena data'!A1990+('namerena data'!B1990-1)/24","v":"2013-09-21T16:00:00"},{"$f":"IF('namerena data'!C1990>0,'namerena data'!C1990/1000,0)","v":0},35.49,25.824999999999999,316.52925000000005,0]
[null,{"$f":"'namerena data'!A1991+('namerena data'!B1991-1)/24","v":"2013-09-21T17:00:00"},{"$f":"IF('namerena data'!C1991>0,'namerena data'!C1991/1000,0)","v":0},37.14,25.824999999999999,359.14049999999997,0]
[null,{"$f":"'namerena data'!A1992+('namerena data'!B1992-1)/24","v":"2013-09-21T18:00:00"},{"$f":"IF('namerena data'!C1992>0,'namerena data'!C1992/1000,0)","v":0},44.9,25.824999999999999,559.54250000000002,0]
[null,{"$f":"'namerena data'!A1993+('namerena data'!B1993-1)/24","v":"2013-09-21T19:00:00"},{"$f":"IF('namerena data'!C1993>0,'namerena data'!C1993/1000,0)","v":0},53,25.824999999999999,768.72499999999991,0]
[null,{"$f":"'namerena data'!A1994+('namerena data'!B1994-1)/24","v":"2013-09-21T20:00:00"},{"$f":"IF('namerena data'!C1994>0,'namerena data'!C1994/1000,0)","v":0},55.38,25.824999999999999,830.18849999999998,0]
[null,{"$f":"'namerena data'!A1995+('namerena data'!B1995-1)/24","v":"2013-09-21T21:00:00"},{"$f":"IF('namerena data'!C1995>0,'namerena data'!C1995/1000,0)","v":0},43.73,25.824999999999999,529.32724999999982,0]
[null,{"$f":"'namerena data'!A1996+('namerena data'!B1996-1)/24","v":"2013-09-21T22:00:00"},{"$f":"IF('namerena data'!C1996>0,'namerena data'!C1996/1000,0)","v":0},36.6,25.824999999999999,345.19500000000005,0]
[null,{"$f":"'namerena data'!A1997+('namerena data'!B1997-1)/24","v":"2013-09-21T23:00:00"},{"$f":"IF('namerena data'!C1997>0,'namerena data'!C1997/1000,0)","v":0},31.5,25.824999999999999,213.48749999999995,0]
[null,{"$f":"'namerena data'!A1998+('namerena data'!B1998-1)/24","v":"2013-09-22"},{"$f":"IF('namerena data'!C1998>0,'namerena data'!C1998/1000,0)","v":0},28.5,25.824999999999999,136.01249999999993,0]
[null,{"$f":"'namerena data'!A1999+('namerena data'!B1999-1)/24","v":"2013-09-22T01:00:00"},{"$f":"IF('namerena data'!C1999>0,'namerena data'!C1999/1000,0)","v":0},26,25.824999999999999,{"$f":"+IF(AND(ISNUMBER(D2009),ISNUMBER(E2009)),D2009*E2009-$F$13,0)","v":71.449999999999932},{"$f":"+(C2009*F2009)","v":0}]
[null,{"$f":"'namerena data'!A2000+('namerena data'!B2000-1)/24","v":"2013-09-22T02:00:00"},{"$f":"IF('namerena data'!C2000>0,'namerena data'!C2000/1000,0)","v":0},24.07,25.824999999999999,21.60775000000001,0]
[null,{"$f":"'namerena data'!A2001+('namerena data'!B2001-1)/24","v":"2013-09-22T03:00:00"},{"$f":"IF('namerena data'!C2001>0,'namerena data'!C2001/1000,0)","v":0},20,25.824999999999999,-83.5,0]
[null,{"$f":"'namerena data'!A2002+('namerena data'!B2002-1)/24","v":"2013-09-22T04:00:00"},{"$f":"IF('namerena data'!C2002>0,'namerena data'!C2002/1000,0)","v":0},18.78,25.824999999999999,-115.00649999999996,0]
[null,{"$f":"'namerena data'!A2003+('namerena data'!B2003-1)/24","v":"2013-09-22T05:00:00"},{"$f":"IF('namerena data'!C2003>0,'namerena data'!C2003/1000,0)","v":0},17.5,25.824999999999999,-148.0625,0]
[null,{"$f":"'namerena data'!A2004+('namerena data'!B2004-1)/24","v":"2013-09-22T06:00:00"},{"$f":"IF('namerena data'!C2004>0,'namerena data'!C2004/1000,0)","v":0},21,25.824999999999999,-57.675000000000068,0]
[null,{"$f":"'namerena data'!A2005+('namerena data'!B2005-1)/24","v":"2013-09-22T07:00:00"},{"$f":"IF('namerena data'!C2005>0,'namerena data'!C2005/1000,0)","v":0},24.28,25.824999999999999,27.031000000000063,0]
[null,{"$f":"'namerena data'!A2006+('namerena data'!B2006-1)/24","v":"2013-09-22T08:00:00"},{"$f":"IF('namerena data'!C2006>0,'namerena data'!C2006/1000,0)","v":0},25,25.824999999999999,45.625,0]
[null,{"$f":"'namerena data'!A2007+('namerena data'!B2007-1)/24","v":"2013-09-22T09:00:00"},{"$f":"IF('namerena data'!C2007>0,'namerena data'!C2007/1000,0)","v":0},28.38,25.824999999999999,132.9135,0]
[null,{"$f":"'namerena data'!A2008+('namerena data'!B2008-1)/24","v":"2013-09-22T10:00:00"},{"$f":"IF('namerena data'!C2008>0,'namerena data'!C2008/1000,0)","v":0},28.24,25.824999999999999,129.29799999999989,0]
[null,{"$f":"'namerena data'!A2009+('namerena data'!B2009-1)/24","v":"2013-09-22T11:00:00"},{"$f":"IF('namerena data'!C2009>0,'namerena data'!C2009/1000,0)","v":0},29.47,25.824999999999999,161.06274999999994,0]
[null,{"$f":"'namerena data'!A2010+('namerena data'!B2010-1)/24","v":"2013-09-22T12:00:00"},{"$f":"IF('namerena data'!C2010>0,'namerena data'!C2010/1000,0)","v":0},29.2,25.824999999999999,154.08999999999992,0]
[null,{"$f":"'namerena data'!A2011+('namerena data'!B2011-1)/24","v":"2013-09-22T13:00:00"},{"$f":"IF('namerena data'!C2011>0,'namerena data'!C2011/1000,0)","v":0},25.02,25.824999999999999,46.141499999999951,0]
[null,{"$f":"'namerena data'!A2012+('namerena data'!B2012-1)/24","v":"2013-09-22T14:00:00"},{"$f":"IF('namerena data'!C2012>0,'namerena data'!C2012/1000,0)","v":0},20.64,25.824999999999999,-66.97199999999998,0]
[null,{"$f":"'namerena data'!A2013+('namerena data'!B2013-1)/24","v":"2013-09-22T15:00:00"},{"$f":"IF('namerena data'!C2013>0,'namerena data'!C2013/1000,0)","v":0},22.07,25.824999999999999,-30.042249999999967,0]
[null,{"$f":"'namerena data'!A2014+('namerena data'!B2014-1)/24","v":"2013-09-22T16:00:00"},{"$f":"IF('namerena data'!C2014>0,'namerena data'!C2014/1000,0)","v":0},24.47,25.824999999999999,31.937749999999937,0]
[null,{"$f":"'namerena data'!A2015+('namerena data'!B2015-1)/24","v":"2013-09-22T17:00:00"},{"$f":"IF('namerena data'!C2015>0,'namerena data'!C2015/1000,0)","v":0},30.35,25.824999999999999,183.78875000000005,0]
[null,{"$f":"'namerena data'!A2016+('namerena data'!B2016-1)/24","v":"2013-09-22T18:00:00"},{"$f":"IF('namerena data'!C2016>0,'namerena data'!C2016/1000,0)","v":0},33.950000000000003,25.824999999999999,276.75875000000008,0]
[null,{"$f":"'namerena data'!A2017+('namerena data'!B2017-1)/24","v":"2013-09-22T19:00:00"},{"$f":"IF('namerena data'!C2017>0,'namerena data'!C2017/1000,0)","v":0},40.270000000000003,25.824999999999999,439.97275000000013,0]
[null,{"$f":"'namerena data'!A2018+('namerena data'!B2018-1)/24","v":"2013-09-22T20:00:00"},{"$f":"IF('namerena data'!C2018>0,'namerena data'!C2018/1000,0)","v":0},44,25.824999999999999,536.29999999999995,0]
[null,{"$f":"'namerena data'!A2019+('namerena data'!B2019-1)/24","v":"2013-09-22T21:00:00"},{"$f":"IF('namerena data'!C2019>0,'namerena data'!C2019/1000,0)","v":0},33.83,25.824999999999999,273.65974999999992,0]
[null,{"$f":"'namerena data'!A2020+('namerena data'!B2020-1)/24","v":"2013-09-22T22:00:00"},{"$f":"IF('namerena data'!C2020>0,'namerena data'!C2020/1000,0)","v":0},34.200000000000003,25.824999999999999,283.21500000000003,0]
[null,{"$f":"'namerena data'!A2021+('namerena data'!B2021-1)/24","v":"2013-09-22T23:00:00"},{"$f":"IF('namerena data'!C2021>0,'namerena data'!C2021/1000,0)","v":0},27.9,25.824999999999999,120.51749999999993,0]
[null,{"$f":"'namerena data'!A2022+('namerena data'!B2022-1)/24","v":"2013-09-23"},{"$f":"IF('namerena data'!C2022>0,'namerena data'!C2022/1000,0)","v":0},16.7,25.92,-167.13599999999997,0]
[null,{"$f":"'namerena data'!A2023+('namerena data'!B2023-1)/24","v":"2013-09-23T01:00:00"},{"$f":"IF('namerena data'!C2023>0,'namerena data'!C2023/1000,0)","v":0},17.010000000000002,25.92,-159.10079999999994,0]
[null,{"$f":"'namerena data'!A2024+('namerena data'!B2024-1)/24","v":"2013-09-23T02:00:00"},{"$f":"IF('namerena data'!C2024>0,'namerena data'!C2024/1000,0)","v":0},11,25.92,-314.88,0]
[null,{"$f":"'namerena data'!A2025+('namerena data'!B2025-1)/24","v":"2013-09-23T03:00:00"},{"$f":"IF('namerena data'!C2025>0,'namerena data'!C2025/1000,0)","v":0},10.3,25.92,-333.02399999999994,0]
[null,{"$f":"'namerena data'!A2026+('namerena data'!B2026-1)/24","v":"2013-09-23T04:00:00"},{"$f":"IF('namerena data'!C2026>0,'namerena data'!C2026/1000,0)","v":0},11.59,25.92,-299.5872,0]
[null,{"$f":"'namerena data'!A2027+('namerena data'!B2027-1)/24","v":"2013-09-23T05:00:00"},{"$f":"IF('namerena data'!C2027>0,'namerena data'!C2027/1000,0)","v":0},21.6,25.92,-40.127999999999929,0]
[null,{"$f":"'namerena data'!A2028+('namerena data'!B2028-1)/24","v":"2013-09-23T06:00:00"},{"$f":"IF('namerena data'!C2028>0,'namerena data'!C2028/1000,0)","v":0},43.9,25.92,537.88800000000015,0]
[null,{"$f":"'namerena data'!A2029+('namerena data'!B2029-1)/24","v":"2013-09-23T07:00:00"},{"$f":"IF('namerena data'!C2029>0,'namerena data'!C2029/1000,0)","v":0},58,25.92,903.36000000000013,0]
[null,{"$f":"'namerena data'!A2030+('namerena data'!B2030-1)/24","v":"2013-09-23T08:00:00"},{"$f":"IF('namerena data'!C2030>0,'namerena data'!C2030/1000,0)","v":0},63.01,25.92,1033.2192,0]
[null,{"$f":"'namerena data'!A2031+('namerena data'!B2031-1)/24","v":"2013-09-23T09:00:00"},{"$f":"IF('namerena data'!C2031>0,'namerena data'!C2031/1000,0)","v":0},60.87,25.92,977.75040000000013,0]
[null,{"$f":"'namerena data'!A2032+('namerena data'!B2032-1)/24","v":"2013-09-23T10:00:00"},{"$f":"IF('namerena data'!C2032>0,'namerena data'!C2032/1000,0)","v":0},58.6,25.92,918.91200000000003,0]
[null,{"$f":"'namerena data'!A2033+('namerena data'!B2033-1)/24","v":"2013-09-23T11:00:00"},{"$f":"IF('namerena data'!C2033>0,'namerena data'!C2033/1000,0)","v":0},56.39,25.92,861.62880000000018,0]
[null,{"$f":"'namerena data'!A2034+('namerena data'!B2034-1)/24","v":"2013-09-23T12:00:00"},{"$f":"IF('namerena data'!C2034>0,'namerena data'!C2034/1000,0)","v":0},52.51,25.92,761.05920000000015,0]
[null,{"$f":"'namerena data'!A2035+('namerena data'!B2035-1)/24","v":"2013-09-23T13:00:00"},{"$f":"IF('namerena data'!C2035>0,'namerena data'!C2035/1000,0)","v":0},48.68,25.92,661.78560000000016,0]
[null,{"$f":"'namerena data'!A2036+('namerena data'!B2036-1)/24","v":"2013-09-23T14:00:00"},{"$f":"IF('namerena data'!C2036>0,'namerena data'!C2036/1000,0)","v":0},45.6,25.92,581.95200000000023,0]
[null,{"$f":"'namerena data'!A2037+('namerena data'!B2037-1)/24","v":"2013-09-23T15:00:00"},{"$f":"IF('namerena data'!C2037>0,'namerena data'!C2037/1000,0)","v":0},44.09,25.92,542.81280000000015,0]
[null,{"$f":"'namerena data'!A2038+('namerena data'!B2038-1)/24","v":"2013-09-23T16:00:00"},{"$f":"IF('namerena data'!C2038>0,'namerena data'!C2038/1000,0)","v":0},47.05,25.92,619.53600000000006,0]
[null,{"$f":"'namerena data'!A2039+('namerena data'!B2039-1)/24","v":"2013-09-23T17:00:00"},{"$f":"IF('namerena data'!C2039>0,'namerena data'!C2039/1000,0)","v":0},52.17,25.92,752.24640000000022,0]
[null,{"$f":"'namerena data'!A2040+('namerena data'!B2040-1)/24","v":"2013-09-23T18:00:00"},{"$f":"IF('namerena data'!C2040>0,'namerena data'!C2040/1000,0)","v":0},61,25.92,981.12000000000012,0]
[null,{"$f":"'namerena data'!A2041+('namerena data'!B2041-1)/24","v":"2013-09-23T19:00:00"},{"$f":"IF('namerena data'!C2041>0,'namerena data'!C2041/1000,0)","v":0},68.599999999999994,25.92,1178.1120000000001,0]
[null,{"$f":"'namerena data'!A2042+('namerena data'!B2042-1)/24","v":"2013-09-23T20:00:00"},{"$f":"IF('namerena data'!C2042>0,'namerena data'!C2042/1000,0)","v":0},67.599999999999994,25.92,1152.192,0]
[null,{"$f":"'namerena data'!A2043+('namerena data'!B2043-1)/24","v":"2013-09-23T21:00:00"},{"$f":"IF('namerena data'!C2043>0,'namerena data'!C2043/1000,0)","v":0},53.7,25.92,791.90400000000022,0]
[null,{"$f":"'namerena data'!A2044+('namerena data'!B2044-1)/24","v":"2013-09-23T22:00:00"},{"$f":"IF('namerena data'!C2044>0,'namerena data'!C2044/1000,0)","v":0},44,25.92,540.48,0]
[null,{"$f":"'namerena data'!A2045+('namerena data'!B2045-1)/24","v":"2013-09-23T23:00:00"},{"$f":"IF('namerena data'!C2045>0,'namerena data'!C2045/1000,0)","v":0},34.04,25.92,282.31680000000006,0]
[null,{"$f":"'namerena data'!A2046+('namerena data'!B2046-1)/24","v":"2013-09-24"},{"$f":"IF('namerena data'!C2046>0,'namerena data'!C2046/1000,0)","v":0},29,25.93,151.97000000000003,0]
[null,{"$f":"'namerena data'!A2047+('namerena data'!B2047-1)/24","v":"2013-09-24T01:00:00"},{"$f":"IF('namerena data'!C2047>0,'namerena data'!C2047/1000,0)","v":0},27.06,25.93,101.66579999999999,0]
[null,{"$f":"'namerena data'!A2048+('namerena data'!B2048-1)/24","v":"2013-09-24T02:00:00"},{"$f":"IF('namerena data'!C2048>0,'namerena data'!C2048/1000,0)","v":0},24.05,25.93,23.616499999999974,0]
[null,{"$f":"'namerena data'!A2049+('namerena data'!B2049-1)/24","v":"2013-09-24T03:00:00"},{"$f":"IF('namerena data'!C2049>0,'namerena data'!C2049/1000,0)","v":0},21.95,25.93,-30.836500000000001,0]
[null,{"$f":"'namerena data'!A2050+('namerena data'!B2050-1)/24","v":"2013-09-24T04:00:00"},{"$f":"IF('namerena data'!C2050>0,'namerena data'!C2050/1000,0)","v":0},23.35,25.93,5.46550000000002,0]
[null,{"$f":"'namerena data'!A2051+('namerena data'!B2051-1)/24","v":"2013-09-24T05:00:00"},{"$f":"IF('namerena data'!C2051>0,'namerena data'!C2051/1000,0)","v":0},31,25.93,203.83000000000004,0]
[null,{"$f":"'namerena data'!A2052+('namerena data'!B2052-1)/24","v":"2013-09-24T06:00:00"},{"$f":"IF('namerena data'!C2052>0,'namerena data'!C2052/1000,0)","v":0},49.75,25.93,690.01749999999993,0]
[null,{"$f":"'namerena data'!A2053+('namerena data'!B2053-1)/24","v":"2013-09-24T07:00:00"},{"$f":"IF('namerena data'!C2053>0,'namerena data'!C2053/1000,0)","v":0},63.49,25.93,1046.2957000000001,0]
[null,{"$f":"'namerena data'!A2054+('namerena data'!B2054-1)/24","v":"2013-09-24T08:00:00"},{"$f":"IF('namerena data'!C2054>0,'namerena data'!C2054/1000,0)","v":0},64.819999999999993,25.93,1080.7825999999998,0]
[null,{"$f":"'namerena data'!A2055+('namerena data'!B2055-1)/24","v":"2013-09-24T09:00:00"},{"$f":"IF('namerena data'!C2055>0,'namerena data'!C2055/1000,0)","v":0},61.92,25.93,1005.5856000000001,0]
[null,{"$f":"'namerena data'!A2056+('namerena data'!B2056-1)/24","v":"2013-09-24T10:00:00"},{"$f":"IF('namerena data'!C2056>0,'namerena data'!C2056/1000,0)","v":0},55.74,25.93,845.33820000000014,0]
[null,{"$f":"'namerena data'!A2057+('namerena data'!B2057-1)/24","v":"2013-09-24T11:00:00"},{"$f":"IF('namerena data'!C2057>0,'namerena data'!C2057/1000,0)","v":0},54.37,25.93,809.81409999999983,0]
[null,{"$f":"'namerena data'!A2058+('namerena data'!B2058-1)/24","v":"2013-09-24T12:00:00"},{"$f":"IF('namerena data'!C2058>0,'namerena data'!C2058/1000,0)","v":0},48.86,25.93,666.93979999999988,0]
[null,{"$f":"'namerena data'!A2059+('namerena data'!B2059-1)/24","v":"2013-09-24T13:00:00"},{"$f":"IF('namerena data'!C2059>0,'namerena data'!C2059/1000,0)","v":0},45.32,25.93,575.14760000000001,0]
[null,{"$f":"'namerena data'!A2060+('namerena data'!B2060-1)/24","v":"2013-09-24T14:00:00"},{"$f":"IF('namerena data'!C2060>0,'namerena data'!C2060/1000,0)","v":0},43.52,25.93,528.47360000000003,0]
[null,{"$f":"'namerena data'!A2061+('namerena data'!B2061-1)/24","v":"2013-09-24T15:00:00"},{"$f":"IF('namerena data'!C2061>0,'namerena data'!C2061/1000,0)","v":0},43.3,25.93,522.76900000000001,0]
[null,{"$f":"'namerena data'!A2062+('namerena data'!B2062-1)/24","v":"2013-09-24T16:00:00"},{"$f":"IF('namerena data'!C2062>0,'namerena data'!C2062/1000,0)","v":0},47.06,25.93,620.26580000000013,0]
[null,{"$f":"'namerena data'!A2063+('namerena data'!B2063-1)/24","v":"2013-09-24T17:00:00"},{"$f":"IF('namerena data'!C2063>0,'namerena data'!C2063/1000,0)","v":0},53.19,25.93,{"$f":"+IF(AND(ISNUMBER(D2073),ISNUMBER(E2073)),D2073*E2073-$F$13,0)","v":779.21669999999995},{"$f":"+(C2073*F2073)","v":0}]
[null,{"$f":"'namerena data'!A2064+('namerena data'!B2064-1)/24","v":"2013-09-24T18:00:00"},{"$f":"IF('namerena data'!C2064>0,'namerena data'!C2064/1000,0)","v":0},64.540000000000006,25.93,1073.5222000000001,0]
[null,{"$f":"'namerena data'!A2065+('namerena data'!B2065-1)/24","v":"2013-09-24T19:00:00"},{"$f":"IF('namerena data'!C2065>0,'namerena data'!C2065/1000,0)","v":0},76.599999999999994,25.93,1386.2379999999998,0]
[null,{"$f":"'namerena data'!A2066+('namerena data'!B2066-1)/24","v":"2013-09-24T20:00:00"},{"$f":"IF('namerena data'!C2066>0,'namerena data'!C2066/1000,0)","v":0},69.92,25.93,1213.0255999999999,0]
[null,{"$f":"'namerena data'!A2067+('namerena data'!B2067-1)/24","v":"2013-09-24T21:00:00"},{"$f":"IF('namerena data'!C2067>0,'namerena data'!C2067/1000,0)","v":0},54.93,25.93,824.33490000000006,0]
[null,{"$f":"'namerena data'!A2068+('namerena data'!B2068-1)/24","v":"2013-09-24T22:00:00"},{"$f":"IF('namerena data'!C2068>0,'namerena data'!C2068/1000,0)","v":0},47.66,25.93,635.82379999999989,0]
[null,{"$f":"'namerena data'!A2069+('namerena data'!B2069-1)/24","v":"2013-09-24T23:00:00"},{"$f":"IF('namerena data'!C2069>0,'namerena data'!C2069/1000,0)","v":0},36.450000000000003,25.93,345.14850000000001,0]
[null,{"$f":"'namerena data'!A2070+('namerena data'!B2070-1)/24","v":"2013-09-25"},{"$f":"IF('namerena data'!C2070>0,'namerena data'!C2070/1000,0)","v":0},36.950000000000003,25.875,356.08125000000007,0]
[null,{"$f":"'namerena data'!A2071+('namerena data'!B2071-1)/24","v":"2013-09-25T01:00:00"},{"$f":"IF('namerena data'!C2071>0,'namerena data'!C2071/1000,0)","v":0},35.99,25.875,331.24125000000004,0]
[null,{"$f":"'namerena data'!A2072+('namerena data'!B2072-1)/24","v":"2013-09-25T02:00:00"},{"$f":"IF('namerena data'!C2072>0,'namerena data'!C2072/1000,0)","v":0},32.26,25.875,234.72749999999996,0]
[null,{"$f":"'namerena data'!A2073+('namerena data'!B2073-1)/24","v":"2013-09-25T03:00:00"},{"$f":"IF('namerena data'!C2073>0,'namerena data'!C2073/1000,0)","v":0},30.43,25.875,187.37625000000003,0]
[null,{"$f":"'namerena data'!A2074+('namerena data'!B2074-1)/24","v":"2013-09-25T04:00:00"},{"$f":"IF('namerena data'!C2074>0,'namerena data'!C2074/1000,0)","v":0},30.4,25.875,186.59999999999991,0]
[null,{"$f":"'namerena data'!A2075+('namerena data'!B2075-1)/24","v":"2013-09-25T05:00:00"},{"$f":"IF('namerena data'!C2075>0,'namerena data'!C2075/1000,0)","v":0},35,25.875,305.625,0]
[null,{"$f":"'namerena data'!A2076+('namerena data'!B2076-1)/24","v":"2013-09-25T06:00:00"},{"$f":"IF('namerena data'!C2076>0,'namerena data'!C2076/1000,0)","v":0},56.69,25.875,866.85374999999999,0]
[null,{"$f":"'namerena data'!A2077+('namerena data'!B2077-1)/24","v":"2013-09-25T07:00:00"},{"$f":"IF('namerena data'!C2077>0,'namerena data'!C2077/1000,0)","v":0},66.3,25.875,1115.5124999999998,0]
[null,{"$f":"'namerena data'!A2078+('namerena data'!B2078-1)/24","v":"2013-09-25T08:00:00"},{"$f":"IF('namerena data'!C2078>0,'namerena data'!C2078/1000,0)","v":0},67.91,25.875,1157.1712499999999,0]
[null,{"$f":"'namerena data'!A2079+('namerena data'!B2079-1)/24","v":"2013-09-25T09:00:00"},{"$f":"IF('namerena data'!C2079>0,'namerena data'!C2079/1000,0)","v":0},65.959999999999994,25.875,1106.7149999999999,0]
[null,{"$f":"'namerena data'!A2080+('namerena data'!B2080-1)/24","v":"2013-09-25T10:00:00"},{"$f":"IF('namerena data'!C2080>0,'namerena data'!C2080/1000,0)","v":0},65.08,25.875,1083.9449999999999,0]
[null,{"$f":"'namerena data'!A2081+('namerena data'!B2081-1)/24","v":"2013-09-25T11:00:00"},{"$f":"IF('namerena data'!C2081>0,'namerena data'!C2081/1000,0)","v":0},62.04,25.875,1005.2850000000001,0]
[null,{"$f":"'namerena data'!A2082+('namerena data'!B2082-1)/24","v":"2013-09-25T12:00:00"},{"$f":"IF('namerena data'!C2082>0,'namerena data'!C2082/1000,0)","v":0},58.08,25.875,902.81999999999994,0]
[null,{"$f":"'namerena data'!A2083+('namerena data'!B2083-1)/24","v":"2013-09-25T13:00:00"},{"$f":"IF('namerena data'!C2083>0,'namerena data'!C2083/1000,0)","v":0},53.3,25.875,779.13749999999982,0]
[null,{"$f":"'namerena data'!A2084+('namerena data'!B2084-1)/24","v":"2013-09-25T14:00:00"},{"$f":"IF('namerena data'!C2084>0,'namerena data'!C2084/1000,0)","v":0},52.7,25.875,763.61250000000018,0]
[null,{"$f":"'namerena data'!A2085+('namerena data'!B2085-1)/24","v":"2013-09-25T15:00:00"},{"$f":"IF('namerena data'!C2085>0,'namerena data'!C2085/1000,0)","v":0},54.55,25.875,811.48124999999982,0]
[null,{"$f":"'namerena data'!A2086+('namerena data'!B2086-1)/24","v":"2013-09-25T16:00:00"},{"$f":"IF('namerena data'!C2086>0,'namerena data'!C2086/1000,0)","v":0},56,25.875,849,0]
[null,{"$f":"'namerena data'!A2087+('namerena data'!B2087-1)/24","v":"2013-09-25T17:00:00"},{"$f":"IF('namerena data'!C2087>0,'namerena data'!C2087/1000,0)","v":0},60.4,25.875,962.84999999999991,0]
[null,{"$f":"'namerena data'!A2088+('namerena data'!B2088-1)/24","v":"2013-09-25T18:00:00"},{"$f":"IF('namerena data'!C2088>0,'namerena data'!C2088/1000,0)","v":0},66.099999999999994,25.875,1110.3374999999999,0]
[null,{"$f":"'namerena data'!A2089+('namerena data'!B2089-1)/24","v":"2013-09-25T19:00:00"},{"$f":"IF('namerena data'!C2089>0,'namerena data'!C2089/1000,0)","v":0},76,25.875,1366.5,0]
[null,{"$f":"'namerena data'!A2090+('namerena data'!B2090-1)/24","v":"2013-09-25T20:00:00"},{"$f":"IF('namerena data'!C2090>0,'namerena data'!C2090/1000,0)","v":0},71.17,25.875,1241.5237500000001,0]
[null,{"$f":"'namerena data'!A2091+('namerena data'!B2091-1)/24","v":"2013-09-25T21:00:00"},{"$f":"IF('namerena data'!C2091>0,'namerena data'!C2091/1000,0)","v":0},59.16,25.875,930.76499999999987,0]
[null,{"$f":"'namerena data'!A2092+('namerena data'!B2092-1)/24","v":"2013-09-25T22:00:00"},{"$f":"IF('namerena data'!C2092>0,'namerena data'!C2092/1000,0)","v":0},50.3,25.875,701.51249999999982,0]
[null,{"$f":"'namerena data'!A2093+('namerena data'!B2093-1)/24","v":"2013-09-25T23:00:00"},{"$f":"IF('namerena data'!C2093>0,'namerena data'!C2093/1000,0)","v":0},37.4,25.875,367.72499999999991,0]
[null,{"$f":"'namerena data'!A2094+('namerena data'!B2094-1)/24","v":"2013-09-26"},{"$f":"IF('namerena data'!C2094>0,'namerena data'!C2094/1000,0)","v":0},32.43,25.81,237.01829999999995,0]
[null,{"$f":"'namerena data'!A2095+('namerena data'!B2095-1)/24","v":"2013-09-26T01:00:00"},{"$f":"IF('namerena data'!C2095>0,'namerena data'!C2095/1000,0)","v":0},32.049999999999997,25.81,227.21049999999991,0]
[null,{"$f":"'namerena data'!A2096+('namerena data'!B2096-1)/24","v":"2013-09-26T02:00:00"},{"$f":"IF('namerena data'!C2096>0,'namerena data'!C2096/1000,0)","v":0},29.05,25.81,149.78049999999996,0]
[null,{"$f":"'namerena data'!A2097+('namerena data'!B2097-1)/24","v":"2013-09-26T03:00:00"},{"$f":"IF('namerena data'!C2097>0,'namerena data'!C2097/1000,0)","v":0},26,25.81,71.059999999999945,0]
[null,{"$f":"'namerena data'!A2098+('namerena data'!B2098-1)/24","v":"2013-09-26T04:00:00"},{"$f":"IF('namerena data'!C2098>0,'namerena data'!C2098/1000,0)","v":0},27.3,25.81,104.61299999999994,0]
[null,{"$f":"'namerena data'!A2099+('namerena data'!B2099-1)/24","v":"2013-09-26T05:00:00"},{"$f":"IF('namerena data'!C2099>0,'namerena data'!C2099/1000,0)","v":0},32,25.81,225.91999999999996,0]
[null,{"$f":"'namerena data'!A2100+('namerena data'!B2100-1)/24","v":"2013-09-26T06:00:00"},{"$f":"IF('namerena data'!C2100>0,'namerena data'!C2100/1000,0)","v":0},51.95,25.81,740.82950000000005,0]
[null,{"$f":"'namerena data'!A2101+('namerena data'!B2101-1)/24","v":"2013-09-26T07:00:00"},{"$f":"IF('namerena data'!C2101>0,'namerena data'!C2101/1000,0)","v":0},64.3,25.81,1059.5829999999999,0]
[null,{"$f":"'namerena data'!A2102+('namerena data'!B2102-1)/24","v":"2013-09-26T08:00:00"},{"$f":"IF('namerena data'!C2102>0,'namerena data'!C2102/1000,0)","v":0},69.36,25.81,1190.1815999999999,0]
[null,{"$f":"'namerena data'!A2103+('namerena data'!B2103-1)/24","v":"2013-09-26T09:00:00"},{"$f":"IF('namerena data'!C2103>0,'namerena data'!C2103/1000,0)","v":0},69.42,25.81,1191.7302,0]
[null,{"$f":"'namerena data'!A2104+('namerena data'!B2104-1)/24","v":"2013-09-26T10:00:00"},{"$f":"IF('namerena data'!C2104>0,'namerena data'!C2104/1000,0)","v":0},68,25.81,1155.08,0]
[null,{"$f":"'namerena data'!A2105+('namerena data'!B2105-1)/24","v":"2013-09-26T11:00:00"},{"$f":"IF('namerena data'!C2105>0,'namerena data'!C2105/1000,0)","v":0},66.78,25.81,1123.5917999999999,0]
[null,{"$f":"'namerena data'!A2106+('namerena data'!B2106-1)/24","v":"2013-09-26T12:00:00"},{"$f":"IF('namerena data'!C2106>0,'namerena data'!C2106/1000,0)","v":0},62.9,25.81,1023.4489999999998,0]
[null,{"$f":"'namerena data'!A2107+('namerena data'!B2107-1)/24","v":"2013-09-26T13:00:00"},{"$f":"IF('namerena data'!C2107>0,'namerena data'!C2107/1000,0)","v":0},61,25.81,974.40999999999985,0]
[null,{"$f":"'namerena data'!A2108+('namerena data'!B2108-1)/24","v":"2013-09-26T14:00:00"},{"$f":"IF('namerena data'!C2108>0,'namerena data'!C2108/1000,0)","v":0},58.8,25.81,917.62799999999993,0]
[null,{"$f":"'namerena data'!A2109+('namerena data'!B2109-1)/24","v":"2013-09-26T15:00:00"},{"$f":"IF('namerena data'!C2109>0,'namerena data'!C2109/1000,0)","v":0},58.7,25.81,915.04700000000003,0]
[null,{"$f":"'namerena data'!A2110+('namerena data'!B2110-1)/24","v":"2013-09-26T16:00:00"},{"$f":"IF('namerena data'!C2110>0,'namerena data'!C2110/1000,0)","v":0},59.05,25.81,924.0804999999998,0]
[null,{"$f":"'namerena data'!A2111+('namerena data'!B2111-1)/24","v":"2013-09-26T17:00:00"},{"$f":"IF('namerena data'!C2111>0,'namerena data'!C2111/1000,0)","v":0},63,25.81,1026.03,0]
[null,{"$f":"'namerena data'!A2112+('namerena data'!B2112-1)/24","v":"2013-09-26T18:00:00"},{"$f":"IF('namerena data'!C2112>0,'namerena data'!C2112/1000,0)","v":0},67.98,25.81,1154.5638000000001,0]
[null,{"$f":"'namerena data'!A2113+('namerena data'!B2113-1)/24","v":"2013-09-26T19:00:00"},{"$f":"IF('namerena data'!C2113>0,'namerena data'!C2113/1000,0)","v":0},78,25.81,1413.1799999999998,0]
[null,{"$f":"'namerena data'!A2114+('namerena data'!B2114-1)/24","v":"2013-09-26T20:00:00"},{"$f":"IF('namerena data'!C2114>0,'namerena data'!C2114/1000,0)","v":0},70,25.81,1206.6999999999998,0]
[null,{"$f":"'namerena data'!A2115+('namerena data'!B2115-1)/24","v":"2013-09-26T21:00:00"},{"$f":"IF('namerena data'!C2115>0,'namerena data'!C2115/1000,0)","v":0},59.8,25.81,943.43799999999987,0]
[null,{"$f":"'namerena data'!A2116+('namerena data'!B2116-1)/24","v":"2013-09-26T22:00:00"},{"$f":"IF('namerena data'!C2116>0,'namerena data'!C2116/1000,0)","v":0},53.27,25.81,774.89869999999996,0]
[null,{"$f":"'namerena data'!A2117+('namerena data'!B2117-1)/24","v":"2013-09-26T23:00:00"},{"$f":"IF('namerena data'!C2117>0,'namerena data'!C2117/1000,0)","v":0},36.31,25.81,337.16110000000003,0]
[null,{"$f":"'namerena data'!A2118+('namerena data'!B2118-1)/24","v":"2013-09-27"},{"$f":"IF('namerena data'!C2118>0,'namerena data'!C2118/1000,0)","v":0},36.119999999999997,25.69,327.92279999999994,0]
[null,{"$f":"'namerena data'!A2119+('namerena data'!B2119-1)/24","v":"2013-09-27T01:00:00"},{"$f":"IF('namerena data'!C2119>0,'namerena data'!C2119/1000,0)","v":0},36.54,25.69,338.71260000000007,0]
[null,{"$f":"'namerena data'!A2120+('namerena data'!B2120-1)/24","v":"2013-09-27T02:00:00"},{"$f":"IF('namerena data'!C2120>0,'namerena data'!C2120/1000,0)","v":0},33.799999999999997,25.69,268.322,0]
[null,{"$f":"'namerena data'!A2121+('namerena data'!B2121-1)/24","v":"2013-09-27T03:00:00"},{"$f":"IF('namerena data'!C2121>0,'namerena data'!C2121/1000,0)","v":0},31.07,25.69,198.18830000000003,0]
[null,{"$f":"'namerena data'!A2122+('namerena data'!B2122-1)/24","v":"2013-09-27T04:00:00"},{"$f":"IF('namerena data'!C2122>0,'namerena data'!C2122/1000,0)","v":0},31.85,25.69,218.2265000000001,0]
[null,{"$f":"'namerena data'!A2123+('namerena data'!B2123-1)/24","v":"2013-09-27T05:00:00"},{"$f":"IF('namerena data'!C2123>0,'namerena data'!C2123/1000,0)","v":0},35.67,25.69,316.36230000000012,0]
[null,{"$f":"'namerena data'!A2124+('namerena data'!B2124-1)/24","v":"2013-09-27T06:00:00"},{"$f":"IF('namerena data'!C2124>0,'namerena data'!C2124/1000,0)","v":0},55.85,25.69,834.78650000000016,0]
[null,{"$f":"'namerena data'!A2125+('namerena data'!B2125-1)/24","v":"2013-09-27T07:00:00"},{"$f":"IF('namerena data'!C2125>0,'namerena data'!C2125/1000,0)","v":0},68,25.69,1146.92,0]
[null,{"$f":"'namerena data'!A2126+('namerena data'!B2126-1)/24","v":"2013-09-27T08:00:00"},{"$f":"IF('namerena data'!C2126>0,'namerena data'!C2126/1000,0)","v":0},67.45,25.69,1132.7905000000001,0]
[null,{"$f":"'namerena data'!A2127+('namerena data'!B2127-1)/24","v":"2013-09-27T09:00:00"},{"$f":"IF('namerena data'!C2127>0,'namerena data'!C2127/1000,0)","v":0},67,25.69,{"$f":"+IF(AND(ISNUMBER(D2137),ISNUMBER(E2137)),D2137*E2137-$F$13,0)","v":1121.23},{"$f":"+(C2137*F2137)","v":0}]
[null,{"$f":"'namerena data'!A2128+('namerena data'!B2128-1)/24","v":"2013-09-27T10:00:00"},{"$f":"IF('namerena data'!C2128>0,'namerena data'!C2128/1000,0)","v":0},64.3,25.69,1051.867,0]
[null,{"$f":"'namerena data'!A2129+('namerena data'!B2129-1)/24","v":"2013-09-27T11:00:00"},{"$f":"IF('namerena data'!C2129>0,'namerena data'!C2129/1000,0)","v":0},61.77,25.69,986.87130000000025,0]
[null,{"$f":"'namerena data'!A2130+('namerena data'!B2130-1)/24","v":"2013-09-27T12:00:00"},{"$f":"IF('namerena data'!C2130>0,'namerena data'!C2130/1000,0)","v":0},56.8,25.69,859.19200000000001,0]
[null,{"$f":"'namerena data'!A2131+('namerena data'!B2131-1)/24","v":"2013-09-27T13:00:00"},{"$f":"IF('namerena data'!C2131>0,'namerena data'!C2131/1000,0)","v":0},53.02,25.69,762.08380000000011,0]
[null,{"$f":"'namerena data'!A2132+('namerena data'!B2132-1)/24","v":"2013-09-27T14:00:00"},{"$f":"IF('namerena data'!C2132>0,'namerena data'!C2132/1000,0)","v":0},50.09,25.69,686.8121000000001,0]
[null,{"$f":"'namerena data'!A2133+('namerena data'!B2133-1)/24","v":"2013-09-27T15:00:00"},{"$f":"IF('namerena data'!C2133>0,'namerena data'!C2133/1000,0)","v":0},50.12,25.69,687.58279999999991,0]
[null,{"$f":"'namerena data'!A2134+('namerena data'!B2134-1)/24","v":"2013-09-27T16:00:00"},{"$f":"IF('namerena data'!C2134>0,'namerena data'!C2134/1000,0)","v":0},51.27,25.69,717.12630000000013,0]
[null,{"$f":"'namerena data'!A2135+('namerena data'!B2135-1)/24","v":"2013-09-27T17:00:00"},{"$f":"IF('namerena data'!C2135>0,'namerena data'!C2135/1000,0)","v":0},57,25.69,864.33000000000015,0]
[null,{"$f":"'namerena data'!A2136+('namerena data'!B2136-1)/24","v":"2013-09-27T18:00:00"},{"$f":"IF('namerena data'!C2136>0,'namerena data'!C2136/1000,0)","v":0},64.05,25.69,1045.4445000000001,0]
[null,{"$f":"'namerena data'!A2137+('namerena data'!B2137-1)/24","v":"2013-09-27T19:00:00"},{"$f":"IF('namerena data'!C2137>0,'namerena data'!C2137/1000,0)","v":0},71,25.69,1223.99,0]
[null,{"$f":"'namerena data'!A2138+('namerena data'!B2138-1)/24","v":"2013-09-27T20:00:00"},{"$f":"IF('namerena data'!C2138>0,'namerena data'!C2138/1000,0)","v":0},67.430000000000007,25.69,1132.2767000000003,0]
[null,{"$f":"'namerena data'!A2139+('namerena data'!B2139-1)/24","v":"2013-09-27T21:00:00"},{"$f":"IF('namerena data'!C2139>0,'namerena data'!C2139/1000,0)","v":0},57.93,25.69,888.22170000000006,0]
[null,{"$f":"'namerena data'!A2140+('namerena data'!B2140-1)/24","v":"2013-09-27T22:00:00"},{"$f":"IF('namerena data'!C2140>0,'namerena data'!C2140/1000,0)","v":0},50.26,25.69,691.17939999999999,0]
[null,{"$f":"'namerena data'!A2141+('namerena data'!B2141-1)/24","v":"2013-09-27T23:00:00"},{"$f":"IF('namerena data'!C2141>0,'namerena data'!C2141/1000,0)","v":0},37.049999999999997,25.69,351.81449999999995,0]
[null,{"$f":"'namerena data'!A2142+('namerena data'!B2142-1)/24","v":"2013-09-28"},{"$f":"IF('namerena data'!C2142>0,'namerena data'!C2142/1000,0)","v":0},36.49,25.69,337.42810000000009,0]
[null,{"$f":"'namerena data'!A2143+('namerena data'!B2143-1)/24","v":"2013-09-28T01:00:00"},{"$f":"IF('namerena data'!C2143>0,'namerena data'!C2143/1000,0)","v":0},34.29,25.69,280.91010000000006,0]
[null,{"$f":"'namerena data'!A2144+('namerena data'!B2144-1)/24","v":"2013-09-28T02:00:00"},{"$f":"IF('namerena data'!C2144>0,'namerena data'!C2144/1000,0)","v":0},32.700000000000003,25.69,240.0630000000001,0]
[null,{"$f":"'namerena data'!A2145+('namerena data'!B2145-1)/24","v":"2013-09-28T03:00:00"},{"$f":"IF('namerena data'!C2145>0,'namerena data'!C2145/1000,0)","v":0},30.54,25.69,184.57259999999997,0]
[null,{"$f":"'namerena data'!A2146+('namerena data'!B2146-1)/24","v":"2013-09-28T04:00:00"},{"$f":"IF('namerena data'!C2146>0,'namerena data'!C2146/1000,0)","v":0},30.25,25.69,177.12250000000006,0]
[null,{"$f":"'namerena data'!A2147+('namerena data'!B2147-1)/24","v":"2013-09-28T05:00:00"},{"$f":"IF('namerena data'!C2147>0,'namerena data'!C2147/1000,0)","v":0},32,25.69,222.08000000000004,0]
[null,{"$f":"'namerena data'!A2148+('namerena data'!B2148-1)/24","v":"2013-09-28T06:00:00"},{"$f":"IF('namerena data'!C2148>0,'namerena data'!C2148/1000,0)","v":0},32.61,25.69,237.7509,0]
[null,{"$f":"'namerena data'!A2149+('namerena data'!B2149-1)/24","v":"2013-09-28T07:00:00"},{"$f":"IF('namerena data'!C2149>0,'namerena data'!C2149/1000,0)","v":0},35.979999999999997,25.69,324.32619999999997,0]
[null,{"$f":"'namerena data'!A2150+('namerena data'!B2150-1)/24","v":"2013-09-28T08:00:00"},{"$f":"IF('namerena data'!C2150>0,'namerena data'!C2150/1000,0)","v":0},40.18,25.69,432.22420000000011,0]
[null,{"$f":"'namerena data'!A2151+('namerena data'!B2151-1)/24","v":"2013-09-28T09:00:00"},{"$f":"IF('namerena data'!C2151>0,'namerena data'!C2151/1000,0)","v":0},41.8,25.69,473.84199999999987,0]
[null,{"$f":"'namerena data'!A2152+('namerena data'!B2152-1)/24","v":"2013-09-28T10:00:00"},{"$f":"IF('namerena data'!C2152>0,'namerena data'!C2152/1000,0)","v":0},40.6,25.69,443.01400000000012,0]
[null,{"$f":"'namerena data'!A2153+('namerena data'!B2153-1)/24","v":"2013-09-28T11:00:00"},{"$f":"IF('namerena data'!C2153>0,'namerena data'!C2153/1000,0)","v":0},35.71,25.69,317.38990000000001,0]
[null,{"$f":"'namerena data'!A2154+('namerena data'!B2154-1)/24","v":"2013-09-28T12:00:00"},{"$f":"IF('namerena data'!C2154>0,'namerena data'!C2154/1000,0)","v":0},32.42,25.69,232.86980000000005,0]
[null,{"$f":"'namerena data'!A2155+('namerena data'!B2155-1)/24","v":"2013-09-28T13:00:00"},{"$f":"IF('namerena data'!C2155>0,'namerena data'!C2155/1000,0)","v":0},29.09,25.69,147.32209999999998,0]
[null,{"$f":"'namerena data'!A2156+('namerena data'!B2156-1)/24","v":"2013-09-28T14:00:00"},{"$f":"IF('namerena data'!C2156>0,'namerena data'!C2156/1000,0)","v":0},29.18,25.69,149.63420000000008,0]
[null,{"$f":"'namerena data'!A2157+('namerena data'!B2157-1)/24","v":"2013-09-28T15:00:00"},{"$f":"IF('namerena data'!C2157>0,'namerena data'!C2157/1000,0)","v":0},30.22,25.69,176.35180000000003,0]
[null,{"$f":"'namerena data'!A2158+('namerena data'!B2158-1)/24","v":"2013-09-28T16:00:00"},{"$f":"IF('namerena data'!C2158>0,'namerena data'!C2158/1000,0)","v":0},33,25.69,247.7700000000001,0]
[null,{"$f":"'namerena data'!A2159+('namerena data'!B2159-1)/24","v":"2013-09-28T17:00:00"},{"$f":"IF('namerena data'!C2159>0,'namerena data'!C2159/1000,0)","v":0},37.61,25.69,366.20090000000005,0]
[null,{"$f":"'namerena data'!A2160+('namerena data'!B2160-1)/24","v":"2013-09-28T18:00:00"},{"$f":"IF('namerena data'!C2160>0,'namerena data'!C2160/1000,0)","v":0},43.99,25.69,530.10310000000004,0]
[null,{"$f":"'namerena data'!A2161+('namerena data'!B2161-1)/24","v":"2013-09-28T19:00:00"},{"$f":"IF('namerena data'!C2161>0,'namerena data'!C2161/1000,0)","v":0},52,25.69,735.88000000000011,0]
[null,{"$f":"'namerena data'!A2162+('namerena data'!B2162-1)/24","v":"2013-09-28T20:00:00"},{"$f":"IF('namerena data'!C2162>0,'namerena data'!C2162/1000,0)","v":0},45.74,25.69,575.06060000000002,0]
[null,{"$f":"'namerena data'!A2163+('namerena data'!B2163-1)/24","v":"2013-09-28T21:00:00"},{"$f":"IF('namerena data'!C2163>0,'namerena data'!C2163/1000,0)","v":0},39.1,25.69,404.47900000000004,0]
[null,{"$f":"'namerena data'!A2164+('namerena data'!B2164-1)/24","v":"2013-09-28T22:00:00"},{"$f":"IF('namerena data'!C2164>0,'namerena data'!C2164/1000,0)","v":0},35,25.69,299.15000000000009,0]
[null,{"$f":"'namerena data'!A2165+('namerena data'!B2165-1)/24","v":"2013-09-28T23:00:00"},{"$f":"IF('namerena data'!C2165>0,'namerena data'!C2165/1000,0)","v":0},31,25.69,{"$f":"+IF(AND(ISNUMBER(D2175),ISNUMBER(E2175)),D2175*E2175-$F$13,0)","v":196.39},{"$f":"+(C2175*F2175)","v":0}]
[null,{"$f":"'namerena data'!A2166+('namerena data'!B2166-1)/24","v":"2013-09-29"},{"$f":"IF('namerena data'!C2166>0,'namerena data'!C2166/1000,0)","v":0},26.24,25.69,74.105599999999981,0]
[null,{"$f":"'namerena data'!A2167+('namerena data'!B2167-1)/24","v":"2013-09-29T01:00:00"},{"$f":"IF('namerena data'!C2167>0,'namerena data'!C2167/1000,0)","v":0},20.73,25.69,-67.446299999999951,0]
[null,{"$f":"'namerena data'!A2168+('namerena data'!B2168-1)/24","v":"2013-09-29T02:00:00"},{"$f":"IF('namerena data'!C2168>0,'namerena data'!C2168/1000,0)","v":0},15.82,25.69,-193.58419999999995,0]
[null,{"$f":"'namerena data'!A2169+('namerena data'!B2169-1)/24","v":"2013-09-29T03:00:00"},{"$f":"IF('namerena data'!C2169>0,'namerena data'!C2169/1000,0)","v":0},12.66,25.69,-274.76459999999997,0]
[null,{"$f":"'namerena data'!A2170+('namerena data'!B2170-1)/24","v":"2013-09-29T04:00:00"},{"$f":"IF('namerena data'!C2170>0,'namerena data'!C2170/1000,0)","v":0},11.61,25.69,-301.73910000000001,0]
[null,{"$f":"'namerena data'!A2171+('namerena data'!B2171-1)/24","v":"2013-09-29T05:00:00"},{"$f":"IF('namerena data'!C2171>0,'namerena data'!C2171/1000,0)","v":0},11.76,25.69,-297.88560000000001,0]
[null,{"$f":"'namerena data'!A2172+('namerena data'!B2172-1)/24","v":"2013-09-29T06:00:00"},{"$f":"IF('namerena data'!C2172>0,'namerena data'!C2172/1000,0)","v":0},12.5,25.69,-278.875,0]
[null,{"$f":"'namerena data'!A2173+('namerena data'!B2173-1)/24","v":"2013-09-29T07:00:00"},{"$f":"IF('namerena data'!C2173>0,'namerena data'!C2173/1000,0)","v":0},15.5,25.69,-201.80500000000001,0]
[null,{"$f":"'namerena data'!A2174+('namerena data'!B2174-1)/24","v":"2013-09-29T08:00:00"},{"$f":"IF('namerena data'!C2174>0,'namerena data'!C2174/1000,0)","v":0},21.5,25.69,-47.664999999999964,0]
[null,{"$f":"'namerena data'!A2175+('namerena data'!B2175-1)/24","v":"2013-09-29T09:00:00"},{"$f":"IF('namerena data'!C2175>0,'namerena data'!C2175/1000,0)","v":0},23.18,25.69,-4.505800000000022,0]
[null,{"$f":"'namerena data'!A2176+('namerena data'!B2176-1)/24","v":"2013-09-29T10:00:00"},{"$f":"IF('namerena data'!C2176>0,'namerena data'!C2176/1000,0)","v":0},23.15,25.69,-5.2765000000000555,0]
[null,{"$f":"'namerena data'!A2177+('namerena data'!B2177-1)/24","v":"2013-09-29T11:00:00"},{"$f":"IF('namerena data'!C2177>0,'namerena data'!C2177/1000,0)","v":0},17.809999999999999,25.69,-142.46109999999999,0]
[null,{"$f":"'namerena data'!A2178+('namerena data'!B2178-1)/24","v":"2013-09-29T12:00:00"},{"$f":"IF('namerena data'!C2178>0,'namerena data'!C2178/1000,0)","v":0},4.5,25.69,-484.39499999999998,0]
[null,{"$f":"'namerena data'!A2179+('namerena data'!B2179-1)/24","v":"2013-09-29T13:00:00"},{"$f":"IF('namerena data'!C2179>0,'namerena data'!C2179/1000,0)","v":0},0.1,25.69,-597.43100000000004,0]
[null,{"$f":"'namerena data'!A2180+('namerena data'!B2180-1)/24","v":"2013-09-29T14:00:00"},{"$f":"IF('namerena data'!C2180>0,'namerena data'!C2180/1000,0)","v":0},0.1,25.69,-597.43100000000004,0]
[null,{"$f":"'namerena data'!A2181+('namerena data'!B2181-1)/24","v":"2013-09-29T15:00:00"},{"$f":"IF('namerena data'!C2181>0,'namerena data'!C2181/1000,0)","v":0},1,25.69,-574.30999999999995,0]
[null,{"$f":"'namerena data'!A2182+('namerena data'!B2182-1)/24","v":"2013-09-29T16:00:00"},{"$f":"IF('namerena data'!C2182>0,'namerena data'!C2182/1000,0)","v":0},13.76,25.69,-246.50560000000002,0]
[null,{"$f":"'namerena data'!A2183+('namerena data'!B2183-1)/24","v":"2013-09-29T17:00:00"},{"$f":"IF('namerena data'!C2183>0,'namerena data'!C2183/1000,0)","v":0},25.1,25.69,44.819000000000074,0]
[null,{"$f":"'namerena data'!A2184+('namerena data'!B2184-1)/24","v":"2013-09-29T18:00:00"},{"$f":"IF('namerena data'!C2184>0,'namerena data'!C2184/1000,0)","v":0},32,25.69,{"$f":"+IF(AND(ISNUMBER(D2194),ISNUMBER(E2194)),D2194*E2194-$F$13,0)","v":222.08000000000004},{"$f":"+(C2194*F2194)","v":0}]
[null,{"$f":"'namerena data'!A2185+('namerena data'!B2185-1)/24","v":"2013-09-29T19:00:00"},{"$f":"IF('namerena data'!C2185>0,'namerena data'!C2185/1000,0)","v":0},40.53,25.69,441.21569999999997,0]
[null,{"$f":"'namerena data'!A2186+('namerena data'!B2186-1)/24","v":"2013-09-29T20:00:00"},{"$f":"IF('namerena data'!C2186>0,'namerena data'!C2186/1000,0)","v":0},40,25.69,427.60000000000014,0]
[null,{"$f":"'namerena data'!A2187+('namerena data'!B2187-1)/24","v":"2013-09-29T21:00:00"},{"$f":"IF('namerena data'!C2187>0,'namerena data'!C2187/1000,0)","v":0},33.020000000000003,25.69,248.28380000000016,0]
[null,{"$f":"'namerena data'!A2188+('namerena data'!B2188-1)/24","v":"2013-09-29T22:00:00"},{"$f":"IF('namerena data'!C2188>0,'namerena data'!C2188/1000,0)","v":0},32.74,25.69,{"$f":"+IF(AND(ISNUMBER(D2198),ISNUMBER(E2198)),D2198*E2198-$F$13,0)","v":241.09060000000011},{"$f":"+(C2198*F2198)","v":0}]
[null,{"$f":"'namerena data'!A2189+('namerena data'!B2189-1)/24","v":"2013-09-29T23:00:00"},{"$f":"IF('namerena data'!C2189>0,'namerena data'!C2189/1000,0)","v":0},24.95,25.69,40.96550000000002,0]
[null,{"$f":"'namerena data'!A2190+('namerena data'!B2190-1)/24","v":"2013-09-30"},{"$f":"IF('namerena data'!C2190>0,'namerena data'!C2190/1000,0)","v":0},20.05,25.734999999999999,{"$f":"+IF(AND(ISNUMBER(D2200),ISNUMBER(E2200)),D2200*E2200-$F$13,0)","v":-84.013249999999971},{"$f":"+(C2200*F2200)","v":0}]
[null,{"$f":"'namerena data'!A2191+('namerena data'!B2191-1)/24","v":"2013-09-30T01:00:00"},{"$f":"IF('namerena data'!C2191>0,'namerena data'!C2191/1000,0)","v":1E-3},16.79,25.734999999999999,-167.90935000000002,-0.16790935000000001]
[null,{"$f":"'namerena data'!A2192+('namerena data'!B2192-1)/24","v":"2013-09-30T02:00:00"},{"$f":"IF('namerena data'!C2192>0,'namerena data'!C2192/1000,0)","v":2E-3},13.93,25.734999999999999,-241.51145000000002,-0.48302290000000003]
[null,{"$f":"'namerena data'!A2193+('namerena data'!B2193-1)/24","v":"2013-09-30T03:00:00"},{"$f":"IF('namerena data'!C2193>0,'namerena data'!C2193/1000,0)","v":3.0000000000000001E-3},11.5,25.734999999999999,-304.04750000000001,-0.91214250000000008]
[null,{"$f":"'namerena data'!A2194+('namerena data'!B2194-1)/24","v":"2013-09-30T04:00:00"},{"$f":"IF('namerena data'!C2194>0,'namerena data'!C2194/1000,0)","v":4.0000000000000001E-3},13,25.734999999999999,-265.44499999999999,-1.0617799999999999]
[null,{"$f":"'namerena data'!A2195+('namerena data'!B2195-1)/24","v":"2013-09-30T05:00:00"},{"$f":"IF('namerena data'!C2195>0,'namerena data'!C2195/1000,0)","v":5.0000000000000001E-3},23.3,25.734999999999999,-0.37450000000001182,-1.8725000000000592E-3]
[null,{"$f":"'namerena data'!A2196+('namerena data'!B2196-1)/24","v":"2013-09-30T06:00:00"},{"$f":"IF('namerena data'!C2196>0,'namerena data'!C2196/1000,0)","v":6.0000000000000001E-3},37,25.734999999999999,352.19499999999994,2.1131699999999998]
[null,{"$f":"'namerena data'!A2197+('namerena data'!B2197-1)/24","v":"2013-09-30T07:00:00"},{"$f":"IF('namerena data'!C2197>0,'namerena data'!C2197/1000,0)","v":7.0000000000000001E-3},54.85,25.734999999999999,811.56475,5.68095325]
[null,{"$f":"'namerena data'!A2198+('namerena data'!B2198-1)/24","v":"2013-09-30T08:00:00"},{"$f":"IF('namerena data'!C2198>0,'namerena data'!C2198/1000,0)","v":8.0000000000000002E-3},56.44,25.734999999999999,852.48339999999985,6.8198671999999991]
[null,{"$f":"'namerena data'!A2199+('namerena data'!B2199-1)/24","v":"2013-09-30T09:00:00"},{"$f":"IF('namerena data'!C2199>0,'namerena data'!C2199/1000,0)","v":8.9999999999999993E-3},52.1,25.734999999999999,740.79349999999999,6.6671414999999996]
[null,{"$f":"'namerena data'!A2200+('namerena data'!B2200-1)/24","v":"2013-09-30T10:00:00"},{"$f":"IF('namerena data'!C2200>0,'namerena data'!C2200/1000,0)","v":0.01},44.8,25.734999999999999,552.92799999999988,5.5292799999999991]
[null,{"$f":"'namerena data'!A2201+('namerena data'!B2201-1)/24","v":"2013-09-30T11:00:00"},{"$f":"IF('namerena data'!C2201>0,'namerena data'!C2201/1000,0)","v":1.0999999999999999E-2},43.1,25.734999999999999,509.17849999999999,5.6009634999999998]
[null,{"$f":"'namerena data'!A2202+('namerena data'!B2202-1)/24","v":"2013-09-30T12:00:00"},{"$f":"IF('namerena data'!C2202>0,'namerena data'!C2202/1000,0)","v":1.2E-2},34.61,25.734999999999999,290.68835000000001,3.4882602]
[null,{"$f":"'namerena data'!A2203+('namerena data'!B2203-1)/24","v":"2013-09-30T13:00:00"},{"$f":"IF('namerena data'!C2203>0,'namerena data'!C2203/1000,0)","v":1.2999999999999999E-2},32.409999999999997,25.734999999999999,234.07134999999994,3.042927549999999]
[null,{"$f":"'namerena data'!A2204+('namerena data'!B2204-1)/24","v":"2013-09-30T14:00:00"},{"$f":"IF('namerena data'!C2204>0,'namerena data'!C2204/1000,0)","v":1.4E-2},31.8,25.734999999999999,218.37300000000005,3.0572220000000008]
[null,{"$f":"'namerena data'!A2205+('namerena data'!B2205-1)/24","v":"2013-09-30T15:00:00"},{"$f":"IF('namerena data'!C2205>0,'namerena data'!C2205/1000,0)","v":1.4999999999999999E-2},33.369999999999997,25.734999999999999,258.77694999999994,3.8816542499999991]
[null,{"$f":"'namerena data'!A2206+('namerena data'!B2206-1)/24","v":"2013-09-30T16:00:00"},{"$f":"IF('namerena data'!C2206>0,'namerena data'!C2206/1000,0)","v":1.6E-2},36,25.734999999999999,326.46000000000004,5.2233600000000004]
[null,{"$f":"'namerena data'!A2207+('namerena data'!B2207-1)/24","v":"2013-09-30T17:00:00"},{"$f":"IF('namerena data'!C2207>0,'namerena data'!C2207/1000,0)","v":1.7000000000000001E-2},48,25.734999999999999,635.28,10.799760000000001]
[null,{"$f":"'namerena data'!A2208+('namerena data'!B2208-1)/24","v":"2013-09-30T18:00:00"},{"$f":"IF('namerena data'!C2208>0,'namerena data'!C2208/1000,0)","v":1.7999999999999999E-2},55.55,25.734999999999999,829.57925,14.932426499999998]
[null,{"$f":"'namerena data'!A2209+('namerena data'!B2209-1)/24","v":"2013-09-30T19:00:00"},{"$f":"IF('namerena data'!C2209>0,'namerena data'!C2209/1000,0)","v":1.9E-2},63.2,25.734999999999999,1026.452,19.502587999999999]
[null,{"$f":"'namerena data'!A2210+('namerena data'!B2210-1)/24","v":"2013-09-30T20:00:00"},{"$f":"IF('namerena data'!C2210>0,'namerena data'!C2210/1000,0)","v":0.02},61.3,25.734999999999999,977.55549999999994,19.551109999999998]
[null,{"$f":"'namerena data'!A2211+('namerena data'!B2211-1)/24","v":"2013-09-30T21:00:00"},{"$f":"IF('namerena data'!C2211>0,'namerena data'!C2211/1000,0)","v":2.1000000000000001E-2},48.47,25.734999999999999,647.37545,13.59488445]
[null,{"$f":"'namerena data'!A2212+('namerena data'!B2212-1)/24","v":"2013-09-30T22:00:00"},{"$f":"IF('namerena data'!C2212>0,'namerena data'!C2212/1000,0)","v":2.1999999999999999E-2},38,25.734999999999999,377.92999999999995,8.3144599999999986]
[null,{"$f":"'namerena data'!A2213+('namerena data'!B2213-1)/24","v":"2013-09-30T23:00:00"},{"$f":"IF('namerena data'!C2213>0,'namerena data'!C2213/1000,0)","v":2.3E-2},31.5,25.734999999999999,210.65250000000003,4.8450075000000004]

{"sheet":"Data_Graf","index":4,"n_rows":746,"n_cols":7,"rows_kept":746,"cut":false,"hidden":true,"merged":[[0,0,0,2],[1,4,1,6]]}
["MĚSÍC",null,null,null,{"$f":"\"FAKTURACE VÝROBY \"&UPPER(TEXT(E4,\"MMMM RRRR\"))","v":{"$error":"#REF!"}},{"$f":"\"FAKTURACE VÝROBY- 72 HODIN (\"&TEXT(E4,\"DD.MM.RRRR HH:MM\")&\" - \"&TEXT(E74,\"DD.MM.RRRR HH:MM\")&\")\"","v":{"$error":"#REF!"}}]
[{"$f":"fakturace!B15","v":"Datum"},{"$f":"fakturace!C15","v":"měření [MWh]"},{"$f":"fakturace!F15","v":"cenový tarif [Kc/MWh]"},null,"D3"]
[{"$f":"OFFSET(fakturace!B16,fakturace!#REF!,0)","v":{"$error":"#REF!"}},{"$f":"OFFSET(fakturace!C16,fakturace!#REF!,0)","v":{"$error":"#REF!"}},{"$f":"OFFSET(fakturace!F16,fakturace!#REF!,0)","v":{"$error":"#REF!"}},null,"Datum","mereni v MWh","cenový tarif v Kc/MWh"]
[{"$f":"OFFSET(fakturace!B17,fakturace!#REF!,0)","v":{"$error":"#REF!"}},{"$f":"OFFSET(fakturace!C17,fakturace!#REF!,0)","v":{"$error":"#REF!"}},{"$f":"OFFSET(fakturace!F17,fakturace!#REF!,0)","v":{"$error":"#REF!"}},null,{"$f":"OFFSET(fakturace!B16,fakturace!#REF!,0)","v":{"$error":"#REF!"}},{"$f":"OFFSET(fakturace!C16,fakturace!#REF!,0)","v":{"$error":"#REF!"}},{"$f":"OFFSET(fakturace!F16,fakturace!#REF!,0)","v":{"$error":"#REF!"}}]
[{"$f":"OFFSET(fakturace!B18,fakturace!#REF!,0)","v":{"$error":"#REF!"}},{"$f":"OFFSET(fakturace!C18,fakturace!#REF!,0)","v":{"$error":"#REF!"}},{"$f":"OFFSET(fakturace!F18,fakturace!#REF!,0)","v":{"$error":"#REF!"}},null,{"$f":"OFFSET(fakturace!B17,fakturace!#REF!,0)","v":{"$error":"#REF!"}},{"$f":"OFFSET(fakturace!C17,fakturace!#REF!,0)","v":{"$error":"#REF!"}},{"$f":"OFFSET(fakturace!F17,fakturace!#REF!,0)","v":{"$error":"#REF!"}}]
[{"$f":"OFFSET(fakturace!B19,fakturace!#REF!,0)","v":{"$error":"#REF!"}},{"$f":"OFFSET(fakturace!C19,fakturace!#REF!,0)","v":{"$error":"#REF!"}},{"$f":"OFFSET(fakturace!F19,fakturace!#REF!,0)","v":{"$error":"#REF!"}},null,{"$f":"OFFSET(fakturace!B18,fakturace!#REF!,0)","v":{"$error":"#REF!"}},{"$f":"OFFSET(fakturace!C18,fakturace!#REF!,0)","v":{"$error":"#REF!"}},{"$f":"OFFSET(fakturace!F18,fakturace!#REF!,0)","v":{"$error":"#REF!"}}]
[{"$f":"OFFSET(fakturace!B20,fakturace!#REF!,0)","v":{"$error":"#REF!"}},{"$f":"OFFSET(fakturace!C20,fakturace!#REF!,0)","v":{"$error":"#REF!"}},{"$f":"OFFSET(fakturace!F20,fakturace!#REF!,0)","v":{"$error":"#REF!"}},null,{"$f":"OFFSET(fakturace!B19,fakturace!#REF!,0)","v":{"$error":"#REF!"}},{"$f":"OFFSET(fakturace!C19,fakturace!#REF!,0)","v":{"$error":"#REF!"}},{"$f":"OFFSET(fakturace!F19,fakturace!#REF!,0)","v":{"$error":"#REF!"}}]
[{"$f":"OFFSET(fakturace!B21,fakturace!#REF!,0)","v":{"$error":"#REF!"}},{"$f":"OFFSET(fakturace!C21,fakturace!#REF!,0)","v":{"$error":"#REF!"}},{"$f":"OFFSET(fakturace!F21,fakturace!#REF!,0)","v":{"$error":"#REF!"}},null,{"$f":"OFFSET(fakturace!B20,fakturace!#REF!,0)","v":{"$error":"#REF!"}},{"$f":"OFFSET(fakturace!C20,fakturace!#REF!,0)","v":{"$error":"#REF!"}},{"$f":"OFFSET(fakturace!F20,fakturace!#REF!,0)","v":{"$error":"#REF!"}}]
[{"$f":"OFFSET(fakturace!B22,fakturace!#REF!,0)","v":{"$error":"#REF!"}},{"$f":"OFFSET(fakturace!C22,fakturace!#REF!,0)","v":{"$error":"#REF!"}},{"$f":"OFFSET(fakturace!F22,fakturace!#REF!,0)","v":{"$error":"#REF!"}},null,{"$f":"OFFSET(fakturace!B21,fakturace!#REF!,0)","v":{"$error":"#REF!"}},{"$f":"OFFSET(fakturace!C21,fakturace!#REF!,0)","v":{"$error":"#REF!"}},{"$f":"OFFSET(fakturace!F21,fakturace!#REF!,0)","v":{"$error":"#REF!"}}]
[{"$f":"OFFSET(fakturace!B23,fakturace!#REF!,0)","v":{"$error":"#REF!"}},{"$f":"OFFSET(fakturace!C23,fakturace!#REF!,0)","v":{"$error":"#REF!"}},{"$f":"OFFSET(fakturace!F23,fakturace!#REF!,0)","v":{"$error":"#REF!"}},null,{"$f":"OFFSET(fakturace!B22,fakturace!#REF!,0)","v":{"$error":"#REF!"}},{"$f":"OFFSET(fakturace!C22,fakturace!#REF!,0)","v":{"$error":"#REF!"}},{"$f":"OFFSET(fakturace!F22,fakturace!#REF!,0)","v":{"$error":"#REF!"}}]
[{"$f":"OFFSET(fakturace!B24,fakturace!#REF!,0)","v":{"$error":"#REF!"}},{"$f":"OFFSET(fakturace!C24,fakturace!#REF!,0)","v":{"$error":"#REF!"}},{"$f":"OFFSET(fakturace!F24,fakturace!#REF!,0)","v":{"$error":"#REF!"}},null,{"$f":"OFFSET(fakturace!B23,fakturace!#REF!,0)","v":{"$error":"#REF!"}},{"$f":"OFFSET(fakturace!C23,fakturace!#REF!,0)","v":{"$error":"#REF!"}},{"$f":"OFFSET(fakturace!F23,fakturace!#REF!,0)","v":{"$error":"#REF!"}}]
[{"$f":"OFFSET(fakturace!B25,fakturace!#REF!,0)","v":{"$error":"#REF!"}},{"$f":"OFFSET(fakturace!C25,fakturace!#REF!,0)","v":{"$error":"#REF!"}},{"$f":"OFFSET(fakturace!F25,fakturace!#REF!,0)","v":{"$error":"#REF!"}},null,{"$f":"OFFSET(fakturace!B24,fakturace!#REF!,0)","v":{"$error":"#REF!"}},{"$f":"OFFSET(fakturace!C24,fakturace!#REF!,0)","v":{"$error":"#REF!"}},{"$f":"OFFSET(fakturace!F24,fakturace!#REF!,0)","v":{"$error":"#REF!"}}]
[{"$f":"OFFSET(fakturace!B26,fakturace!#REF!,0)","v":{"$error":"#REF!"}},{"$f":"OFFSET(fakturace!C26,fakturace!#REF!,0)","v":{"$error":"#REF!"}},{"$f":"OFFSET(fakturace!F26,fakturace!#REF!,0)","v":{"$error":"#REF!"}},null,{"$f":"OFFSET(fakturace!B25,fakturace!#REF!,0)","v":{"$error":"#REF!"}},{"$f":"OFFSET(fakturace!C25,fakturace!#REF!,0)","v":{"$error":"#REF!"}},{"$f":"OFFSET(fakturace!F25,fakturace!#REF!,0)","v":{"$error":"#REF!"}}]
[{"$f":"OFFSET(fakturace!B27,fakturace!#REF!,0)","v":{"$error":"#REF!"}},{"$f":"OFFSET(fakturace!C27,fakturace!#REF!,0)","v":{"$error":"#REF!"}},{"$f":"OFFSET(fakturace!F27,fakturace!#REF!,0)","v":{"$error":"#REF!"}},null,{"$f":"OFFSET(fakturace!B26,fakturace!#REF!,0)","v":{"$error":"#REF!"}},{"$f":"OFFSET(fakturace!C26,fakturace!#REF!,0)","v":{"$error":"#REF!"}},{"$f":"OFFSET(fakturace!F26,fakturace!#REF!,0)","v":{"$error":"#REF!"}}]
[{"$f":"OFFSET(fakturace!B28,fakturace!#REF!,0)","v":{"$error":"#REF!"}},{"$f":"OFFSET(fakturace!C28,fakturace!#REF!,0)","v":{"$error":"#REF!"}},{"$f":"OFFSET(fakturace!F28,fakturace!#REF!,0)","v":{"$error":"#REF!"}},null,{"$f":"OFFSET(fakturace!B27,fakturace!#REF!,0)","v":{"$error":"#REF!"}},{"$f":"OFFSET(fakturace!C27,fakturace!#REF!,0)","v":{"$error":"#REF!"}},{"$f":"OFFSET(fakturace!F27,fakturace!#REF!,0)","v":{"$error":"#REF!"}}]
[{"$f":"OFFSET(fakturace!B29,fakturace!#REF!,0)","v":{"$error":"#REF!"}},{"$f":"OFFSET(fakturace!C29,fakturace!#REF!,0)","v":{"$error":"#REF!"}},{"$f":"OFFSET(fakturace!F29,fakturace!#REF!,0)","v":{"$error":"#REF!"}},null,{"$f":"OFFSET(fakturace!B28,fakturace!#REF!,0)","v":{"$error":"#REF!"}},{"$f":"OFFSET(fakturace!C28,fakturace!#REF!,0)","v":{"$error":"#REF!"}},{"$f":"OFFSET(fakturace!F28,fakturace!#REF!,0)","v":{"$error":"#REF!"}}]
[{"$f":"OFFSET(fakturace!B30,fakturace!#REF!,0)","v":{"$error":"#REF!"}},{"$f":"OFFSET(fakturace!C30,fakturace!#REF!,0)","v":{"$error":"#REF!"}},{"$f":"OFFSET(fakturace!F30,fakturace!#REF!,0)","v":{"$error":"#REF!"}},null,{"$f":"OFFSET(fakturace!B29,fakturace!#REF!,0)","v":{"$error":"#REF!"}},{"$f":"OFFSET(fakturace!C29,fakturace!#REF!,0)","v":{"$error":"#REF!"}},{"$f":"OFFSET(fakturace!F29,fakturace!#REF!,0)","v":{"$error":"#REF!"}}]
[{"$f":"OFFSET(fakturace!B31,fakturace!#REF!,0)","v":{"$error":"#REF!"}},{"$f":"OFFSET(fakturace!C31,fakturace!#REF!,0)","v":{"$error":"#REF!"}},{"$f":"OFFSET(fakturace!F31,fakturace!#REF!,0)","v":{"$error":"#REF!"}},null,{"$f":"OFFSET(fakturace!B30,fakturace!#REF!,0)","v":{"$error":"#REF!"}},{"$f":"OFFSET(fakturace!C30,fakturace!#REF!,0)","v":{"$error":"#REF!"}},{"$f":"OFFSET(fakturace!F30,fakturace!#REF!,0)","v":{"$error":"#REF!"}}]
[{"$f":"OFFSET(fakturace!B32,fakturace!#REF!,0)","v":{"$error":"#REF!"}},{"$f":"OFFSET(fakturace!C32,fakturace!#REF!,0)","v":{"$error":"#REF!"}},{"$f":"OFFSET(fakturace!F32,fakturace!#REF!,0)","v":{"$error":"#REF!"}},null,{"$f":"OFFSET(fakturace!B31,fakturace!#REF!,0)","v":{"$error":"#REF!"}},{"$f":"OFFSET(fakturace!C31,fakturace!#REF!,0)","v":{"$error":"#REF!"}},{"$f":"OFFSET(fakturace!F31,fakturace!#REF!,0)","v":{"$error":"#REF!"}}]
[{"$f":"OFFSET(fakturace!B33,fakturace!#REF!,0)","v":{"$error":"#REF!"}},{"$f":"OFFSET(fakturace!C33,fakturace!#REF!,0)","v":{"$error":"#REF!"}},{"$f":"OFFSET(fakturace!F33,fakturace!#REF!,0)","v":{"$error":"#REF!"}},null,{"$f":"OFFSET(fakturace!B32,fakturace!#REF!,0)","v":{"$error":"#REF!"}},{"$f":"OFFSET(fakturace!C32,fakturace!#REF!,0)","v":{"$error":"#REF!"}},{"$f":"OFFSET(fakturace!F32,fakturace!#REF!,0)","v":{"$error":"#REF!"}}]
[{"$f":"OFFSET(fakturace!B34,fakturace!#REF!,0)","v":{"$error":"#REF!"}},{"$f":"OFFSET(fakturace!C34,fakturace!#REF!,0)","v":{"$error":"#REF!"}},{"$f":"OFFSET(fakturace!F34,fakturace!#REF!,0)","v":{"$error":"#REF!"}},null,{"$f":"OFFSET(fakturace!B33,fakturace!#REF!,0)","v":{"$error":"#REF!"}},{"$f":"OFFSET(fakturace!C33,fakturace!#REF!,0)","v":{"$error":"#REF!"}},{"$f":"OFFSET(fakturace!F33,fakturace!#REF!,0)","v":{"$error":"#REF!"}}]
[{"$f":"OFFSET(fakturace!B35,fakturace!#REF!,0)","v":{"$error":"#REF!"}},{"$f":"OFFSET(fakturace!C35,fakturace!#REF!,0)","v":{"$error":"#REF!"}},{"$f":"OFFSET(fakturace!F35,fakturace!#REF!,0)","v":{"$error":"#REF!"}},null,{"$f":"OFFSET(fakturace!B34,fakturace!#REF!,0)","v":{"$error":"#REF!"}},{"$f":"OFFSET(fakturace!C34,fakturace!#REF!,0)","v":{"$error":"#REF!"}},{"$f":"OFFSET(fakturace!F34,fakturace!#REF!,0)","v":{"$error":"#REF!"}}]
[{"$f":"OFFSET(fakturace!B36,fakturace!#REF!,0)","v":{"$error":"#REF!"}},{"$f":"OFFSET(fakturace!C36,fakturace!#REF!,0)","v":{"$error":"#REF!"}},{"$f":"OFFSET(fakturace!F36,fakturace!#REF!,0)","v":{"$error":"#REF!"}},null,{"$f":"OFFSET(fakturace!B35,fakturace!#REF!,0)","v":{"$error":"#REF!"}},{"$f":"OFFSET(fakturace!C35,fakturace!#REF!,0)","v":{"$error":"#REF!"}},{"$f":"OFFSET(fakturace!F35,fakturace!#REF!,0)","v":{"$error":"#REF!"}}]
[{"$f":"OFFSET(fakturace!B37,fakturace!#REF!,0)","v":{"$error":"#REF!"}},{"$f":"OFFSET(fakturace!C37,fakturace!#REF!,0)","v":{"$error":"#REF!"}},{"$f":"OFFSET(fakturace!F37,fakturace!#REF!,0)","v":{"$error":"#REF!"}},null,{"$f":"OFFSET(fakturace!B36,fakturace!#REF!,0)","v":{"$error":"#REF!"}},{"$f":"OFFSET(fakturace!C36,fakturace!#REF!,0)","v":{"$error":"#REF!"}},{"$f":"OFFSET(fakturace!F36,fakturace!#REF!,0)","v":{"$error":"#REF!"}}]
[{"$f":"OFFSET(fakturace!B38,fakturace!#REF!,0)","v":{"$error":"#REF!"}},{"$f":"OFFSET(fakturace!C38,fakturace!#REF!,0)","v":{"$error":"#REF!"}},{"$f":"OFFSET(fakturace!F38,fakturace!#REF!,0)","v":{"$error":"#REF!"}},null,{"$f":"OFFSET(fakturace!B37,fakturace!#REF!,0)","v":{"$error":"#REF!"}},{"$f":"OFFSET(fakturace!C37,fakturace!#REF!,0)","v":{"$error":"#REF!"}},{"$f":"OFFSET(fakturace!F37,fakturace!#REF!,0)","v":{"$error":"#REF!"}}]
[{"$f":"OFFSET(fakturace!B39,fakturace!#REF!,0)","v":{"$error":"#REF!"}},{"$f":"OFFSET(fakturace!C39,fakturace!#REF!,0)","v":{"$error":"#REF!"}},{"$f":"OFFSET(fakturace!F39,fakturace!#REF!,0)","v":{"$error":"#REF!"}},null,{"$f":"OFFSET(fakturace!B38,fakturace!#REF!,0)","v":{"$error":"#REF!"}},{"$f":"OFFSET(fakturace!C38,fakturace!#REF!,0)","v":{"$error":"#REF!"}},{"$f":"OFFSET(fakturace!F38,fakturace!#REF!,0)","v":{"$error":"#REF!"}}]
[{"$f":"OFFSET(fakturace!B40,fakturace!#REF!,0)","v":{"$error":"#REF!"}},{"$f":"OFFSET(fakturace!C40,fakturace!#REF!,0)","v":{"$error":"#REF!"}},{"$f":"OFFSET(fakturace!F40,fakturace!#REF!,0)","v":{"$error":"#REF!"}},null,{"$f":"OFFSET(fakturace!B39,fakturace!#REF!,0)","v":{"$error":"#REF!"}},{"$f":"OFFSET(fakturace!C39,fakturace!#REF!,0)","v":{"$error":"#REF!"}},{"$f":"OFFSET(fakturace!F39,fakturace!#REF!,0)","v":{"$error":"#REF!"}}]
[{"$f":"OFFSET(fakturace!B41,fakturace!#REF!,0)","v":{"$error":"#REF!"}},{"$f":"OFFSET(fakturace!C41,fakturace!#REF!,0)","v":{"$error":"#REF!"}},{"$f":"OFFSET(fakturace!F41,fakturace!#REF!,0)","v":{"$error":"#REF!"}},null,{"$f":"OFFSET(fakturace!B40,fakturace!#REF!,0)","v":{"$error":"#REF!"}},{"$f":"OFFSET(fakturace!C40,fakturace!#REF!,0)","v":{"$error":"#REF!"}},{"$f":"OFFSET(fakturace!F40,fakturace!#REF!,0)","v":{"$error":"#REF!"}}]
[{"$f":"OFFSET(fakturace!B42,fakturace!#REF!,0)","v":{"$error":"#REF!"}},{"$f":"OFFSET(fakturace!C42,fakturace!#REF!,0)","v":{"$error":"#REF!"}},{"$f":"OFFSET(fakturace!F42,fakturace!#REF!,0)","v":{"$error":"#REF!"}},null,{"$f":"OFFSET(fakturace!B41,fakturace!#REF!,0)","v":{"$error":"#REF!"}},{"$f":"OFFSET(fakturace!C41,fakturace!#REF!,0)","v":{"$error":"#REF!"}},{"$f":"OFFSET(fakturace!F41,fakturace!#REF!,0)","v":{"$error":"#REF!"}}]
[{"$f":"OFFSET(fakturace!B43,fakturace!#REF!,0)","v":{"$error":"#REF!"}},{"$f":"OFFSET(fakturace!C43,fakturace!#REF!,0)","v":{"$error":"#REF!"}},{"$f":"OFFSET(fakturace!F43,fakturace!#REF!,0)","v":{"$error":"#REF!"}},null,{"$f":"OFFSET(fakturace!B42,fakturace!#REF!,0)","v":{"$error":"#REF!"}},{"$f":"OFFSET(fakturace!C42,fakturace!#REF!,0)","v":{"$error":"#REF!"}},{"$f":"OFFSET(fakturace!F42,fakturace!#REF!,0)","v":{"$error":"#REF!"}}]
[{"$f":"OFFSET(fakturace!B44,fakturace!#REF!,0)","v":{"$error":"#REF!"}},{"$f":"OFFSET(fakturace!C44,fakturace!#REF!,0)","v":{"$error":"#REF!"}},{"$f":"OFFSET(fakturace!F44,fakturace!#REF!,0)","v":{"$error":"#REF!"}},null,{"$f":"OFFSET(fakturace!B43,fakturace!#REF!,0)","v":{"$error":"#REF!"}},{"$f":"OFFSET(fakturace!C43,fakturace!#REF!,0)","v":{"$error":"#REF!"}},{"$f":"OFFSET(fakturace!F43,fakturace!#REF!,0)","v":{"$error":"#REF!"}}]
[{"$f":"OFFSET(fakturace!B45,fakturace!#REF!,0)","v":{"$error":"#REF!"}},{"$f":"OFFSET(fakturace!C45,fakturace!#REF!,0)","v":{"$error":"#REF!"}},{"$f":"OFFSET(fakturace!F45,fakturace!#REF!,0)","v":{"$error":"#REF!"}},null,{"$f":"OFFSET(fakturace!B44,fakturace!#REF!,0)","v":{"$error":"#REF!"}},{"$f":"OFFSET(fakturace!C44,fakturace!#REF!,0)","v":{"$error":"#REF!"}},{"$f":"OFFSET(fakturace!F44,fakturace!#REF!,0)","v":{"$error":"#REF!"}}]
[{"$f":"OFFSET(fakturace!B46,fakturace!#REF!,0)","v":{"$error":"#REF!"}},{"$f":"OFFSET(fakturace!C46,fakturace!#REF!,0)","v":{"$error":"#REF!"}},{"$f":"OFFSET(fakturace!F46,fakturace!#REF!,0)","v":{"$error":"#REF!"}},null,{"$f":"OFFSET(fakturace!B45,fakturace!#REF!,0)","v":{"$error":"#REF!"}},{"$f":"OFFSET(fakturace!C45,fakturace!#REF!,0)","v":{"$error":"#REF!"}},{"$f":"OFFSET(fakturace!F45,fakturace!#REF!,0)","v":{"$error":"#REF!"}}]
[{"$f":"OFFSET(fakturace!B47,fakturace!#REF!,0)","v":{"$error":"#REF!"}},{"$f":"OFFSET(fakturace!C47,fakturace!#REF!,0)","v":{"$error":"#REF!"}},{"$f":"OFFSET(fakturace!F47,fakturace!#REF!,0)","v":{"$error":"#REF!"}},null,{"$f":"OFFSET(fakturace!B46,fakturace!#REF!,0)","v":{"$error":"#REF!"}},{"$f":"OFFSET(fakturace!C46,fakturace!#REF!,0)","v":{"$error":"#REF!"}},{"$f":"OFFSET(fakturace!F46,fakturace!#REF!,0)","v":{"$error":"#REF!"}}]
[{"$f":"OFFSET(fakturace!B48,fakturace!#REF!,0)","v":{"$error":"#REF!"}},{"$f":"OFFSET(fakturace!C48,fakturace!#REF!,0)","v":{"$error":"#REF!"}},{"$f":"OFFSET(fakturace!F48,fakturace!#REF!,0)","v":{"$error":"#REF!"}},null,{"$f":"OFFSET(fakturace!B47,fakturace!#REF!,0)","v":{"$error":"#REF!"}},{"$f":"OFFSET(fakturace!C47,fakturace!#REF!,0)","v":{"$error":"#REF!"}},{"$f":"OFFSET(fakturace!F47,fakturace!#REF!,0)","v":{"$error":"#REF!"}}]
[{"$f":"OFFSET(fakturace!B49,fakturace!#REF!,0)","v":{"$error":"#REF!"}},{"$f":"OFFSET(fakturace!C49,fakturace!#REF!,0)","v":{"$error":"#REF!"}},{"$f":"OFFSET(fakturace!F49,fakturace!#REF!,0)","v":{"$error":"#REF!"}},null,{"$f":"OFFSET(fakturace!B48,fakturace!#REF!,0)","v":{"$error":"#REF!"}},{"$f":"OFFSET(fakturace!C48,fakturace!#REF!,0)","v":{"$error":"#REF!"}},{"$f":"OFFSET(fakturace!F48,fakturace!#REF!,0)","v":{"$error":"#REF!"}}]
[{"$f":"OFFSET(fakturace!B50,fakturace!#REF!,0)","v":{"$error":"#REF!"}},{"$f":"OFFSET(fakturace!C50,fakturace!#REF!,0)","v":{"$error":"#REF!"}},{"$f":"OFFSET(fakturace!F50,fakturace!#REF!,0)","v":{"$error":"#REF!"}},null,{"$f":"OFFSET(fakturace!B49,fakturace!#REF!,0)","v":{"$error":"#REF!"}},{"$f":"OFFSET(fakturace!C49,fakturace!#REF!,0)","v":{"$error":"#REF!"}},{"$f":"OFFSET(fakturace!F49,fakturace!#REF!,0)","v":{"$error":"#REF!"}}]
[{"$f":"OFFSET(fakturace!B51,fakturace!#REF!,0)","v":{"$error":"#REF!"}},{"$f":"OFFSET(fakturace!C51,fakturace!#REF!,0)","v":{"$error":"#REF!"}},{"$f":"OFFSET(fakturace!F51,fakturace!#REF!,0)","v":{"$error":"#REF!"}},null,{"$f":"OFFSET(fakturace!B50,fakturace!#REF!,0)","v":{"$error":"#REF!"}},{"$f":"OFFSET(fakturace!C50,fakturace!#REF!,0)","v":{"$error":"#REF!"}},{"$f":"OFFSET(fakturace!F50,fakturace!#REF!,0)","v":{"$error":"#REF!"}}]
[{"$f":"OFFSET(fakturace!B52,fakturace!#REF!,0)","v":{"$error":"#REF!"}},{"$f":"OFFSET(fakturace!C52,fakturace!#REF!,0)","v":{"$error":"#REF!"}},{"$f":"OFFSET(fakturace!F52,fakturace!#REF!,0)","v":{"$error":"#REF!"}},null,{"$f":"OFFSET(fakturace!B51,fakturace!#REF!,0)","v":{"$error":"#REF!"}},{"$f":"OFFSET(fakturace!C51,fakturace!#REF!,0)","v":{"$error":"#REF!"}},{"$f":"OFFSET(fakturace!F51,fakturace!#REF!,0)","v":{"$error":"#REF!"}}]
[{"$f":"OFFSET(fakturace!B53,fakturace!#REF!,0)","v":{"$error":"#REF!"}},{"$f":"OFFSET(fakturace!C53,fakturace!#REF!,0)","v":{"$error":"#REF!"}},{"$f":"OFFSET(fakturace!F53,fakturace!#REF!,0)","v":{"$error":"#REF!"}},null,{"$f":"OFFSET(fakturace!B52,fakturace!#REF!,0)","v":{"$error":"#REF!"}},{"$f":"OFFSET(fakturace!C52,fakturace!#REF!,0)","v":{"$error":"#REF!"}},{"$f":"OFFSET(fakturace!F52,fakturace!#REF!,0)","v":{"$error":"#REF!"}}]
[{"$f":"OFFSET(fakturace!B54,fakturace!#REF!,0)","v":{"$error":"#REF!"}},{"$f":"OFFSET(fakturace!C54,fakturace!#REF!,0)","v":{"$error":"#REF!"}},{"$f":"OFFSET(fakturace!F54,fakturace!#REF!,0)","v":{"$error":"#REF!"}},null,{"$f":"OFFSET(fakturace!B53,fakturace!#REF!,0)","v":{"$error":"#REF!"}},{"$f":"OFFSET(fakturace!C53,fakturace!#REF!,0)","v":{"$error":"#REF!"}},{"$f":"OFFSET(fakturace!F53,fakturace!#REF!,0)","v":{"$error":"#REF!"}}]
[{"$f":"OFFSET(fakturace!B55,fakturace!#REF!,0)","v":{"$error":"#REF!"}},{"$f":"OFFSET(fakturace!C55,fakturace!#REF!,0)","v":{"$error":"#REF!"}},{"$f":"OFFSET(fakturace!F55,fakturace!#REF!,0)","v":{"$error":"#REF!"}},null,{"$f":"OFFSET(fakturace!B54,fakturace!#REF!,0)","v":{"$error":"#REF!"}},{"$f":"OFFSET(fakturace!C54,fakturace!#REF!,0)","v":{"$error":"#REF!"}},{"$f":"OFFSET(fakturace!F54,fakturace!#REF!,0)","v":{"$error":"#REF!"}}]
[{"$f":"OFFSET(fakturace!B56,fakturace!#REF!,0)","v":{"$error":"#REF!"}},{"$f":"OFFSET(fakturace!C56,fakturace!#REF!,0)","v":{"$error":"#REF!"}},{"$f":"OFFSET(fakturace!F56,fakturace!#REF!,0)","v":{"$error":"#REF!"}},null,{"$f":"OFFSET(fakturace!B55,fakturace!#REF!,0)","v":{"$error":"#REF!"}},{"$f":"OFFSET(fakturace!C55,fakturace!#REF!,0)","v":{"$error":"#REF!"}},{"$f":"OFFSET(fakturace!F55,fakturace!#REF!,0)","v":{"$error":"#REF!"}}]
[{"$f":"OFFSET(fakturace!B57,fakturace!#REF!,0)","v":{"$error":"#REF!"}},{"$f":"OFFSET(fakturace!C57,fakturace!#REF!,0)","v":{"$error":"#REF!"}},{"$f":"OFFSET(fakturace!F57,fakturace!#REF!,0)","v":{"$error":"#REF!"}},null,{"$f":"OFFSET(fakturace!B56,fakturace!#REF!,0)","v":{"$error":"#REF!"}},{"$f":"OFFSET(fakturace!C56,fakturace!#REF!,0)","v":{"$error":"#REF!"}},{"$f":"OFFSET(fakturace!F56,fakturace!#REF!,0)","v":{"$error":"#REF!"}}]
[{"$f":"OFFSET(fakturace!B58,fakturace!#REF!,0)","v":{"$error":"#REF!"}},{"$f":"OFFSET(fakturace!C58,fakturace!#REF!,0)","v":{"$error":"#REF!"}},{"$f":"OFFSET(fakturace!F58,fakturace!#REF!,0)","v":{"$error":"#REF!"}},null,{"$f":"OFFSET(fakturace!B57,fakturace!#REF!,0)","v":{"$error":"#REF!"}},{"$f":"OFFSET(fakturace!C57,fakturace!#REF!,0)","v":{"$error":"#REF!"}},{"$f":"OFFSET(fakturace!F57,fakturace!#REF!,0)","v":{"$error":"#REF!"}}]
[{"$f":"OFFSET(fakturace!B59,fakturace!#REF!,0)","v":{"$error":"#REF!"}},{"$f":"OFFSET(fakturace!C59,fakturace!#REF!,0)","v":{"$error":"#REF!"}},{"$f":"OFFSET(fakturace!F59,fakturace!#REF!,0)","v":{"$error":"#REF!"}},null,{"$f":"OFFSET(fakturace!B58,fakturace!#REF!,0)","v":{"$error":"#REF!"}},{"$f":"OFFSET(fakturace!C58,fakturace!#REF!,0)","v":{"$error":"#REF!"}},{"$f":"OFFSET(fakturace!F58,fakturace!#REF!,0)","v":{"$error":"#REF!"}}]
[{"$f":"OFFSET(fakturace!B60,fakturace!#REF!,0)","v":{"$error":"#REF!"}},{"$f":"OFFSET(fakturace!C60,fakturace!#REF!,0)","v":{"$error":"#REF!"}},{"$f":"OFFSET(fakturace!F60,fakturace!#REF!,0)","v":{"$error":"#REF!"}},null,{"$f":"OFFSET(fakturace!B59,fakturace!#REF!,0)","v":{"$error":"#REF!"}},{"$f":"OFFSET(fakturace!C59,fakturace!#REF!,0)","v":{"$error":"#REF!"}},{"$f":"OFFSET(fakturace!F59,fakturace!#REF!,0)","v":{"$error":"#REF!"}}]
[{"$f":"OFFSET(fakturace!B61,fakturace!#REF!,0)","v":{"$error":"#REF!"}},{"$f":"OFFSET(fakturace!C61,fakturace!#REF!,0)","v":{"$error":"#REF!"}},{"$f":"OFFSET(fakturace!F61,fakturace!#REF!,0)","v":{"$error":"#REF!"}},null,{"$f":"OFFSET(fakturace!B60,fakturace!#REF!,0)","v":{"$error":"#REF!"}},{"$f":"OFFSET(fakturace!C60,fakturace!#REF!,0)","v":{"$error":"#REF!"}},{"$f":"OFFSET(fakturace!F60,fakturace!#REF!,0)","v":{"$error":"#REF!"}}]
[{"$f":"OFFSET(fakturace!B62,fakturace!#REF!,0)","v":{"$error":"#REF!"}},{"$f":"OFFSET(fakturace!C62,fakturace!#REF!,0)","v":{"$error":"#REF!"}},{"$f":"OFFSET(fakturace!F62,fakturace!#REF!,0)","v":{"$error":"#REF!"}},null,{"$f":"OFFSET(fakturace!B61,fakturace!#REF!,0)","v":{"$error":"#REF!"}},{"$f":"OFFSET(fakturace!C61,fakturace!#REF!,0)","v":{"$error":"#REF!"}},{"$f":"OFFSET(fakturace!F61,fakturace!#REF!,0)","v":{"$error":"#REF!"}}]
[{"$f":"OFFSET(fakturace!B63,fakturace!#REF!,0)","v":{"$error":"#REF!"}},{"$f":"OFFSET(fakturace!C63,fakturace!#REF!,0)","v":{"$error":"#REF!"}},{"$f":"OFFSET(fakturace!F63,fakturace!#REF!,0)","v":{"$error":"#REF!"}},null,{"$f":"OFFSET(fakturace!B62,fakturace!#REF!,0)","v":{"$error":"#REF!"}},{"$f":"OFFSET(fakturace!C62,fakturace!#REF!,0)","v":{"$error":"#REF!"}},{"$f":"OFFSET(fakturace!F62,fakturace!#REF!,0)","v":{"$error":"#REF!"}}]
[{"$f":"OFFSET(fakturace!B64,fakturace!#REF!,0)","v":{"$error":"#REF!"}},{"$f":"OFFSET(fakturace!C64,fakturace!#REF!,0)","v":{"$error":"#REF!"}},{"$f":"OFFSET(fakturace!F64,fakturace!#REF!,0)","v":{"$error":"#REF!"}},null,{"$f":"OFFSET(fakturace!B63,fakturace!#REF!,0)","v":{"$error":"#REF!"}},{"$f":"OFFSET(fakturace!C63,fakturace!#REF!,0)","v":{"$error":"#REF!"}},{"$f":"OFFSET(fakturace!F63,fakturace!#REF!,0)","v":{"$error":"#REF!"}}]
[{"$f":"OFFSET(fakturace!B65,fakturace!#REF!,0)","v":{"$error":"#REF!"}},{"$f":"OFFSET(fakturace!C65,fakturace!#REF!,0)","v":{"$error":"#REF!"}},{"$f":"OFFSET(fakturace!F65,fakturace!#REF!,0)","v":{"$error":"#REF!"}},null,{"$f":"OFFSET(fakturace!B64,fakturace!#REF!,0)","v":{"$error":"#REF!"}},{"$f":"OFFSET(fakturace!C64,fakturace!#REF!,0)","v":{"$error":"#REF!"}},{"$f":"OFFSET(fakturace!F64,fakturace!#REF!,0)","v":{"$error":"#REF!"}}]
[{"$f":"OFFSET(fakturace!B66,fakturace!#REF!,0)","v":{"$error":"#REF!"}},{"$f":"OFFSET(fakturace!C66,fakturace!#REF!,0)","v":{"$error":"#REF!"}},{"$f":"OFFSET(fakturace!F66,fakturace!#REF!,0)","v":{"$error":"#REF!"}},null,{"$f":"OFFSET(fakturace!B65,fakturace!#REF!,0)","v":{"$error":"#REF!"}},{"$f":"OFFSET(fakturace!C65,fakturace!#REF!,0)","v":{"$error":"#REF!"}},{"$f":"OFFSET(fakturace!F65,fakturace!#REF!,0)","v":{"$error":"#REF!"}}]
[{"$f":"OFFSET(fakturace!B67,fakturace!#REF!,0)","v":{"$error":"#REF!"}},{"$f":"OFFSET(fakturace!C67,fakturace!#REF!,0)","v":{"$error":"#REF!"}},{"$f":"OFFSET(fakturace!F67,fakturace!#REF!,0)","v":{"$error":"#REF!"}},null,{"$f":"OFFSET(fakturace!B66,fakturace!#REF!,0)","v":{"$error":"#REF!"}},{"$f":"OFFSET(fakturace!C66,fakturace!#REF!,0)","v":{"$error":"#REF!"}},{"$f":"OFFSET(fakturace!F66,fakturace!#REF!,0)","v":{"$error":"#REF!"}}]
[{"$f":"OFFSET(fakturace!B68,fakturace!#REF!,0)","v":{"$error":"#REF!"}},{"$f":"OFFSET(fakturace!C68,fakturace!#REF!,0)","v":{"$error":"#REF!"}},{"$f":"OFFSET(fakturace!F68,fakturace!#REF!,0)","v":{"$error":"#REF!"}},null,{"$f":"OFFSET(fakturace!B67,fakturace!#REF!,0)","v":{"$error":"#REF!"}},{"$f":"OFFSET(fakturace!C67,fakturace!#REF!,0)","v":{"$error":"#REF!"}},{"$f":"OFFSET(fakturace!F67,fakturace!#REF!,0)","v":{"$error":"#REF!"}}]
[{"$f":"OFFSET(fakturace!B69,fakturace!#REF!,0)","v":{"$error":"#REF!"}},{"$f":"OFFSET(fakturace!C69,fakturace!#REF!,0)","v":{"$error":"#REF!"}},{"$f":"OFFSET(fakturace!F69,fakturace!#REF!,0)","v":{"$error":"#REF!"}},null,{"$f":"OFFSET(fakturace!B68,fakturace!#REF!,0)","v":{"$error":"#REF!"}},{"$f":"OFFSET(fakturace!C68,fakturace!#REF!,0)","v":{"$error":"#REF!"}},{"$f":"OFFSET(fakturace!F68,fakturace!#REF!,0)","v":{"$error":"#REF!"}}]
[{"$f":"OFFSET(fakturace!B70,fakturace!#REF!,0)","v":{"$error":"#REF!"}},{"$f":"OFFSET(fakturace!C70,fakturace!#REF!,0)","v":{"$error":"#REF!"}},{"$f":"OFFSET(fakturace!F70,fakturace!#REF!,0)","v":{"$error":"#REF!"}},null,{"$f":"OFFSET(fakturace!B69,fakturace!#REF!,0)","v":{"$error":"#REF!"}},{"$f":"OFFSET(fakturace!C69,fakturace!#REF!,0)","v":{"$error":"#REF!"}},{"$f":"OFFSET(fakturace!F69,fakturace!#REF!,0)","v":{"$error":"#REF!"}}]
[{"$f":"OFFSET(fakturace!B71,fakturace!#REF!,0)","v":{"$error":"#REF!"}},{"$f":"OFFSET(fakturace!C71,fakturace!#REF!,0)","v":{"$error":"#REF!"}},{"$f":"OFFSET(fakturace!F71,fakturace!#REF!,0)","v":{"$error":"#REF!"}},null,{"$f":"OFFSET(fakturace!B70,fakturace!#REF!,0)","v":{"$error":"#REF!"}},{"$f":"OFFSET(fakturace!C70,fakturace!#REF!,0)","v":{"$error":"#REF!"}},{"$f":"OFFSET(fakturace!F70,fakturace!#REF!,0)","v":{"$error":"#REF!"}}]
[{"$f":"OFFSET(fakturace!B72,fakturace!#REF!,0)","v":{"$error":"#REF!"}},{"$f":"OFFSET(fakturace!C72,fakturace!#REF!,0)","v":{"$error":"#REF!"}},{"$f":"OFFSET(fakturace!F72,fakturace!#REF!,0)","v":{"$error":"#REF!"}},null,{"$f":"OFFSET(fakturace!B71,fakturace!#REF!,0)","v":{"$error":"#REF!"}},{"$f":"OFFSET(fakturace!C71,fakturace!#REF!,0)","v":{"$error":"#REF!"}},{"$f":"OFFSET(fakturace!F71,fakturace!#REF!,0)","v":{"$error":"#REF!"}}]
[{"$f":"OFFSET(fakturace!B73,fakturace!#REF!,0)","v":{"$error":"#REF!"}},{"$f":"OFFSET(fakturace!C73,fakturace!#REF!,0)","v":{"$error":"#REF!"}},{"$f":"OFFSET(fakturace!F73,fakturace!#REF!,0)","v":{"$error":"#REF!"}},null,{"$f":"OFFSET(fakturace!B72,fakturace!#REF!,0)","v":{"$error":"#REF!"}},{"$f":"OFFSET(fakturace!C72,fakturace!#REF!,0)","v":{"$error":"#REF!"}},{"$f":"OFFSET(fakturace!F72,fakturace!#REF!,0)","v":{"$error":"#REF!"}}]
[{"$f":"OFFSET(fakturace!B74,fakturace!#REF!,0)","v":{"$error":"#REF!"}},{"$f":"OFFSET(fakturace!C74,fakturace!#REF!,0)","v":{"$error":"#REF!"}},{"$f":"OFFSET(fakturace!F74,fakturace!#REF!,0)","v":{"$error":"#REF!"}},null,{"$f":"OFFSET(fakturace!B73,fakturace!#REF!,0)","v":{"$error":"#REF!"}},{"$f":"OFFSET(fakturace!C73,fakturace!#REF!,0)","v":{"$error":"#REF!"}},{"$f":"OFFSET(fakturace!F73,fakturace!#REF!,0)","v":{"$error":"#REF!"}}]
[{"$f":"OFFSET(fakturace!B75,fakturace!#REF!,0)","v":{"$error":"#REF!"}},{"$f":"OFFSET(fakturace!C75,fakturace!#REF!,0)","v":{"$error":"#REF!"}},{"$f":"OFFSET(fakturace!F75,fakturace!#REF!,0)","v":{"$error":"#REF!"}},null,{"$f":"OFFSET(fakturace!B74,fakturace!#REF!,0)","v":{"$error":"#REF!"}},{"$f":"OFFSET(fakturace!C74,fakturace!#REF!,0)","v":{"$error":"#REF!"}},{"$f":"OFFSET(fakturace!F74,fakturace!#REF!,0)","v":{"$error":"#REF!"}}]
[{"$f":"OFFSET(fakturace!B76,fakturace!#REF!,0)","v":{"$error":"#REF!"}},{"$f":"OFFSET(fakturace!C76,fakturace!#REF!,0)","v":{"$error":"#REF!"}},{"$f":"OFFSET(fakturace!F76,fakturace!#REF!,0)","v":{"$error":"#REF!"}},null,{"$f":"OFFSET(fakturace!B75,fakturace!#REF!,0)","v":{"$error":"#REF!"}},{"$f":"OFFSET(fakturace!C75,fakturace!#REF!,0)","v":{"$error":"#REF!"}},{"$f":"OFFSET(fakturace!F75,fakturace!#REF!,0)","v":{"$error":"#REF!"}}]
[{"$f":"OFFSET(fakturace!B77,fakturace!#REF!,0)","v":{"$error":"#REF!"}},{"$f":"OFFSET(fakturace!C77,fakturace!#REF!,0)","v":{"$error":"#REF!"}},{"$f":"OFFSET(fakturace!F77,fakturace!#REF!,0)","v":{"$error":"#REF!"}},null,{"$f":"OFFSET(fakturace!B76,fakturace!#REF!,0)","v":{"$error":"#REF!"}},{"$f":"OFFSET(fakturace!C76,fakturace!#REF!,0)","v":{"$error":"#REF!"}},{"$f":"OFFSET(fakturace!F76,fakturace!#REF!,0)","v":{"$error":"#REF!"}}]
[{"$f":"OFFSET(fakturace!B78,fakturace!#REF!,0)","v":{"$error":"#REF!"}},{"$f":"OFFSET(fakturace!C78,fakturace!#REF!,0)","v":{"$error":"#REF!"}},{"$f":"OFFSET(fakturace!F78,fakturace!#REF!,0)","v":{"$error":"#REF!"}},null,{"$f":"OFFSET(fakturace!B77,fakturace!#REF!,0)","v":{"$error":"#REF!"}},{"$f":"OFFSET(fakturace!C77,fakturace!#REF!,0)","v":{"$error":"#REF!"}},{"$f":"OFFSET(fakturace!F77,fakturace!#REF!,0)","v":{"$error":"#REF!"}}]
[{"$f":"OFFSET(fakturace!B79,fakturace!#REF!,0)","v":{"$error":"#REF!"}},{"$f":"OFFSET(fakturace!C79,fakturace!#REF!,0)","v":{"$error":"#REF!"}},{"$f":"OFFSET(fakturace!F79,fakturace!#REF!,0)","v":{"$error":"#REF!"}},null,{"$f":"OFFSET(fakturace!B78,fakturace!#REF!,0)","v":{"$error":"#REF!"}},{"$f":"OFFSET(fakturace!C78,fakturace!#REF!,0)","v":{"$error":"#REF!"}},{"$f":"OFFSET(fakturace!F78,fakturace!#REF!,0)","v":{"$error":"#REF!"}}]
[{"$f":"OFFSET(fakturace!B80,fakturace!#REF!,0)","v":{"$error":"#REF!"}},{"$f":"OFFSET(fakturace!C80,fakturace!#REF!,0)","v":{"$error":"#REF!"}},{"$f":"OFFSET(fakturace!F80,fakturace!#REF!,0)","v":{"$error":"#REF!"}},null,{"$f":"OFFSET(fakturace!B79,fakturace!#REF!,0)","v":{"$error":"#REF!"}},{"$f":"OFFSET(fakturace!C79,fakturace!#REF!,0)","v":{"$error":"#REF!"}},{"$f":"OFFSET(fakturace!F79,fakturace!#REF!,0)","v":{"$error":"#REF!"}}]
[{"$f":"OFFSET(fakturace!B81,fakturace!#REF!,0)","v":{"$error":"#REF!"}},{"$f":"OFFSET(fakturace!C81,fakturace!#REF!,0)","v":{"$error":"#REF!"}},{"$f":"OFFSET(fakturace!F81,fakturace!#REF!,0)","v":{"$error":"#REF!"}},null,{"$f":"OFFSET(fakturace!B80,fakturace!#REF!,0)","v":{"$error":"#REF!"}},{"$f":"OFFSET(fakturace!C80,fakturace!#REF!,0)","v":{"$error":"#REF!"}},{"$f":"OFFSET(fakturace!F80,fakturace!#REF!,0)","v":{"$error":"#REF!"}}]
[{"$f":"OFFSET(fakturace!B82,fakturace!#REF!,0)","v":{"$error":"#REF!"}},{"$f":"OFFSET(fakturace!C82,fakturace!#REF!,0)","v":{"$error":"#REF!"}},{"$f":"OFFSET(fakturace!F82,fakturace!#REF!,0)","v":{"$error":"#REF!"}},null,{"$f":"OFFSET(fakturace!B81,fakturace!#REF!,0)","v":{"$error":"#REF!"}},{"$f":"OFFSET(fakturace!C81,fakturace!#REF!,0)","v":{"$error":"#REF!"}},{"$f":"OFFSET(fakturace!F81,fakturace!#REF!,0)","v":{"$error":"#REF!"}}]
[{"$f":"OFFSET(fakturace!B83,fakturace!#REF!,0)","v":{"$error":"#REF!"}},{"$f":"OFFSET(fakturace!C83,fakturace!#REF!,0)","v":{"$error":"#REF!"}},{"$f":"OFFSET(fakturace!F83,fakturace!#REF!,0)","v":{"$error":"#REF!"}},null,{"$f":"OFFSET(fakturace!B82,fakturace!#REF!,0)","v":{"$error":"#REF!"}},{"$f":"OFFSET(fakturace!C82,fakturace!#REF!,0)","v":{"$error":"#REF!"}},{"$f":"OFFSET(fakturace!F82,fakturace!#REF!,0)","v":{"$error":"#REF!"}}]
[{"$f":"OFFSET(fakturace!B84,fakturace!#REF!,0)","v":{"$error":"#REF!"}},{"$f":"OFFSET(fakturace!C84,fakturace!#REF!,0)","v":{"$error":"#REF!"}},{"$f":"OFFSET(fakturace!F84,fakturace!#REF!,0)","v":{"$error":"#REF!"}},null,{"$f":"OFFSET(fakturace!B83,fakturace!#REF!,0)","v":{"$error":"#REF!"}},{"$f":"OFFSET(fakturace!C83,fakturace!#REF!,0)","v":{"$error":"#REF!"}},{"$f":"OFFSET(fakturace!F83,fakturace!#REF!,0)","v":{"$error":"#REF!"}}]
[{"$f":"OFFSET(fakturace!B85,fakturace!#REF!,0)","v":{"$error":"#REF!"}},{"$f":"OFFSET(fakturace!C85,fakturace!#REF!,0)","v":{"$error":"#REF!"}},{"$f":"OFFSET(fakturace!F85,fakturace!#REF!,0)","v":{"$error":"#REF!"}},null,{"$f":"OFFSET(fakturace!B84,fakturace!#REF!,0)","v":{"$error":"#REF!"}},{"$f":"OFFSET(fakturace!C84,fakturace!#REF!,0)","v":{"$error":"#REF!"}},{"$f":"OFFSET(fakturace!F84,fakturace!#REF!,0)","v":{"$error":"#REF!"}}]
[{"$f":"OFFSET(fakturace!B86,fakturace!#REF!,0)","v":{"$error":"#REF!"}},{"$f":"OFFSET(fakturace!C86,fakturace!#REF!,0)","v":{"$error":"#REF!"}},{"$f":"OFFSET(fakturace!F86,fakturace!#REF!,0)","v":{"$error":"#REF!"}},null,{"$f":"OFFSET(fakturace!B85,fakturace!#REF!,0)","v":{"$error":"#REF!"}},{"$f":"OFFSET(fakturace!C85,fakturace!#REF!,0)","v":{"$error":"#REF!"}},{"$f":"OFFSET(fakturace!F85,fakturace!#REF!,0)","v":{"$error":"#REF!"}}]
[{"$f":"OFFSET(fakturace!B87,fakturace!#REF!,0)","v":{"$error":"#REF!"}},{"$f":"OFFSET(fakturace!C87,fakturace!#REF!,0)","v":{"$error":"#REF!"}},{"$f":"OFFSET(fakturace!F87,fakturace!#REF!,0)","v":{"$error":"#REF!"}},null,{"$f":"OFFSET(fakturace!B86,fakturace!#REF!,0)","v":{"$error":"#REF!"}},{"$f":"OFFSET(fakturace!C86,fakturace!#REF!,0)","v":{"$error":"#REF!"}},{"$f":"OFFSET(fakturace!F86,fakturace!#REF!,0)","v":{"$error":"#REF!"}}]
[{"$f":"OFFSET(fakturace!B88,fakturace!#REF!,0)","v":{"$error":"#REF!"}},{"$f":"OFFSET(fakturace!C88,fakturace!#REF!,0)","v":{"$error":"#REF!"}},{"$f":"OFFSET(fakturace!F88,fakturace!#REF!,0)","v":{"$error":"#REF!"}}]
[{"$f":"OFFSET(fakturace!B89,fakturace!#REF!,0)","v":{"$error":"#REF!"}},{"$f":"OFFSET(fakturace!C89,fakturace!#REF!,0)","v":{"$error":"#REF!"}},{"$f":"OFFSET(fakturace!F89,fakturace!#REF!,0)","v":{"$error":"#REF!"}}]
[{"$f":"OFFSET(fakturace!B90,fakturace!#REF!,0)","v":{"$error":"#REF!"}},{"$f":"OFFSET(fakturace!C90,fakturace!#REF!,0)","v":{"$error":"#REF!"}},{"$f":"OFFSET(fakturace!F90,fakturace!#REF!,0)","v":{"$error":"#REF!"}}]
[{"$f":"OFFSET(fakturace!B91,fakturace!#REF!,0)","v":{"$error":"#REF!"}},{"$f":"OFFSET(fakturace!C91,fakturace!#REF!,0)","v":{"$error":"#REF!"}},{"$f":"OFFSET(fakturace!F91,fakturace!#REF!,0)","v":{"$error":"#REF!"}}]
[{"$f":"OFFSET(fakturace!B92,fakturace!#REF!,0)","v":{"$error":"#REF!"}},{"$f":"OFFSET(fakturace!C92,fakturace!#REF!,0)","v":{"$error":"#REF!"}},{"$f":"OFFSET(fakturace!F92,fakturace!#REF!,0)","v":{"$error":"#REF!"}}]
[{"$f":"OFFSET(fakturace!B93,fakturace!#REF!,0)","v":{"$error":"#REF!"}},{"$f":"OFFSET(fakturace!C93,fakturace!#REF!,0)","v":{"$error":"#REF!"}},{"$f":"OFFSET(fakturace!F93,fakturace!#REF!,0)","v":{"$error":"#REF!"}}]
[{"$f":"OFFSET(fakturace!B94,fakturace!#REF!,0)","v":{"$error":"#REF!"}},{"$f":"OFFSET(fakturace!C94,fakturace!#REF!,0)","v":{"$error":"#REF!"}},{"$f":"OFFSET(fakturace!F94,fakturace!#REF!,0)","v":{"$error":"#REF!"}}]
[{"$f":"OFFSET(fakturace!B95,fakturace!#REF!,0)","v":{"$error":"#REF!"}},{"$f":"OFFSET(fakturace!C95,fakturace!#REF!,0)","v":{"$error":"#REF!"}},{"$f":"OFFSET(fakturace!F95,fakturace!#REF!,0)","v":{"$error":"#REF!"}}]
[{"$f":"OFFSET(fakturace!B96,fakturace!#REF!,0)","v":{"$error":"#REF!"}},{"$f":"OFFSET(fakturace!C96,fakturace!#REF!,0)","v":{"$error":"#REF!"}},{"$f":"OFFSET(fakturace!F96,fakturace!#REF!,0)","v":{"$error":"#REF!"}}]
[{"$f":"OFFSET(fakturace!B97,fakturace!#REF!,0)","v":{"$error":"#REF!"}},{"$f":"OFFSET(fakturace!C97,fakturace!#REF!,0)","v":{"$error":"#REF!"}},{"$f":"OFFSET(fakturace!F97,fakturace!#REF!,0)","v":{"$error":"#REF!"}}]
[{"$f":"OFFSET(fakturace!B98,fakturace!#REF!,0)","v":{"$error":"#REF!"}},{"$f":"OFFSET(fakturace!C98,fakturace!#REF!,0)","v":{"$error":"#REF!"}},{"$f":"OFFSET(fakturace!F98,fakturace!#REF!,0)","v":{"$error":"#REF!"}}]
[{"$f":"OFFSET(fakturace!B99,fakturace!#REF!,0)","v":{"$error":"#REF!"}},{"$f":"OFFSET(fakturace!C99,fakturace!#REF!,0)","v":{"$error":"#REF!"}},{"$f":"OFFSET(fakturace!F99,fakturace!#REF!,0)","v":{"$error":"#REF!"}}]
[{"$f":"OFFSET(fakturace!B100,fakturace!#REF!,0)","v":{"$error":"#REF!"}},{"$f":"OFFSET(fakturace!C100,fakturace!#REF!,0)","v":{"$error":"#REF!"}},{"$f":"OFFSET(fakturace!F100,fakturace!#REF!,0)","v":{"$error":"#REF!"}}]
[{"$f":"OFFSET(fakturace!B101,fakturace!#REF!,0)","v":{"$error":"#REF!"}},{"$f":"OFFSET(fakturace!C101,fakturace!#REF!,0)","v":{"$error":"#REF!"}},{"$f":"OFFSET(fakturace!F101,fakturace!#REF!,0)","v":{"$error":"#REF!"}}]
[{"$f":"OFFSET(fakturace!B102,fakturace!#REF!,0)","v":{"$error":"#REF!"}},{"$f":"OFFSET(fakturace!C102,fakturace!#REF!,0)","v":{"$error":"#REF!"}},{"$f":"OFFSET(fakturace!F102,fakturace!#REF!,0)","v":{"$error":"#REF!"}}]
[{"$f":"OFFSET(fakturace!B103,fakturace!#REF!,0)","v":{"$error":"#REF!"}},{"$f":"OFFSET(fakturace!C103,fakturace!#REF!,0)","v":{"$error":"#REF!"}},{"$f":"OFFSET(fakturace!F103,fakturace!#REF!,0)","v":{"$error":"#REF!"}}]
[{"$f":"OFFSET(fakturace!B104,fakturace!#REF!,0)","v":{"$error":"#REF!"}},{"$f":"OFFSET(fakturace!C104,fakturace!#REF!,0)","v":{"$error":"#REF!"}},{"$f":"OFFSET(fakturace!F104,fakturace!#REF!,0)","v":{"$error":"#REF!"}}]
[{"$f":"OFFSET(fakturace!B105,fakturace!#REF!,0)","v":{"$error":"#REF!"}},{"$f":"OFFSET(fakturace!C105,fakturace!#REF!,0)","v":{"$error":"#REF!"}},{"$f":"OFFSET(fakturace!F105,fakturace!#REF!,0)","v":{"$error":"#REF!"}}]
[{"$f":"OFFSET(fakturace!B106,fakturace!#REF!,0)","v":{"$error":"#REF!"}},{"$f":"OFFSET(fakturace!C106,fakturace!#REF!,0)","v":{"$error":"#REF!"}},{"$f":"OFFSET(fakturace!F106,fakturace!#REF!,0)","v":{"$error":"#REF!"}}]
[{"$f":"OFFSET(fakturace!B107,fakturace!#REF!,0)","v":{"$error":"#REF!"}},{"$f":"OFFSET(fakturace!C107,fakturace!#REF!,0)","v":{"$error":"#REF!"}},{"$f":"OFFSET(fakturace!F107,fakturace!#REF!,0)","v":{"$error":"#REF!"}}]
[{"$f":"OFFSET(fakturace!B108,fakturace!#REF!,0)","v":{"$error":"#REF!"}},{"$f":"OFFSET(fakturace!C108,fakturace!#REF!,0)","v":{"$error":"#REF!"}},{"$f":"OFFSET(fakturace!F108,fakturace!#REF!,0)","v":{"$error":"#REF!"}}]
[{"$f":"OFFSET(fakturace!B109,fakturace!#REF!,0)","v":{"$error":"#REF!"}},{"$f":"OFFSET(fakturace!C109,fakturace!#REF!,0)","v":{"$error":"#REF!"}},{"$f":"OFFSET(fakturace!F109,fakturace!#REF!,0)","v":{"$error":"#REF!"}}]
[{"$f":"OFFSET(fakturace!B110,fakturace!#REF!,0)","v":{"$error":"#REF!"}},{"$f":"OFFSET(fakturace!C110,fakturace!#REF!,0)","v":{"$error":"#REF!"}},{"$f":"OFFSET(fakturace!F110,fakturace!#REF!,0)","v":{"$error":"#REF!"}}]
[{"$f":"OFFSET(fakturace!B111,fakturace!#REF!,0)","v":{"$error":"#REF!"}},{"$f":"OFFSET(fakturace!C111,fakturace!#REF!,0)","v":{"$error":"#REF!"}},{"$f":"OFFSET(fakturace!F111,fakturace!#REF!,0)","v":{"$error":"#REF!"}}]
[{"$f":"OFFSET(fakturace!B112,fakturace!#REF!,0)","v":{"$error":"#REF!"}},{"$f":"OFFSET(fakturace!C112,fakturace!#REF!,0)","v":{"$error":"#REF!"}},{"$f":"OFFSET(fakturace!F112,fakturace!#REF!,0)","v":{"$error":"#REF!"}}]
[{"$f":"OFFSET(fakturace!B113,fakturace!#REF!,0)","v":{"$error":"#REF!"}},{"$f":"OFFSET(fakturace!C113,fakturace!#REF!,0)","v":{"$error":"#REF!"}},{"$f":"OFFSET(fakturace!F113,fakturace!#REF!,0)","v":{"$error":"#REF!"}}]
[{"$f":"OFFSET(fakturace!B114,fakturace!#REF!,0)","v":{"$error":"#REF!"}},{"$f":"OFFSET(fakturace!C114,fakturace!#REF!,0)","v":{"$error":"#REF!"}},{"$f":"OFFSET(fakturace!F114,fakturace!#REF!,0)","v":{"$error":"#REF!"}}]
[{"$f":"OFFSET(fakturace!B115,fakturace!#REF!,0)","v":{"$error":"#REF!"}},{"$f":"OFFSET(fakturace!C115,fakturace!#REF!,0)","v":{"$error":"#REF!"}},{"$f":"OFFSET(fakturace!F115,fakturace!#REF!,0)","v":{"$error":"#REF!"}}]
[{"$f":"OFFSET(fakturace!B116,fakturace!#REF!,0)","v":{"$error":"#REF!"}},{"$f":"OFFSET(fakturace!C116,fakturace!#REF!,0)","v":{"$error":"#REF!"}},{"$f":"OFFSET(fakturace!F116,fakturace!#REF!,0)","v":{"$error":"#REF!"}}]
[{"$f":"OFFSET(fakturace!B117,fakturace!#REF!,0)","v":{"$error":"#REF!"}},{"$f":"OFFSET(fakturace!C117,fakturace!#REF!,0)","v":{"$error":"#REF!"}},{"$f":"OFFSET(fakturace!F117,fakturace!#REF!,0)","v":{"$error":"#REF!"}}]
[{"$f":"OFFSET(fakturace!B118,fakturace!#REF!,0)","v":{"$error":"#REF!"}},{"$f":"OFFSET(fakturace!C118,fakturace!#REF!,0)","v":{"$error":"#REF!"}},{"$f":"OFFSET(fakturace!F118,fakturace!#REF!,0)","v":{"$error":"#REF!"}}]
[{"$f":"OFFSET(fakturace!B119,fakturace!#REF!,0)","v":{"$error":"#REF!"}},{"$f":"OFFSET(fakturace!C119,fakturace!#REF!,0)","v":{"$error":"#REF!"}},{"$f":"OFFSET(fakturace!F119,fakturace!#REF!,0)","v":{"$error":"#REF!"}}]
[{"$f":"OFFSET(fakturace!B120,fakturace!#REF!,0)","v":{"$error":"#REF!"}},{"$f":"OFFSET(fakturace!C120,fakturace!#REF!,0)","v":{"$error":"#REF!"}},{"$f":"OFFSET(fakturace!F120,fakturace!#REF!,0)","v":{"$error":"#REF!"}}]
[{"$f":"OFFSET(fakturace!B121,fakturace!#REF!,0)","v":{"$error":"#REF!"}},{"$f":"OFFSET(fakturace!C121,fakturace!#REF!,0)","v":{"$error":"#REF!"}},{"$f":"OFFSET(fakturace!F121,fakturace!#REF!,0)","v":{"$error":"#REF!"}}]
[{"$f":"OFFSET(fakturace!B122,fakturace!#REF!,0)","v":{"$error":"#REF!"}},{"$f":"OFFSET(fakturace!C122,fakturace!#REF!,0)","v":{"$error":"#REF!"}},{"$f":"OFFSET(fakturace!F122,fakturace!#REF!,0)","v":{"$error":"#REF!"}}]
[{"$f":"OFFSET(fakturace!B123,fakturace!#REF!,0)","v":{"$error":"#REF!"}},{"$f":"OFFSET(fakturace!C123,fakturace!#REF!,0)","v":{"$error":"#REF!"}},{"$f":"OFFSET(fakturace!F123,fakturace!#REF!,0)","v":{"$error":"#REF!"}}]
[{"$f":"OFFSET(fakturace!B124,fakturace!#REF!,0)","v":{"$error":"#REF!"}},{"$f":"OFFSET(fakturace!C124,fakturace!#REF!,0)","v":{"$error":"#REF!"}},{"$f":"OFFSET(fakturace!F124,fakturace!#REF!,0)","v":{"$error":"#REF!"}}]
[{"$f":"OFFSET(fakturace!B125,fakturace!#REF!,0)","v":{"$error":"#REF!"}},{"$f":"OFFSET(fakturace!C125,fakturace!#REF!,0)","v":{"$error":"#REF!"}},{"$f":"OFFSET(fakturace!F125,fakturace!#REF!,0)","v":{"$error":"#REF!"}}]
[{"$f":"OFFSET(fakturace!B126,fakturace!#REF!,0)","v":{"$error":"#REF!"}},{"$f":"OFFSET(fakturace!C126,fakturace!#REF!,0)","v":{"$error":"#REF!"}},{"$f":"OFFSET(fakturace!F126,fakturace!#REF!,0)","v":{"$error":"#REF!"}}]
[{"$f":"OFFSET(fakturace!B127,fakturace!#REF!,0)","v":{"$error":"#REF!"}},{"$f":"OFFSET(fakturace!C127,fakturace!#REF!,0)","v":{"$error":"#REF!"}},{"$f":"OFFSET(fakturace!F127,fakturace!#REF!,0)","v":{"$error":"#REF!"}}]
[{"$f":"OFFSET(fakturace!B128,fakturace!#REF!,0)","v":{"$error":"#REF!"}},{"$f":"OFFSET(fakturace!C128,fakturace!#REF!,0)","v":{"$error":"#REF!"}},{"$f":"OFFSET(fakturace!F128,fakturace!#REF!,0)","v":{"$error":"#REF!"}}]
[{"$f":"OFFSET(fakturace!B129,fakturace!#REF!,0)","v":{"$error":"#REF!"}},{"$f":"OFFSET(fakturace!C129,fakturace!#REF!,0)","v":{"$error":"#REF!"}},{"$f":"OFFSET(fakturace!F129,fakturace!#REF!,0)","v":{"$error":"#REF!"}}]
[{"$f":"OFFSET(fakturace!B130,fakturace!#REF!,0)","v":{"$error":"#REF!"}},{"$f":"OFFSET(fakturace!C130,fakturace!#REF!,0)","v":{"$error":"#REF!"}},{"$f":"OFFSET(fakturace!F130,fakturace!#REF!,0)","v":{"$error":"#REF!"}}]
[{"$f":"OFFSET(fakturace!B131,fakturace!#REF!,0)","v":{"$error":"#REF!"}},{"$f":"OFFSET(fakturace!C131,fakturace!#REF!,0)","v":{"$error":"#REF!"}},{"$f":"OFFSET(fakturace!F131,fakturace!#REF!,0)","v":{"$error":"#REF!"}}]
[{"$f":"OFFSET(fakturace!B132,fakturace!#REF!,0)","v":{"$error":"#REF!"}},{"$f":"OFFSET(fakturace!C132,fakturace!#REF!,0)","v":{"$error":"#REF!"}},{"$f":"OFFSET(fakturace!F132,fakturace!#REF!,0)","v":{"$error":"#REF!"}}]
[{"$f":"OFFSET(fakturace!B133,fakturace!#REF!,0)","v":{"$error":"#REF!"}},{"$f":"OFFSET(fakturace!C133,fakturace!#REF!,0)","v":{"$error":"#REF!"}},{"$f":"OFFSET(fakturace!F133,fakturace!#REF!,0)","v":{"$error":"#REF!"}}]
[{"$f":"OFFSET(fakturace!B134,fakturace!#REF!,0)","v":{"$error":"#REF!"}},{"$f":"OFFSET(fakturace!C134,fakturace!#REF!,0)","v":{"$error":"#REF!"}},{"$f":"OFFSET(fakturace!F134,fakturace!#REF!,0)","v":{"$error":"#REF!"}}]
[{"$f":"OFFSET(fakturace!B135,fakturace!#REF!,0)","v":{"$error":"#REF!"}},{"$f":"OFFSET(fakturace!C135,fakturace!#REF!,0)","v":{"$error":"#REF!"}},{"$f":"OFFSET(fakturace!F135,fakturace!#REF!,0)","v":{"$error":"#REF!"}}]
[{"$f":"OFFSET(fakturace!B136,fakturace!#REF!,0)","v":{"$error":"#REF!"}},{"$f":"OFFSET(fakturace!C136,fakturace!#REF!,0)","v":{"$error":"#REF!"}},{"$f":"OFFSET(fakturace!F136,fakturace!#REF!,0)","v":{"$error":"#REF!"}}]
[{"$f":"OFFSET(fakturace!B137,fakturace!#REF!,0)","v":{"$error":"#REF!"}},{"$f":"OFFSET(fakturace!C137,fakturace!#REF!,0)","v":{"$error":"#REF!"}},{"$f":"OFFSET(fakturace!F137,fakturace!#REF!,0)","v":{"$error":"#REF!"}}]
[{"$f":"OFFSET(fakturace!B138,fakturace!#REF!,0)","v":{"$error":"#REF!"}},{"$f":"OFFSET(fakturace!C138,fakturace!#REF!,0)","v":{"$error":"#REF!"}},{"$f":"OFFSET(fakturace!F138,fakturace!#REF!,0)","v":{"$error":"#REF!"}}]
[{"$f":"OFFSET(fakturace!B139,fakturace!#REF!,0)","v":{"$error":"#REF!"}},{"$f":"OFFSET(fakturace!C139,fakturace!#REF!,0)","v":{"$error":"#REF!"}},{"$f":"OFFSET(fakturace!F139,fakturace!#REF!,0)","v":{"$error":"#REF!"}}]
[{"$f":"OFFSET(fakturace!B140,fakturace!#REF!,0)","v":{"$error":"#REF!"}},{"$f":"OFFSET(fakturace!C140,fakturace!#REF!,0)","v":{"$error":"#REF!"}},{"$f":"OFFSET(fakturace!F140,fakturace!#REF!,0)","v":{"$error":"#REF!"}}]
[{"$f":"OFFSET(fakturace!B141,fakturace!#REF!,0)","v":{"$error":"#REF!"}},{"$f":"OFFSET(fakturace!C141,fakturace!#REF!,0)","v":{"$error":"#REF!"}},{"$f":"OFFSET(fakturace!F141,fakturace!#REF!,0)","v":{"$error":"#REF!"}}]
[{"$f":"OFFSET(fakturace!B142,fakturace!#REF!,0)","v":{"$error":"#REF!"}},{"$f":"OFFSET(fakturace!C142,fakturace!#REF!,0)","v":{"$error":"#REF!"}},{"$f":"OFFSET(fakturace!F142,fakturace!#REF!,0)","v":{"$error":"#REF!"}}]
[{"$f":"OFFSET(fakturace!B143,fakturace!#REF!,0)","v":{"$error":"#REF!"}},{"$f":"OFFSET(fakturace!C143,fakturace!#REF!,0)","v":{"$error":"#REF!"}},{"$f":"OFFSET(fakturace!F143,fakturace!#REF!,0)","v":{"$error":"#REF!"}}]
[{"$f":"OFFSET(fakturace!B144,fakturace!#REF!,0)","v":{"$error":"#REF!"}},{"$f":"OFFSET(fakturace!C144,fakturace!#REF!,0)","v":{"$error":"#REF!"}},{"$f":"OFFSET(fakturace!F144,fakturace!#REF!,0)","v":{"$error":"#REF!"}}]
[{"$f":"OFFSET(fakturace!B145,fakturace!#REF!,0)","v":{"$error":"#REF!"}},{"$f":"OFFSET(fakturace!C145,fakturace!#REF!,0)","v":{"$error":"#REF!"}},{"$f":"OFFSET(fakturace!F145,fakturace!#REF!,0)","v":{"$error":"#REF!"}}]
[{"$f":"OFFSET(fakturace!B146,fakturace!#REF!,0)","v":{"$error":"#REF!"}},{"$f":"OFFSET(fakturace!C146,fakturace!#REF!,0)","v":{"$error":"#REF!"}},{"$f":"OFFSET(fakturace!F146,fakturace!#REF!,0)","v":{"$error":"#REF!"}}]
[{"$f":"OFFSET(fakturace!B147,fakturace!#REF!,0)","v":{"$error":"#REF!"}},{"$f":"OFFSET(fakturace!C147,fakturace!#REF!,0)","v":{"$error":"#REF!"}},{"$f":"OFFSET(fakturace!F147,fakturace!#REF!,0)","v":{"$error":"#REF!"}}]
[{"$f":"OFFSET(fakturace!B148,fakturace!#REF!,0)","v":{"$error":"#REF!"}},{"$f":"OFFSET(fakturace!C148,fakturace!#REF!,0)","v":{"$error":"#REF!"}},{"$f":"OFFSET(fakturace!F148,fakturace!#REF!,0)","v":{"$error":"#REF!"}}]
[{"$f":"OFFSET(fakturace!B149,fakturace!#REF!,0)","v":{"$error":"#REF!"}},{"$f":"OFFSET(fakturace!C149,fakturace!#REF!,0)","v":{"$error":"#REF!"}},{"$f":"OFFSET(fakturace!F149,fakturace!#REF!,0)","v":{"$error":"#REF!"}}]
[{"$f":"OFFSET(fakturace!B150,fakturace!#REF!,0)","v":{"$error":"#REF!"}},{"$f":"OFFSET(fakturace!C150,fakturace!#REF!,0)","v":{"$error":"#REF!"}},{"$f":"OFFSET(fakturace!F150,fakturace!#REF!,0)","v":{"$error":"#REF!"}}]
[{"$f":"OFFSET(fakturace!B151,fakturace!#REF!,0)","v":{"$error":"#REF!"}},{"$f":"OFFSET(fakturace!C151,fakturace!#REF!,0)","v":{"$error":"#REF!"}},{"$f":"OFFSET(fakturace!F151,fakturace!#REF!,0)","v":{"$error":"#REF!"}}]
[{"$f":"OFFSET(fakturace!B152,fakturace!#REF!,0)","v":{"$error":"#REF!"}},{"$f":"OFFSET(fakturace!C152,fakturace!#REF!,0)","v":{"$error":"#REF!"}},{"$f":"OFFSET(fakturace!F152,fakturace!#REF!,0)","v":{"$error":"#REF!"}}]
[{"$f":"OFFSET(fakturace!B153,fakturace!#REF!,0)","v":{"$error":"#REF!"}},{"$f":"OFFSET(fakturace!C153,fakturace!#REF!,0)","v":{"$error":"#REF!"}},{"$f":"OFFSET(fakturace!F153,fakturace!#REF!,0)","v":{"$error":"#REF!"}}]
[{"$f":"OFFSET(fakturace!B154,fakturace!#REF!,0)","v":{"$error":"#REF!"}},{"$f":"OFFSET(fakturace!C154,fakturace!#REF!,0)","v":{"$error":"#REF!"}},{"$f":"OFFSET(fakturace!F154,fakturace!#REF!,0)","v":{"$error":"#REF!"}}]
[{"$f":"OFFSET(fakturace!B155,fakturace!#REF!,0)","v":{"$error":"#REF!"}},{"$f":"OFFSET(fakturace!C155,fakturace!#REF!,0)","v":{"$error":"#REF!"}},{"$f":"OFFSET(fakturace!F155,fakturace!#REF!,0)","v":{"$error":"#REF!"}}]
[{"$f":"OFFSET(fakturace!B156,fakturace!#REF!,0)","v":{"$error":"#REF!"}},{"$f":"OFFSET(fakturace!C156,fakturace!#REF!,0)","v":{"$error":"#REF!"}},{"$f":"OFFSET(fakturace!F156,fakturace!#REF!,0)","v":{"$error":"#REF!"}}]
[{"$f":"OFFSET(fakturace!B157,fakturace!#REF!,0)","v":{"$error":"#REF!"}},{"$f":"OFFSET(fakturace!C157,fakturace!#REF!,0)","v":{"$error":"#REF!"}},{"$f":"OFFSET(fakturace!F157,fakturace!#REF!,0)","v":{"$error":"#REF!"}}]
[{"$f":"OFFSET(fakturace!B158,fakturace!#REF!,0)","v":{"$error":"#REF!"}},{"$f":"OFFSET(fakturace!C158,fakturace!#REF!,0)","v":{"$error":"#REF!"}},{"$f":"OFFSET(fakturace!F158,fakturace!#REF!,0)","v":{"$error":"#REF!"}}]
[{"$f":"OFFSET(fakturace!B159,fakturace!#REF!,0)","v":{"$error":"#REF!"}},{"$f":"OFFSET(fakturace!C159,fakturace!#REF!,0)","v":{"$error":"#REF!"}},{"$f":"OFFSET(fakturace!F159,fakturace!#REF!,0)","v":{"$error":"#REF!"}}]
[{"$f":"OFFSET(fakturace!B160,fakturace!#REF!,0)","v":{"$error":"#REF!"}},{"$f":"OFFSET(fakturace!C160,fakturace!#REF!,0)","v":{"$error":"#REF!"}},{"$f":"OFFSET(fakturace!F160,fakturace!#REF!,0)","v":{"$error":"#REF!"}}]
[{"$f":"OFFSET(fakturace!B161,fakturace!#REF!,0)","v":{"$error":"#REF!"}},{"$f":"OFFSET(fakturace!C161,fakturace!#REF!,0)","v":{"$error":"#REF!"}},{"$f":"OFFSET(fakturace!F161,fakturace!#REF!,0)","v":{"$error":"#REF!"}}]
[{"$f":"OFFSET(fakturace!B162,fakturace!#REF!,0)","v":{"$error":"#REF!"}},{"$f":"OFFSET(fakturace!C162,fakturace!#REF!,0)","v":{"$error":"#REF!"}},{"$f":"OFFSET(fakturace!F162,fakturace!#REF!,0)","v":{"$error":"#REF!"}}]
[{"$f":"OFFSET(fakturace!B163,fakturace!#REF!,0)","v":{"$error":"#REF!"}},{"$f":"OFFSET(fakturace!C163,fakturace!#REF!,0)","v":{"$error":"#REF!"}},{"$f":"OFFSET(fakturace!F163,fakturace!#REF!,0)","v":{"$error":"#REF!"}}]
[{"$f":"OFFSET(fakturace!B164,fakturace!#REF!,0)","v":{"$error":"#REF!"}},{"$f":"OFFSET(fakturace!C164,fakturace!#REF!,0)","v":{"$error":"#REF!"}},{"$f":"OFFSET(fakturace!F164,fakturace!#REF!,0)","v":{"$error":"#REF!"}}]
[{"$f":"OFFSET(fakturace!B165,fakturace!#REF!,0)","v":{"$error":"#REF!"}},{"$f":"OFFSET(fakturace!C165,fakturace!#REF!,0)","v":{"$error":"#REF!"}},{"$f":"OFFSET(fakturace!F165,fakturace!#REF!,0)","v":{"$error":"#REF!"}}]
[{"$f":"OFFSET(fakturace!B166,fakturace!#REF!,0)","v":{"$error":"#REF!"}},{"$f":"OFFSET(fakturace!C166,fakturace!#REF!,0)","v":{"$error":"#REF!"}},{"$f":"OFFSET(fakturace!F166,fakturace!#REF!,0)","v":{"$error":"#REF!"}}]
[{"$f":"OFFSET(fakturace!B167,fakturace!#REF!,0)","v":{"$error":"#REF!"}},{"$f":"OFFSET(fakturace!C167,fakturace!#REF!,0)","v":{"$error":"#REF!"}},{"$f":"OFFSET(fakturace!F167,fakturace!#REF!,0)","v":{"$error":"#REF!"}}]
[{"$f":"OFFSET(fakturace!B168,fakturace!#REF!,0)","v":{"$error":"#REF!"}},{"$f":"OFFSET(fakturace!C168,fakturace!#REF!,0)","v":{"$error":"#REF!"}},{"$f":"OFFSET(fakturace!F168,fakturace!#REF!,0)","v":{"$error":"#REF!"}}]
[{"$f":"OFFSET(fakturace!B169,fakturace!#REF!,0)","v":{"$error":"#REF!"}},{"$f":"OFFSET(fakturace!C169,fakturace!#REF!,0)","v":{"$error":"#REF!"}},{"$f":"OFFSET(fakturace!F169,fakturace!#REF!,0)","v":{"$error":"#REF!"}}]
[{"$f":"OFFSET(fakturace!B170,fakturace!#REF!,0)","v":{"$error":"#REF!"}},{"$f":"OFFSET(fakturace!C170,fakturace!#REF!,0)","v":{"$error":"#REF!"}},{"$f":"OFFSET(fakturace!F170,fakturace!#REF!,0)","v":{"$error":"#REF!"}}]
[{"$f":"OFFSET(fakturace!B171,fakturace!#REF!,0)","v":{"$error":"#REF!"}},{"$f":"OFFSET(fakturace!C171,fakturace!#REF!,0)","v":{"$error":"#REF!"}},{"$f":"OFFSET(fakturace!F171,fakturace!#REF!,0)","v":{"$error":"#REF!"}}]
[{"$f":"OFFSET(fakturace!B172,fakturace!#REF!,0)","v":{"$error":"#REF!"}},{"$f":"OFFSET(fakturace!C172,fakturace!#REF!,0)","v":{"$error":"#REF!"}},{"$f":"OFFSET(fakturace!F172,fakturace!#REF!,0)","v":{"$error":"#REF!"}}]
[{"$f":"OFFSET(fakturace!B173,fakturace!#REF!,0)","v":{"$error":"#REF!"}},{"$f":"OFFSET(fakturace!C173,fakturace!#REF!,0)","v":{"$error":"#REF!"}},{"$f":"OFFSET(fakturace!F173,fakturace!#REF!,0)","v":{"$error":"#REF!"}}]
[{"$f":"OFFSET(fakturace!B174,fakturace!#REF!,0)","v":{"$error":"#REF!"}},{"$f":"OFFSET(fakturace!C174,fakturace!#REF!,0)","v":{"$error":"#REF!"}},{"$f":"OFFSET(fakturace!F174,fakturace!#REF!,0)","v":{"$error":"#REF!"}}]
[{"$f":"OFFSET(fakturace!B175,fakturace!#REF!,0)","v":{"$error":"#REF!"}},{"$f":"OFFSET(fakturace!C175,fakturace!#REF!,0)","v":{"$error":"#REF!"}},{"$f":"OFFSET(fakturace!F175,fakturace!#REF!,0)","v":{"$error":"#REF!"}}]
[{"$f":"OFFSET(fakturace!B176,fakturace!#REF!,0)","v":{"$error":"#REF!"}},{"$f":"OFFSET(fakturace!C176,fakturace!#REF!,0)","v":{"$error":"#REF!"}},{"$f":"OFFSET(fakturace!F176,fakturace!#REF!,0)","v":{"$error":"#REF!"}}]
[{"$f":"OFFSET(fakturace!B177,fakturace!#REF!,0)","v":{"$error":"#REF!"}},{"$f":"OFFSET(fakturace!C177,fakturace!#REF!,0)","v":{"$error":"#REF!"}},{"$f":"OFFSET(fakturace!F177,fakturace!#REF!,0)","v":{"$error":"#REF!"}}]
[{"$f":"OFFSET(fakturace!B178,fakturace!#REF!,0)","v":{"$error":"#REF!"}},{"$f":"OFFSET(fakturace!C178,fakturace!#REF!,0)","v":{"$error":"#REF!"}},{"$f":"OFFSET(fakturace!F178,fakturace!#REF!,0)","v":{"$error":"#REF!"}}]
[{"$f":"OFFSET(fakturace!B179,fakturace!#REF!,0)","v":{"$error":"#REF!"}},{"$f":"OFFSET(fakturace!C179,fakturace!#REF!,0)","v":{"$error":"#REF!"}},{"$f":"OFFSET(fakturace!F179,fakturace!#REF!,0)","v":{"$error":"#REF!"}}]
[{"$f":"OFFSET(fakturace!B180,fakturace!#REF!,0)","v":{"$error":"#REF!"}},{"$f":"OFFSET(fakturace!C180,fakturace!#REF!,0)","v":{"$error":"#REF!"}},{"$f":"OFFSET(fakturace!F180,fakturace!#REF!,0)","v":{"$error":"#REF!"}}]
[{"$f":"OFFSET(fakturace!B181,fakturace!#REF!,0)","v":{"$error":"#REF!"}},{"$f":"OFFSET(fakturace!C181,fakturace!#REF!,0)","v":{"$error":"#REF!"}},{"$f":"OFFSET(fakturace!F181,fakturace!#REF!,0)","v":{"$error":"#REF!"}}]
[{"$f":"OFFSET(fakturace!B182,fakturace!#REF!,0)","v":{"$error":"#REF!"}},{"$f":"OFFSET(fakturace!C182,fakturace!#REF!,0)","v":{"$error":"#REF!"}},{"$f":"OFFSET(fakturace!F182,fakturace!#REF!,0)","v":{"$error":"#REF!"}}]
[{"$f":"OFFSET(fakturace!B183,fakturace!#REF!,0)","v":{"$error":"#REF!"}},{"$f":"OFFSET(fakturace!C183,fakturace!#REF!,0)","v":{"$error":"#REF!"}},{"$f":"OFFSET(fakturace!F183,fakturace!#REF!,0)","v":{"$error":"#REF!"}}]
[{"$f":"OFFSET(fakturace!B184,fakturace!#REF!,0)","v":{"$error":"#REF!"}},{"$f":"OFFSET(fakturace!C184,fakturace!#REF!,0)","v":{"$error":"#REF!"}},{"$f":"OFFSET(fakturace!F184,fakturace!#REF!,0)","v":{"$error":"#REF!"}}]
[{"$f":"OFFSET(fakturace!B185,fakturace!#REF!,0)","v":{"$error":"#REF!"}},{"$f":"OFFSET(fakturace!C185,fakturace!#REF!,0)","v":{"$error":"#REF!"}},{"$f":"OFFSET(fakturace!F185,fakturace!#REF!,0)","v":{"$error":"#REF!"}}]
[{"$f":"OFFSET(fakturace!B186,fakturace!#REF!,0)","v":{"$error":"#REF!"}},{"$f":"OFFSET(fakturace!C186,fakturace!#REF!,0)","v":{"$error":"#REF!"}},{"$f":"OFFSET(fakturace!F186,fakturace!#REF!,0)","v":{"$error":"#REF!"}}]
[{"$f":"OFFSET(fakturace!B187,fakturace!#REF!,0)","v":{"$error":"#REF!"}},{"$f":"OFFSET(fakturace!C187,fakturace!#REF!,0)","v":{"$error":"#REF!"}},{"$f":"OFFSET(fakturace!F187,fakturace!#REF!,0)","v":{"$error":"#REF!"}}]
[{"$f":"OFFSET(fakturace!B188,fakturace!#REF!,0)","v":{"$error":"#REF!"}},{"$f":"OFFSET(fakturace!C188,fakturace!#REF!,0)","v":{"$error":"#REF!"}},{"$f":"OFFSET(fakturace!F188,fakturace!#REF!,0)","v":{"$error":"#REF!"}}]
[{"$f":"OFFSET(fakturace!B189,fakturace!#REF!,0)","v":{"$error":"#REF!"}},{"$f":"OFFSET(fakturace!C189,fakturace!#REF!,0)","v":{"$error":"#REF!"}},{"$f":"OFFSET(fakturace!F189,fakturace!#REF!,0)","v":{"$error":"#REF!"}}]
[{"$f":"OFFSET(fakturace!B190,fakturace!#REF!,0)","v":{"$error":"#REF!"}},{"$f":"OFFSET(fakturace!C190,fakturace!#REF!,0)","v":{"$error":"#REF!"}},{"$f":"OFFSET(fakturace!F190,fakturace!#REF!,0)","v":{"$error":"#REF!"}}]
[{"$f":"OFFSET(fakturace!B191,fakturace!#REF!,0)","v":{"$error":"#REF!"}},{"$f":"OFFSET(fakturace!C191,fakturace!#REF!,0)","v":{"$error":"#REF!"}},{"$f":"OFFSET(fakturace!F191,fakturace!#REF!,0)","v":{"$error":"#REF!"}}]
[{"$f":"OFFSET(fakturace!B192,fakturace!#REF!,0)","v":{"$error":"#REF!"}},{"$f":"OFFSET(fakturace!C192,fakturace!#REF!,0)","v":{"$error":"#REF!"}},{"$f":"OFFSET(fakturace!F192,fakturace!#REF!,0)","v":{"$error":"#REF!"}}]
[{"$f":"OFFSET(fakturace!B193,fakturace!#REF!,0)","v":{"$error":"#REF!"}},{"$f":"OFFSET(fakturace!C193,fakturace!#REF!,0)","v":{"$error":"#REF!"}},{"$f":"OFFSET(fakturace!F193,fakturace!#REF!,0)","v":{"$error":"#REF!"}}]
[{"$f":"OFFSET(fakturace!B194,fakturace!#REF!,0)","v":{"$error":"#REF!"}},{"$f":"OFFSET(fakturace!C194,fakturace!#REF!,0)","v":{"$error":"#REF!"}},{"$f":"OFFSET(fakturace!F194,fakturace!#REF!,0)","v":{"$error":"#REF!"}}]
[{"$f":"OFFSET(fakturace!B195,fakturace!#REF!,0)","v":{"$error":"#REF!"}},{"$f":"OFFSET(fakturace!C195,fakturace!#REF!,0)","v":{"$error":"#REF!"}},{"$f":"OFFSET(fakturace!F195,fakturace!#REF!,0)","v":{"$error":"#REF!"}}]
[{"$f":"OFFSET(fakturace!B196,fakturace!#REF!,0)","v":{"$error":"#REF!"}},{"$f":"OFFSET(fakturace!C196,fakturace!#REF!,0)","v":{"$error":"#REF!"}},{"$f":"OFFSET(fakturace!F196,fakturace!#REF!,0)","v":{"$error":"#REF!"}}]
[{"$f":"OFFSET(fakturace!B197,fakturace!#REF!,0)","v":{"$error":"#REF!"}},{"$f":"OFFSET(fakturace!C197,fakturace!#REF!,0)","v":{"$error":"#REF!"}},{"$f":"OFFSET(fakturace!F197,fakturace!#REF!,0)","v":{"$error":"#REF!"}}]
[{"$f":"OFFSET(fakturace!B198,fakturace!#REF!,0)","v":{"$error":"#REF!"}},{"$f":"OFFSET(fakturace!C198,fakturace!#REF!,0)","v":{"$error":"#REF!"}},{"$f":"OFFSET(fakturace!F198,fakturace!#REF!,0)","v":{"$error":"#REF!"}}]
[{"$f":"OFFSET(fakturace!B199,fakturace!#REF!,0)","v":{"$error":"#REF!"}},{"$f":"OFFSET(fakturace!C199,fakturace!#REF!,0)","v":{"$error":"#REF!"}},{"$f":"OFFSET(fakturace!F199,fakturace!#REF!,0)","v":{"$error":"#REF!"}}]
[{"$f":"OFFSET(fakturace!B200,fakturace!#REF!,0)","v":{"$error":"#REF!"}},{"$f":"OFFSET(fakturace!C200,fakturace!#REF!,0)","v":{"$error":"#REF!"}},{"$f":"OFFSET(fakturace!F200,fakturace!#REF!,0)","v":{"$error":"#REF!"}}]
[{"$f":"OFFSET(fakturace!B201,fakturace!#REF!,0)","v":{"$error":"#REF!"}},{"$f":"OFFSET(fakturace!C201,fakturace!#REF!,0)","v":{"$error":"#REF!"}},{"$f":"OFFSET(fakturace!F201,fakturace!#REF!,0)","v":{"$error":"#REF!"}}]
[{"$f":"OFFSET(fakturace!B202,fakturace!#REF!,0)","v":{"$error":"#REF!"}},{"$f":"OFFSET(fakturace!C202,fakturace!#REF!,0)","v":{"$error":"#REF!"}},{"$f":"OFFSET(fakturace!F202,fakturace!#REF!,0)","v":{"$error":"#REF!"}}]
[{"$f":"OFFSET(fakturace!B203,fakturace!#REF!,0)","v":{"$error":"#REF!"}},{"$f":"OFFSET(fakturace!C203,fakturace!#REF!,0)","v":{"$error":"#REF!"}},{"$f":"OFFSET(fakturace!F203,fakturace!#REF!,0)","v":{"$error":"#REF!"}}]
[{"$f":"OFFSET(fakturace!B204,fakturace!#REF!,0)","v":{"$error":"#REF!"}},{"$f":"OFFSET(fakturace!C204,fakturace!#REF!,0)","v":{"$error":"#REF!"}},{"$f":"OFFSET(fakturace!F204,fakturace!#REF!,0)","v":{"$error":"#REF!"}}]
[{"$f":"OFFSET(fakturace!B205,fakturace!#REF!,0)","v":{"$error":"#REF!"}},{"$f":"OFFSET(fakturace!C205,fakturace!#REF!,0)","v":{"$error":"#REF!"}},{"$f":"OFFSET(fakturace!F205,fakturace!#REF!,0)","v":{"$error":"#REF!"}}]
[{"$f":"OFFSET(fakturace!B206,fakturace!#REF!,0)","v":{"$error":"#REF!"}},{"$f":"OFFSET(fakturace!C206,fakturace!#REF!,0)","v":{"$error":"#REF!"}},{"$f":"OFFSET(fakturace!F206,fakturace!#REF!,0)","v":{"$error":"#REF!"}}]
[{"$f":"OFFSET(fakturace!B207,fakturace!#REF!,0)","v":{"$error":"#REF!"}},{"$f":"OFFSET(fakturace!C207,fakturace!#REF!,0)","v":{"$error":"#REF!"}},{"$f":"OFFSET(fakturace!F207,fakturace!#REF!,0)","v":{"$error":"#REF!"}}]
[{"$f":"OFFSET(fakturace!B208,fakturace!#REF!,0)","v":{"$error":"#REF!"}},{"$f":"OFFSET(fakturace!C208,fakturace!#REF!,0)","v":{"$error":"#REF!"}},{"$f":"OFFSET(fakturace!F208,fakturace!#REF!,0)","v":{"$error":"#REF!"}}]
[{"$f":"OFFSET(fakturace!B209,fakturace!#REF!,0)","v":{"$error":"#REF!"}},{"$f":"OFFSET(fakturace!C209,fakturace!#REF!,0)","v":{"$error":"#REF!"}},{"$f":"OFFSET(fakturace!F209,fakturace!#REF!,0)","v":{"$error":"#REF!"}}]
[{"$f":"OFFSET(fakturace!B210,fakturace!#REF!,0)","v":{"$error":"#REF!"}},{"$f":"OFFSET(fakturace!C210,fakturace!#REF!,0)","v":{"$error":"#REF!"}},{"$f":"OFFSET(fakturace!F210,fakturace!#REF!,0)","v":{"$error":"#REF!"}}]
[{"$f":"OFFSET(fakturace!B211,fakturace!#REF!,0)","v":{"$error":"#REF!"}},{"$f":"OFFSET(fakturace!C211,fakturace!#REF!,0)","v":{"$error":"#REF!"}},{"$f":"OFFSET(fakturace!F211,fakturace!#REF!,0)","v":{"$error":"#REF!"}}]
[{"$f":"OFFSET(fakturace!B212,fakturace!#REF!,0)","v":{"$error":"#REF!"}},{"$f":"OFFSET(fakturace!C212,fakturace!#REF!,0)","v":{"$error":"#REF!"}},{"$f":"OFFSET(fakturace!F212,fakturace!#REF!,0)","v":{"$error":"#REF!"}}]
[{"$f":"OFFSET(fakturace!B213,fakturace!#REF!,0)","v":{"$error":"#REF!"}},{"$f":"OFFSET(fakturace!C213,fakturace!#REF!,0)","v":{"$error":"#REF!"}},{"$f":"OFFSET(fakturace!F213,fakturace!#REF!,0)","v":{"$error":"#REF!"}}]
[{"$f":"OFFSET(fakturace!B214,fakturace!#REF!,0)","v":{"$error":"#REF!"}},{"$f":"OFFSET(fakturace!C214,fakturace!#REF!,0)","v":{"$error":"#REF!"}},{"$f":"OFFSET(fakturace!F214,fakturace!#REF!,0)","v":{"$error":"#REF!"}}]
[{"$f":"OFFSET(fakturace!B215,fakturace!#REF!,0)","v":{"$error":"#REF!"}},{"$f":"OFFSET(fakturace!C215,fakturace!#REF!,0)","v":{"$error":"#REF!"}},{"$f":"OFFSET(fakturace!F215,fakturace!#REF!,0)","v":{"$error":"#REF!"}}]
[{"$f":"OFFSET(fakturace!B216,fakturace!#REF!,0)","v":{"$error":"#REF!"}},{"$f":"OFFSET(fakturace!C216,fakturace!#REF!,0)","v":{"$error":"#REF!"}},{"$f":"OFFSET(fakturace!F216,fakturace!#REF!,0)","v":{"$error":"#REF!"}}]
[{"$f":"OFFSET(fakturace!B217,fakturace!#REF!,0)","v":{"$error":"#REF!"}},{"$f":"OFFSET(fakturace!C217,fakturace!#REF!,0)","v":{"$error":"#REF!"}},{"$f":"OFFSET(fakturace!F217,fakturace!#REF!,0)","v":{"$error":"#REF!"}}]
[{"$f":"OFFSET(fakturace!B218,fakturace!#REF!,0)","v":{"$error":"#REF!"}},{"$f":"OFFSET(fakturace!C218,fakturace!#REF!,0)","v":{"$error":"#REF!"}},{"$f":"OFFSET(fakturace!F218,fakturace!#REF!,0)","v":{"$error":"#REF!"}}]
[{"$f":"OFFSET(fakturace!B219,fakturace!#REF!,0)","v":{"$error":"#REF!"}},{"$f":"OFFSET(fakturace!C219,fakturace!#REF!,0)","v":{"$error":"#REF!"}},{"$f":"OFFSET(fakturace!F219,fakturace!#REF!,0)","v":{"$error":"#REF!"}}]
[{"$f":"OFFSET(fakturace!B220,fakturace!#REF!,0)","v":{"$error":"#REF!"}},{"$f":"OFFSET(fakturace!C220,fakturace!#REF!,0)","v":{"$error":"#REF!"}},{"$f":"OFFSET(fakturace!F220,fakturace!#REF!,0)","v":{"$error":"#REF!"}}]
[{"$f":"OFFSET(fakturace!B221,fakturace!#REF!,0)","v":{"$error":"#REF!"}},{"$f":"OFFSET(fakturace!C221,fakturace!#REF!,0)","v":{"$error":"#REF!"}},{"$f":"OFFSET(fakturace!F221,fakturace!#REF!,0)","v":{"$error":"#REF!"}}]
[{"$f":"OFFSET(fakturace!B222,fakturace!#REF!,0)","v":{"$error":"#REF!"}},{"$f":"OFFSET(fakturace!C222,fakturace!#REF!,0)","v":{"$error":"#REF!"}},{"$f":"OFFSET(fakturace!F222,fakturace!#REF!,0)","v":{"$error":"#REF!"}}]
[{"$f":"OFFSET(fakturace!B223,fakturace!#REF!,0)","v":{"$error":"#REF!"}},{"$f":"OFFSET(fakturace!C223,fakturace!#REF!,0)","v":{"$error":"#REF!"}},{"$f":"OFFSET(fakturace!F223,fakturace!#REF!,0)","v":{"$error":"#REF!"}}]
[{"$f":"OFFSET(fakturace!B224,fakturace!#REF!,0)","v":{"$error":"#REF!"}},{"$f":"OFFSET(fakturace!C224,fakturace!#REF!,0)","v":{"$error":"#REF!"}},{"$f":"OFFSET(fakturace!F224,fakturace!#REF!,0)","v":{"$error":"#REF!"}}]
[{"$f":"OFFSET(fakturace!B225,fakturace!#REF!,0)","v":{"$error":"#REF!"}},{"$f":"OFFSET(fakturace!C225,fakturace!#REF!,0)","v":{"$error":"#REF!"}},{"$f":"OFFSET(fakturace!F225,fakturace!#REF!,0)","v":{"$error":"#REF!"}}]
[{"$f":"OFFSET(fakturace!B226,fakturace!#REF!,0)","v":{"$error":"#REF!"}},{"$f":"OFFSET(fakturace!C226,fakturace!#REF!,0)","v":{"$error":"#REF!"}},{"$f":"OFFSET(fakturace!F226,fakturace!#REF!,0)","v":{"$error":"#REF!"}}]
[{"$f":"OFFSET(fakturace!B227,fakturace!#REF!,0)","v":{"$error":"#REF!"}},{"$f":"OFFSET(fakturace!C227,fakturace!#REF!,0)","v":{"$error":"#REF!"}},{"$f":"OFFSET(fakturace!F227,fakturace!#REF!,0)","v":{"$error":"#REF!"}}]
[{"$f":"OFFSET(fakturace!B228,fakturace!#REF!,0)","v":{"$error":"#REF!"}},{"$f":"OFFSET(fakturace!C228,fakturace!#REF!,0)","v":{"$error":"#REF!"}},{"$f":"OFFSET(fakturace!F228,fakturace!#REF!,0)","v":{"$error":"#REF!"}}]
[{"$f":"OFFSET(fakturace!B229,fakturace!#REF!,0)","v":{"$error":"#REF!"}},{"$f":"OFFSET(fakturace!C229,fakturace!#REF!,0)","v":{"$error":"#REF!"}},{"$f":"OFFSET(fakturace!F229,fakturace!#REF!,0)","v":{"$error":"#REF!"}}]
[{"$f":"OFFSET(fakturace!B230,fakturace!#REF!,0)","v":{"$error":"#REF!"}},{"$f":"OFFSET(fakturace!C230,fakturace!#REF!,0)","v":{"$error":"#REF!"}},{"$f":"OFFSET(fakturace!F230,fakturace!#REF!,0)","v":{"$error":"#REF!"}}]
[{"$f":"OFFSET(fakturace!B231,fakturace!#REF!,0)","v":{"$error":"#REF!"}},{"$f":"OFFSET(fakturace!C231,fakturace!#REF!,0)","v":{"$error":"#REF!"}},{"$f":"OFFSET(fakturace!F231,fakturace!#REF!,0)","v":{"$error":"#REF!"}}]
[{"$f":"OFFSET(fakturace!B232,fakturace!#REF!,0)","v":{"$error":"#REF!"}},{"$f":"OFFSET(fakturace!C232,fakturace!#REF!,0)","v":{"$error":"#REF!"}},{"$f":"OFFSET(fakturace!F232,fakturace!#REF!,0)","v":{"$error":"#REF!"}}]
[{"$f":"OFFSET(fakturace!B233,fakturace!#REF!,0)","v":{"$error":"#REF!"}},{"$f":"OFFSET(fakturace!C233,fakturace!#REF!,0)","v":{"$error":"#REF!"}},{"$f":"OFFSET(fakturace!F233,fakturace!#REF!,0)","v":{"$error":"#REF!"}}]
[{"$f":"OFFSET(fakturace!B234,fakturace!#REF!,0)","v":{"$error":"#REF!"}},{"$f":"OFFSET(fakturace!C234,fakturace!#REF!,0)","v":{"$error":"#REF!"}},{"$f":"OFFSET(fakturace!F234,fakturace!#REF!,0)","v":{"$error":"#REF!"}}]
[{"$f":"OFFSET(fakturace!B235,fakturace!#REF!,0)","v":{"$error":"#REF!"}},{"$f":"OFFSET(fakturace!C235,fakturace!#REF!,0)","v":{"$error":"#REF!"}},{"$f":"OFFSET(fakturace!F235,fakturace!#REF!,0)","v":{"$error":"#REF!"}}]
[{"$f":"OFFSET(fakturace!B236,fakturace!#REF!,0)","v":{"$error":"#REF!"}},{"$f":"OFFSET(fakturace!C236,fakturace!#REF!,0)","v":{"$error":"#REF!"}},{"$f":"OFFSET(fakturace!F236,fakturace!#REF!,0)","v":{"$error":"#REF!"}}]
[{"$f":"OFFSET(fakturace!B237,fakturace!#REF!,0)","v":{"$error":"#REF!"}},{"$f":"OFFSET(fakturace!C237,fakturace!#REF!,0)","v":{"$error":"#REF!"}},{"$f":"OFFSET(fakturace!F237,fakturace!#REF!,0)","v":{"$error":"#REF!"}}]
[{"$f":"OFFSET(fakturace!B238,fakturace!#REF!,0)","v":{"$error":"#REF!"}},{"$f":"OFFSET(fakturace!C238,fakturace!#REF!,0)","v":{"$error":"#REF!"}},{"$f":"OFFSET(fakturace!F238,fakturace!#REF!,0)","v":{"$error":"#REF!"}}]
[{"$f":"OFFSET(fakturace!B239,fakturace!#REF!,0)","v":{"$error":"#REF!"}},{"$f":"OFFSET(fakturace!C239,fakturace!#REF!,0)","v":{"$error":"#REF!"}},{"$f":"OFFSET(fakturace!F239,fakturace!#REF!,0)","v":{"$error":"#REF!"}}]
[{"$f":"OFFSET(fakturace!B240,fakturace!#REF!,0)","v":{"$error":"#REF!"}},{"$f":"OFFSET(fakturace!C240,fakturace!#REF!,0)","v":{"$error":"#REF!"}},{"$f":"OFFSET(fakturace!F240,fakturace!#REF!,0)","v":{"$error":"#REF!"}}]
[{"$f":"OFFSET(fakturace!B241,fakturace!#REF!,0)","v":{"$error":"#REF!"}},{"$f":"OFFSET(fakturace!C241,fakturace!#REF!,0)","v":{"$error":"#REF!"}},{"$f":"OFFSET(fakturace!F241,fakturace!#REF!,0)","v":{"$error":"#REF!"}}]
[{"$f":"OFFSET(fakturace!B242,fakturace!#REF!,0)","v":{"$error":"#REF!"}},{"$f":"OFFSET(fakturace!C242,fakturace!#REF!,0)","v":{"$error":"#REF!"}},{"$f":"OFFSET(fakturace!F242,fakturace!#REF!,0)","v":{"$error":"#REF!"}}]
[{"$f":"OFFSET(fakturace!B243,fakturace!#REF!,0)","v":{"$error":"#REF!"}},{"$f":"OFFSET(fakturace!C243,fakturace!#REF!,0)","v":{"$error":"#REF!"}},{"$f":"OFFSET(fakturace!F243,fakturace!#REF!,0)","v":{"$error":"#REF!"}}]
[{"$f":"OFFSET(fakturace!B244,fakturace!#REF!,0)","v":{"$error":"#REF!"}},{"$f":"OFFSET(fakturace!C244,fakturace!#REF!,0)","v":{"$error":"#REF!"}},{"$f":"OFFSET(fakturace!F244,fakturace!#REF!,0)","v":{"$error":"#REF!"}}]
[{"$f":"OFFSET(fakturace!B245,fakturace!#REF!,0)","v":{"$error":"#REF!"}},{"$f":"OFFSET(fakturace!C245,fakturace!#REF!,0)","v":{"$error":"#REF!"}},{"$f":"OFFSET(fakturace!F245,fakturace!#REF!,0)","v":{"$error":"#REF!"}}]
[{"$f":"OFFSET(fakturace!B246,fakturace!#REF!,0)","v":{"$error":"#REF!"}},{"$f":"OFFSET(fakturace!C246,fakturace!#REF!,0)","v":{"$error":"#REF!"}},{"$f":"OFFSET(fakturace!F246,fakturace!#REF!,0)","v":{"$error":"#REF!"}}]
[{"$f":"OFFSET(fakturace!B247,fakturace!#REF!,0)","v":{"$error":"#REF!"}},{"$f":"OFFSET(fakturace!C247,fakturace!#REF!,0)","v":{"$error":"#REF!"}},{"$f":"OFFSET(fakturace!F247,fakturace!#REF!,0)","v":{"$error":"#REF!"}}]
[{"$f":"OFFSET(fakturace!B248,fakturace!#REF!,0)","v":{"$error":"#REF!"}},{"$f":"OFFSET(fakturace!C248,fakturace!#REF!,0)","v":{"$error":"#REF!"}},{"$f":"OFFSET(fakturace!F248,fakturace!#REF!,0)","v":{"$error":"#REF!"}}]
[{"$f":"OFFSET(fakturace!B249,fakturace!#REF!,0)","v":{"$error":"#REF!"}},{"$f":"OFFSET(fakturace!C249,fakturace!#REF!,0)","v":{"$error":"#REF!"}},{"$f":"OFFSET(fakturace!F249,fakturace!#REF!,0)","v":{"$error":"#REF!"}}]
[{"$f":"OFFSET(fakturace!B250,fakturace!#REF!,0)","v":{"$error":"#REF!"}},{"$f":"OFFSET(fakturace!C250,fakturace!#REF!,0)","v":{"$error":"#REF!"}},{"$f":"OFFSET(fakturace!F250,fakturace!#REF!,0)","v":{"$error":"#REF!"}}]
[{"$f":"OFFSET(fakturace!B251,fakturace!#REF!,0)","v":{"$error":"#REF!"}},{"$f":"OFFSET(fakturace!C251,fakturace!#REF!,0)","v":{"$error":"#REF!"}},{"$f":"OFFSET(fakturace!F251,fakturace!#REF!,0)","v":{"$error":"#REF!"}}]
[{"$f":"OFFSET(fakturace!B252,fakturace!#REF!,0)","v":{"$error":"#REF!"}},{"$f":"OFFSET(fakturace!C252,fakturace!#REF!,0)","v":{"$error":"#REF!"}},{"$f":"OFFSET(fakturace!F252,fakturace!#REF!,0)","v":{"$error":"#REF!"}}]
[{"$f":"OFFSET(fakturace!B253,fakturace!#REF!,0)","v":{"$error":"#REF!"}},{"$f":"OFFSET(fakturace!C253,fakturace!#REF!,0)","v":{"$error":"#REF!"}},{"$f":"OFFSET(fakturace!F253,fakturace!#REF!,0)","v":{"$error":"#REF!"}}]
[{"$f":"OFFSET(fakturace!B254,fakturace!#REF!,0)","v":{"$error":"#REF!"}},{"$f":"OFFSET(fakturace!C254,fakturace!#REF!,0)","v":{"$error":"#REF!"}},{"$f":"OFFSET(fakturace!F254,fakturace!#REF!,0)","v":{"$error":"#REF!"}}]
[{"$f":"OFFSET(fakturace!B255,fakturace!#REF!,0)","v":{"$error":"#REF!"}},{"$f":"OFFSET(fakturace!C255,fakturace!#REF!,0)","v":{"$error":"#REF!"}},{"$f":"OFFSET(fakturace!F255,fakturace!#REF!,0)","v":{"$error":"#REF!"}}]
[{"$f":"OFFSET(fakturace!B256,fakturace!#REF!,0)","v":{"$error":"#REF!"}},{"$f":"OFFSET(fakturace!C256,fakturace!#REF!,0)","v":{"$error":"#REF!"}},{"$f":"OFFSET(fakturace!F256,fakturace!#REF!,0)","v":{"$error":"#REF!"}}]
[{"$f":"OFFSET(fakturace!B257,fakturace!#REF!,0)","v":{"$error":"#REF!"}},{"$f":"OFFSET(fakturace!C257,fakturace!#REF!,0)","v":{"$error":"#REF!"}},{"$f":"OFFSET(fakturace!F257,fakturace!#REF!,0)","v":{"$error":"#REF!"}}]
[{"$f":"OFFSET(fakturace!B258,fakturace!#REF!,0)","v":{"$error":"#REF!"}},{"$f":"OFFSET(fakturace!C258,fakturace!#REF!,0)","v":{"$error":"#REF!"}},{"$f":"OFFSET(fakturace!F258,fakturace!#REF!,0)","v":{"$error":"#REF!"}}]
[{"$f":"OFFSET(fakturace!B259,fakturace!#REF!,0)","v":{"$error":"#REF!"}},{"$f":"OFFSET(fakturace!C259,fakturace!#REF!,0)","v":{"$error":"#REF!"}},{"$f":"OFFSET(fakturace!F259,fakturace!#REF!,0)","v":{"$error":"#REF!"}}]
[{"$f":"OFFSET(fakturace!B260,fakturace!#REF!,0)","v":{"$error":"#REF!"}},{"$f":"OFFSET(fakturace!C260,fakturace!#REF!,0)","v":{"$error":"#REF!"}},{"$f":"OFFSET(fakturace!F260,fakturace!#REF!,0)","v":{"$error":"#REF!"}}]
[{"$f":"OFFSET(fakturace!B261,fakturace!#REF!,0)","v":{"$error":"#REF!"}},{"$f":"OFFSET(fakturace!C261,fakturace!#REF!,0)","v":{"$error":"#REF!"}},{"$f":"OFFSET(fakturace!F261,fakturace!#REF!,0)","v":{"$error":"#REF!"}}]
[{"$f":"OFFSET(fakturace!B262,fakturace!#REF!,0)","v":{"$error":"#REF!"}},{"$f":"OFFSET(fakturace!C262,fakturace!#REF!,0)","v":{"$error":"#REF!"}},{"$f":"OFFSET(fakturace!F262,fakturace!#REF!,0)","v":{"$error":"#REF!"}}]
[{"$f":"OFFSET(fakturace!B263,fakturace!#REF!,0)","v":{"$error":"#REF!"}},{"$f":"OFFSET(fakturace!C263,fakturace!#REF!,0)","v":{"$error":"#REF!"}},{"$f":"OFFSET(fakturace!F263,fakturace!#REF!,0)","v":{"$error":"#REF!"}}]
[{"$f":"OFFSET(fakturace!B264,fakturace!#REF!,0)","v":{"$error":"#REF!"}},{"$f":"OFFSET(fakturace!C264,fakturace!#REF!,0)","v":{"$error":"#REF!"}},{"$f":"OFFSET(fakturace!F264,fakturace!#REF!,0)","v":{"$error":"#REF!"}}]
[{"$f":"OFFSET(fakturace!B265,fakturace!#REF!,0)","v":{"$error":"#REF!"}},{"$f":"OFFSET(fakturace!C265,fakturace!#REF!,0)","v":{"$error":"#REF!"}},{"$f":"OFFSET(fakturace!F265,fakturace!#REF!,0)","v":{"$error":"#REF!"}}]
[{"$f":"OFFSET(fakturace!B266,fakturace!#REF!,0)","v":{"$error":"#REF!"}},{"$f":"OFFSET(fakturace!C266,fakturace!#REF!,0)","v":{"$error":"#REF!"}},{"$f":"OFFSET(fakturace!F266,fakturace!#REF!,0)","v":{"$error":"#REF!"}}]
[{"$f":"OFFSET(fakturace!B267,fakturace!#REF!,0)","v":{"$error":"#REF!"}},{"$f":"OFFSET(fakturace!C267,fakturace!#REF!,0)","v":{"$error":"#REF!"}},{"$f":"OFFSET(fakturace!F267,fakturace!#REF!,0)","v":{"$error":"#REF!"}}]
[{"$f":"OFFSET(fakturace!B268,fakturace!#REF!,0)","v":{"$error":"#REF!"}},{"$f":"OFFSET(fakturace!C268,fakturace!#REF!,0)","v":{"$error":"#REF!"}},{"$f":"OFFSET(fakturace!F268,fakturace!#REF!,0)","v":{"$error":"#REF!"}}]
[{"$f":"OFFSET(fakturace!B269,fakturace!#REF!,0)","v":{"$error":"#REF!"}},{"$f":"OFFSET(fakturace!C269,fakturace!#REF!,0)","v":{"$error":"#REF!"}},{"$f":"OFFSET(fakturace!F269,fakturace!#REF!,0)","v":{"$error":"#REF!"}}]
[{"$f":"OFFSET(fakturace!B270,fakturace!#REF!,0)","v":{"$error":"#REF!"}},{"$f":"OFFSET(fakturace!C270,fakturace!#REF!,0)","v":{"$error":"#REF!"}},{"$f":"OFFSET(fakturace!F270,fakturace!#REF!,0)","v":{"$error":"#REF!"}}]
[{"$f":"OFFSET(fakturace!B271,fakturace!#REF!,0)","v":{"$error":"#REF!"}},{"$f":"OFFSET(fakturace!C271,fakturace!#REF!,0)","v":{"$error":"#REF!"}},{"$f":"OFFSET(fakturace!F271,fakturace!#REF!,0)","v":{"$error":"#REF!"}}]
[{"$f":"OFFSET(fakturace!B272,fakturace!#REF!,0)","v":{"$error":"#REF!"}},{"$f":"OFFSET(fakturace!C272,fakturace!#REF!,0)","v":{"$error":"#REF!"}},{"$f":"OFFSET(fakturace!F272,fakturace!#REF!,0)","v":{"$error":"#REF!"}}]
[{"$f":"OFFSET(fakturace!B273,fakturace!#REF!,0)","v":{"$error":"#REF!"}},{"$f":"OFFSET(fakturace!C273,fakturace!#REF!,0)","v":{"$error":"#REF!"}},{"$f":"OFFSET(fakturace!F273,fakturace!#REF!,0)","v":{"$error":"#REF!"}}]
[{"$f":"OFFSET(fakturace!B274,fakturace!#REF!,0)","v":{"$error":"#REF!"}},{"$f":"OFFSET(fakturace!C274,fakturace!#REF!,0)","v":{"$error":"#REF!"}},{"$f":"OFFSET(fakturace!F274,fakturace!#REF!,0)","v":{"$error":"#REF!"}}]
[{"$f":"OFFSET(fakturace!B275,fakturace!#REF!,0)","v":{"$error":"#REF!"}},{"$f":"OFFSET(fakturace!C275,fakturace!#REF!,0)","v":{"$error":"#REF!"}},{"$f":"OFFSET(fakturace!F275,fakturace!#REF!,0)","v":{"$error":"#REF!"}}]
[{"$f":"OFFSET(fakturace!B276,fakturace!#REF!,0)","v":{"$error":"#REF!"}},{"$f":"OFFSET(fakturace!C276,fakturace!#REF!,0)","v":{"$error":"#REF!"}},{"$f":"OFFSET(fakturace!F276,fakturace!#REF!,0)","v":{"$error":"#REF!"}}]
[{"$f":"OFFSET(fakturace!B277,fakturace!#REF!,0)","v":{"$error":"#REF!"}},{"$f":"OFFSET(fakturace!C277,fakturace!#REF!,0)","v":{"$error":"#REF!"}},{"$f":"OFFSET(fakturace!F277,fakturace!#REF!,0)","v":{"$error":"#REF!"}}]
[{"$f":"OFFSET(fakturace!B278,fakturace!#REF!,0)","v":{"$error":"#REF!"}},{"$f":"OFFSET(fakturace!C278,fakturace!#REF!,0)","v":{"$error":"#REF!"}},{"$f":"OFFSET(fakturace!F278,fakturace!#REF!,0)","v":{"$error":"#REF!"}}]
[{"$f":"OFFSET(fakturace!B279,fakturace!#REF!,0)","v":{"$error":"#REF!"}},{"$f":"OFFSET(fakturace!C279,fakturace!#REF!,0)","v":{"$error":"#REF!"}},{"$f":"OFFSET(fakturace!F279,fakturace!#REF!,0)","v":{"$error":"#REF!"}}]
[{"$f":"OFFSET(fakturace!B280,fakturace!#REF!,0)","v":{"$error":"#REF!"}},{"$f":"OFFSET(fakturace!C280,fakturace!#REF!,0)","v":{"$error":"#REF!"}},{"$f":"OFFSET(fakturace!F280,fakturace!#REF!,0)","v":{"$error":"#REF!"}}]
[{"$f":"OFFSET(fakturace!B281,fakturace!#REF!,0)","v":{"$error":"#REF!"}},{"$f":"OFFSET(fakturace!C281,fakturace!#REF!,0)","v":{"$error":"#REF!"}},{"$f":"OFFSET(fakturace!F281,fakturace!#REF!,0)","v":{"$error":"#REF!"}}]
[{"$f":"OFFSET(fakturace!B282,fakturace!#REF!,0)","v":{"$error":"#REF!"}},{"$f":"OFFSET(fakturace!C282,fakturace!#REF!,0)","v":{"$error":"#REF!"}},{"$f":"OFFSET(fakturace!F282,fakturace!#REF!,0)","v":{"$error":"#REF!"}}]
[{"$f":"OFFSET(fakturace!B283,fakturace!#REF!,0)","v":{"$error":"#REF!"}},{"$f":"OFFSET(fakturace!C283,fakturace!#REF!,0)","v":{"$error":"#REF!"}},{"$f":"OFFSET(fakturace!F283,fakturace!#REF!,0)","v":{"$error":"#REF!"}}]
[{"$f":"OFFSET(fakturace!B284,fakturace!#REF!,0)","v":{"$error":"#REF!"}},{"$f":"OFFSET(fakturace!C284,fakturace!#REF!,0)","v":{"$error":"#REF!"}},{"$f":"OFFSET(fakturace!F284,fakturace!#REF!,0)","v":{"$error":"#REF!"}}]
[{"$f":"OFFSET(fakturace!B285,fakturace!#REF!,0)","v":{"$error":"#REF!"}},{"$f":"OFFSET(fakturace!C285,fakturace!#REF!,0)","v":{"$error":"#REF!"}},{"$f":"OFFSET(fakturace!F285,fakturace!#REF!,0)","v":{"$error":"#REF!"}}]
[{"$f":"OFFSET(fakturace!B286,fakturace!#REF!,0)","v":{"$error":"#REF!"}},{"$f":"OFFSET(fakturace!C286,fakturace!#REF!,0)","v":{"$error":"#REF!"}},{"$f":"OFFSET(fakturace!F286,fakturace!#REF!,0)","v":{"$error":"#REF!"}}]
[{"$f":"OFFSET(fakturace!B287,fakturace!#REF!,0)","v":{"$error":"#REF!"}},{"$f":"OFFSET(fakturace!C287,fakturace!#REF!,0)","v":{"$error":"#REF!"}},{"$f":"OFFSET(fakturace!F287,fakturace!#REF!,0)","v":{"$error":"#REF!"}}]
[{"$f":"OFFSET(fakturace!B288,fakturace!#REF!,0)","v":{"$error":"#REF!"}},{"$f":"OFFSET(fakturace!C288,fakturace!#REF!,0)","v":{"$error":"#REF!"}},{"$f":"OFFSET(fakturace!F288,fakturace!#REF!,0)","v":{"$error":"#REF!"}}]
[{"$f":"OFFSET(fakturace!B289,fakturace!#REF!,0)","v":{"$error":"#REF!"}},{"$f":"OFFSET(fakturace!C289,fakturace!#REF!,0)","v":{"$error":"#REF!"}},{"$f":"OFFSET(fakturace!F289,fakturace!#REF!,0)","v":{"$error":"#REF!"}}]
[{"$f":"OFFSET(fakturace!B290,fakturace!#REF!,0)","v":{"$error":"#REF!"}},{"$f":"OFFSET(fakturace!C290,fakturace!#REF!,0)","v":{"$error":"#REF!"}},{"$f":"OFFSET(fakturace!F290,fakturace!#REF!,0)","v":{"$error":"#REF!"}}]
[{"$f":"OFFSET(fakturace!B291,fakturace!#REF!,0)","v":{"$error":"#REF!"}},{"$f":"OFFSET(fakturace!C291,fakturace!#REF!,0)","v":{"$error":"#REF!"}},{"$f":"OFFSET(fakturace!F291,fakturace!#REF!,0)","v":{"$error":"#REF!"}}]
[{"$f":"OFFSET(fakturace!B292,fakturace!#REF!,0)","v":{"$error":"#REF!"}},{"$f":"OFFSET(fakturace!C292,fakturace!#REF!,0)","v":{"$error":"#REF!"}},{"$f":"OFFSET(fakturace!F292,fakturace!#REF!,0)","v":{"$error":"#REF!"}}]
[{"$f":"OFFSET(fakturace!B293,fakturace!#REF!,0)","v":{"$error":"#REF!"}},{"$f":"OFFSET(fakturace!C293,fakturace!#REF!,0)","v":{"$error":"#REF!"}},{"$f":"OFFSET(fakturace!F293,fakturace!#REF!,0)","v":{"$error":"#REF!"}}]
[{"$f":"OFFSET(fakturace!B294,fakturace!#REF!,0)","v":{"$error":"#REF!"}},{"$f":"OFFSET(fakturace!C294,fakturace!#REF!,0)","v":{"$error":"#REF!"}},{"$f":"OFFSET(fakturace!F294,fakturace!#REF!,0)","v":{"$error":"#REF!"}}]
[{"$f":"OFFSET(fakturace!B295,fakturace!#REF!,0)","v":{"$error":"#REF!"}},{"$f":"OFFSET(fakturace!C295,fakturace!#REF!,0)","v":{"$error":"#REF!"}},{"$f":"OFFSET(fakturace!F295,fakturace!#REF!,0)","v":{"$error":"#REF!"}}]
[{"$f":"OFFSET(fakturace!B296,fakturace!#REF!,0)","v":{"$error":"#REF!"}},{"$f":"OFFSET(fakturace!C296,fakturace!#REF!,0)","v":{"$error":"#REF!"}},{"$f":"OFFSET(fakturace!F296,fakturace!#REF!,0)","v":{"$error":"#REF!"}}]
[{"$f":"OFFSET(fakturace!B297,fakturace!#REF!,0)","v":{"$error":"#REF!"}},{"$f":"OFFSET(fakturace!C297,fakturace!#REF!,0)","v":{"$error":"#REF!"}},{"$f":"OFFSET(fakturace!F297,fakturace!#REF!,0)","v":{"$error":"#REF!"}}]
[{"$f":"OFFSET(fakturace!B298,fakturace!#REF!,0)","v":{"$error":"#REF!"}},{"$f":"OFFSET(fakturace!C298,fakturace!#REF!,0)","v":{"$error":"#REF!"}},{"$f":"OFFSET(fakturace!F298,fakturace!#REF!,0)","v":{"$error":"#REF!"}}]
[{"$f":"OFFSET(fakturace!B299,fakturace!#REF!,0)","v":{"$error":"#REF!"}},{"$f":"OFFSET(fakturace!C299,fakturace!#REF!,0)","v":{"$error":"#REF!"}},{"$f":"OFFSET(fakturace!F299,fakturace!#REF!,0)","v":{"$error":"#REF!"}}]
[{"$f":"OFFSET(fakturace!B300,fakturace!#REF!,0)","v":{"$error":"#REF!"}},{"$f":"OFFSET(fakturace!C300,fakturace!#REF!,0)","v":{"$error":"#REF!"}},{"$f":"OFFSET(fakturace!F300,fakturace!#REF!,0)","v":{"$error":"#REF!"}}]
[{"$f":"OFFSET(fakturace!B301,fakturace!#REF!,0)","v":{"$error":"#REF!"}},{"$f":"OFFSET(fakturace!C301,fakturace!#REF!,0)","v":{"$error":"#REF!"}},{"$f":"OFFSET(fakturace!F301,fakturace!#REF!,0)","v":{"$error":"#REF!"}}]
[{"$f":"OFFSET(fakturace!B302,fakturace!#REF!,0)","v":{"$error":"#REF!"}},{"$f":"OFFSET(fakturace!C302,fakturace!#REF!,0)","v":{"$error":"#REF!"}},{"$f":"OFFSET(fakturace!F302,fakturace!#REF!,0)","v":{"$error":"#REF!"}}]
[{"$f":"OFFSET(fakturace!B303,fakturace!#REF!,0)","v":{"$error":"#REF!"}},{"$f":"OFFSET(fakturace!C303,fakturace!#REF!,0)","v":{"$error":"#REF!"}},{"$f":"OFFSET(fakturace!F303,fakturace!#REF!,0)","v":{"$error":"#REF!"}}]
[{"$f":"OFFSET(fakturace!B304,fakturace!#REF!,0)","v":{"$error":"#REF!"}},{"$f":"OFFSET(fakturace!C304,fakturace!#REF!,0)","v":{"$error":"#REF!"}},{"$f":"OFFSET(fakturace!F304,fakturace!#REF!,0)","v":{"$error":"#REF!"}}]
[{"$f":"OFFSET(fakturace!B305,fakturace!#REF!,0)","v":{"$error":"#REF!"}},{"$f":"OFFSET(fakturace!C305,fakturace!#REF!,0)","v":{"$error":"#REF!"}},{"$f":"OFFSET(fakturace!F305,fakturace!#REF!,0)","v":{"$error":"#REF!"}}]
[{"$f":"OFFSET(fakturace!B306,fakturace!#REF!,0)","v":{"$error":"#REF!"}},{"$f":"OFFSET(fakturace!C306,fakturace!#REF!,0)","v":{"$error":"#REF!"}},{"$f":"OFFSET(fakturace!F306,fakturace!#REF!,0)","v":{"$error":"#REF!"}}]
[{"$f":"OFFSET(fakturace!B307,fakturace!#REF!,0)","v":{"$error":"#REF!"}},{"$f":"OFFSET(fakturace!C307,fakturace!#REF!,0)","v":{"$error":"#REF!"}},{"$f":"OFFSET(fakturace!F307,fakturace!#REF!,0)","v":{"$error":"#REF!"}}]
[{"$f":"OFFSET(fakturace!B308,fakturace!#REF!,0)","v":{"$error":"#REF!"}},{"$f":"OFFSET(fakturace!C308,fakturace!#REF!,0)","v":{"$error":"#REF!"}},{"$f":"OFFSET(fakturace!F308,fakturace!#REF!,0)","v":{"$error":"#REF!"}}]
[{"$f":"OFFSET(fakturace!B309,fakturace!#REF!,0)","v":{"$error":"#REF!"}},{"$f":"OFFSET(fakturace!C309,fakturace!#REF!,0)","v":{"$error":"#REF!"}},{"$f":"OFFSET(fakturace!F309,fakturace!#REF!,0)","v":{"$error":"#REF!"}}]
[{"$f":"OFFSET(fakturace!B310,fakturace!#REF!,0)","v":{"$error":"#REF!"}},{"$f":"OFFSET(fakturace!C310,fakturace!#REF!,0)","v":{"$error":"#REF!"}},{"$f":"OFFSET(fakturace!F310,fakturace!#REF!,0)","v":{"$error":"#REF!"}}]
[{"$f":"OFFSET(fakturace!B311,fakturace!#REF!,0)","v":{"$error":"#REF!"}},{"$f":"OFFSET(fakturace!C311,fakturace!#REF!,0)","v":{"$error":"#REF!"}},{"$f":"OFFSET(fakturace!F311,fakturace!#REF!,0)","v":{"$error":"#REF!"}}]
[{"$f":"OFFSET(fakturace!B312,fakturace!#REF!,0)","v":{"$error":"#REF!"}},{"$f":"OFFSET(fakturace!C312,fakturace!#REF!,0)","v":{"$error":"#REF!"}},{"$f":"OFFSET(fakturace!F312,fakturace!#REF!,0)","v":{"$error":"#REF!"}}]
[{"$f":"OFFSET(fakturace!B313,fakturace!#REF!,0)","v":{"$error":"#REF!"}},{"$f":"OFFSET(fakturace!C313,fakturace!#REF!,0)","v":{"$error":"#REF!"}},{"$f":"OFFSET(fakturace!F313,fakturace!#REF!,0)","v":{"$error":"#REF!"}}]
[{"$f":"OFFSET(fakturace!B314,fakturace!#REF!,0)","v":{"$error":"#REF!"}},{"$f":"OFFSET(fakturace!C314,fakturace!#REF!,0)","v":{"$error":"#REF!"}},{"$f":"OFFSET(fakturace!F314,fakturace!#REF!,0)","v":{"$error":"#REF!"}}]
[{"$f":"OFFSET(fakturace!B315,fakturace!#REF!,0)","v":{"$error":"#REF!"}},{"$f":"OFFSET(fakturace!C315,fakturace!#REF!,0)","v":{"$error":"#REF!"}},{"$f":"OFFSET(fakturace!F315,fakturace!#REF!,0)","v":{"$error":"#REF!"}}]
[{"$f":"OFFSET(fakturace!B316,fakturace!#REF!,0)","v":{"$error":"#REF!"}},{"$f":"OFFSET(fakturace!C316,fakturace!#REF!,0)","v":{"$error":"#REF!"}},{"$f":"OFFSET(fakturace!F316,fakturace!#REF!,0)","v":{"$error":"#REF!"}}]
[{"$f":"OFFSET(fakturace!B317,fakturace!#REF!,0)","v":{"$error":"#REF!"}},{"$f":"OFFSET(fakturace!C317,fakturace!#REF!,0)","v":{"$error":"#REF!"}},{"$f":"OFFSET(fakturace!F317,fakturace!#REF!,0)","v":{"$error":"#REF!"}}]
[{"$f":"OFFSET(fakturace!B318,fakturace!#REF!,0)","v":{"$error":"#REF!"}},{"$f":"OFFSET(fakturace!C318,fakturace!#REF!,0)","v":{"$error":"#REF!"}},{"$f":"OFFSET(fakturace!F318,fakturace!#REF!,0)","v":{"$error":"#REF!"}}]
[{"$f":"OFFSET(fakturace!B319,fakturace!#REF!,0)","v":{"$error":"#REF!"}},{"$f":"OFFSET(fakturace!C319,fakturace!#REF!,0)","v":{"$error":"#REF!"}},{"$f":"OFFSET(fakturace!F319,fakturace!#REF!,0)","v":{"$error":"#REF!"}}]
[{"$f":"OFFSET(fakturace!B320,fakturace!#REF!,0)","v":{"$error":"#REF!"}},{"$f":"OFFSET(fakturace!C320,fakturace!#REF!,0)","v":{"$error":"#REF!"}},{"$f":"OFFSET(fakturace!F320,fakturace!#REF!,0)","v":{"$error":"#REF!"}}]
[{"$f":"OFFSET(fakturace!B321,fakturace!#REF!,0)","v":{"$error":"#REF!"}},{"$f":"OFFSET(fakturace!C321,fakturace!#REF!,0)","v":{"$error":"#REF!"}},{"$f":"OFFSET(fakturace!F321,fakturace!#REF!,0)","v":{"$error":"#REF!"}}]
[{"$f":"OFFSET(fakturace!B322,fakturace!#REF!,0)","v":{"$error":"#REF!"}},{"$f":"OFFSET(fakturace!C322,fakturace!#REF!,0)","v":{"$error":"#REF!"}},{"$f":"OFFSET(fakturace!F322,fakturace!#REF!,0)","v":{"$error":"#REF!"}}]
[{"$f":"OFFSET(fakturace!B323,fakturace!#REF!,0)","v":{"$error":"#REF!"}},{"$f":"OFFSET(fakturace!C323,fakturace!#REF!,0)","v":{"$error":"#REF!"}},{"$f":"OFFSET(fakturace!F323,fakturace!#REF!,0)","v":{"$error":"#REF!"}}]
[{"$f":"OFFSET(fakturace!B324,fakturace!#REF!,0)","v":{"$error":"#REF!"}},{"$f":"OFFSET(fakturace!C324,fakturace!#REF!,0)","v":{"$error":"#REF!"}},{"$f":"OFFSET(fakturace!F324,fakturace!#REF!,0)","v":{"$error":"#REF!"}}]
[{"$f":"OFFSET(fakturace!B325,fakturace!#REF!,0)","v":{"$error":"#REF!"}},{"$f":"OFFSET(fakturace!C325,fakturace!#REF!,0)","v":{"$error":"#REF!"}},{"$f":"OFFSET(fakturace!F325,fakturace!#REF!,0)","v":{"$error":"#REF!"}}]
[{"$f":"OFFSET(fakturace!B326,fakturace!#REF!,0)","v":{"$error":"#REF!"}},{"$f":"OFFSET(fakturace!C326,fakturace!#REF!,0)","v":{"$error":"#REF!"}},{"$f":"OFFSET(fakturace!F326,fakturace!#REF!,0)","v":{"$error":"#REF!"}}]
[{"$f":"OFFSET(fakturace!B327,fakturace!#REF!,0)","v":{"$error":"#REF!"}},{"$f":"OFFSET(fakturace!C327,fakturace!#REF!,0)","v":{"$error":"#REF!"}},{"$f":"OFFSET(fakturace!F327,fakturace!#REF!,0)","v":{"$error":"#REF!"}}]
[{"$f":"OFFSET(fakturace!B328,fakturace!#REF!,0)","v":{"$error":"#REF!"}},{"$f":"OFFSET(fakturace!C328,fakturace!#REF!,0)","v":{"$error":"#REF!"}},{"$f":"OFFSET(fakturace!F328,fakturace!#REF!,0)","v":{"$error":"#REF!"}}]
[{"$f":"OFFSET(fakturace!B329,fakturace!#REF!,0)","v":{"$error":"#REF!"}},{"$f":"OFFSET(fakturace!C329,fakturace!#REF!,0)","v":{"$error":"#REF!"}},{"$f":"OFFSET(fakturace!F329,fakturace!#REF!,0)","v":{"$error":"#REF!"}}]
[{"$f":"OFFSET(fakturace!B330,fakturace!#REF!,0)","v":{"$error":"#REF!"}},{"$f":"OFFSET(fakturace!C330,fakturace!#REF!,0)","v":{"$error":"#REF!"}},{"$f":"OFFSET(fakturace!F330,fakturace!#REF!,0)","v":{"$error":"#REF!"}}]
[{"$f":"OFFSET(fakturace!B331,fakturace!#REF!,0)","v":{"$error":"#REF!"}},{"$f":"OFFSET(fakturace!C331,fakturace!#REF!,0)","v":{"$error":"#REF!"}},{"$f":"OFFSET(fakturace!F331,fakturace!#REF!,0)","v":{"$error":"#REF!"}}]
[{"$f":"OFFSET(fakturace!B332,fakturace!#REF!,0)","v":{"$error":"#REF!"}},{"$f":"OFFSET(fakturace!C332,fakturace!#REF!,0)","v":{"$error":"#REF!"}},{"$f":"OFFSET(fakturace!F332,fakturace!#REF!,0)","v":{"$error":"#REF!"}}]
[{"$f":"OFFSET(fakturace!B333,fakturace!#REF!,0)","v":{"$error":"#REF!"}},{"$f":"OFFSET(fakturace!C333,fakturace!#REF!,0)","v":{"$error":"#REF!"}},{"$f":"OFFSET(fakturace!F333,fakturace!#REF!,0)","v":{"$error":"#REF!"}}]
[{"$f":"OFFSET(fakturace!B334,fakturace!#REF!,0)","v":{"$error":"#REF!"}},{"$f":"OFFSET(fakturace!C334,fakturace!#REF!,0)","v":{"$error":"#REF!"}},{"$f":"OFFSET(fakturace!F334,fakturace!#REF!,0)","v":{"$error":"#REF!"}}]
[{"$f":"OFFSET(fakturace!B335,fakturace!#REF!,0)","v":{"$error":"#REF!"}},{"$f":"OFFSET(fakturace!C335,fakturace!#REF!,0)","v":{"$error":"#REF!"}},{"$f":"OFFSET(fakturace!F335,fakturace!#REF!,0)","v":{"$error":"#REF!"}}]
[{"$f":"OFFSET(fakturace!B336,fakturace!#REF!,0)","v":{"$error":"#REF!"}},{"$f":"OFFSET(fakturace!C336,fakturace!#REF!,0)","v":{"$error":"#REF!"}},{"$f":"OFFSET(fakturace!F336,fakturace!#REF!,0)","v":{"$error":"#REF!"}}]
[{"$f":"OFFSET(fakturace!B337,fakturace!#REF!,0)","v":{"$error":"#REF!"}},{"$f":"OFFSET(fakturace!C337,fakturace!#REF!,0)","v":{"$error":"#REF!"}},{"$f":"OFFSET(fakturace!F337,fakturace!#REF!,0)","v":{"$error":"#REF!"}}]
[{"$f":"OFFSET(fakturace!B338,fakturace!#REF!,0)","v":{"$error":"#REF!"}},{"$f":"OFFSET(fakturace!C338,fakturace!#REF!,0)","v":{"$error":"#REF!"}},{"$f":"OFFSET(fakturace!F338,fakturace!#REF!,0)","v":{"$error":"#REF!"}}]
[{"$f":"OFFSET(fakturace!B339,fakturace!#REF!,0)","v":{"$error":"#REF!"}},{"$f":"OFFSET(fakturace!C339,fakturace!#REF!,0)","v":{"$error":"#REF!"}},{"$f":"OFFSET(fakturace!F339,fakturace!#REF!,0)","v":{"$error":"#REF!"}}]
[{"$f":"OFFSET(fakturace!B340,fakturace!#REF!,0)","v":{"$error":"#REF!"}},{"$f":"OFFSET(fakturace!C340,fakturace!#REF!,0)","v":{"$error":"#REF!"}},{"$f":"OFFSET(fakturace!F340,fakturace!#REF!,0)","v":{"$error":"#REF!"}}]
[{"$f":"OFFSET(fakturace!B341,fakturace!#REF!,0)","v":{"$error":"#REF!"}},{"$f":"OFFSET(fakturace!C341,fakturace!#REF!,0)","v":{"$error":"#REF!"}},{"$f":"OFFSET(fakturace!F341,fakturace!#REF!,0)","v":{"$error":"#REF!"}}]
[{"$f":"OFFSET(fakturace!B342,fakturace!#REF!,0)","v":{"$error":"#REF!"}},{"$f":"OFFSET(fakturace!C342,fakturace!#REF!,0)","v":{"$error":"#REF!"}},{"$f":"OFFSET(fakturace!F342,fakturace!#REF!,0)","v":{"$error":"#REF!"}}]
[{"$f":"OFFSET(fakturace!B343,fakturace!#REF!,0)","v":{"$error":"#REF!"}},{"$f":"OFFSET(fakturace!C343,fakturace!#REF!,0)","v":{"$error":"#REF!"}},{"$f":"OFFSET(fakturace!F343,fakturace!#REF!,0)","v":{"$error":"#REF!"}}]
[{"$f":"OFFSET(fakturace!B344,fakturace!#REF!,0)","v":{"$error":"#REF!"}},{"$f":"OFFSET(fakturace!C344,fakturace!#REF!,0)","v":{"$error":"#REF!"}},{"$f":"OFFSET(fakturace!F344,fakturace!#REF!,0)","v":{"$error":"#REF!"}}]
[{"$f":"OFFSET(fakturace!B345,fakturace!#REF!,0)","v":{"$error":"#REF!"}},{"$f":"OFFSET(fakturace!C345,fakturace!#REF!,0)","v":{"$error":"#REF!"}},{"$f":"OFFSET(fakturace!F345,fakturace!#REF!,0)","v":{"$error":"#REF!"}}]
[{"$f":"OFFSET(fakturace!B346,fakturace!#REF!,0)","v":{"$error":"#REF!"}},{"$f":"OFFSET(fakturace!C346,fakturace!#REF!,0)","v":{"$error":"#REF!"}},{"$f":"OFFSET(fakturace!F346,fakturace!#REF!,0)","v":{"$error":"#REF!"}}]
[{"$f":"OFFSET(fakturace!B347,fakturace!#REF!,0)","v":{"$error":"#REF!"}},{"$f":"OFFSET(fakturace!C347,fakturace!#REF!,0)","v":{"$error":"#REF!"}},{"$f":"OFFSET(fakturace!F347,fakturace!#REF!,0)","v":{"$error":"#REF!"}}]
[{"$f":"OFFSET(fakturace!B348,fakturace!#REF!,0)","v":{"$error":"#REF!"}},{"$f":"OFFSET(fakturace!C348,fakturace!#REF!,0)","v":{"$error":"#REF!"}},{"$f":"OFFSET(fakturace!F348,fakturace!#REF!,0)","v":{"$error":"#REF!"}}]
[{"$f":"OFFSET(fakturace!B349,fakturace!#REF!,0)","v":{"$error":"#REF!"}},{"$f":"OFFSET(fakturace!C349,fakturace!#REF!,0)","v":{"$error":"#REF!"}},{"$f":"OFFSET(fakturace!F349,fakturace!#REF!,0)","v":{"$error":"#REF!"}}]
[{"$f":"OFFSET(fakturace!B350,fakturace!#REF!,0)","v":{"$error":"#REF!"}},{"$f":"OFFSET(fakturace!C350,fakturace!#REF!,0)","v":{"$error":"#REF!"}},{"$f":"OFFSET(fakturace!F350,fakturace!#REF!,0)","v":{"$error":"#REF!"}}]
[{"$f":"OFFSET(fakturace!B351,fakturace!#REF!,0)","v":{"$error":"#REF!"}},{"$f":"OFFSET(fakturace!C351,fakturace!#REF!,0)","v":{"$error":"#REF!"}},{"$f":"OFFSET(fakturace!F351,fakturace!#REF!,0)","v":{"$error":"#REF!"}}]
[{"$f":"OFFSET(fakturace!B352,fakturace!#REF!,0)","v":{"$error":"#REF!"}},{"$f":"OFFSET(fakturace!C352,fakturace!#REF!,0)","v":{"$error":"#REF!"}},{"$f":"OFFSET(fakturace!F352,fakturace!#REF!,0)","v":{"$error":"#REF!"}}]
[{"$f":"OFFSET(fakturace!B353,fakturace!#REF!,0)","v":{"$error":"#REF!"}},{"$f":"OFFSET(fakturace!C353,fakturace!#REF!,0)","v":{"$error":"#REF!"}},{"$f":"OFFSET(fakturace!F353,fakturace!#REF!,0)","v":{"$error":"#REF!"}}]
[{"$f":"OFFSET(fakturace!B354,fakturace!#REF!,0)","v":{"$error":"#REF!"}},{"$f":"OFFSET(fakturace!C354,fakturace!#REF!,0)","v":{"$error":"#REF!"}},{"$f":"OFFSET(fakturace!F354,fakturace!#REF!,0)","v":{"$error":"#REF!"}}]
[{"$f":"OFFSET(fakturace!B355,fakturace!#REF!,0)","v":{"$error":"#REF!"}},{"$f":"OFFSET(fakturace!C355,fakturace!#REF!,0)","v":{"$error":"#REF!"}},{"$f":"OFFSET(fakturace!F355,fakturace!#REF!,0)","v":{"$error":"#REF!"}}]
[{"$f":"OFFSET(fakturace!B356,fakturace!#REF!,0)","v":{"$error":"#REF!"}},{"$f":"OFFSET(fakturace!C356,fakturace!#REF!,0)","v":{"$error":"#REF!"}},{"$f":"OFFSET(fakturace!F356,fakturace!#REF!,0)","v":{"$error":"#REF!"}}]
[{"$f":"OFFSET(fakturace!B357,fakturace!#REF!,0)","v":{"$error":"#REF!"}},{"$f":"OFFSET(fakturace!C357,fakturace!#REF!,0)","v":{"$error":"#REF!"}},{"$f":"OFFSET(fakturace!F357,fakturace!#REF!,0)","v":{"$error":"#REF!"}}]
[{"$f":"OFFSET(fakturace!B358,fakturace!#REF!,0)","v":{"$error":"#REF!"}},{"$f":"OFFSET(fakturace!C358,fakturace!#REF!,0)","v":{"$error":"#REF!"}},{"$f":"OFFSET(fakturace!F358,fakturace!#REF!,0)","v":{"$error":"#REF!"}}]
[{"$f":"OFFSET(fakturace!B359,fakturace!#REF!,0)","v":{"$error":"#REF!"}},{"$f":"OFFSET(fakturace!C359,fakturace!#REF!,0)","v":{"$error":"#REF!"}},{"$f":"OFFSET(fakturace!F359,fakturace!#REF!,0)","v":{"$error":"#REF!"}}]
[{"$f":"OFFSET(fakturace!B360,fakturace!#REF!,0)","v":{"$error":"#REF!"}},{"$f":"OFFSET(fakturace!C360,fakturace!#REF!,0)","v":{"$error":"#REF!"}},{"$f":"OFFSET(fakturace!F360,fakturace!#REF!,0)","v":{"$error":"#REF!"}}]
[{"$f":"OFFSET(fakturace!B361,fakturace!#REF!,0)","v":{"$error":"#REF!"}},{"$f":"OFFSET(fakturace!C361,fakturace!#REF!,0)","v":{"$error":"#REF!"}},{"$f":"OFFSET(fakturace!F361,fakturace!#REF!,0)","v":{"$error":"#REF!"}}]
[{"$f":"OFFSET(fakturace!B362,fakturace!#REF!,0)","v":{"$error":"#REF!"}},{"$f":"OFFSET(fakturace!C362,fakturace!#REF!,0)","v":{"$error":"#REF!"}},{"$f":"OFFSET(fakturace!F362,fakturace!#REF!,0)","v":{"$error":"#REF!"}}]
[{"$f":"OFFSET(fakturace!B363,fakturace!#REF!,0)","v":{"$error":"#REF!"}},{"$f":"OFFSET(fakturace!C363,fakturace!#REF!,0)","v":{"$error":"#REF!"}},{"$f":"OFFSET(fakturace!F363,fakturace!#REF!,0)","v":{"$error":"#REF!"}}]
[{"$f":"OFFSET(fakturace!B364,fakturace!#REF!,0)","v":{"$error":"#REF!"}},{"$f":"OFFSET(fakturace!C364,fakturace!#REF!,0)","v":{"$error":"#REF!"}},{"$f":"OFFSET(fakturace!F364,fakturace!#REF!,0)","v":{"$error":"#REF!"}}]
[{"$f":"OFFSET(fakturace!B365,fakturace!#REF!,0)","v":{"$error":"#REF!"}},{"$f":"OFFSET(fakturace!C365,fakturace!#REF!,0)","v":{"$error":"#REF!"}},{"$f":"OFFSET(fakturace!F365,fakturace!#REF!,0)","v":{"$error":"#REF!"}}]
[{"$f":"OFFSET(fakturace!B366,fakturace!#REF!,0)","v":{"$error":"#REF!"}},{"$f":"OFFSET(fakturace!C366,fakturace!#REF!,0)","v":{"$error":"#REF!"}},{"$f":"OFFSET(fakturace!F366,fakturace!#REF!,0)","v":{"$error":"#REF!"}}]
[{"$f":"OFFSET(fakturace!B367,fakturace!#REF!,0)","v":{"$error":"#REF!"}},{"$f":"OFFSET(fakturace!C367,fakturace!#REF!,0)","v":{"$error":"#REF!"}},{"$f":"OFFSET(fakturace!F367,fakturace!#REF!,0)","v":{"$error":"#REF!"}}]
[{"$f":"OFFSET(fakturace!B368,fakturace!#REF!,0)","v":{"$error":"#REF!"}},{"$f":"OFFSET(fakturace!C368,fakturace!#REF!,0)","v":{"$error":"#REF!"}},{"$f":"OFFSET(fakturace!F368,fakturace!#REF!,0)","v":{"$error":"#REF!"}}]
[{"$f":"OFFSET(fakturace!B369,fakturace!#REF!,0)","v":{"$error":"#REF!"}},{"$f":"OFFSET(fakturace!C369,fakturace!#REF!,0)","v":{"$error":"#REF!"}},{"$f":"OFFSET(fakturace!F369,fakturace!#REF!,0)","v":{"$error":"#REF!"}}]
[{"$f":"OFFSET(fakturace!B370,fakturace!#REF!,0)","v":{"$error":"#REF!"}},{"$f":"OFFSET(fakturace!C370,fakturace!#REF!,0)","v":{"$error":"#REF!"}},{"$f":"OFFSET(fakturace!F370,fakturace!#REF!,0)","v":{"$error":"#REF!"}}]
[{"$f":"OFFSET(fakturace!B371,fakturace!#REF!,0)","v":{"$error":"#REF!"}},{"$f":"OFFSET(fakturace!C371,fakturace!#REF!,0)","v":{"$error":"#REF!"}},{"$f":"OFFSET(fakturace!F371,fakturace!#REF!,0)","v":{"$error":"#REF!"}}]
[{"$f":"OFFSET(fakturace!B372,fakturace!#REF!,0)","v":{"$error":"#REF!"}},{"$f":"OFFSET(fakturace!C372,fakturace!#REF!,0)","v":{"$error":"#REF!"}},{"$f":"OFFSET(fakturace!F372,fakturace!#REF!,0)","v":{"$error":"#REF!"}}]
[{"$f":"OFFSET(fakturace!B373,fakturace!#REF!,0)","v":{"$error":"#REF!"}},{"$f":"OFFSET(fakturace!C373,fakturace!#REF!,0)","v":{"$error":"#REF!"}},{"$f":"OFFSET(fakturace!F373,fakturace!#REF!,0)","v":{"$error":"#REF!"}}]
[{"$f":"OFFSET(fakturace!B374,fakturace!#REF!,0)","v":{"$error":"#REF!"}},{"$f":"OFFSET(fakturace!C374,fakturace!#REF!,0)","v":{"$error":"#REF!"}},{"$f":"OFFSET(fakturace!F374,fakturace!#REF!,0)","v":{"$error":"#REF!"}}]
[{"$f":"OFFSET(fakturace!B375,fakturace!#REF!,0)","v":{"$error":"#REF!"}},{"$f":"OFFSET(fakturace!C375,fakturace!#REF!,0)","v":{"$error":"#REF!"}},{"$f":"OFFSET(fakturace!F375,fakturace!#REF!,0)","v":{"$error":"#REF!"}}]
[{"$f":"OFFSET(fakturace!B376,fakturace!#REF!,0)","v":{"$error":"#REF!"}},{"$f":"OFFSET(fakturace!C376,fakturace!#REF!,0)","v":{"$error":"#REF!"}},{"$f":"OFFSET(fakturace!F376,fakturace!#REF!,0)","v":{"$error":"#REF!"}}]
[{"$f":"OFFSET(fakturace!B377,fakturace!#REF!,0)","v":{"$error":"#REF!"}},{"$f":"OFFSET(fakturace!C377,fakturace!#REF!,0)","v":{"$error":"#REF!"}},{"$f":"OFFSET(fakturace!F377,fakturace!#REF!,0)","v":{"$error":"#REF!"}}]
[{"$f":"OFFSET(fakturace!B378,fakturace!#REF!,0)","v":{"$error":"#REF!"}},{"$f":"OFFSET(fakturace!C378,fakturace!#REF!,0)","v":{"$error":"#REF!"}},{"$f":"OFFSET(fakturace!F378,fakturace!#REF!,0)","v":{"$error":"#REF!"}}]
[{"$f":"OFFSET(fakturace!B379,fakturace!#REF!,0)","v":{"$error":"#REF!"}},{"$f":"OFFSET(fakturace!C379,fakturace!#REF!,0)","v":{"$error":"#REF!"}},{"$f":"OFFSET(fakturace!F379,fakturace!#REF!,0)","v":{"$error":"#REF!"}}]
[{"$f":"OFFSET(fakturace!B380,fakturace!#REF!,0)","v":{"$error":"#REF!"}},{"$f":"OFFSET(fakturace!C380,fakturace!#REF!,0)","v":{"$error":"#REF!"}},{"$f":"OFFSET(fakturace!F380,fakturace!#REF!,0)","v":{"$error":"#REF!"}}]
[{"$f":"OFFSET(fakturace!B381,fakturace!#REF!,0)","v":{"$error":"#REF!"}},{"$f":"OFFSET(fakturace!C381,fakturace!#REF!,0)","v":{"$error":"#REF!"}},{"$f":"OFFSET(fakturace!F381,fakturace!#REF!,0)","v":{"$error":"#REF!"}}]
[{"$f":"OFFSET(fakturace!B382,fakturace!#REF!,0)","v":{"$error":"#REF!"}},{"$f":"OFFSET(fakturace!C382,fakturace!#REF!,0)","v":{"$error":"#REF!"}},{"$f":"OFFSET(fakturace!F382,fakturace!#REF!,0)","v":{"$error":"#REF!"}}]
[{"$f":"OFFSET(fakturace!B383,fakturace!#REF!,0)","v":{"$error":"#REF!"}},{"$f":"OFFSET(fakturace!C383,fakturace!#REF!,0)","v":{"$error":"#REF!"}},{"$f":"OFFSET(fakturace!F383,fakturace!#REF!,0)","v":{"$error":"#REF!"}}]
[{"$f":"OFFSET(fakturace!B384,fakturace!#REF!,0)","v":{"$error":"#REF!"}},{"$f":"OFFSET(fakturace!C384,fakturace!#REF!,0)","v":{"$error":"#REF!"}},{"$f":"OFFSET(fakturace!F384,fakturace!#REF!,0)","v":{"$error":"#REF!"}}]
[{"$f":"OFFSET(fakturace!B385,fakturace!#REF!,0)","v":{"$error":"#REF!"}},{"$f":"OFFSET(fakturace!C385,fakturace!#REF!,0)","v":{"$error":"#REF!"}},{"$f":"OFFSET(fakturace!F385,fakturace!#REF!,0)","v":{"$error":"#REF!"}}]
[{"$f":"OFFSET(fakturace!B386,fakturace!#REF!,0)","v":{"$error":"#REF!"}},{"$f":"OFFSET(fakturace!C386,fakturace!#REF!,0)","v":{"$error":"#REF!"}},{"$f":"OFFSET(fakturace!F386,fakturace!#REF!,0)","v":{"$error":"#REF!"}}]
[{"$f":"OFFSET(fakturace!B387,fakturace!#REF!,0)","v":{"$error":"#REF!"}},{"$f":"OFFSET(fakturace!C387,fakturace!#REF!,0)","v":{"$error":"#REF!"}},{"$f":"OFFSET(fakturace!F387,fakturace!#REF!,0)","v":{"$error":"#REF!"}}]
[{"$f":"OFFSET(fakturace!B388,fakturace!#REF!,0)","v":{"$error":"#REF!"}},{"$f":"OFFSET(fakturace!C388,fakturace!#REF!,0)","v":{"$error":"#REF!"}},{"$f":"OFFSET(fakturace!F388,fakturace!#REF!,0)","v":{"$error":"#REF!"}}]
[{"$f":"OFFSET(fakturace!B389,fakturace!#REF!,0)","v":{"$error":"#REF!"}},{"$f":"OFFSET(fakturace!C389,fakturace!#REF!,0)","v":{"$error":"#REF!"}},{"$f":"OFFSET(fakturace!F389,fakturace!#REF!,0)","v":{"$error":"#REF!"}}]
[{"$f":"OFFSET(fakturace!B390,fakturace!#REF!,0)","v":{"$error":"#REF!"}},{"$f":"OFFSET(fakturace!C390,fakturace!#REF!,0)","v":{"$error":"#REF!"}},{"$f":"OFFSET(fakturace!F390,fakturace!#REF!,0)","v":{"$error":"#REF!"}}]
[{"$f":"OFFSET(fakturace!B391,fakturace!#REF!,0)","v":{"$error":"#REF!"}},{"$f":"OFFSET(fakturace!C391,fakturace!#REF!,0)","v":{"$error":"#REF!"}},{"$f":"OFFSET(fakturace!F391,fakturace!#REF!,0)","v":{"$error":"#REF!"}}]
[{"$f":"OFFSET(fakturace!B392,fakturace!#REF!,0)","v":{"$error":"#REF!"}},{"$f":"OFFSET(fakturace!C392,fakturace!#REF!,0)","v":{"$error":"#REF!"}},{"$f":"OFFSET(fakturace!F392,fakturace!#REF!,0)","v":{"$error":"#REF!"}}]
[{"$f":"OFFSET(fakturace!B393,fakturace!#REF!,0)","v":{"$error":"#REF!"}},{"$f":"OFFSET(fakturace!C393,fakturace!#REF!,0)","v":{"$error":"#REF!"}},{"$f":"OFFSET(fakturace!F393,fakturace!#REF!,0)","v":{"$error":"#REF!"}}]
[{"$f":"OFFSET(fakturace!B394,fakturace!#REF!,0)","v":{"$error":"#REF!"}},{"$f":"OFFSET(fakturace!C394,fakturace!#REF!,0)","v":{"$error":"#REF!"}},{"$f":"OFFSET(fakturace!F394,fakturace!#REF!,0)","v":{"$error":"#REF!"}}]
[{"$f":"OFFSET(fakturace!B395,fakturace!#REF!,0)","v":{"$error":"#REF!"}},{"$f":"OFFSET(fakturace!C395,fakturace!#REF!,0)","v":{"$error":"#REF!"}},{"$f":"OFFSET(fakturace!F395,fakturace!#REF!,0)","v":{"$error":"#REF!"}}]
[{"$f":"OFFSET(fakturace!B396,fakturace!#REF!,0)","v":{"$error":"#REF!"}},{"$f":"OFFSET(fakturace!C396,fakturace!#REF!,0)","v":{"$error":"#REF!"}},{"$f":"OFFSET(fakturace!F396,fakturace!#REF!,0)","v":{"$error":"#REF!"}}]
[{"$f":"OFFSET(fakturace!B397,fakturace!#REF!,0)","v":{"$error":"#REF!"}},{"$f":"OFFSET(fakturace!C397,fakturace!#REF!,0)","v":{"$error":"#REF!"}},{"$f":"OFFSET(fakturace!F397,fakturace!#REF!,0)","v":{"$error":"#REF!"}}]
[{"$f":"OFFSET(fakturace!B398,fakturace!#REF!,0)","v":{"$error":"#REF!"}},{"$f":"OFFSET(fakturace!C398,fakturace!#REF!,0)","v":{"$error":"#REF!"}},{"$f":"OFFSET(fakturace!F398,fakturace!#REF!,0)","v":{"$error":"#REF!"}}]
[{"$f":"OFFSET(fakturace!B399,fakturace!#REF!,0)","v":{"$error":"#REF!"}},{"$f":"OFFSET(fakturace!C399,fakturace!#REF!,0)","v":{"$error":"#REF!"}},{"$f":"OFFSET(fakturace!F399,fakturace!#REF!,0)","v":{"$error":"#REF!"}}]
[{"$f":"OFFSET(fakturace!B400,fakturace!#REF!,0)","v":{"$error":"#REF!"}},{"$f":"OFFSET(fakturace!C400,fakturace!#REF!,0)","v":{"$error":"#REF!"}},{"$f":"OFFSET(fakturace!F400,fakturace!#REF!,0)","v":{"$error":"#REF!"}}]
[{"$f":"OFFSET(fakturace!B401,fakturace!#REF!,0)","v":{"$error":"#REF!"}},{"$f":"OFFSET(fakturace!C401,fakturace!#REF!,0)","v":{"$error":"#REF!"}},{"$f":"OFFSET(fakturace!F401,fakturace!#REF!,0)","v":{"$error":"#REF!"}}]
[{"$f":"OFFSET(fakturace!B402,fakturace!#REF!,0)","v":{"$error":"#REF!"}},{"$f":"OFFSET(fakturace!C402,fakturace!#REF!,0)","v":{"$error":"#REF!"}},{"$f":"OFFSET(fakturace!F402,fakturace!#REF!,0)","v":{"$error":"#REF!"}}]
[{"$f":"OFFSET(fakturace!B403,fakturace!#REF!,0)","v":{"$error":"#REF!"}},{"$f":"OFFSET(fakturace!C403,fakturace!#REF!,0)","v":{"$error":"#REF!"}},{"$f":"OFFSET(fakturace!F403,fakturace!#REF!,0)","v":{"$error":"#REF!"}}]
[{"$f":"OFFSET(fakturace!B404,fakturace!#REF!,0)","v":{"$error":"#REF!"}},{"$f":"OFFSET(fakturace!C404,fakturace!#REF!,0)","v":{"$error":"#REF!"}},{"$f":"OFFSET(fakturace!F404,fakturace!#REF!,0)","v":{"$error":"#REF!"}}]
[{"$f":"OFFSET(fakturace!B405,fakturace!#REF!,0)","v":{"$error":"#REF!"}},{"$f":"OFFSET(fakturace!C405,fakturace!#REF!,0)","v":{"$error":"#REF!"}},{"$f":"OFFSET(fakturace!F405,fakturace!#REF!,0)","v":{"$error":"#REF!"}}]
[{"$f":"OFFSET(fakturace!B406,fakturace!#REF!,0)","v":{"$error":"#REF!"}},{"$f":"OFFSET(fakturace!C406,fakturace!#REF!,0)","v":{"$error":"#REF!"}},{"$f":"OFFSET(fakturace!F406,fakturace!#REF!,0)","v":{"$error":"#REF!"}}]
[{"$f":"OFFSET(fakturace!B407,fakturace!#REF!,0)","v":{"$error":"#REF!"}},{"$f":"OFFSET(fakturace!C407,fakturace!#REF!,0)","v":{"$error":"#REF!"}},{"$f":"OFFSET(fakturace!F407,fakturace!#REF!,0)","v":{"$error":"#REF!"}}]
[{"$f":"OFFSET(fakturace!B408,fakturace!#REF!,0)","v":{"$error":"#REF!"}},{"$f":"OFFSET(fakturace!C408,fakturace!#REF!,0)","v":{"$error":"#REF!"}},{"$f":"OFFSET(fakturace!F408,fakturace!#REF!,0)","v":{"$error":"#REF!"}}]
[{"$f":"OFFSET(fakturace!B409,fakturace!#REF!,0)","v":{"$error":"#REF!"}},{"$f":"OFFSET(fakturace!C409,fakturace!#REF!,0)","v":{"$error":"#REF!"}},{"$f":"OFFSET(fakturace!F409,fakturace!#REF!,0)","v":{"$error":"#REF!"}}]
[{"$f":"OFFSET(fakturace!B410,fakturace!#REF!,0)","v":{"$error":"#REF!"}},{"$f":"OFFSET(fakturace!C410,fakturace!#REF!,0)","v":{"$error":"#REF!"}},{"$f":"OFFSET(fakturace!F410,fakturace!#REF!,0)","v":{"$error":"#REF!"}}]
[{"$f":"OFFSET(fakturace!B411,fakturace!#REF!,0)","v":{"$error":"#REF!"}},{"$f":"OFFSET(fakturace!C411,fakturace!#REF!,0)","v":{"$error":"#REF!"}},{"$f":"OFFSET(fakturace!F411,fakturace!#REF!,0)","v":{"$error":"#REF!"}}]
[{"$f":"OFFSET(fakturace!B412,fakturace!#REF!,0)","v":{"$error":"#REF!"}},{"$f":"OFFSET(fakturace!C412,fakturace!#REF!,0)","v":{"$error":"#REF!"}},{"$f":"OFFSET(fakturace!F412,fakturace!#REF!,0)","v":{"$error":"#REF!"}}]
[{"$f":"OFFSET(fakturace!B413,fakturace!#REF!,0)","v":{"$error":"#REF!"}},{"$f":"OFFSET(fakturace!C413,fakturace!#REF!,0)","v":{"$error":"#REF!"}},{"$f":"OFFSET(fakturace!F413,fakturace!#REF!,0)","v":{"$error":"#REF!"}}]
[{"$f":"OFFSET(fakturace!B414,fakturace!#REF!,0)","v":{"$error":"#REF!"}},{"$f":"OFFSET(fakturace!C414,fakturace!#REF!,0)","v":{"$error":"#REF!"}},{"$f":"OFFSET(fakturace!F414,fakturace!#REF!,0)","v":{"$error":"#REF!"}}]
[{"$f":"OFFSET(fakturace!B415,fakturace!#REF!,0)","v":{"$error":"#REF!"}},{"$f":"OFFSET(fakturace!C415,fakturace!#REF!,0)","v":{"$error":"#REF!"}},{"$f":"OFFSET(fakturace!F415,fakturace!#REF!,0)","v":{"$error":"#REF!"}}]
[{"$f":"OFFSET(fakturace!B416,fakturace!#REF!,0)","v":{"$error":"#REF!"}},{"$f":"OFFSET(fakturace!C416,fakturace!#REF!,0)","v":{"$error":"#REF!"}},{"$f":"OFFSET(fakturace!F416,fakturace!#REF!,0)","v":{"$error":"#REF!"}}]
[{"$f":"OFFSET(fakturace!B417,fakturace!#REF!,0)","v":{"$error":"#REF!"}},{"$f":"OFFSET(fakturace!C417,fakturace!#REF!,0)","v":{"$error":"#REF!"}},{"$f":"OFFSET(fakturace!F417,fakturace!#REF!,0)","v":{"$error":"#REF!"}}]
[{"$f":"OFFSET(fakturace!B418,fakturace!#REF!,0)","v":{"$error":"#REF!"}},{"$f":"OFFSET(fakturace!C418,fakturace!#REF!,0)","v":{"$error":"#REF!"}},{"$f":"OFFSET(fakturace!F418,fakturace!#REF!,0)","v":{"$error":"#REF!"}}]
[{"$f":"OFFSET(fakturace!B419,fakturace!#REF!,0)","v":{"$error":"#REF!"}},{"$f":"OFFSET(fakturace!C419,fakturace!#REF!,0)","v":{"$error":"#REF!"}},{"$f":"OFFSET(fakturace!F419,fakturace!#REF!,0)","v":{"$error":"#REF!"}}]
[{"$f":"OFFSET(fakturace!B420,fakturace!#REF!,0)","v":{"$error":"#REF!"}},{"$f":"OFFSET(fakturace!C420,fakturace!#REF!,0)","v":{"$error":"#REF!"}},{"$f":"OFFSET(fakturace!F420,fakturace!#REF!,0)","v":{"$error":"#REF!"}}]
[{"$f":"OFFSET(fakturace!B421,fakturace!#REF!,0)","v":{"$error":"#REF!"}},{"$f":"OFFSET(fakturace!C421,fakturace!#REF!,0)","v":{"$error":"#REF!"}},{"$f":"OFFSET(fakturace!F421,fakturace!#REF!,0)","v":{"$error":"#REF!"}}]
[{"$f":"OFFSET(fakturace!B422,fakturace!#REF!,0)","v":{"$error":"#REF!"}},{"$f":"OFFSET(fakturace!C422,fakturace!#REF!,0)","v":{"$error":"#REF!"}},{"$f":"OFFSET(fakturace!F422,fakturace!#REF!,0)","v":{"$error":"#REF!"}}]
[{"$f":"OFFSET(fakturace!B423,fakturace!#REF!,0)","v":{"$error":"#REF!"}},{"$f":"OFFSET(fakturace!C423,fakturace!#REF!,0)","v":{"$error":"#REF!"}},{"$f":"OFFSET(fakturace!F423,fakturace!#REF!,0)","v":{"$error":"#REF!"}}]
[{"$f":"OFFSET(fakturace!B424,fakturace!#REF!,0)","v":{"$error":"#REF!"}},{"$f":"OFFSET(fakturace!C424,fakturace!#REF!,0)","v":{"$error":"#REF!"}},{"$f":"OFFSET(fakturace!F424,fakturace!#REF!,0)","v":{"$error":"#REF!"}}]
[{"$f":"OFFSET(fakturace!B425,fakturace!#REF!,0)","v":{"$error":"#REF!"}},{"$f":"OFFSET(fakturace!C425,fakturace!#REF!,0)","v":{"$error":"#REF!"}},{"$f":"OFFSET(fakturace!F425,fakturace!#REF!,0)","v":{"$error":"#REF!"}}]
[{"$f":"OFFSET(fakturace!B426,fakturace!#REF!,0)","v":{"$error":"#REF!"}},{"$f":"OFFSET(fakturace!C426,fakturace!#REF!,0)","v":{"$error":"#REF!"}},{"$f":"OFFSET(fakturace!F426,fakturace!#REF!,0)","v":{"$error":"#REF!"}}]
[{"$f":"OFFSET(fakturace!B427,fakturace!#REF!,0)","v":{"$error":"#REF!"}},{"$f":"OFFSET(fakturace!C427,fakturace!#REF!,0)","v":{"$error":"#REF!"}},{"$f":"OFFSET(fakturace!F427,fakturace!#REF!,0)","v":{"$error":"#REF!"}}]
[{"$f":"OFFSET(fakturace!B428,fakturace!#REF!,0)","v":{"$error":"#REF!"}},{"$f":"OFFSET(fakturace!C428,fakturace!#REF!,0)","v":{"$error":"#REF!"}},{"$f":"OFFSET(fakturace!F428,fakturace!#REF!,0)","v":{"$error":"#REF!"}}]
[{"$f":"OFFSET(fakturace!B429,fakturace!#REF!,0)","v":{"$error":"#REF!"}},{"$f":"OFFSET(fakturace!C429,fakturace!#REF!,0)","v":{"$error":"#REF!"}},{"$f":"OFFSET(fakturace!F429,fakturace!#REF!,0)","v":{"$error":"#REF!"}}]
[{"$f":"OFFSET(fakturace!B430,fakturace!#REF!,0)","v":{"$error":"#REF!"}},{"$f":"OFFSET(fakturace!C430,fakturace!#REF!,0)","v":{"$error":"#REF!"}},{"$f":"OFFSET(fakturace!F430,fakturace!#REF!,0)","v":{"$error":"#REF!"}}]
[{"$f":"OFFSET(fakturace!B431,fakturace!#REF!,0)","v":{"$error":"#REF!"}},{"$f":"OFFSET(fakturace!C431,fakturace!#REF!,0)","v":{"$error":"#REF!"}},{"$f":"OFFSET(fakturace!F431,fakturace!#REF!,0)","v":{"$error":"#REF!"}}]
[{"$f":"OFFSET(fakturace!B432,fakturace!#REF!,0)","v":{"$error":"#REF!"}},{"$f":"OFFSET(fakturace!C432,fakturace!#REF!,0)","v":{"$error":"#REF!"}},{"$f":"OFFSET(fakturace!F432,fakturace!#REF!,0)","v":{"$error":"#REF!"}}]
[{"$f":"OFFSET(fakturace!B433,fakturace!#REF!,0)","v":{"$error":"#REF!"}},{"$f":"OFFSET(fakturace!C433,fakturace!#REF!,0)","v":{"$error":"#REF!"}},{"$f":"OFFSET(fakturace!F433,fakturace!#REF!,0)","v":{"$error":"#REF!"}}]
[{"$f":"OFFSET(fakturace!B434,fakturace!#REF!,0)","v":{"$error":"#REF!"}},{"$f":"OFFSET(fakturace!C434,fakturace!#REF!,0)","v":{"$error":"#REF!"}},{"$f":"OFFSET(fakturace!F434,fakturace!#REF!,0)","v":{"$error":"#REF!"}}]
[{"$f":"OFFSET(fakturace!B435,fakturace!#REF!,0)","v":{"$error":"#REF!"}},{"$f":"OFFSET(fakturace!C435,fakturace!#REF!,0)","v":{"$error":"#REF!"}},{"$f":"OFFSET(fakturace!F435,fakturace!#REF!,0)","v":{"$error":"#REF!"}}]
[{"$f":"OFFSET(fakturace!B436,fakturace!#REF!,0)","v":{"$error":"#REF!"}},{"$f":"OFFSET(fakturace!C436,fakturace!#REF!,0)","v":{"$error":"#REF!"}},{"$f":"OFFSET(fakturace!F436,fakturace!#REF!,0)","v":{"$error":"#REF!"}}]
[{"$f":"OFFSET(fakturace!B437,fakturace!#REF!,0)","v":{"$error":"#REF!"}},{"$f":"OFFSET(fakturace!C437,fakturace!#REF!,0)","v":{"$error":"#REF!"}},{"$f":"OFFSET(fakturace!F437,fakturace!#REF!,0)","v":{"$error":"#REF!"}}]
[{"$f":"OFFSET(fakturace!B438,fakturace!#REF!,0)","v":{"$error":"#REF!"}},{"$f":"OFFSET(fakturace!C438,fakturace!#REF!,0)","v":{"$error":"#REF!"}},{"$f":"OFFSET(fakturace!F438,fakturace!#REF!,0)","v":{"$error":"#REF!"}}]
[{"$f":"OFFSET(fakturace!B439,fakturace!#REF!,0)","v":{"$error":"#REF!"}},{"$f":"OFFSET(fakturace!C439,fakturace!#REF!,0)","v":{"$error":"#REF!"}},{"$f":"OFFSET(fakturace!F439,fakturace!#REF!,0)","v":{"$error":"#REF!"}}]
[{"$f":"OFFSET(fakturace!B440,fakturace!#REF!,0)","v":{"$error":"#REF!"}},{"$f":"OFFSET(fakturace!C440,fakturace!#REF!,0)","v":{"$error":"#REF!"}},{"$f":"OFFSET(fakturace!F440,fakturace!#REF!,0)","v":{"$error":"#REF!"}}]
[{"$f":"OFFSET(fakturace!B441,fakturace!#REF!,0)","v":{"$error":"#REF!"}},{"$f":"OFFSET(fakturace!C441,fakturace!#REF!,0)","v":{"$error":"#REF!"}},{"$f":"OFFSET(fakturace!F441,fakturace!#REF!,0)","v":{"$error":"#REF!"}}]
[{"$f":"OFFSET(fakturace!B442,fakturace!#REF!,0)","v":{"$error":"#REF!"}},{"$f":"OFFSET(fakturace!C442,fakturace!#REF!,0)","v":{"$error":"#REF!"}},{"$f":"OFFSET(fakturace!F442,fakturace!#REF!,0)","v":{"$error":"#REF!"}}]
[{"$f":"OFFSET(fakturace!B443,fakturace!#REF!,0)","v":{"$error":"#REF!"}},{"$f":"OFFSET(fakturace!C443,fakturace!#REF!,0)","v":{"$error":"#REF!"}},{"$f":"OFFSET(fakturace!F443,fakturace!#REF!,0)","v":{"$error":"#REF!"}}]
[{"$f":"OFFSET(fakturace!B444,fakturace!#REF!,0)","v":{"$error":"#REF!"}},{"$f":"OFFSET(fakturace!C444,fakturace!#REF!,0)","v":{"$error":"#REF!"}},{"$f":"OFFSET(fakturace!F444,fakturace!#REF!,0)","v":{"$error":"#REF!"}}]
[{"$f":"OFFSET(fakturace!B445,fakturace!#REF!,0)","v":{"$error":"#REF!"}},{"$f":"OFFSET(fakturace!C445,fakturace!#REF!,0)","v":{"$error":"#REF!"}},{"$f":"OFFSET(fakturace!F445,fakturace!#REF!,0)","v":{"$error":"#REF!"}}]
[{"$f":"OFFSET(fakturace!B446,fakturace!#REF!,0)","v":{"$error":"#REF!"}},{"$f":"OFFSET(fakturace!C446,fakturace!#REF!,0)","v":{"$error":"#REF!"}},{"$f":"OFFSET(fakturace!F446,fakturace!#REF!,0)","v":{"$error":"#REF!"}}]
[{"$f":"OFFSET(fakturace!B447,fakturace!#REF!,0)","v":{"$error":"#REF!"}},{"$f":"OFFSET(fakturace!C447,fakturace!#REF!,0)","v":{"$error":"#REF!"}},{"$f":"OFFSET(fakturace!F447,fakturace!#REF!,0)","v":{"$error":"#REF!"}}]
[{"$f":"OFFSET(fakturace!B448,fakturace!#REF!,0)","v":{"$error":"#REF!"}},{"$f":"OFFSET(fakturace!C448,fakturace!#REF!,0)","v":{"$error":"#REF!"}},{"$f":"OFFSET(fakturace!F448,fakturace!#REF!,0)","v":{"$error":"#REF!"}}]
[{"$f":"OFFSET(fakturace!B449,fakturace!#REF!,0)","v":{"$error":"#REF!"}},{"$f":"OFFSET(fakturace!C449,fakturace!#REF!,0)","v":{"$error":"#REF!"}},{"$f":"OFFSET(fakturace!F449,fakturace!#REF!,0)","v":{"$error":"#REF!"}}]
[{"$f":"OFFSET(fakturace!B450,fakturace!#REF!,0)","v":{"$error":"#REF!"}},{"$f":"OFFSET(fakturace!C450,fakturace!#REF!,0)","v":{"$error":"#REF!"}},{"$f":"OFFSET(fakturace!F450,fakturace!#REF!,0)","v":{"$error":"#REF!"}}]
[{"$f":"OFFSET(fakturace!B451,fakturace!#REF!,0)","v":{"$error":"#REF!"}},{"$f":"OFFSET(fakturace!C451,fakturace!#REF!,0)","v":{"$error":"#REF!"}},{"$f":"OFFSET(fakturace!F451,fakturace!#REF!,0)","v":{"$error":"#REF!"}}]
[{"$f":"OFFSET(fakturace!B452,fakturace!#REF!,0)","v":{"$error":"#REF!"}},{"$f":"OFFSET(fakturace!C452,fakturace!#REF!,0)","v":{"$error":"#REF!"}},{"$f":"OFFSET(fakturace!F452,fakturace!#REF!,0)","v":{"$error":"#REF!"}}]
[{"$f":"OFFSET(fakturace!B453,fakturace!#REF!,0)","v":{"$error":"#REF!"}},{"$f":"OFFSET(fakturace!C453,fakturace!#REF!,0)","v":{"$error":"#REF!"}},{"$f":"OFFSET(fakturace!F453,fakturace!#REF!,0)","v":{"$error":"#REF!"}}]
[{"$f":"OFFSET(fakturace!B454,fakturace!#REF!,0)","v":{"$error":"#REF!"}},{"$f":"OFFSET(fakturace!C454,fakturace!#REF!,0)","v":{"$error":"#REF!"}},{"$f":"OFFSET(fakturace!F454,fakturace!#REF!,0)","v":{"$error":"#REF!"}}]
[{"$f":"OFFSET(fakturace!B455,fakturace!#REF!,0)","v":{"$error":"#REF!"}},{"$f":"OFFSET(fakturace!C455,fakturace!#REF!,0)","v":{"$error":"#REF!"}},{"$f":"OFFSET(fakturace!F455,fakturace!#REF!,0)","v":{"$error":"#REF!"}}]
[{"$f":"OFFSET(fakturace!B456,fakturace!#REF!,0)","v":{"$error":"#REF!"}},{"$f":"OFFSET(fakturace!C456,fakturace!#REF!,0)","v":{"$error":"#REF!"}},{"$f":"OFFSET(fakturace!F456,fakturace!#REF!,0)","v":{"$error":"#REF!"}}]
[{"$f":"OFFSET(fakturace!B457,fakturace!#REF!,0)","v":{"$error":"#REF!"}},{"$f":"OFFSET(fakturace!C457,fakturace!#REF!,0)","v":{"$error":"#REF!"}},{"$f":"OFFSET(fakturace!F457,fakturace!#REF!,0)","v":{"$error":"#REF!"}}]
[{"$f":"OFFSET(fakturace!B458,fakturace!#REF!,0)","v":{"$error":"#REF!"}},{"$f":"OFFSET(fakturace!C458,fakturace!#REF!,0)","v":{"$error":"#REF!"}},{"$f":"OFFSET(fakturace!F458,fakturace!#REF!,0)","v":{"$error":"#REF!"}}]
[{"$f":"OFFSET(fakturace!B459,fakturace!#REF!,0)","v":{"$error":"#REF!"}},{"$f":"OFFSET(fakturace!C459,fakturace!#REF!,0)","v":{"$error":"#REF!"}},{"$f":"OFFSET(fakturace!F459,fakturace!#REF!,0)","v":{"$error":"#REF!"}}]
[{"$f":"OFFSET(fakturace!B460,fakturace!#REF!,0)","v":{"$error":"#REF!"}},{"$f":"OFFSET(fakturace!C460,fakturace!#REF!,0)","v":{"$error":"#REF!"}},{"$f":"OFFSET(fakturace!F460,fakturace!#REF!,0)","v":{"$error":"#REF!"}}]
[{"$f":"OFFSET(fakturace!B461,fakturace!#REF!,0)","v":{"$error":"#REF!"}},{"$f":"OFFSET(fakturace!C461,fakturace!#REF!,0)","v":{"$error":"#REF!"}},{"$f":"OFFSET(fakturace!F461,fakturace!#REF!,0)","v":{"$error":"#REF!"}}]
[{"$f":"OFFSET(fakturace!B462,fakturace!#REF!,0)","v":{"$error":"#REF!"}},{"$f":"OFFSET(fakturace!C462,fakturace!#REF!,0)","v":{"$error":"#REF!"}},{"$f":"OFFSET(fakturace!F462,fakturace!#REF!,0)","v":{"$error":"#REF!"}}]
[{"$f":"OFFSET(fakturace!B463,fakturace!#REF!,0)","v":{"$error":"#REF!"}},{"$f":"OFFSET(fakturace!C463,fakturace!#REF!,0)","v":{"$error":"#REF!"}},{"$f":"OFFSET(fakturace!F463,fakturace!#REF!,0)","v":{"$error":"#REF!"}}]
[{"$f":"OFFSET(fakturace!B464,fakturace!#REF!,0)","v":{"$error":"#REF!"}},{"$f":"OFFSET(fakturace!C464,fakturace!#REF!,0)","v":{"$error":"#REF!"}},{"$f":"OFFSET(fakturace!F464,fakturace!#REF!,0)","v":{"$error":"#REF!"}}]
[{"$f":"OFFSET(fakturace!B465,fakturace!#REF!,0)","v":{"$error":"#REF!"}},{"$f":"OFFSET(fakturace!C465,fakturace!#REF!,0)","v":{"$error":"#REF!"}},{"$f":"OFFSET(fakturace!F465,fakturace!#REF!,0)","v":{"$error":"#REF!"}}]
[{"$f":"OFFSET(fakturace!B466,fakturace!#REF!,0)","v":{"$error":"#REF!"}},{"$f":"OFFSET(fakturace!C466,fakturace!#REF!,0)","v":{"$error":"#REF!"}},{"$f":"OFFSET(fakturace!F466,fakturace!#REF!,0)","v":{"$error":"#REF!"}}]
[{"$f":"OFFSET(fakturace!B467,fakturace!#REF!,0)","v":{"$error":"#REF!"}},{"$f":"OFFSET(fakturace!C467,fakturace!#REF!,0)","v":{"$error":"#REF!"}},{"$f":"OFFSET(fakturace!F467,fakturace!#REF!,0)","v":{"$error":"#REF!"}}]
[{"$f":"OFFSET(fakturace!B468,fakturace!#REF!,0)","v":{"$error":"#REF!"}},{"$f":"OFFSET(fakturace!C468,fakturace!#REF!,0)","v":{"$error":"#REF!"}},{"$f":"OFFSET(fakturace!F468,fakturace!#REF!,0)","v":{"$error":"#REF!"}}]
[{"$f":"OFFSET(fakturace!B469,fakturace!#REF!,0)","v":{"$error":"#REF!"}},{"$f":"OFFSET(fakturace!C469,fakturace!#REF!,0)","v":{"$error":"#REF!"}},{"$f":"OFFSET(fakturace!F469,fakturace!#REF!,0)","v":{"$error":"#REF!"}}]
[{"$f":"OFFSET(fakturace!B470,fakturace!#REF!,0)","v":{"$error":"#REF!"}},{"$f":"OFFSET(fakturace!C470,fakturace!#REF!,0)","v":{"$error":"#REF!"}},{"$f":"OFFSET(fakturace!F470,fakturace!#REF!,0)","v":{"$error":"#REF!"}}]
[{"$f":"OFFSET(fakturace!B471,fakturace!#REF!,0)","v":{"$error":"#REF!"}},{"$f":"OFFSET(fakturace!C471,fakturace!#REF!,0)","v":{"$error":"#REF!"}},{"$f":"OFFSET(fakturace!F471,fakturace!#REF!,0)","v":{"$error":"#REF!"}}]
[{"$f":"OFFSET(fakturace!B472,fakturace!#REF!,0)","v":{"$error":"#REF!"}},{"$f":"OFFSET(fakturace!C472,fakturace!#REF!,0)","v":{"$error":"#REF!"}},{"$f":"OFFSET(fakturace!F472,fakturace!#REF!,0)","v":{"$error":"#REF!"}}]
[{"$f":"OFFSET(fakturace!B473,fakturace!#REF!,0)","v":{"$error":"#REF!"}},{"$f":"OFFSET(fakturace!C473,fakturace!#REF!,0)","v":{"$error":"#REF!"}},{"$f":"OFFSET(fakturace!F473,fakturace!#REF!,0)","v":{"$error":"#REF!"}}]
[{"$f":"OFFSET(fakturace!B474,fakturace!#REF!,0)","v":{"$error":"#REF!"}},{"$f":"OFFSET(fakturace!C474,fakturace!#REF!,0)","v":{"$error":"#REF!"}},{"$f":"OFFSET(fakturace!F474,fakturace!#REF!,0)","v":{"$error":"#REF!"}}]
[{"$f":"OFFSET(fakturace!B475,fakturace!#REF!,0)","v":{"$error":"#REF!"}},{"$f":"OFFSET(fakturace!C475,fakturace!#REF!,0)","v":{"$error":"#REF!"}},{"$f":"OFFSET(fakturace!F475,fakturace!#REF!,0)","v":{"$error":"#REF!"}}]
[{"$f":"OFFSET(fakturace!B476,fakturace!#REF!,0)","v":{"$error":"#REF!"}},{"$f":"OFFSET(fakturace!C476,fakturace!#REF!,0)","v":{"$error":"#REF!"}},{"$f":"OFFSET(fakturace!F476,fakturace!#REF!,0)","v":{"$error":"#REF!"}}]
[{"$f":"OFFSET(fakturace!B477,fakturace!#REF!,0)","v":{"$error":"#REF!"}},{"$f":"OFFSET(fakturace!C477,fakturace!#REF!,0)","v":{"$error":"#REF!"}},{"$f":"OFFSET(fakturace!F477,fakturace!#REF!,0)","v":{"$error":"#REF!"}}]
[{"$f":"OFFSET(fakturace!B478,fakturace!#REF!,0)","v":{"$error":"#REF!"}},{"$f":"OFFSET(fakturace!C478,fakturace!#REF!,0)","v":{"$error":"#REF!"}},{"$f":"OFFSET(fakturace!F478,fakturace!#REF!,0)","v":{"$error":"#REF!"}}]
[{"$f":"OFFSET(fakturace!B479,fakturace!#REF!,0)","v":{"$error":"#REF!"}},{"$f":"OFFSET(fakturace!C479,fakturace!#REF!,0)","v":{"$error":"#REF!"}},{"$f":"OFFSET(fakturace!F479,fakturace!#REF!,0)","v":{"$error":"#REF!"}}]
[{"$f":"OFFSET(fakturace!B480,fakturace!#REF!,0)","v":{"$error":"#REF!"}},{"$f":"OFFSET(fakturace!C480,fakturace!#REF!,0)","v":{"$error":"#REF!"}},{"$f":"OFFSET(fakturace!F480,fakturace!#REF!,0)","v":{"$error":"#REF!"}}]
[{"$f":"OFFSET(fakturace!B481,fakturace!#REF!,0)","v":{"$error":"#REF!"}},{"$f":"OFFSET(fakturace!C481,fakturace!#REF!,0)","v":{"$error":"#REF!"}},{"$f":"OFFSET(fakturace!F481,fakturace!#REF!,0)","v":{"$error":"#REF!"}}]
[{"$f":"OFFSET(fakturace!B482,fakturace!#REF!,0)","v":{"$error":"#REF!"}},{"$f":"OFFSET(fakturace!C482,fakturace!#REF!,0)","v":{"$error":"#REF!"}},{"$f":"OFFSET(fakturace!F482,fakturace!#REF!,0)","v":{"$error":"#REF!"}}]
[{"$f":"OFFSET(fakturace!B483,fakturace!#REF!,0)","v":{"$error":"#REF!"}},{"$f":"OFFSET(fakturace!C483,fakturace!#REF!,0)","v":{"$error":"#REF!"}},{"$f":"OFFSET(fakturace!F483,fakturace!#REF!,0)","v":{"$error":"#REF!"}}]
[{"$f":"OFFSET(fakturace!B484,fakturace!#REF!,0)","v":{"$error":"#REF!"}},{"$f":"OFFSET(fakturace!C484,fakturace!#REF!,0)","v":{"$error":"#REF!"}},{"$f":"OFFSET(fakturace!F484,fakturace!#REF!,0)","v":{"$error":"#REF!"}}]
[{"$f":"OFFSET(fakturace!B485,fakturace!#REF!,0)","v":{"$error":"#REF!"}},{"$f":"OFFSET(fakturace!C485,fakturace!#REF!,0)","v":{"$error":"#REF!"}},{"$f":"OFFSET(fakturace!F485,fakturace!#REF!,0)","v":{"$error":"#REF!"}}]
[{"$f":"OFFSET(fakturace!B486,fakturace!#REF!,0)","v":{"$error":"#REF!"}},{"$f":"OFFSET(fakturace!C486,fakturace!#REF!,0)","v":{"$error":"#REF!"}},{"$f":"OFFSET(fakturace!F486,fakturace!#REF!,0)","v":{"$error":"#REF!"}}]
[{"$f":"OFFSET(fakturace!B487,fakturace!#REF!,0)","v":{"$error":"#REF!"}},{"$f":"OFFSET(fakturace!C487,fakturace!#REF!,0)","v":{"$error":"#REF!"}},{"$f":"OFFSET(fakturace!F487,fakturace!#REF!,0)","v":{"$error":"#REF!"}}]
[{"$f":"OFFSET(fakturace!B488,fakturace!#REF!,0)","v":{"$error":"#REF!"}},{"$f":"OFFSET(fakturace!C488,fakturace!#REF!,0)","v":{"$error":"#REF!"}},{"$f":"OFFSET(fakturace!F488,fakturace!#REF!,0)","v":{"$error":"#REF!"}}]
[{"$f":"OFFSET(fakturace!B489,fakturace!#REF!,0)","v":{"$error":"#REF!"}},{"$f":"OFFSET(fakturace!C489,fakturace!#REF!,0)","v":{"$error":"#REF!"}},{"$f":"OFFSET(fakturace!F489,fakturace!#REF!,0)","v":{"$error":"#REF!"}}]
[{"$f":"OFFSET(fakturace!B490,fakturace!#REF!,0)","v":{"$error":"#REF!"}},{"$f":"OFFSET(fakturace!C490,fakturace!#REF!,0)","v":{"$error":"#REF!"}},{"$f":"OFFSET(fakturace!F490,fakturace!#REF!,0)","v":{"$error":"#REF!"}}]
[{"$f":"OFFSET(fakturace!B491,fakturace!#REF!,0)","v":{"$error":"#REF!"}},{"$f":"OFFSET(fakturace!C491,fakturace!#REF!,0)","v":{"$error":"#REF!"}},{"$f":"OFFSET(fakturace!F491,fakturace!#REF!,0)","v":{"$error":"#REF!"}}]
[{"$f":"OFFSET(fakturace!B492,fakturace!#REF!,0)","v":{"$error":"#REF!"}},{"$f":"OFFSET(fakturace!C492,fakturace!#REF!,0)","v":{"$error":"#REF!"}},{"$f":"OFFSET(fakturace!F492,fakturace!#REF!,0)","v":{"$error":"#REF!"}}]
[{"$f":"OFFSET(fakturace!B493,fakturace!#REF!,0)","v":{"$error":"#REF!"}},{"$f":"OFFSET(fakturace!C493,fakturace!#REF!,0)","v":{"$error":"#REF!"}},{"$f":"OFFSET(fakturace!F493,fakturace!#REF!,0)","v":{"$error":"#REF!"}}]
[{"$f":"OFFSET(fakturace!B494,fakturace!#REF!,0)","v":{"$error":"#REF!"}},{"$f":"OFFSET(fakturace!C494,fakturace!#REF!,0)","v":{"$error":"#REF!"}},{"$f":"OFFSET(fakturace!F494,fakturace!#REF!,0)","v":{"$error":"#REF!"}}]
[{"$f":"OFFSET(fakturace!B495,fakturace!#REF!,0)","v":{"$error":"#REF!"}},{"$f":"OFFSET(fakturace!C495,fakturace!#REF!,0)","v":{"$error":"#REF!"}},{"$f":"OFFSET(fakturace!F495,fakturace!#REF!,0)","v":{"$error":"#REF!"}}]
[{"$f":"OFFSET(fakturace!B496,fakturace!#REF!,0)","v":{"$error":"#REF!"}},{"$f":"OFFSET(fakturace!C496,fakturace!#REF!,0)","v":{"$error":"#REF!"}},{"$f":"OFFSET(fakturace!F496,fakturace!#REF!,0)","v":{"$error":"#REF!"}}]
[{"$f":"OFFSET(fakturace!B497,fakturace!#REF!,0)","v":{"$error":"#REF!"}},{"$f":"OFFSET(fakturace!C497,fakturace!#REF!,0)","v":{"$error":"#REF!"}},{"$f":"OFFSET(fakturace!F497,fakturace!#REF!,0)","v":{"$error":"#REF!"}}]
[{"$f":"OFFSET(fakturace!B498,fakturace!#REF!,0)","v":{"$error":"#REF!"}},{"$f":"OFFSET(fakturace!C498,fakturace!#REF!,0)","v":{"$error":"#REF!"}},{"$f":"OFFSET(fakturace!F498,fakturace!#REF!,0)","v":{"$error":"#REF!"}}]
[{"$f":"OFFSET(fakturace!B499,fakturace!#REF!,0)","v":{"$error":"#REF!"}},{"$f":"OFFSET(fakturace!C499,fakturace!#REF!,0)","v":{"$error":"#REF!"}},{"$f":"OFFSET(fakturace!F499,fakturace!#REF!,0)","v":{"$error":"#REF!"}}]
[{"$f":"OFFSET(fakturace!B500,fakturace!#REF!,0)","v":{"$error":"#REF!"}},{"$f":"OFFSET(fakturace!C500,fakturace!#REF!,0)","v":{"$error":"#REF!"}},{"$f":"OFFSET(fakturace!F500,fakturace!#REF!,0)","v":{"$error":"#REF!"}}]
[{"$f":"OFFSET(fakturace!B501,fakturace!#REF!,0)","v":{"$error":"#REF!"}},{"$f":"OFFSET(fakturace!C501,fakturace!#REF!,0)","v":{"$error":"#REF!"}},{"$f":"OFFSET(fakturace!F501,fakturace!#REF!,0)","v":{"$error":"#REF!"}}]
[{"$f":"OFFSET(fakturace!B502,fakturace!#REF!,0)","v":{"$error":"#REF!"}},{"$f":"OFFSET(fakturace!C502,fakturace!#REF!,0)","v":{"$error":"#REF!"}},{"$f":"OFFSET(fakturace!F502,fakturace!#REF!,0)","v":{"$error":"#REF!"}}]
[{"$f":"OFFSET(fakturace!B503,fakturace!#REF!,0)","v":{"$error":"#REF!"}},{"$f":"OFFSET(fakturace!C503,fakturace!#REF!,0)","v":{"$error":"#REF!"}},{"$f":"OFFSET(fakturace!F503,fakturace!#REF!,0)","v":{"$error":"#REF!"}}]
[{"$f":"OFFSET(fakturace!B504,fakturace!#REF!,0)","v":{"$error":"#REF!"}},{"$f":"OFFSET(fakturace!C504,fakturace!#REF!,0)","v":{"$error":"#REF!"}},{"$f":"OFFSET(fakturace!F504,fakturace!#REF!,0)","v":{"$error":"#REF!"}}]
[{"$f":"OFFSET(fakturace!B505,fakturace!#REF!,0)","v":{"$error":"#REF!"}},{"$f":"OFFSET(fakturace!C505,fakturace!#REF!,0)","v":{"$error":"#REF!"}},{"$f":"OFFSET(fakturace!F505,fakturace!#REF!,0)","v":{"$error":"#REF!"}}]
[{"$f":"OFFSET(fakturace!B506,fakturace!#REF!,0)","v":{"$error":"#REF!"}},{"$f":"OFFSET(fakturace!C506,fakturace!#REF!,0)","v":{"$error":"#REF!"}},{"$f":"OFFSET(fakturace!F506,fakturace!#REF!,0)","v":{"$error":"#REF!"}}]
[{"$f":"OFFSET(fakturace!B507,fakturace!#REF!,0)","v":{"$error":"#REF!"}},{"$f":"OFFSET(fakturace!C507,fakturace!#REF!,0)","v":{"$error":"#REF!"}},{"$f":"OFFSET(fakturace!F507,fakturace!#REF!,0)","v":{"$error":"#REF!"}}]
[{"$f":"OFFSET(fakturace!B508,fakturace!#REF!,0)","v":{"$error":"#REF!"}},{"$f":"OFFSET(fakturace!C508,fakturace!#REF!,0)","v":{"$error":"#REF!"}},{"$f":"OFFSET(fakturace!F508,fakturace!#REF!,0)","v":{"$error":"#REF!"}}]
[{"$f":"OFFSET(fakturace!B509,fakturace!#REF!,0)","v":{"$error":"#REF!"}},{"$f":"OFFSET(fakturace!C509,fakturace!#REF!,0)","v":{"$error":"#REF!"}},{"$f":"OFFSET(fakturace!F509,fakturace!#REF!,0)","v":{"$error":"#REF!"}}]
[{"$f":"OFFSET(fakturace!B510,fakturace!#REF!,0)","v":{"$error":"#REF!"}},{"$f":"OFFSET(fakturace!C510,fakturace!#REF!,0)","v":{"$error":"#REF!"}},{"$f":"OFFSET(fakturace!F510,fakturace!#REF!,0)","v":{"$error":"#REF!"}}]
[{"$f":"OFFSET(fakturace!B511,fakturace!#REF!,0)","v":{"$error":"#REF!"}},{"$f":"OFFSET(fakturace!C511,fakturace!#REF!,0)","v":{"$error":"#REF!"}},{"$f":"OFFSET(fakturace!F511,fakturace!#REF!,0)","v":{"$error":"#REF!"}}]
[{"$f":"OFFSET(fakturace!B512,fakturace!#REF!,0)","v":{"$error":"#REF!"}},{"$f":"OFFSET(fakturace!C512,fakturace!#REF!,0)","v":{"$error":"#REF!"}},{"$f":"OFFSET(fakturace!F512,fakturace!#REF!,0)","v":{"$error":"#REF!"}}]
[{"$f":"OFFSET(fakturace!B513,fakturace!#REF!,0)","v":{"$error":"#REF!"}},{"$f":"OFFSET(fakturace!C513,fakturace!#REF!,0)","v":{"$error":"#REF!"}},{"$f":"OFFSET(fakturace!F513,fakturace!#REF!,0)","v":{"$error":"#REF!"}}]
[{"$f":"OFFSET(fakturace!B514,fakturace!#REF!,0)","v":{"$error":"#REF!"}},{"$f":"OFFSET(fakturace!C514,fakturace!#REF!,0)","v":{"$error":"#REF!"}},{"$f":"OFFSET(fakturace!F514,fakturace!#REF!,0)","v":{"$error":"#REF!"}}]
[{"$f":"OFFSET(fakturace!B515,fakturace!#REF!,0)","v":{"$error":"#REF!"}},{"$f":"OFFSET(fakturace!C515,fakturace!#REF!,0)","v":{"$error":"#REF!"}},{"$f":"OFFSET(fakturace!F515,fakturace!#REF!,0)","v":{"$error":"#REF!"}}]
[{"$f":"OFFSET(fakturace!B516,fakturace!#REF!,0)","v":{"$error":"#REF!"}},{"$f":"OFFSET(fakturace!C516,fakturace!#REF!,0)","v":{"$error":"#REF!"}},{"$f":"OFFSET(fakturace!F516,fakturace!#REF!,0)","v":{"$error":"#REF!"}}]
[{"$f":"OFFSET(fakturace!B517,fakturace!#REF!,0)","v":{"$error":"#REF!"}},{"$f":"OFFSET(fakturace!C517,fakturace!#REF!,0)","v":{"$error":"#REF!"}},{"$f":"OFFSET(fakturace!F517,fakturace!#REF!,0)","v":{"$error":"#REF!"}}]
[{"$f":"OFFSET(fakturace!B518,fakturace!#REF!,0)","v":{"$error":"#REF!"}},{"$f":"OFFSET(fakturace!C518,fakturace!#REF!,0)","v":{"$error":"#REF!"}},{"$f":"OFFSET(fakturace!F518,fakturace!#REF!,0)","v":{"$error":"#REF!"}}]
[{"$f":"OFFSET(fakturace!B519,fakturace!#REF!,0)","v":{"$error":"#REF!"}},{"$f":"OFFSET(fakturace!C519,fakturace!#REF!,0)","v":{"$error":"#REF!"}},{"$f":"OFFSET(fakturace!F519,fakturace!#REF!,0)","v":{"$error":"#REF!"}}]
[{"$f":"OFFSET(fakturace!B520,fakturace!#REF!,0)","v":{"$error":"#REF!"}},{"$f":"OFFSET(fakturace!C520,fakturace!#REF!,0)","v":{"$error":"#REF!"}},{"$f":"OFFSET(fakturace!F520,fakturace!#REF!,0)","v":{"$error":"#REF!"}}]
[{"$f":"OFFSET(fakturace!B521,fakturace!#REF!,0)","v":{"$error":"#REF!"}},{"$f":"OFFSET(fakturace!C521,fakturace!#REF!,0)","v":{"$error":"#REF!"}},{"$f":"OFFSET(fakturace!F521,fakturace!#REF!,0)","v":{"$error":"#REF!"}}]
[{"$f":"OFFSET(fakturace!B522,fakturace!#REF!,0)","v":{"$error":"#REF!"}},{"$f":"OFFSET(fakturace!C522,fakturace!#REF!,0)","v":{"$error":"#REF!"}},{"$f":"OFFSET(fakturace!F522,fakturace!#REF!,0)","v":{"$error":"#REF!"}}]
[{"$f":"OFFSET(fakturace!B523,fakturace!#REF!,0)","v":{"$error":"#REF!"}},{"$f":"OFFSET(fakturace!C523,fakturace!#REF!,0)","v":{"$error":"#REF!"}},{"$f":"OFFSET(fakturace!F523,fakturace!#REF!,0)","v":{"$error":"#REF!"}}]
[{"$f":"OFFSET(fakturace!B524,fakturace!#REF!,0)","v":{"$error":"#REF!"}},{"$f":"OFFSET(fakturace!C524,fakturace!#REF!,0)","v":{"$error":"#REF!"}},{"$f":"OFFSET(fakturace!F524,fakturace!#REF!,0)","v":{"$error":"#REF!"}}]
[{"$f":"OFFSET(fakturace!B525,fakturace!#REF!,0)","v":{"$error":"#REF!"}},{"$f":"OFFSET(fakturace!C525,fakturace!#REF!,0)","v":{"$error":"#REF!"}},{"$f":"OFFSET(fakturace!F525,fakturace!#REF!,0)","v":{"$error":"#REF!"}}]
[{"$f":"OFFSET(fakturace!B526,fakturace!#REF!,0)","v":{"$error":"#REF!"}},{"$f":"OFFSET(fakturace!C526,fakturace!#REF!,0)","v":{"$error":"#REF!"}},{"$f":"OFFSET(fakturace!F526,fakturace!#REF!,0)","v":{"$error":"#REF!"}}]
[{"$f":"OFFSET(fakturace!B527,fakturace!#REF!,0)","v":{"$error":"#REF!"}},{"$f":"OFFSET(fakturace!C527,fakturace!#REF!,0)","v":{"$error":"#REF!"}},{"$f":"OFFSET(fakturace!F527,fakturace!#REF!,0)","v":{"$error":"#REF!"}}]
[{"$f":"OFFSET(fakturace!B528,fakturace!#REF!,0)","v":{"$error":"#REF!"}},{"$f":"OFFSET(fakturace!C528,fakturace!#REF!,0)","v":{"$error":"#REF!"}},{"$f":"OFFSET(fakturace!F528,fakturace!#REF!,0)","v":{"$error":"#REF!"}}]
[{"$f":"OFFSET(fakturace!B529,fakturace!#REF!,0)","v":{"$error":"#REF!"}},{"$f":"OFFSET(fakturace!C529,fakturace!#REF!,0)","v":{"$error":"#REF!"}},{"$f":"OFFSET(fakturace!F529,fakturace!#REF!,0)","v":{"$error":"#REF!"}}]
[{"$f":"OFFSET(fakturace!B530,fakturace!#REF!,0)","v":{"$error":"#REF!"}},{"$f":"OFFSET(fakturace!C530,fakturace!#REF!,0)","v":{"$error":"#REF!"}},{"$f":"OFFSET(fakturace!F530,fakturace!#REF!,0)","v":{"$error":"#REF!"}}]
[{"$f":"OFFSET(fakturace!B531,fakturace!#REF!,0)","v":{"$error":"#REF!"}},{"$f":"OFFSET(fakturace!C531,fakturace!#REF!,0)","v":{"$error":"#REF!"}},{"$f":"OFFSET(fakturace!F531,fakturace!#REF!,0)","v":{"$error":"#REF!"}}]
[{"$f":"OFFSET(fakturace!B532,fakturace!#REF!,0)","v":{"$error":"#REF!"}},{"$f":"OFFSET(fakturace!C532,fakturace!#REF!,0)","v":{"$error":"#REF!"}},{"$f":"OFFSET(fakturace!F532,fakturace!#REF!,0)","v":{"$error":"#REF!"}}]
[{"$f":"OFFSET(fakturace!B533,fakturace!#REF!,0)","v":{"$error":"#REF!"}},{"$f":"OFFSET(fakturace!C533,fakturace!#REF!,0)","v":{"$error":"#REF!"}},{"$f":"OFFSET(fakturace!F533,fakturace!#REF!,0)","v":{"$error":"#REF!"}}]
[{"$f":"OFFSET(fakturace!B534,fakturace!#REF!,0)","v":{"$error":"#REF!"}},{"$f":"OFFSET(fakturace!C534,fakturace!#REF!,0)","v":{"$error":"#REF!"}},{"$f":"OFFSET(fakturace!F534,fakturace!#REF!,0)","v":{"$error":"#REF!"}}]
[{"$f":"OFFSET(fakturace!B535,fakturace!#REF!,0)","v":{"$error":"#REF!"}},{"$f":"OFFSET(fakturace!C535,fakturace!#REF!,0)","v":{"$error":"#REF!"}},{"$f":"OFFSET(fakturace!F535,fakturace!#REF!,0)","v":{"$error":"#REF!"}}]
[{"$f":"OFFSET(fakturace!B536,fakturace!#REF!,0)","v":{"$error":"#REF!"}},{"$f":"OFFSET(fakturace!C536,fakturace!#REF!,0)","v":{"$error":"#REF!"}},{"$f":"OFFSET(fakturace!F536,fakturace!#REF!,0)","v":{"$error":"#REF!"}}]
[{"$f":"OFFSET(fakturace!B537,fakturace!#REF!,0)","v":{"$error":"#REF!"}},{"$f":"OFFSET(fakturace!C537,fakturace!#REF!,0)","v":{"$error":"#REF!"}},{"$f":"OFFSET(fakturace!F537,fakturace!#REF!,0)","v":{"$error":"#REF!"}}]
[{"$f":"OFFSET(fakturace!B538,fakturace!#REF!,0)","v":{"$error":"#REF!"}},{"$f":"OFFSET(fakturace!C538,fakturace!#REF!,0)","v":{"$error":"#REF!"}},{"$f":"OFFSET(fakturace!F538,fakturace!#REF!,0)","v":{"$error":"#REF!"}}]
[{"$f":"OFFSET(fakturace!B539,fakturace!#REF!,0)","v":{"$error":"#REF!"}},{"$f":"OFFSET(fakturace!C539,fakturace!#REF!,0)","v":{"$error":"#REF!"}},{"$f":"OFFSET(fakturace!F539,fakturace!#REF!,0)","v":{"$error":"#REF!"}}]
[{"$f":"OFFSET(fakturace!B540,fakturace!#REF!,0)","v":{"$error":"#REF!"}},{"$f":"OFFSET(fakturace!C540,fakturace!#REF!,0)","v":{"$error":"#REF!"}},{"$f":"OFFSET(fakturace!F540,fakturace!#REF!,0)","v":{"$error":"#REF!"}}]
[{"$f":"OFFSET(fakturace!B541,fakturace!#REF!,0)","v":{"$error":"#REF!"}},{"$f":"OFFSET(fakturace!C541,fakturace!#REF!,0)","v":{"$error":"#REF!"}},{"$f":"OFFSET(fakturace!F541,fakturace!#REF!,0)","v":{"$error":"#REF!"}}]
[{"$f":"OFFSET(fakturace!B542,fakturace!#REF!,0)","v":{"$error":"#REF!"}},{"$f":"OFFSET(fakturace!C542,fakturace!#REF!,0)","v":{"$error":"#REF!"}},{"$f":"OFFSET(fakturace!F542,fakturace!#REF!,0)","v":{"$error":"#REF!"}}]
[{"$f":"OFFSET(fakturace!B543,fakturace!#REF!,0)","v":{"$error":"#REF!"}},{"$f":"OFFSET(fakturace!C543,fakturace!#REF!,0)","v":{"$error":"#REF!"}},{"$f":"OFFSET(fakturace!F543,fakturace!#REF!,0)","v":{"$error":"#REF!"}}]
[{"$f":"OFFSET(fakturace!B544,fakturace!#REF!,0)","v":{"$error":"#REF!"}},{"$f":"OFFSET(fakturace!C544,fakturace!#REF!,0)","v":{"$error":"#REF!"}},{"$f":"OFFSET(fakturace!F544,fakturace!#REF!,0)","v":{"$error":"#REF!"}}]
[{"$f":"OFFSET(fakturace!B545,fakturace!#REF!,0)","v":{"$error":"#REF!"}},{"$f":"OFFSET(fakturace!C545,fakturace!#REF!,0)","v":{"$error":"#REF!"}},{"$f":"OFFSET(fakturace!F545,fakturace!#REF!,0)","v":{"$error":"#REF!"}}]
[{"$f":"OFFSET(fakturace!B546,fakturace!#REF!,0)","v":{"$error":"#REF!"}},{"$f":"OFFSET(fakturace!C546,fakturace!#REF!,0)","v":{"$error":"#REF!"}},{"$f":"OFFSET(fakturace!F546,fakturace!#REF!,0)","v":{"$error":"#REF!"}}]
[{"$f":"OFFSET(fakturace!B547,fakturace!#REF!,0)","v":{"$error":"#REF!"}},{"$f":"OFFSET(fakturace!C547,fakturace!#REF!,0)","v":{"$error":"#REF!"}},{"$f":"OFFSET(fakturace!F547,fakturace!#REF!,0)","v":{"$error":"#REF!"}}]
[{"$f":"OFFSET(fakturace!B548,fakturace!#REF!,0)","v":{"$error":"#REF!"}},{"$f":"OFFSET(fakturace!C548,fakturace!#REF!,0)","v":{"$error":"#REF!"}},{"$f":"OFFSET(fakturace!F548,fakturace!#REF!,0)","v":{"$error":"#REF!"}}]
[{"$f":"OFFSET(fakturace!B549,fakturace!#REF!,0)","v":{"$error":"#REF!"}},{"$f":"OFFSET(fakturace!C549,fakturace!#REF!,0)","v":{"$error":"#REF!"}},{"$f":"OFFSET(fakturace!F549,fakturace!#REF!,0)","v":{"$error":"#REF!"}}]
[{"$f":"OFFSET(fakturace!B550,fakturace!#REF!,0)","v":{"$error":"#REF!"}},{"$f":"OFFSET(fakturace!C550,fakturace!#REF!,0)","v":{"$error":"#REF!"}},{"$f":"OFFSET(fakturace!F550,fakturace!#REF!,0)","v":{"$error":"#REF!"}}]
[{"$f":"OFFSET(fakturace!B551,fakturace!#REF!,0)","v":{"$error":"#REF!"}},{"$f":"OFFSET(fakturace!C551,fakturace!#REF!,0)","v":{"$error":"#REF!"}},{"$f":"OFFSET(fakturace!F551,fakturace!#REF!,0)","v":{"$error":"#REF!"}}]
[{"$f":"OFFSET(fakturace!B552,fakturace!#REF!,0)","v":{"$error":"#REF!"}},{"$f":"OFFSET(fakturace!C552,fakturace!#REF!,0)","v":{"$error":"#REF!"}},{"$f":"OFFSET(fakturace!F552,fakturace!#REF!,0)","v":{"$error":"#REF!"}}]
[{"$f":"OFFSET(fakturace!B553,fakturace!#REF!,0)","v":{"$error":"#REF!"}},{"$f":"OFFSET(fakturace!C553,fakturace!#REF!,0)","v":{"$error":"#REF!"}},{"$f":"OFFSET(fakturace!F553,fakturace!#REF!,0)","v":{"$error":"#REF!"}}]
[{"$f":"OFFSET(fakturace!B554,fakturace!#REF!,0)","v":{"$error":"#REF!"}},{"$f":"OFFSET(fakturace!C554,fakturace!#REF!,0)","v":{"$error":"#REF!"}},{"$f":"OFFSET(fakturace!F554,fakturace!#REF!,0)","v":{"$error":"#REF!"}}]
[{"$f":"OFFSET(fakturace!B555,fakturace!#REF!,0)","v":{"$error":"#REF!"}},{"$f":"OFFSET(fakturace!C555,fakturace!#REF!,0)","v":{"$error":"#REF!"}},{"$f":"OFFSET(fakturace!F555,fakturace!#REF!,0)","v":{"$error":"#REF!"}}]
[{"$f":"OFFSET(fakturace!B556,fakturace!#REF!,0)","v":{"$error":"#REF!"}},{"$f":"OFFSET(fakturace!C556,fakturace!#REF!,0)","v":{"$error":"#REF!"}},{"$f":"OFFSET(fakturace!F556,fakturace!#REF!,0)","v":{"$error":"#REF!"}}]
[{"$f":"OFFSET(fakturace!B557,fakturace!#REF!,0)","v":{"$error":"#REF!"}},{"$f":"OFFSET(fakturace!C557,fakturace!#REF!,0)","v":{"$error":"#REF!"}},{"$f":"OFFSET(fakturace!F557,fakturace!#REF!,0)","v":{"$error":"#REF!"}}]
[{"$f":"OFFSET(fakturace!B558,fakturace!#REF!,0)","v":{"$error":"#REF!"}},{"$f":"OFFSET(fakturace!C558,fakturace!#REF!,0)","v":{"$error":"#REF!"}},{"$f":"OFFSET(fakturace!F558,fakturace!#REF!,0)","v":{"$error":"#REF!"}}]
[{"$f":"OFFSET(fakturace!B559,fakturace!#REF!,0)","v":{"$error":"#REF!"}},{"$f":"OFFSET(fakturace!C559,fakturace!#REF!,0)","v":{"$error":"#REF!"}},{"$f":"OFFSET(fakturace!F559,fakturace!#REF!,0)","v":{"$error":"#REF!"}}]
[{"$f":"OFFSET(fakturace!B560,fakturace!#REF!,0)","v":{"$error":"#REF!"}},{"$f":"OFFSET(fakturace!C560,fakturace!#REF!,0)","v":{"$error":"#REF!"}},{"$f":"OFFSET(fakturace!F560,fakturace!#REF!,0)","v":{"$error":"#REF!"}}]
[{"$f":"OFFSET(fakturace!B561,fakturace!#REF!,0)","v":{"$error":"#REF!"}},{"$f":"OFFSET(fakturace!C561,fakturace!#REF!,0)","v":{"$error":"#REF!"}},{"$f":"OFFSET(fakturace!F561,fakturace!#REF!,0)","v":{"$error":"#REF!"}}]
[{"$f":"OFFSET(fakturace!B562,fakturace!#REF!,0)","v":{"$error":"#REF!"}},{"$f":"OFFSET(fakturace!C562,fakturace!#REF!,0)","v":{"$error":"#REF!"}},{"$f":"OFFSET(fakturace!F562,fakturace!#REF!,0)","v":{"$error":"#REF!"}}]
[{"$f":"OFFSET(fakturace!B563,fakturace!#REF!,0)","v":{"$error":"#REF!"}},{"$f":"OFFSET(fakturace!C563,fakturace!#REF!,0)","v":{"$error":"#REF!"}},{"$f":"OFFSET(fakturace!F563,fakturace!#REF!,0)","v":{"$error":"#REF!"}}]
[{"$f":"OFFSET(fakturace!B564,fakturace!#REF!,0)","v":{"$error":"#REF!"}},{"$f":"OFFSET(fakturace!C564,fakturace!#REF!,0)","v":{"$error":"#REF!"}},{"$f":"OFFSET(fakturace!F564,fakturace!#REF!,0)","v":{"$error":"#REF!"}}]
[{"$f":"OFFSET(fakturace!B565,fakturace!#REF!,0)","v":{"$error":"#REF!"}},{"$f":"OFFSET(fakturace!C565,fakturace!#REF!,0)","v":{"$error":"#REF!"}},{"$f":"OFFSET(fakturace!F565,fakturace!#REF!,0)","v":{"$error":"#REF!"}}]
[{"$f":"OFFSET(fakturace!B566,fakturace!#REF!,0)","v":{"$error":"#REF!"}},{"$f":"OFFSET(fakturace!C566,fakturace!#REF!,0)","v":{"$error":"#REF!"}},{"$f":"OFFSET(fakturace!F566,fakturace!#REF!,0)","v":{"$error":"#REF!"}}]
[{"$f":"OFFSET(fakturace!B567,fakturace!#REF!,0)","v":{"$error":"#REF!"}},{"$f":"OFFSET(fakturace!C567,fakturace!#REF!,0)","v":{"$error":"#REF!"}},{"$f":"OFFSET(fakturace!F567,fakturace!#REF!,0)","v":{"$error":"#REF!"}}]
[{"$f":"OFFSET(fakturace!B568,fakturace!#REF!,0)","v":{"$error":"#REF!"}},{"$f":"OFFSET(fakturace!C568,fakturace!#REF!,0)","v":{"$error":"#REF!"}},{"$f":"OFFSET(fakturace!F568,fakturace!#REF!,0)","v":{"$error":"#REF!"}}]
[{"$f":"OFFSET(fakturace!B569,fakturace!#REF!,0)","v":{"$error":"#REF!"}},{"$f":"OFFSET(fakturace!C569,fakturace!#REF!,0)","v":{"$error":"#REF!"}},{"$f":"OFFSET(fakturace!F569,fakturace!#REF!,0)","v":{"$error":"#REF!"}}]
[{"$f":"OFFSET(fakturace!B570,fakturace!#REF!,0)","v":{"$error":"#REF!"}},{"$f":"OFFSET(fakturace!C570,fakturace!#REF!,0)","v":{"$error":"#REF!"}},{"$f":"OFFSET(fakturace!F570,fakturace!#REF!,0)","v":{"$error":"#REF!"}}]
[{"$f":"OFFSET(fakturace!B571,fakturace!#REF!,0)","v":{"$error":"#REF!"}},{"$f":"OFFSET(fakturace!C571,fakturace!#REF!,0)","v":{"$error":"#REF!"}},{"$f":"OFFSET(fakturace!F571,fakturace!#REF!,0)","v":{"$error":"#REF!"}}]
[{"$f":"OFFSET(fakturace!B572,fakturace!#REF!,0)","v":{"$error":"#REF!"}},{"$f":"OFFSET(fakturace!C572,fakturace!#REF!,0)","v":{"$error":"#REF!"}},{"$f":"OFFSET(fakturace!F572,fakturace!#REF!,0)","v":{"$error":"#REF!"}}]
[{"$f":"OFFSET(fakturace!B573,fakturace!#REF!,0)","v":{"$error":"#REF!"}},{"$f":"OFFSET(fakturace!C573,fakturace!#REF!,0)","v":{"$error":"#REF!"}},{"$f":"OFFSET(fakturace!F573,fakturace!#REF!,0)","v":{"$error":"#REF!"}}]
[{"$f":"OFFSET(fakturace!B574,fakturace!#REF!,0)","v":{"$error":"#REF!"}},{"$f":"OFFSET(fakturace!C574,fakturace!#REF!,0)","v":{"$error":"#REF!"}},{"$f":"OFFSET(fakturace!F574,fakturace!#REF!,0)","v":{"$error":"#REF!"}}]
[{"$f":"OFFSET(fakturace!B575,fakturace!#REF!,0)","v":{"$error":"#REF!"}},{"$f":"OFFSET(fakturace!C575,fakturace!#REF!,0)","v":{"$error":"#REF!"}},{"$f":"OFFSET(fakturace!F575,fakturace!#REF!,0)","v":{"$error":"#REF!"}}]
[{"$f":"OFFSET(fakturace!B576,fakturace!#REF!,0)","v":{"$error":"#REF!"}},{"$f":"OFFSET(fakturace!C576,fakturace!#REF!,0)","v":{"$error":"#REF!"}},{"$f":"OFFSET(fakturace!F576,fakturace!#REF!,0)","v":{"$error":"#REF!"}}]
[{"$f":"OFFSET(fakturace!B577,fakturace!#REF!,0)","v":{"$error":"#REF!"}},{"$f":"OFFSET(fakturace!C577,fakturace!#REF!,0)","v":{"$error":"#REF!"}},{"$f":"OFFSET(fakturace!F577,fakturace!#REF!,0)","v":{"$error":"#REF!"}}]
[{"$f":"OFFSET(fakturace!B578,fakturace!#REF!,0)","v":{"$error":"#REF!"}},{"$f":"OFFSET(fakturace!C578,fakturace!#REF!,0)","v":{"$error":"#REF!"}},{"$f":"OFFSET(fakturace!F578,fakturace!#REF!,0)","v":{"$error":"#REF!"}}]
[{"$f":"OFFSET(fakturace!B579,fakturace!#REF!,0)","v":{"$error":"#REF!"}},{"$f":"OFFSET(fakturace!C579,fakturace!#REF!,0)","v":{"$error":"#REF!"}},{"$f":"OFFSET(fakturace!F579,fakturace!#REF!,0)","v":{"$error":"#REF!"}}]
[{"$f":"OFFSET(fakturace!B580,fakturace!#REF!,0)","v":{"$error":"#REF!"}},{"$f":"OFFSET(fakturace!C580,fakturace!#REF!,0)","v":{"$error":"#REF!"}},{"$f":"OFFSET(fakturace!F580,fakturace!#REF!,0)","v":{"$error":"#REF!"}}]
[{"$f":"OFFSET(fakturace!B581,fakturace!#REF!,0)","v":{"$error":"#REF!"}},{"$f":"OFFSET(fakturace!C581,fakturace!#REF!,0)","v":{"$error":"#REF!"}},{"$f":"OFFSET(fakturace!F581,fakturace!#REF!,0)","v":{"$error":"#REF!"}}]
[{"$f":"OFFSET(fakturace!B582,fakturace!#REF!,0)","v":{"$error":"#REF!"}},{"$f":"OFFSET(fakturace!C582,fakturace!#REF!,0)","v":{"$error":"#REF!"}},{"$f":"OFFSET(fakturace!F582,fakturace!#REF!,0)","v":{"$error":"#REF!"}}]
[{"$f":"OFFSET(fakturace!B583,fakturace!#REF!,0)","v":{"$error":"#REF!"}},{"$f":"OFFSET(fakturace!C583,fakturace!#REF!,0)","v":{"$error":"#REF!"}},{"$f":"OFFSET(fakturace!F583,fakturace!#REF!,0)","v":{"$error":"#REF!"}}]
[{"$f":"OFFSET(fakturace!B584,fakturace!#REF!,0)","v":{"$error":"#REF!"}},{"$f":"OFFSET(fakturace!C584,fakturace!#REF!,0)","v":{"$error":"#REF!"}},{"$f":"OFFSET(fakturace!F584,fakturace!#REF!,0)","v":{"$error":"#REF!"}}]
[{"$f":"OFFSET(fakturace!B585,fakturace!#REF!,0)","v":{"$error":"#REF!"}},{"$f":"OFFSET(fakturace!C585,fakturace!#REF!,0)","v":{"$error":"#REF!"}},{"$f":"OFFSET(fakturace!F585,fakturace!#REF!,0)","v":{"$error":"#REF!"}}]
[{"$f":"OFFSET(fakturace!B586,fakturace!#REF!,0)","v":{"$error":"#REF!"}},{"$f":"OFFSET(fakturace!C586,fakturace!#REF!,0)","v":{"$error":"#REF!"}},{"$f":"OFFSET(fakturace!F586,fakturace!#REF!,0)","v":{"$error":"#REF!"}}]
[{"$f":"OFFSET(fakturace!B587,fakturace!#REF!,0)","v":{"$error":"#REF!"}},{"$f":"OFFSET(fakturace!C587,fakturace!#REF!,0)","v":{"$error":"#REF!"}},{"$f":"OFFSET(fakturace!F587,fakturace!#REF!,0)","v":{"$error":"#REF!"}}]
[{"$f":"OFFSET(fakturace!B588,fakturace!#REF!,0)","v":{"$error":"#REF!"}},{"$f":"OFFSET(fakturace!C588,fakturace!#REF!,0)","v":{"$error":"#REF!"}},{"$f":"OFFSET(fakturace!F588,fakturace!#REF!,0)","v":{"$error":"#REF!"}}]
[{"$f":"OFFSET(fakturace!B589,fakturace!#REF!,0)","v":{"$error":"#REF!"}},{"$f":"OFFSET(fakturace!C589,fakturace!#REF!,0)","v":{"$error":"#REF!"}},{"$f":"OFFSET(fakturace!F589,fakturace!#REF!,0)","v":{"$error":"#REF!"}}]
[{"$f":"OFFSET(fakturace!B590,fakturace!#REF!,0)","v":{"$error":"#REF!"}},{"$f":"OFFSET(fakturace!C590,fakturace!#REF!,0)","v":{"$error":"#REF!"}},{"$f":"OFFSET(fakturace!F590,fakturace!#REF!,0)","v":{"$error":"#REF!"}}]
[{"$f":"OFFSET(fakturace!B591,fakturace!#REF!,0)","v":{"$error":"#REF!"}},{"$f":"OFFSET(fakturace!C591,fakturace!#REF!,0)","v":{"$error":"#REF!"}},{"$f":"OFFSET(fakturace!F591,fakturace!#REF!,0)","v":{"$error":"#REF!"}}]
[{"$f":"OFFSET(fakturace!B592,fakturace!#REF!,0)","v":{"$error":"#REF!"}},{"$f":"OFFSET(fakturace!C592,fakturace!#REF!,0)","v":{"$error":"#REF!"}},{"$f":"OFFSET(fakturace!F592,fakturace!#REF!,0)","v":{"$error":"#REF!"}}]
[{"$f":"OFFSET(fakturace!B593,fakturace!#REF!,0)","v":{"$error":"#REF!"}},{"$f":"OFFSET(fakturace!C593,fakturace!#REF!,0)","v":{"$error":"#REF!"}},{"$f":"OFFSET(fakturace!F593,fakturace!#REF!,0)","v":{"$error":"#REF!"}}]
[{"$f":"OFFSET(fakturace!B594,fakturace!#REF!,0)","v":{"$error":"#REF!"}},{"$f":"OFFSET(fakturace!C594,fakturace!#REF!,0)","v":{"$error":"#REF!"}},{"$f":"OFFSET(fakturace!F594,fakturace!#REF!,0)","v":{"$error":"#REF!"}}]
[{"$f":"OFFSET(fakturace!B595,fakturace!#REF!,0)","v":{"$error":"#REF!"}},{"$f":"OFFSET(fakturace!C595,fakturace!#REF!,0)","v":{"$error":"#REF!"}},{"$f":"OFFSET(fakturace!F595,fakturace!#REF!,0)","v":{"$error":"#REF!"}}]
[{"$f":"OFFSET(fakturace!B596,fakturace!#REF!,0)","v":{"$error":"#REF!"}},{"$f":"OFFSET(fakturace!C596,fakturace!#REF!,0)","v":{"$error":"#REF!"}},{"$f":"OFFSET(fakturace!F596,fakturace!#REF!,0)","v":{"$error":"#REF!"}}]
[{"$f":"OFFSET(fakturace!B597,fakturace!#REF!,0)","v":{"$error":"#REF!"}},{"$f":"OFFSET(fakturace!C597,fakturace!#REF!,0)","v":{"$error":"#REF!"}},{"$f":"OFFSET(fakturace!F597,fakturace!#REF!,0)","v":{"$error":"#REF!"}}]
[{"$f":"OFFSET(fakturace!B598,fakturace!#REF!,0)","v":{"$error":"#REF!"}},{"$f":"OFFSET(fakturace!C598,fakturace!#REF!,0)","v":{"$error":"#REF!"}},{"$f":"OFFSET(fakturace!F598,fakturace!#REF!,0)","v":{"$error":"#REF!"}}]
[{"$f":"OFFSET(fakturace!B599,fakturace!#REF!,0)","v":{"$error":"#REF!"}},{"$f":"OFFSET(fakturace!C599,fakturace!#REF!,0)","v":{"$error":"#REF!"}},{"$f":"OFFSET(fakturace!F599,fakturace!#REF!,0)","v":{"$error":"#REF!"}}]
[{"$f":"OFFSET(fakturace!B600,fakturace!#REF!,0)","v":{"$error":"#REF!"}},{"$f":"OFFSET(fakturace!C600,fakturace!#REF!,0)","v":{"$error":"#REF!"}},{"$f":"OFFSET(fakturace!F600,fakturace!#REF!,0)","v":{"$error":"#REF!"}}]
[{"$f":"OFFSET(fakturace!B601,fakturace!#REF!,0)","v":{"$error":"#REF!"}},{"$f":"OFFSET(fakturace!C601,fakturace!#REF!,0)","v":{"$error":"#REF!"}},{"$f":"OFFSET(fakturace!F601,fakturace!#REF!,0)","v":{"$error":"#REF!"}}]
[{"$f":"OFFSET(fakturace!B602,fakturace!#REF!,0)","v":{"$error":"#REF!"}},{"$f":"OFFSET(fakturace!C602,fakturace!#REF!,0)","v":{"$error":"#REF!"}},{"$f":"OFFSET(fakturace!F602,fakturace!#REF!,0)","v":{"$error":"#REF!"}}]
[{"$f":"OFFSET(fakturace!B603,fakturace!#REF!,0)","v":{"$error":"#REF!"}},{"$f":"OFFSET(fakturace!C603,fakturace!#REF!,0)","v":{"$error":"#REF!"}},{"$f":"OFFSET(fakturace!F603,fakturace!#REF!,0)","v":{"$error":"#REF!"}}]
[{"$f":"OFFSET(fakturace!B604,fakturace!#REF!,0)","v":{"$error":"#REF!"}},{"$f":"OFFSET(fakturace!C604,fakturace!#REF!,0)","v":{"$error":"#REF!"}},{"$f":"OFFSET(fakturace!F604,fakturace!#REF!,0)","v":{"$error":"#REF!"}}]
[{"$f":"OFFSET(fakturace!B605,fakturace!#REF!,0)","v":{"$error":"#REF!"}},{"$f":"OFFSET(fakturace!C605,fakturace!#REF!,0)","v":{"$error":"#REF!"}},{"$f":"OFFSET(fakturace!F605,fakturace!#REF!,0)","v":{"$error":"#REF!"}}]
[{"$f":"OFFSET(fakturace!B606,fakturace!#REF!,0)","v":{"$error":"#REF!"}},{"$f":"OFFSET(fakturace!C606,fakturace!#REF!,0)","v":{"$error":"#REF!"}},{"$f":"OFFSET(fakturace!F606,fakturace!#REF!,0)","v":{"$error":"#REF!"}}]
[{"$f":"OFFSET(fakturace!B607,fakturace!#REF!,0)","v":{"$error":"#REF!"}},{"$f":"OFFSET(fakturace!C607,fakturace!#REF!,0)","v":{"$error":"#REF!"}},{"$f":"OFFSET(fakturace!F607,fakturace!#REF!,0)","v":{"$error":"#REF!"}}]
[{"$f":"OFFSET(fakturace!B608,fakturace!#REF!,0)","v":{"$error":"#REF!"}},{"$f":"OFFSET(fakturace!C608,fakturace!#REF!,0)","v":{"$error":"#REF!"}},{"$f":"OFFSET(fakturace!F608,fakturace!#REF!,0)","v":{"$error":"#REF!"}}]
[{"$f":"OFFSET(fakturace!B609,fakturace!#REF!,0)","v":{"$error":"#REF!"}},{"$f":"OFFSET(fakturace!C609,fakturace!#REF!,0)","v":{"$error":"#REF!"}},{"$f":"OFFSET(fakturace!F609,fakturace!#REF!,0)","v":{"$error":"#REF!"}}]
[{"$f":"OFFSET(fakturace!B610,fakturace!#REF!,0)","v":{"$error":"#REF!"}},{"$f":"OFFSET(fakturace!C610,fakturace!#REF!,0)","v":{"$error":"#REF!"}},{"$f":"OFFSET(fakturace!F610,fakturace!#REF!,0)","v":{"$error":"#REF!"}}]
[{"$f":"OFFSET(fakturace!B611,fakturace!#REF!,0)","v":{"$error":"#REF!"}},{"$f":"OFFSET(fakturace!C611,fakturace!#REF!,0)","v":{"$error":"#REF!"}},{"$f":"OFFSET(fakturace!F611,fakturace!#REF!,0)","v":{"$error":"#REF!"}}]
[{"$f":"OFFSET(fakturace!B612,fakturace!#REF!,0)","v":{"$error":"#REF!"}},{"$f":"OFFSET(fakturace!C612,fakturace!#REF!,0)","v":{"$error":"#REF!"}},{"$f":"OFFSET(fakturace!F612,fakturace!#REF!,0)","v":{"$error":"#REF!"}}]
[{"$f":"OFFSET(fakturace!B613,fakturace!#REF!,0)","v":{"$error":"#REF!"}},{"$f":"OFFSET(fakturace!C613,fakturace!#REF!,0)","v":{"$error":"#REF!"}},{"$f":"OFFSET(fakturace!F613,fakturace!#REF!,0)","v":{"$error":"#REF!"}}]
[{"$f":"OFFSET(fakturace!B614,fakturace!#REF!,0)","v":{"$error":"#REF!"}},{"$f":"OFFSET(fakturace!C614,fakturace!#REF!,0)","v":{"$error":"#REF!"}},{"$f":"OFFSET(fakturace!F614,fakturace!#REF!,0)","v":{"$error":"#REF!"}}]
[{"$f":"OFFSET(fakturace!B615,fakturace!#REF!,0)","v":{"$error":"#REF!"}},{"$f":"OFFSET(fakturace!C615,fakturace!#REF!,0)","v":{"$error":"#REF!"}},{"$f":"OFFSET(fakturace!F615,fakturace!#REF!,0)","v":{"$error":"#REF!"}}]
[{"$f":"OFFSET(fakturace!B616,fakturace!#REF!,0)","v":{"$error":"#REF!"}},{"$f":"OFFSET(fakturace!C616,fakturace!#REF!,0)","v":{"$error":"#REF!"}},{"$f":"OFFSET(fakturace!F616,fakturace!#REF!,0)","v":{"$error":"#REF!"}}]
[{"$f":"OFFSET(fakturace!B617,fakturace!#REF!,0)","v":{"$error":"#REF!"}},{"$f":"OFFSET(fakturace!C617,fakturace!#REF!,0)","v":{"$error":"#REF!"}},{"$f":"OFFSET(fakturace!F617,fakturace!#REF!,0)","v":{"$error":"#REF!"}}]
[{"$f":"OFFSET(fakturace!B618,fakturace!#REF!,0)","v":{"$error":"#REF!"}},{"$f":"OFFSET(fakturace!C618,fakturace!#REF!,0)","v":{"$error":"#REF!"}},{"$f":"OFFSET(fakturace!F618,fakturace!#REF!,0)","v":{"$error":"#REF!"}}]
[{"$f":"OFFSET(fakturace!B619,fakturace!#REF!,0)","v":{"$error":"#REF!"}},{"$f":"OFFSET(fakturace!C619,fakturace!#REF!,0)","v":{"$error":"#REF!"}},{"$f":"OFFSET(fakturace!F619,fakturace!#REF!,0)","v":{"$error":"#REF!"}}]
[{"$f":"OFFSET(fakturace!B620,fakturace!#REF!,0)","v":{"$error":"#REF!"}},{"$f":"OFFSET(fakturace!C620,fakturace!#REF!,0)","v":{"$error":"#REF!"}},{"$f":"OFFSET(fakturace!F620,fakturace!#REF!,0)","v":{"$error":"#REF!"}}]
[{"$f":"OFFSET(fakturace!B621,fakturace!#REF!,0)","v":{"$error":"#REF!"}},{"$f":"OFFSET(fakturace!C621,fakturace!#REF!,0)","v":{"$error":"#REF!"}},{"$f":"OFFSET(fakturace!F621,fakturace!#REF!,0)","v":{"$error":"#REF!"}}]
[{"$f":"OFFSET(fakturace!B622,fakturace!#REF!,0)","v":{"$error":"#REF!"}},{"$f":"OFFSET(fakturace!C622,fakturace!#REF!,0)","v":{"$error":"#REF!"}},{"$f":"OFFSET(fakturace!F622,fakturace!#REF!,0)","v":{"$error":"#REF!"}}]
[{"$f":"OFFSET(fakturace!B623,fakturace!#REF!,0)","v":{"$error":"#REF!"}},{"$f":"OFFSET(fakturace!C623,fakturace!#REF!,0)","v":{"$error":"#REF!"}},{"$f":"OFFSET(fakturace!F623,fakturace!#REF!,0)","v":{"$error":"#REF!"}}]
[{"$f":"OFFSET(fakturace!B624,fakturace!#REF!,0)","v":{"$error":"#REF!"}},{"$f":"OFFSET(fakturace!C624,fakturace!#REF!,0)","v":{"$error":"#REF!"}},{"$f":"OFFSET(fakturace!F624,fakturace!#REF!,0)","v":{"$error":"#REF!"}}]
[{"$f":"OFFSET(fakturace!B625,fakturace!#REF!,0)","v":{"$error":"#REF!"}},{"$f":"OFFSET(fakturace!C625,fakturace!#REF!,0)","v":{"$error":"#REF!"}},{"$f":"OFFSET(fakturace!F625,fakturace!#REF!,0)","v":{"$error":"#REF!"}}]
[{"$f":"OFFSET(fakturace!B626,fakturace!#REF!,0)","v":{"$error":"#REF!"}},{"$f":"OFFSET(fakturace!C626,fakturace!#REF!,0)","v":{"$error":"#REF!"}},{"$f":"OFFSET(fakturace!F626,fakturace!#REF!,0)","v":{"$error":"#REF!"}}]
[{"$f":"OFFSET(fakturace!B627,fakturace!#REF!,0)","v":{"$error":"#REF!"}},{"$f":"OFFSET(fakturace!C627,fakturace!#REF!,0)","v":{"$error":"#REF!"}},{"$f":"OFFSET(fakturace!F627,fakturace!#REF!,0)","v":{"$error":"#REF!"}}]
[{"$f":"OFFSET(fakturace!B628,fakturace!#REF!,0)","v":{"$error":"#REF!"}},{"$f":"OFFSET(fakturace!C628,fakturace!#REF!,0)","v":{"$error":"#REF!"}},{"$f":"OFFSET(fakturace!F628,fakturace!#REF!,0)","v":{"$error":"#REF!"}}]
[{"$f":"OFFSET(fakturace!B629,fakturace!#REF!,0)","v":{"$error":"#REF!"}},{"$f":"OFFSET(fakturace!C629,fakturace!#REF!,0)","v":{"$error":"#REF!"}},{"$f":"OFFSET(fakturace!F629,fakturace!#REF!,0)","v":{"$error":"#REF!"}}]
[{"$f":"OFFSET(fakturace!B630,fakturace!#REF!,0)","v":{"$error":"#REF!"}},{"$f":"OFFSET(fakturace!C630,fakturace!#REF!,0)","v":{"$error":"#REF!"}},{"$f":"OFFSET(fakturace!F630,fakturace!#REF!,0)","v":{"$error":"#REF!"}}]
[{"$f":"OFFSET(fakturace!B631,fakturace!#REF!,0)","v":{"$error":"#REF!"}},{"$f":"OFFSET(fakturace!C631,fakturace!#REF!,0)","v":{"$error":"#REF!"}},{"$f":"OFFSET(fakturace!F631,fakturace!#REF!,0)","v":{"$error":"#REF!"}}]
[{"$f":"OFFSET(fakturace!B632,fakturace!#REF!,0)","v":{"$error":"#REF!"}},{"$f":"OFFSET(fakturace!C632,fakturace!#REF!,0)","v":{"$error":"#REF!"}},{"$f":"OFFSET(fakturace!F632,fakturace!#REF!,0)","v":{"$error":"#REF!"}}]
[{"$f":"OFFSET(fakturace!B633,fakturace!#REF!,0)","v":{"$error":"#REF!"}},{"$f":"OFFSET(fakturace!C633,fakturace!#REF!,0)","v":{"$error":"#REF!"}},{"$f":"OFFSET(fakturace!F633,fakturace!#REF!,0)","v":{"$error":"#REF!"}}]
[{"$f":"OFFSET(fakturace!B634,fakturace!#REF!,0)","v":{"$error":"#REF!"}},{"$f":"OFFSET(fakturace!C634,fakturace!#REF!,0)","v":{"$error":"#REF!"}},{"$f":"OFFSET(fakturace!F634,fakturace!#REF!,0)","v":{"$error":"#REF!"}}]
[{"$f":"OFFSET(fakturace!B635,fakturace!#REF!,0)","v":{"$error":"#REF!"}},{"$f":"OFFSET(fakturace!C635,fakturace!#REF!,0)","v":{"$error":"#REF!"}},{"$f":"OFFSET(fakturace!F635,fakturace!#REF!,0)","v":{"$error":"#REF!"}}]
[{"$f":"OFFSET(fakturace!B636,fakturace!#REF!,0)","v":{"$error":"#REF!"}},{"$f":"OFFSET(fakturace!C636,fakturace!#REF!,0)","v":{"$error":"#REF!"}},{"$f":"OFFSET(fakturace!F636,fakturace!#REF!,0)","v":{"$error":"#REF!"}}]
[{"$f":"OFFSET(fakturace!B637,fakturace!#REF!,0)","v":{"$error":"#REF!"}},{"$f":"OFFSET(fakturace!C637,fakturace!#REF!,0)","v":{"$error":"#REF!"}},{"$f":"OFFSET(fakturace!F637,fakturace!#REF!,0)","v":{"$error":"#REF!"}}]
[{"$f":"OFFSET(fakturace!B638,fakturace!#REF!,0)","v":{"$error":"#REF!"}},{"$f":"OFFSET(fakturace!C638,fakturace!#REF!,0)","v":{"$error":"#REF!"}},{"$f":"OFFSET(fakturace!F638,fakturace!#REF!,0)","v":{"$error":"#REF!"}}]
[{"$f":"OFFSET(fakturace!B639,fakturace!#REF!,0)","v":{"$error":"#REF!"}},{"$f":"OFFSET(fakturace!C639,fakturace!#REF!,0)","v":{"$error":"#REF!"}},{"$f":"OFFSET(fakturace!F639,fakturace!#REF!,0)","v":{"$error":"#REF!"}}]
[{"$f":"OFFSET(fakturace!B640,fakturace!#REF!,0)","v":{"$error":"#REF!"}},{"$f":"OFFSET(fakturace!C640,fakturace!#REF!,0)","v":{"$error":"#REF!"}},{"$f":"OFFSET(fakturace!F640,fakturace!#REF!,0)","v":{"$error":"#REF!"}}]
[{"$f":"OFFSET(fakturace!B641,fakturace!#REF!,0)","v":{"$error":"#REF!"}},{"$f":"OFFSET(fakturace!C641,fakturace!#REF!,0)","v":{"$error":"#REF!"}},{"$f":"OFFSET(fakturace!F641,fakturace!#REF!,0)","v":{"$error":"#REF!"}}]
[{"$f":"OFFSET(fakturace!B642,fakturace!#REF!,0)","v":{"$error":"#REF!"}},{"$f":"OFFSET(fakturace!C642,fakturace!#REF!,0)","v":{"$error":"#REF!"}},{"$f":"OFFSET(fakturace!F642,fakturace!#REF!,0)","v":{"$error":"#REF!"}}]
[{"$f":"OFFSET(fakturace!B643,fakturace!#REF!,0)","v":{"$error":"#REF!"}},{"$f":"OFFSET(fakturace!C643,fakturace!#REF!,0)","v":{"$error":"#REF!"}},{"$f":"OFFSET(fakturace!F643,fakturace!#REF!,0)","v":{"$error":"#REF!"}}]
[{"$f":"OFFSET(fakturace!B644,fakturace!#REF!,0)","v":{"$error":"#REF!"}},{"$f":"OFFSET(fakturace!C644,fakturace!#REF!,0)","v":{"$error":"#REF!"}},{"$f":"OFFSET(fakturace!F644,fakturace!#REF!,0)","v":{"$error":"#REF!"}}]
[{"$f":"OFFSET(fakturace!B645,fakturace!#REF!,0)","v":{"$error":"#REF!"}},{"$f":"OFFSET(fakturace!C645,fakturace!#REF!,0)","v":{"$error":"#REF!"}},{"$f":"OFFSET(fakturace!F645,fakturace!#REF!,0)","v":{"$error":"#REF!"}}]
[{"$f":"OFFSET(fakturace!B646,fakturace!#REF!,0)","v":{"$error":"#REF!"}},{"$f":"OFFSET(fakturace!C646,fakturace!#REF!,0)","v":{"$error":"#REF!"}},{"$f":"OFFSET(fakturace!F646,fakturace!#REF!,0)","v":{"$error":"#REF!"}}]
[{"$f":"OFFSET(fakturace!B647,fakturace!#REF!,0)","v":{"$error":"#REF!"}},{"$f":"OFFSET(fakturace!C647,fakturace!#REF!,0)","v":{"$error":"#REF!"}},{"$f":"OFFSET(fakturace!F647,fakturace!#REF!,0)","v":{"$error":"#REF!"}}]
[{"$f":"OFFSET(fakturace!B648,fakturace!#REF!,0)","v":{"$error":"#REF!"}},{"$f":"OFFSET(fakturace!C648,fakturace!#REF!,0)","v":{"$error":"#REF!"}},{"$f":"OFFSET(fakturace!F648,fakturace!#REF!,0)","v":{"$error":"#REF!"}}]
[{"$f":"OFFSET(fakturace!B649,fakturace!#REF!,0)","v":{"$error":"#REF!"}},{"$f":"OFFSET(fakturace!C649,fakturace!#REF!,0)","v":{"$error":"#REF!"}},{"$f":"OFFSET(fakturace!F649,fakturace!#REF!,0)","v":{"$error":"#REF!"}}]
[{"$f":"OFFSET(fakturace!B650,fakturace!#REF!,0)","v":{"$error":"#REF!"}},{"$f":"OFFSET(fakturace!C650,fakturace!#REF!,0)","v":{"$error":"#REF!"}},{"$f":"OFFSET(fakturace!F650,fakturace!#REF!,0)","v":{"$error":"#REF!"}}]
[{"$f":"OFFSET(fakturace!B651,fakturace!#REF!,0)","v":{"$error":"#REF!"}},{"$f":"OFFSET(fakturace!C651,fakturace!#REF!,0)","v":{"$error":"#REF!"}},{"$f":"OFFSET(fakturace!F651,fakturace!#REF!,0)","v":{"$error":"#REF!"}}]
[{"$f":"OFFSET(fakturace!B652,fakturace!#REF!,0)","v":{"$error":"#REF!"}},{"$f":"OFFSET(fakturace!C652,fakturace!#REF!,0)","v":{"$error":"#REF!"}},{"$f":"OFFSET(fakturace!F652,fakturace!#REF!,0)","v":{"$error":"#REF!"}}]
[{"$f":"OFFSET(fakturace!B653,fakturace!#REF!,0)","v":{"$error":"#REF!"}},{"$f":"OFFSET(fakturace!C653,fakturace!#REF!,0)","v":{"$error":"#REF!"}},{"$f":"OFFSET(fakturace!F653,fakturace!#REF!,0)","v":{"$error":"#REF!"}}]
[{"$f":"OFFSET(fakturace!B654,fakturace!#REF!,0)","v":{"$error":"#REF!"}},{"$f":"OFFSET(fakturace!C654,fakturace!#REF!,0)","v":{"$error":"#REF!"}},{"$f":"OFFSET(fakturace!F654,fakturace!#REF!,0)","v":{"$error":"#REF!"}}]
[{"$f":"OFFSET(fakturace!B655,fakturace!#REF!,0)","v":{"$error":"#REF!"}},{"$f":"OFFSET(fakturace!C655,fakturace!#REF!,0)","v":{"$error":"#REF!"}},{"$f":"OFFSET(fakturace!F655,fakturace!#REF!,0)","v":{"$error":"#REF!"}}]
[{"$f":"OFFSET(fakturace!B656,fakturace!#REF!,0)","v":{"$error":"#REF!"}},{"$f":"OFFSET(fakturace!C656,fakturace!#REF!,0)","v":{"$error":"#REF!"}},{"$f":"OFFSET(fakturace!F656,fakturace!#REF!,0)","v":{"$error":"#REF!"}}]
[{"$f":"OFFSET(fakturace!B657,fakturace!#REF!,0)","v":{"$error":"#REF!"}},{"$f":"OFFSET(fakturace!C657,fakturace!#REF!,0)","v":{"$error":"#REF!"}},{"$f":"OFFSET(fakturace!F657,fakturace!#REF!,0)","v":{"$error":"#REF!"}}]
[{"$f":"OFFSET(fakturace!B658,fakturace!#REF!,0)","v":{"$error":"#REF!"}},{"$f":"OFFSET(fakturace!C658,fakturace!#REF!,0)","v":{"$error":"#REF!"}},{"$f":"OFFSET(fakturace!F658,fakturace!#REF!,0)","v":{"$error":"#REF!"}}]
[{"$f":"OFFSET(fakturace!B659,fakturace!#REF!,0)","v":{"$error":"#REF!"}},{"$f":"OFFSET(fakturace!C659,fakturace!#REF!,0)","v":{"$error":"#REF!"}},{"$f":"OFFSET(fakturace!F659,fakturace!#REF!,0)","v":{"$error":"#REF!"}}]
[{"$f":"OFFSET(fakturace!B660,fakturace!#REF!,0)","v":{"$error":"#REF!"}},{"$f":"OFFSET(fakturace!C660,fakturace!#REF!,0)","v":{"$error":"#REF!"}},{"$f":"OFFSET(fakturace!F660,fakturace!#REF!,0)","v":{"$error":"#REF!"}}]
[{"$f":"OFFSET(fakturace!B661,fakturace!#REF!,0)","v":{"$error":"#REF!"}},{"$f":"OFFSET(fakturace!C661,fakturace!#REF!,0)","v":{"$error":"#REF!"}},{"$f":"OFFSET(fakturace!F661,fakturace!#REF!,0)","v":{"$error":"#REF!"}}]
[{"$f":"OFFSET(fakturace!B662,fakturace!#REF!,0)","v":{"$error":"#REF!"}},{"$f":"OFFSET(fakturace!C662,fakturace!#REF!,0)","v":{"$error":"#REF!"}},{"$f":"OFFSET(fakturace!F662,fakturace!#REF!,0)","v":{"$error":"#REF!"}}]
[{"$f":"OFFSET(fakturace!B663,fakturace!#REF!,0)","v":{"$error":"#REF!"}},{"$f":"OFFSET(fakturace!C663,fakturace!#REF!,0)","v":{"$error":"#REF!"}},{"$f":"OFFSET(fakturace!F663,fakturace!#REF!,0)","v":{"$error":"#REF!"}}]
[{"$f":"OFFSET(fakturace!B664,fakturace!#REF!,0)","v":{"$error":"#REF!"}},{"$f":"OFFSET(fakturace!C664,fakturace!#REF!,0)","v":{"$error":"#REF!"}},{"$f":"OFFSET(fakturace!F664,fakturace!#REF!,0)","v":{"$error":"#REF!"}}]
[{"$f":"OFFSET(fakturace!B665,fakturace!#REF!,0)","v":{"$error":"#REF!"}},{"$f":"OFFSET(fakturace!C665,fakturace!#REF!,0)","v":{"$error":"#REF!"}},{"$f":"OFFSET(fakturace!F665,fakturace!#REF!,0)","v":{"$error":"#REF!"}}]
[{"$f":"OFFSET(fakturace!B666,fakturace!#REF!,0)","v":{"$error":"#REF!"}},{"$f":"OFFSET(fakturace!C666,fakturace!#REF!,0)","v":{"$error":"#REF!"}},{"$f":"OFFSET(fakturace!F666,fakturace!#REF!,0)","v":{"$error":"#REF!"}}]
[{"$f":"OFFSET(fakturace!B667,fakturace!#REF!,0)","v":{"$error":"#REF!"}},{"$f":"OFFSET(fakturace!C667,fakturace!#REF!,0)","v":{"$error":"#REF!"}},{"$f":"OFFSET(fakturace!F667,fakturace!#REF!,0)","v":{"$error":"#REF!"}}]
[{"$f":"OFFSET(fakturace!B668,fakturace!#REF!,0)","v":{"$error":"#REF!"}},{"$f":"OFFSET(fakturace!C668,fakturace!#REF!,0)","v":{"$error":"#REF!"}},{"$f":"OFFSET(fakturace!F668,fakturace!#REF!,0)","v":{"$error":"#REF!"}}]
[{"$f":"OFFSET(fakturace!B669,fakturace!#REF!,0)","v":{"$error":"#REF!"}},{"$f":"OFFSET(fakturace!C669,fakturace!#REF!,0)","v":{"$error":"#REF!"}},{"$f":"OFFSET(fakturace!F669,fakturace!#REF!,0)","v":{"$error":"#REF!"}}]
[{"$f":"OFFSET(fakturace!B670,fakturace!#REF!,0)","v":{"$error":"#REF!"}},{"$f":"OFFSET(fakturace!C670,fakturace!#REF!,0)","v":{"$error":"#REF!"}},{"$f":"OFFSET(fakturace!F670,fakturace!#REF!,0)","v":{"$error":"#REF!"}}]
[{"$f":"OFFSET(fakturace!B671,fakturace!#REF!,0)","v":{"$error":"#REF!"}},{"$f":"OFFSET(fakturace!C671,fakturace!#REF!,0)","v":{"$error":"#REF!"}},{"$f":"OFFSET(fakturace!F671,fakturace!#REF!,0)","v":{"$error":"#REF!"}}]
[{"$f":"OFFSET(fakturace!B672,fakturace!#REF!,0)","v":{"$error":"#REF!"}},{"$f":"OFFSET(fakturace!C672,fakturace!#REF!,0)","v":{"$error":"#REF!"}},{"$f":"OFFSET(fakturace!F672,fakturace!#REF!,0)","v":{"$error":"#REF!"}}]
[{"$f":"OFFSET(fakturace!B673,fakturace!#REF!,0)","v":{"$error":"#REF!"}},{"$f":"OFFSET(fakturace!C673,fakturace!#REF!,0)","v":{"$error":"#REF!"}},{"$f":"OFFSET(fakturace!F673,fakturace!#REF!,0)","v":{"$error":"#REF!"}}]
[{"$f":"OFFSET(fakturace!B674,fakturace!#REF!,0)","v":{"$error":"#REF!"}},{"$f":"OFFSET(fakturace!C674,fakturace!#REF!,0)","v":{"$error":"#REF!"}},{"$f":"OFFSET(fakturace!F674,fakturace!#REF!,0)","v":{"$error":"#REF!"}}]
[{"$f":"OFFSET(fakturace!B675,fakturace!#REF!,0)","v":{"$error":"#REF!"}},{"$f":"OFFSET(fakturace!C675,fakturace!#REF!,0)","v":{"$error":"#REF!"}},{"$f":"OFFSET(fakturace!F675,fakturace!#REF!,0)","v":{"$error":"#REF!"}}]
[{"$f":"OFFSET(fakturace!B676,fakturace!#REF!,0)","v":{"$error":"#REF!"}},{"$f":"OFFSET(fakturace!C676,fakturace!#REF!,0)","v":{"$error":"#REF!"}},{"$f":"OFFSET(fakturace!F676,fakturace!#REF!,0)","v":{"$error":"#REF!"}}]
[{"$f":"OFFSET(fakturace!B677,fakturace!#REF!,0)","v":{"$error":"#REF!"}},{"$f":"OFFSET(fakturace!C677,fakturace!#REF!,0)","v":{"$error":"#REF!"}},{"$f":"OFFSET(fakturace!F677,fakturace!#REF!,0)","v":{"$error":"#REF!"}}]
[{"$f":"OFFSET(fakturace!B678,fakturace!#REF!,0)","v":{"$error":"#REF!"}},{"$f":"OFFSET(fakturace!C678,fakturace!#REF!,0)","v":{"$error":"#REF!"}},{"$f":"OFFSET(fakturace!F678,fakturace!#REF!,0)","v":{"$error":"#REF!"}}]
[{"$f":"OFFSET(fakturace!B679,fakturace!#REF!,0)","v":{"$error":"#REF!"}},{"$f":"OFFSET(fakturace!C679,fakturace!#REF!,0)","v":{"$error":"#REF!"}},{"$f":"OFFSET(fakturace!F679,fakturace!#REF!,0)","v":{"$error":"#REF!"}}]
[{"$f":"OFFSET(fakturace!B680,fakturace!#REF!,0)","v":{"$error":"#REF!"}},{"$f":"OFFSET(fakturace!C680,fakturace!#REF!,0)","v":{"$error":"#REF!"}},{"$f":"OFFSET(fakturace!F680,fakturace!#REF!,0)","v":{"$error":"#REF!"}}]
[{"$f":"OFFSET(fakturace!B681,fakturace!#REF!,0)","v":{"$error":"#REF!"}},{"$f":"OFFSET(fakturace!C681,fakturace!#REF!,0)","v":{"$error":"#REF!"}},{"$f":"OFFSET(fakturace!F681,fakturace!#REF!,0)","v":{"$error":"#REF!"}}]
[{"$f":"OFFSET(fakturace!B682,fakturace!#REF!,0)","v":{"$error":"#REF!"}},{"$f":"OFFSET(fakturace!C682,fakturace!#REF!,0)","v":{"$error":"#REF!"}},{"$f":"OFFSET(fakturace!F682,fakturace!#REF!,0)","v":{"$error":"#REF!"}}]
[{"$f":"OFFSET(fakturace!B683,fakturace!#REF!,0)","v":{"$error":"#REF!"}},{"$f":"OFFSET(fakturace!C683,fakturace!#REF!,0)","v":{"$error":"#REF!"}},{"$f":"OFFSET(fakturace!F683,fakturace!#REF!,0)","v":{"$error":"#REF!"}}]
[{"$f":"OFFSET(fakturace!B684,fakturace!#REF!,0)","v":{"$error":"#REF!"}},{"$f":"OFFSET(fakturace!C684,fakturace!#REF!,0)","v":{"$error":"#REF!"}},{"$f":"OFFSET(fakturace!F684,fakturace!#REF!,0)","v":{"$error":"#REF!"}}]
[{"$f":"OFFSET(fakturace!B685,fakturace!#REF!,0)","v":{"$error":"#REF!"}},{"$f":"OFFSET(fakturace!C685,fakturace!#REF!,0)","v":{"$error":"#REF!"}},{"$f":"OFFSET(fakturace!F685,fakturace!#REF!,0)","v":{"$error":"#REF!"}}]
[{"$f":"OFFSET(fakturace!B686,fakturace!#REF!,0)","v":{"$error":"#REF!"}},{"$f":"OFFSET(fakturace!C686,fakturace!#REF!,0)","v":{"$error":"#REF!"}},{"$f":"OFFSET(fakturace!F686,fakturace!#REF!,0)","v":{"$error":"#REF!"}}]
[{"$f":"OFFSET(fakturace!B687,fakturace!#REF!,0)","v":{"$error":"#REF!"}},{"$f":"OFFSET(fakturace!C687,fakturace!#REF!,0)","v":{"$error":"#REF!"}},{"$f":"OFFSET(fakturace!F687,fakturace!#REF!,0)","v":{"$error":"#REF!"}}]
[{"$f":"OFFSET(fakturace!B688,fakturace!#REF!,0)","v":{"$error":"#REF!"}},{"$f":"OFFSET(fakturace!C688,fakturace!#REF!,0)","v":{"$error":"#REF!"}},{"$f":"OFFSET(fakturace!F688,fakturace!#REF!,0)","v":{"$error":"#REF!"}}]
[{"$f":"OFFSET(fakturace!B689,fakturace!#REF!,0)","v":{"$error":"#REF!"}},{"$f":"OFFSET(fakturace!C689,fakturace!#REF!,0)","v":{"$error":"#REF!"}},{"$f":"OFFSET(fakturace!F689,fakturace!#REF!,0)","v":{"$error":"#REF!"}}]
[{"$f":"OFFSET(fakturace!B690,fakturace!#REF!,0)","v":{"$error":"#REF!"}},{"$f":"OFFSET(fakturace!C690,fakturace!#REF!,0)","v":{"$error":"#REF!"}},{"$f":"OFFSET(fakturace!F690,fakturace!#REF!,0)","v":{"$error":"#REF!"}}]
[{"$f":"OFFSET(fakturace!B691,fakturace!#REF!,0)","v":{"$error":"#REF!"}},{"$f":"OFFSET(fakturace!C691,fakturace!#REF!,0)","v":{"$error":"#REF!"}},{"$f":"OFFSET(fakturace!F691,fakturace!#REF!,0)","v":{"$error":"#REF!"}}]
[{"$f":"OFFSET(fakturace!B692,fakturace!#REF!,0)","v":{"$error":"#REF!"}},{"$f":"OFFSET(fakturace!C692,fakturace!#REF!,0)","v":{"$error":"#REF!"}},{"$f":"OFFSET(fakturace!F692,fakturace!#REF!,0)","v":{"$error":"#REF!"}}]
[{"$f":"OFFSET(fakturace!B693,fakturace!#REF!,0)","v":{"$error":"#REF!"}},{"$f":"OFFSET(fakturace!C693,fakturace!#REF!,0)","v":{"$error":"#REF!"}},{"$f":"OFFSET(fakturace!F693,fakturace!#REF!,0)","v":{"$error":"#REF!"}}]
[{"$f":"OFFSET(fakturace!B694,fakturace!#REF!,0)","v":{"$error":"#REF!"}},{"$f":"OFFSET(fakturace!C694,fakturace!#REF!,0)","v":{"$error":"#REF!"}},{"$f":"OFFSET(fakturace!F694,fakturace!#REF!,0)","v":{"$error":"#REF!"}}]
[{"$f":"OFFSET(fakturace!B695,fakturace!#REF!,0)","v":{"$error":"#REF!"}},{"$f":"OFFSET(fakturace!C695,fakturace!#REF!,0)","v":{"$error":"#REF!"}},{"$f":"OFFSET(fakturace!F695,fakturace!#REF!,0)","v":{"$error":"#REF!"}}]
[{"$f":"OFFSET(fakturace!B696,fakturace!#REF!,0)","v":{"$error":"#REF!"}},{"$f":"OFFSET(fakturace!C696,fakturace!#REF!,0)","v":{"$error":"#REF!"}},{"$f":"OFFSET(fakturace!F696,fakturace!#REF!,0)","v":{"$error":"#REF!"}}]
[{"$f":"OFFSET(fakturace!B697,fakturace!#REF!,0)","v":{"$error":"#REF!"}},{"$f":"OFFSET(fakturace!C697,fakturace!#REF!,0)","v":{"$error":"#REF!"}},{"$f":"OFFSET(fakturace!F697,fakturace!#REF!,0)","v":{"$error":"#REF!"}}]
[{"$f":"OFFSET(fakturace!B698,fakturace!#REF!,0)","v":{"$error":"#REF!"}},{"$f":"OFFSET(fakturace!C698,fakturace!#REF!,0)","v":{"$error":"#REF!"}},{"$f":"OFFSET(fakturace!F698,fakturace!#REF!,0)","v":{"$error":"#REF!"}}]
[{"$f":"OFFSET(fakturace!B699,fakturace!#REF!,0)","v":{"$error":"#REF!"}},{"$f":"OFFSET(fakturace!C699,fakturace!#REF!,0)","v":{"$error":"#REF!"}},{"$f":"OFFSET(fakturace!F699,fakturace!#REF!,0)","v":{"$error":"#REF!"}}]
[{"$f":"OFFSET(fakturace!B700,fakturace!#REF!,0)","v":{"$error":"#REF!"}},{"$f":"OFFSET(fakturace!C700,fakturace!#REF!,0)","v":{"$error":"#REF!"}},{"$f":"OFFSET(fakturace!F700,fakturace!#REF!,0)","v":{"$error":"#REF!"}}]
[{"$f":"OFFSET(fakturace!B701,fakturace!#REF!,0)","v":{"$error":"#REF!"}},{"$f":"OFFSET(fakturace!C701,fakturace!#REF!,0)","v":{"$error":"#REF!"}},{"$f":"OFFSET(fakturace!F701,fakturace!#REF!,0)","v":{"$error":"#REF!"}}]
[{"$f":"OFFSET(fakturace!B702,fakturace!#REF!,0)","v":{"$error":"#REF!"}},{"$f":"OFFSET(fakturace!C702,fakturace!#REF!,0)","v":{"$error":"#REF!"}},{"$f":"OFFSET(fakturace!F702,fakturace!#REF!,0)","v":{"$error":"#REF!"}}]
[{"$f":"OFFSET(fakturace!B703,fakturace!#REF!,0)","v":{"$error":"#REF!"}},{"$f":"OFFSET(fakturace!C703,fakturace!#REF!,0)","v":{"$error":"#REF!"}},{"$f":"OFFSET(fakturace!F703,fakturace!#REF!,0)","v":{"$error":"#REF!"}}]
[{"$f":"OFFSET(fakturace!B704,fakturace!#REF!,0)","v":{"$error":"#REF!"}},{"$f":"OFFSET(fakturace!C704,fakturace!#REF!,0)","v":{"$error":"#REF!"}},{"$f":"OFFSET(fakturace!F704,fakturace!#REF!,0)","v":{"$error":"#REF!"}}]
[{"$f":"OFFSET(fakturace!B705,fakturace!#REF!,0)","v":{"$error":"#REF!"}},{"$f":"OFFSET(fakturace!C705,fakturace!#REF!,0)","v":{"$error":"#REF!"}},{"$f":"OFFSET(fakturace!F705,fakturace!#REF!,0)","v":{"$error":"#REF!"}}]
[{"$f":"OFFSET(fakturace!B706,fakturace!#REF!,0)","v":{"$error":"#REF!"}},{"$f":"OFFSET(fakturace!C706,fakturace!#REF!,0)","v":{"$error":"#REF!"}},{"$f":"OFFSET(fakturace!F706,fakturace!#REF!,0)","v":{"$error":"#REF!"}}]
[{"$f":"OFFSET(fakturace!B707,fakturace!#REF!,0)","v":{"$error":"#REF!"}},{"$f":"OFFSET(fakturace!C707,fakturace!#REF!,0)","v":{"$error":"#REF!"}},{"$f":"OFFSET(fakturace!F707,fakturace!#REF!,0)","v":{"$error":"#REF!"}}]
[{"$f":"OFFSET(fakturace!B708,fakturace!#REF!,0)","v":{"$error":"#REF!"}},{"$f":"OFFSET(fakturace!C708,fakturace!#REF!,0)","v":{"$error":"#REF!"}},{"$f":"OFFSET(fakturace!F708,fakturace!#REF!,0)","v":{"$error":"#REF!"}}]
[{"$f":"OFFSET(fakturace!B709,fakturace!#REF!,0)","v":{"$error":"#REF!"}},{"$f":"OFFSET(fakturace!C709,fakturace!#REF!,0)","v":{"$error":"#REF!"}},{"$f":"OFFSET(fakturace!F709,fakturace!#REF!,0)","v":{"$error":"#REF!"}}]
[{"$f":"OFFSET(fakturace!B710,fakturace!#REF!,0)","v":{"$error":"#REF!"}},{"$f":"OFFSET(fakturace!C710,fakturace!#REF!,0)","v":{"$error":"#REF!"}},{"$f":"OFFSET(fakturace!F710,fakturace!#REF!,0)","v":{"$error":"#REF!"}}]
[{"$f":"OFFSET(fakturace!B711,fakturace!#REF!,0)","v":{"$error":"#REF!"}},{"$f":"OFFSET(fakturace!C711,fakturace!#REF!,0)","v":{"$error":"#REF!"}},{"$f":"OFFSET(fakturace!F711,fakturace!#REF!,0)","v":{"$error":"#REF!"}}]
[{"$f":"OFFSET(fakturace!B712,fakturace!#REF!,0)","v":{"$error":"#REF!"}},{"$f":"OFFSET(fakturace!C712,fakturace!#REF!,0)","v":{"$error":"#REF!"}},{"$f":"OFFSET(fakturace!F712,fakturace!#REF!,0)","v":{"$error":"#REF!"}}]
[{"$f":"OFFSET(fakturace!B713,fakturace!#REF!,0)","v":{"$error":"#REF!"}},{"$f":"OFFSET(fakturace!C713,fakturace!#REF!,0)","v":{"$error":"#REF!"}},{"$f":"OFFSET(fakturace!F713,fakturace!#REF!,0)","v":{"$error":"#REF!"}}]
[{"$f":"OFFSET(fakturace!B714,fakturace!#REF!,0)","v":{"$error":"#REF!"}},{"$f":"OFFSET(fakturace!C714,fakturace!#REF!,0)","v":{"$error":"#REF!"}},{"$f":"OFFSET(fakturace!F714,fakturace!#REF!,0)","v":{"$error":"#REF!"}}]
[{"$f":"OFFSET(fakturace!B715,fakturace!#REF!,0)","v":{"$error":"#REF!"}},{"$f":"OFFSET(fakturace!C715,fakturace!#REF!,0)","v":{"$error":"#REF!"}},{"$f":"OFFSET(fakturace!F715,fakturace!#REF!,0)","v":{"$error":"#REF!"}}]
[{"$f":"OFFSET(fakturace!B716,fakturace!#REF!,0)","v":{"$error":"#REF!"}},{"$f":"OFFSET(fakturace!C716,fakturace!#REF!,0)","v":{"$error":"#REF!"}},{"$f":"OFFSET(fakturace!F716,fakturace!#REF!,0)","v":{"$error":"#REF!"}}]
[{"$f":"OFFSET(fakturace!B717,fakturace!#REF!,0)","v":{"$error":"#REF!"}},{"$f":"OFFSET(fakturace!C717,fakturace!#REF!,0)","v":{"$error":"#REF!"}},{"$f":"OFFSET(fakturace!F717,fakturace!#REF!,0)","v":{"$error":"#REF!"}}]
[{"$f":"OFFSET(fakturace!B718,fakturace!#REF!,0)","v":{"$error":"#REF!"}},{"$f":"OFFSET(fakturace!C718,fakturace!#REF!,0)","v":{"$error":"#REF!"}},{"$f":"OFFSET(fakturace!F718,fakturace!#REF!,0)","v":{"$error":"#REF!"}}]
[{"$f":"OFFSET(fakturace!B719,fakturace!#REF!,0)","v":{"$error":"#REF!"}},{"$f":"OFFSET(fakturace!C719,fakturace!#REF!,0)","v":{"$error":"#REF!"}},{"$f":"OFFSET(fakturace!F719,fakturace!#REF!,0)","v":{"$error":"#REF!"}}]
[{"$f":"OFFSET(fakturace!B720,fakturace!#REF!,0)","v":{"$error":"#REF!"}},{"$f":"OFFSET(fakturace!C720,fakturace!#REF!,0)","v":{"$error":"#REF!"}},{"$f":"OFFSET(fakturace!F720,fakturace!#REF!,0)","v":{"$error":"#REF!"}}]
[{"$f":"OFFSET(fakturace!B721,fakturace!#REF!,0)","v":{"$error":"#REF!"}},{"$f":"OFFSET(fakturace!C721,fakturace!#REF!,0)","v":{"$error":"#REF!"}},{"$f":"OFFSET(fakturace!F721,fakturace!#REF!,0)","v":{"$error":"#REF!"}}]
[{"$f":"OFFSET(fakturace!B722,fakturace!#REF!,0)","v":{"$error":"#REF!"}},{"$f":"OFFSET(fakturace!C722,fakturace!#REF!,0)","v":{"$error":"#REF!"}},{"$f":"OFFSET(fakturace!F722,fakturace!#REF!,0)","v":{"$error":"#REF!"}}]
[{"$f":"OFFSET(fakturace!B723,fakturace!#REF!,0)","v":{"$error":"#REF!"}},{"$f":"OFFSET(fakturace!C723,fakturace!#REF!,0)","v":{"$error":"#REF!"}},{"$f":"OFFSET(fakturace!F723,fakturace!#REF!,0)","v":{"$error":"#REF!"}}]
[{"$f":"OFFSET(fakturace!B724,fakturace!#REF!,0)","v":{"$error":"#REF!"}},{"$f":"OFFSET(fakturace!C724,fakturace!#REF!,0)","v":{"$error":"#REF!"}},{"$f":"OFFSET(fakturace!F724,fakturace!#REF!,0)","v":{"$error":"#REF!"}}]
[{"$f":"OFFSET(fakturace!B725,fakturace!#REF!,0)","v":{"$error":"#REF!"}},{"$f":"OFFSET(fakturace!C725,fakturace!#REF!,0)","v":{"$error":"#REF!"}},{"$f":"OFFSET(fakturace!F725,fakturace!#REF!,0)","v":{"$error":"#REF!"}}]
[{"$f":"OFFSET(fakturace!B726,fakturace!#REF!,0)","v":{"$error":"#REF!"}},{"$f":"OFFSET(fakturace!C726,fakturace!#REF!,0)","v":{"$error":"#REF!"}},{"$f":"OFFSET(fakturace!F726,fakturace!#REF!,0)","v":{"$error":"#REF!"}}]
[{"$f":"OFFSET(fakturace!B727,fakturace!#REF!,0)","v":{"$error":"#REF!"}},{"$f":"OFFSET(fakturace!C727,fakturace!#REF!,0)","v":{"$error":"#REF!"}},{"$f":"OFFSET(fakturace!F727,fakturace!#REF!,0)","v":{"$error":"#REF!"}}]
[{"$f":"OFFSET(fakturace!B728,fakturace!#REF!,0)","v":{"$error":"#REF!"}},{"$f":"OFFSET(fakturace!C728,fakturace!#REF!,0)","v":{"$error":"#REF!"}},{"$f":"OFFSET(fakturace!F728,fakturace!#REF!,0)","v":{"$error":"#REF!"}}]
[{"$f":"OFFSET(fakturace!B729,fakturace!#REF!,0)","v":{"$error":"#REF!"}},{"$f":"OFFSET(fakturace!C729,fakturace!#REF!,0)","v":{"$error":"#REF!"}},{"$f":"OFFSET(fakturace!F729,fakturace!#REF!,0)","v":{"$error":"#REF!"}}]
[{"$f":"OFFSET(fakturace!B730,fakturace!#REF!,0)","v":{"$error":"#REF!"}},{"$f":"OFFSET(fakturace!C730,fakturace!#REF!,0)","v":{"$error":"#REF!"}},{"$f":"OFFSET(fakturace!F730,fakturace!#REF!,0)","v":{"$error":"#REF!"}}]
[{"$f":"OFFSET(fakturace!B731,fakturace!#REF!,0)","v":{"$error":"#REF!"}},{"$f":"OFFSET(fakturace!C731,fakturace!#REF!,0)","v":{"$error":"#REF!"}},{"$f":"OFFSET(fakturace!F731,fakturace!#REF!,0)","v":{"$error":"#REF!"}}]
[{"$f":"OFFSET(fakturace!B732,fakturace!#REF!,0)","v":{"$error":"#REF!"}},{"$f":"OFFSET(fakturace!C732,fakturace!#REF!,0)","v":{"$error":"#REF!"}},{"$f":"OFFSET(fakturace!F732,fakturace!#REF!,0)","v":{"$error":"#REF!"}}]
[{"$f":"OFFSET(fakturace!B733,fakturace!#REF!,0)","v":{"$error":"#REF!"}},{"$f":"OFFSET(fakturace!C733,fakturace!#REF!,0)","v":{"$error":"#REF!"}},{"$f":"OFFSET(fakturace!F733,fakturace!#REF!,0)","v":{"$error":"#REF!"}}]
[{"$f":"OFFSET(fakturace!B734,fakturace!#REF!,0)","v":{"$error":"#REF!"}},{"$f":"OFFSET(fakturace!C734,fakturace!#REF!,0)","v":{"$error":"#REF!"}},{"$f":"OFFSET(fakturace!F734,fakturace!#REF!,0)","v":{"$error":"#REF!"}}]
[{"$f":"OFFSET(fakturace!B735,fakturace!#REF!,0)","v":{"$error":"#REF!"}},{"$f":"OFFSET(fakturace!C735,fakturace!#REF!,0)","v":{"$error":"#REF!"}},{"$f":"OFFSET(fakturace!F735,fakturace!#REF!,0)","v":{"$error":"#REF!"}}]
[{"$f":"OFFSET(fakturace!B736,fakturace!#REF!,0)","v":{"$error":"#REF!"}},{"$f":"OFFSET(fakturace!C736,fakturace!#REF!,0)","v":{"$error":"#REF!"}},{"$f":"OFFSET(fakturace!F736,fakturace!#REF!,0)","v":{"$error":"#REF!"}}]
[{"$f":"OFFSET(fakturace!B737,fakturace!#REF!,0)","v":{"$error":"#REF!"}},{"$f":"OFFSET(fakturace!C737,fakturace!#REF!,0)","v":{"$error":"#REF!"}},{"$f":"OFFSET(fakturace!F737,fakturace!#REF!,0)","v":{"$error":"#REF!"}}]
[{"$f":"OFFSET(fakturace!B738,fakturace!#REF!,0)","v":{"$error":"#REF!"}},{"$f":"OFFSET(fakturace!C738,fakturace!#REF!,0)","v":{"$error":"#REF!"}},{"$f":"OFFSET(fakturace!F738,fakturace!#REF!,0)","v":{"$error":"#REF!"}}]
[{"$f":"OFFSET(fakturace!B739,fakturace!#REF!,0)","v":{"$error":"#REF!"}},{"$f":"OFFSET(fakturace!C739,fakturace!#REF!,0)","v":{"$error":"#REF!"}},{"$f":"OFFSET(fakturace!F739,fakturace!#REF!,0)","v":{"$error":"#REF!"}}]
[{"$f":"OFFSET(fakturace!B740,fakturace!#REF!,0)","v":{"$error":"#REF!"}},{"$f":"OFFSET(fakturace!C740,fakturace!#REF!,0)","v":{"$error":"#REF!"}},{"$f":"OFFSET(fakturace!F740,fakturace!#REF!,0)","v":{"$error":"#REF!"}}]
[{"$f":"OFFSET(fakturace!B741,fakturace!#REF!,0)","v":{"$error":"#REF!"}},{"$f":"OFFSET(fakturace!C741,fakturace!#REF!,0)","v":{"$error":"#REF!"}},{"$f":"OFFSET(fakturace!F741,fakturace!#REF!,0)","v":{"$error":"#REF!"}}]
[{"$f":"OFFSET(fakturace!B742,fakturace!#REF!,0)","v":{"$error":"#REF!"}},{"$f":"OFFSET(fakturace!C742,fakturace!#REF!,0)","v":{"$error":"#REF!"}},{"$f":"OFFSET(fakturace!F742,fakturace!#REF!,0)","v":{"$error":"#REF!"}}]
[{"$f":"OFFSET(fakturace!B743,fakturace!#REF!,0)","v":{"$error":"#REF!"}},{"$f":"OFFSET(fakturace!C743,fakturace!#REF!,0)","v":{"$error":"#REF!"}},{"$f":"OFFSET(fakturace!F743,fakturace!#REF!,0)","v":{"$error":"#REF!"}}]
[{"$f":"OFFSET(fakturace!B744,fakturace!#REF!,0)","v":{"$error":"#REF!"}},{"$f":"OFFSET(fakturace!C744,fakturace!#REF!,0)","v":{"$error":"#REF!"}},{"$f":"OFFSET(fakturace!F744,fakturace!#REF!,0)","v":{"$error":"#REF!"}}]
[{"$f":"OFFSET(fakturace!B745,fakturace!#REF!,0)","v":{"$error":"#REF!"}},{"$f":"OFFSET(fakturace!C745,fakturace!#REF!,0)","v":{"$error":"#REF!"}},{"$f":"OFFSET(fakturace!F745,fakturace!#REF!,0)","v":{"$error":"#REF!"}}]
[{"$f":"OFFSET(fakturace!B746,fakturace!#REF!,0)","v":{"$error":"#REF!"}},{"$f":"OFFSET(fakturace!C746,fakturace!#REF!,0)","v":{"$error":"#REF!"}},{"$f":"OFFSET(fakturace!F746,fakturace!#REF!,0)","v":{"$error":"#REF!"}}]
[{"$f":"OFFSET(fakturace!B747,fakturace!#REF!,0)","v":{"$error":"#REF!"}},{"$f":"OFFSET(fakturace!C747,fakturace!#REF!,0)","v":{"$error":"#REF!"}},{"$f":"OFFSET(fakturace!F747,fakturace!#REF!,0)","v":{"$error":"#REF!"}}]
[{"$f":"OFFSET(fakturace!B748,fakturace!#REF!,0)","v":{"$error":"#REF!"}},{"$f":"OFFSET(fakturace!C748,fakturace!#REF!,0)","v":{"$error":"#REF!"}},{"$f":"OFFSET(fakturace!F748,fakturace!#REF!,0)","v":{"$error":"#REF!"}}]
[{"$f":"OFFSET(fakturace!B749,fakturace!#REF!,0)","v":{"$error":"#REF!"}},{"$f":"OFFSET(fakturace!C749,fakturace!#REF!,0)","v":{"$error":"#REF!"}},{"$f":"OFFSET(fakturace!F749,fakturace!#REF!,0)","v":{"$error":"#REF!"}}]
[{"$f":"OFFSET(fakturace!B750,fakturace!#REF!,0)","v":{"$error":"#REF!"}},{"$f":"OFFSET(fakturace!C750,fakturace!#REF!,0)","v":{"$error":"#REF!"}},{"$f":"OFFSET(fakturace!F750,fakturace!#REF!,0)","v":{"$error":"#REF!"}}]
[{"$f":"OFFSET(fakturace!B751,fakturace!#REF!,0)","v":{"$error":"#REF!"}},{"$f":"OFFSET(fakturace!C751,fakturace!#REF!,0)","v":{"$error":"#REF!"}},{"$f":"OFFSET(fakturace!F751,fakturace!#REF!,0)","v":{"$error":"#REF!"}}]
[{"$f":"OFFSET(fakturace!B752,fakturace!#REF!,0)","v":{"$error":"#REF!"}},{"$f":"OFFSET(fakturace!C752,fakturace!#REF!,0)","v":{"$error":"#REF!"}},{"$f":"OFFSET(fakturace!F752,fakturace!#REF!,0)","v":{"$error":"#REF!"}}]
[{"$f":"OFFSET(fakturace!B753,fakturace!#REF!,0)","v":{"$error":"#REF!"}},{"$f":"OFFSET(fakturace!C753,fakturace!#REF!,0)","v":{"$error":"#REF!"}},{"$f":"OFFSET(fakturace!F753,fakturace!#REF!,0)","v":{"$error":"#REF!"}}]
[{"$f":"OFFSET(fakturace!B754,fakturace!#REF!,0)","v":{"$error":"#REF!"}},{"$f":"OFFSET(fakturace!C754,fakturace!#REF!,0)","v":{"$error":"#REF!"}},{"$f":"OFFSET(fakturace!F754,fakturace!#REF!,0)","v":{"$error":"#REF!"}}]
[{"$f":"OFFSET(fakturace!B755,fakturace!#REF!,0)","v":{"$error":"#REF!"}},{"$f":"OFFSET(fakturace!C755,fakturace!#REF!,0)","v":{"$error":"#REF!"}},{"$f":"OFFSET(fakturace!F755,fakturace!#REF!,0)","v":{"$error":"#REF!"}}]
[{"$f":"OFFSET(fakturace!B756,fakturace!#REF!,0)","v":{"$error":"#REF!"}},{"$f":"OFFSET(fakturace!C756,fakturace!#REF!,0)","v":{"$error":"#REF!"}},{"$f":"OFFSET(fakturace!F756,fakturace!#REF!,0)","v":{"$error":"#REF!"}}]
[{"$f":"OFFSET(fakturace!B757,fakturace!#REF!,0)","v":{"$error":"#REF!"}},{"$f":"OFFSET(fakturace!C757,fakturace!#REF!,0)","v":{"$error":"#REF!"}},{"$f":"OFFSET(fakturace!F757,fakturace!#REF!,0)","v":{"$error":"#REF!"}}]
[{"$f":"OFFSET(fakturace!B758,fakturace!#REF!,0)","v":{"$error":"#REF!"}},{"$f":"OFFSET(fakturace!C758,fakturace!#REF!,0)","v":{"$error":"#REF!"}},{"$f":"OFFSET(fakturace!F758,fakturace!#REF!,0)","v":{"$error":"#REF!"}}]
[{"$f":"OFFSET(fakturace!B759,fakturace!#REF!,0)","v":{"$error":"#REF!"}},{"$f":"OFFSET(fakturace!C759,fakturace!#REF!,0)","v":{"$error":"#REF!"}},{"$f":"OFFSET(fakturace!F759,fakturace!#REF!,0)","v":{"$error":"#REF!"}}]

{"sheet":"DATA-GRAF-72H","index":5,"n_rows":75,"n_cols":6,"rows_kept":75,"cut":false,"hidden":true,"merged":[[0,0,0,3]]}
[]
["D3",null,null,"Posuvník",null,{"$f":"\" (\"&TEXT($A$4,\"DD.MM.RRRR HH:MM\")&\") - (\"&TEXT($A$75,\"DD.MM.RRRR HH:MM\")&\")\"","v":" (01.07.2013 00:00) - (03.07.2013 23:00)"}]
["Datum","měření [MWh]","cenový tarif [Kc/MWh]",0]
[{"$f":"OFFSET(fakturace!B16,'DATA-GRAF-72H'!$D$3,0)","v":"2013-07-01"},{"$f":"OFFSET(fakturace!C16,'DATA-GRAF-72H'!$D$3,0)","v":0},{"$f":"OFFSET(fakturace!F16,'DATA-GRAF-72H'!$D$3,0)","v":49.375}]
[{"$f":"OFFSET(fakturace!B17,'DATA-GRAF-72H'!$D$3,0)","v":"2013-07-01T01:00:00"},{"$f":"OFFSET(fakturace!C17,'DATA-GRAF-72H'!$D$3,0)","v":0},{"$f":"OFFSET(fakturace!F17,'DATA-GRAF-72H'!$D$3,0)","v":-105.69574999999992}]
[{"$f":"OFFSET(fakturace!B18,'DATA-GRAF-72H'!$D$3,0)","v":"2013-07-01T02:00:00"},{"$f":"OFFSET(fakturace!C18,'DATA-GRAF-72H'!$D$3,0)","v":0},{"$f":"OFFSET(fakturace!F18,'DATA-GRAF-72H'!$D$3,0)","v":-155.82749999999993}]
[{"$f":"OFFSET(fakturace!B19,'DATA-GRAF-72H'!$D$3,0)","v":"2013-07-01T03:00:00"},{"$f":"OFFSET(fakturace!C19,'DATA-GRAF-72H'!$D$3,0)","v":0},{"$f":"OFFSET(fakturace!F19,'DATA-GRAF-72H'!$D$3,0)","v":-171.41249999999997}]
[{"$f":"OFFSET(fakturace!B20,'DATA-GRAF-72H'!$D$3,0)","v":"2013-07-01T04:00:00"},{"$f":"OFFSET(fakturace!C20,'DATA-GRAF-72H'!$D$3,0)","v":0},{"$f":"OFFSET(fakturace!F20,'DATA-GRAF-72H'!$D$3,0)","v":-171.41249999999997}]
[{"$f":"OFFSET(fakturace!B21,'DATA-GRAF-72H'!$D$3,0)","v":"2013-07-01T05:00:00"},{"$f":"OFFSET(fakturace!C21,'DATA-GRAF-72H'!$D$3,0)","v":0},{"$f":"OFFSET(fakturace!F21,'DATA-GRAF-72H'!$D$3,0)","v":-106.47499999999997}]
[{"$f":"OFFSET(fakturace!B22,'DATA-GRAF-72H'!$D$3,0)","v":"2013-07-01T06:00:00"},{"$f":"OFFSET(fakturace!C22,'DATA-GRAF-72H'!$D$3,0)","v":0},{"$f":"OFFSET(fakturace!F22,'DATA-GRAF-72H'!$D$3,0)","v":260.55175000000008}]
[{"$f":"OFFSET(fakturace!B23,'DATA-GRAF-72H'!$D$3,0)","v":"2013-07-01T07:00:00"},{"$f":"OFFSET(fakturace!C23,'DATA-GRAF-72H'!$D$3,0)","v":0},{"$f":"OFFSET(fakturace!F23,'DATA-GRAF-72H'!$D$3,0)","v":529.91250000000014}]
[{"$f":"OFFSET(fakturace!B24,'DATA-GRAF-72H'!$D$3,0)","v":"2013-07-01T08:00:00"},{"$f":"OFFSET(fakturace!C24,'DATA-GRAF-72H'!$D$3,0)","v":0},{"$f":"OFFSET(fakturace!F24,'DATA-GRAF-72H'!$D$3,0)","v":589.39525000000003}]
[{"$f":"OFFSET(fakturace!B25,'DATA-GRAF-72H'!$D$3,0)","v":"2013-07-01T09:00:00"},{"$f":"OFFSET(fakturace!C25,'DATA-GRAF-72H'!$D$3,0)","v":0},{"$f":"OFFSET(fakturace!F25,'DATA-GRAF-72H'!$D$3,0)","v":503.9375}]
[{"$f":"OFFSET(fakturace!B26,'DATA-GRAF-72H'!$D$3,0)","v":"2013-07-01T10:00:00"},{"$f":"OFFSET(fakturace!C26,'DATA-GRAF-72H'!$D$3,0)","v":0},{"$f":"OFFSET(fakturace!F26,'DATA-GRAF-72H'!$D$3,0)","v":481.8587500000001}]
[{"$f":"OFFSET(fakturace!B27,'DATA-GRAF-72H'!$D$3,0)","v":"2013-07-01T11:00:00"},{"$f":"OFFSET(fakturace!C27,'DATA-GRAF-72H'!$D$3,0)","v":0},{"$f":"OFFSET(fakturace!F27,'DATA-GRAF-72H'!$D$3,0)","v":451.98749999999995}]
[{"$f":"OFFSET(fakturace!B28,'DATA-GRAF-72H'!$D$3,0)","v":"2013-07-01T12:00:00"},{"$f":"OFFSET(fakturace!C28,'DATA-GRAF-72H'!$D$3,0)","v":0},{"$f":"OFFSET(fakturace!F28,'DATA-GRAF-72H'!$D$3,0)","v":370.1662500000001}]
[{"$f":"OFFSET(fakturace!B29,'DATA-GRAF-72H'!$D$3,0)","v":"2013-07-01T13:00:00"},{"$f":"OFFSET(fakturace!C29,'DATA-GRAF-72H'!$D$3,0)","v":0},{"$f":"OFFSET(fakturace!F29,'DATA-GRAF-72H'!$D$3,0)","v":367.56875000000002}]
[{"$f":"OFFSET(fakturace!B30,'DATA-GRAF-72H'!$D$3,0)","v":"2013-07-01T14:00:00"},{"$f":"OFFSET(fakturace!C30,'DATA-GRAF-72H'!$D$3,0)","v":0},{"$f":"OFFSET(fakturace!F30,'DATA-GRAF-72H'!$D$3,0)","v":335.1}]
[{"$f":"OFFSET(fakturace!B31,'DATA-GRAF-72H'!$D$3,0)","v":"2013-07-01T15:00:00"},{"$f":"OFFSET(fakturace!C31,'DATA-GRAF-72H'!$D$3,0)","v":0},{"$f":"OFFSET(fakturace!F31,'DATA-GRAF-72H'!$D$3,0)","v":387.05000000000007}]
[{"$f":"OFFSET(fakturace!B32,'DATA-GRAF-72H'!$D$3,0)","v":"2013-07-01T16:00:00"},{"$f":"OFFSET(fakturace!C32,'DATA-GRAF-72H'!$D$3,0)","v":0},{"$f":"OFFSET(fakturace!F32,'DATA-GRAF-72H'!$D$3,0)","v":379.25750000000016}]
[{"$f":"OFFSET(fakturace!B33,'DATA-GRAF-72H'!$D$3,0)","v":"2013-07-01T17:00:00"},{"$f":"OFFSET(fakturace!C33,'DATA-GRAF-72H'!$D$3,0)","v":0},{"$f":"OFFSET(fakturace!F33,'DATA-GRAF-72H'!$D$3,0)","v":413.02500000000009}]
[{"$f":"OFFSET(fakturace!B34,'DATA-GRAF-72H'!$D$3,0)","v":"2013-07-01T18:00:00"},{"$f":"OFFSET(fakturace!C34,'DATA-GRAF-72H'!$D$3,0)","v":0},{"$f":"OFFSET(fakturace!F34,'DATA-GRAF-72H'!$D$3,0)","v":450.68875000000003}]
[{"$f":"OFFSET(fakturace!B35,'DATA-GRAF-72H'!$D$3,0)","v":"2013-07-01T19:00:00"},{"$f":"OFFSET(fakturace!C35,'DATA-GRAF-72H'!$D$3,0)","v":0},{"$f":"OFFSET(fakturace!F35,'DATA-GRAF-72H'!$D$3,0)","v":542.90000000000009}]
[{"$f":"OFFSET(fakturace!B36,'DATA-GRAF-72H'!$D$3,0)","v":"2013-07-01T20:00:00"},{"$f":"OFFSET(fakturace!C36,'DATA-GRAF-72H'!$D$3,0)","v":0},{"$f":"OFFSET(fakturace!F36,'DATA-GRAF-72H'!$D$3,0)","v":559.78375000000005}]
[{"$f":"OFFSET(fakturace!B37,'DATA-GRAF-72H'!$D$3,0)","v":"2013-07-01T21:00:00"},{"$f":"OFFSET(fakturace!C37,'DATA-GRAF-72H'!$D$3,0)","v":0},{"$f":"OFFSET(fakturace!F37,'DATA-GRAF-72H'!$D$3,0)","v":530.69175000000018}]
[{"$f":"OFFSET(fakturace!B38,'DATA-GRAF-72H'!$D$3,0)","v":"2013-07-01T22:00:00"},{"$f":"OFFSET(fakturace!C38,'DATA-GRAF-72H'!$D$3,0)","v":0},{"$f":"OFFSET(fakturace!F38,'DATA-GRAF-72H'!$D$3,0)","v":439}]
[{"$f":"OFFSET(fakturace!B39,'DATA-GRAF-72H'!$D$3,0)","v":"2013-07-01T23:00:00"},{"$f":"OFFSET(fakturace!C39,'DATA-GRAF-72H'!$D$3,0)","v":0},{"$f":"OFFSET(fakturace!F39,'DATA-GRAF-72H'!$D$3,0)","v":271.46124999999995}]
[{"$f":"OFFSET(fakturace!B40,'DATA-GRAF-72H'!$D$3,0)","v":"2013-07-02"},{"$f":"OFFSET(fakturace!C40,'DATA-GRAF-72H'!$D$3,0)","v":0},{"$f":"OFFSET(fakturace!F40,'DATA-GRAF-72H'!$D$3,0)","v":194.77419999999995}]
[{"$f":"OFFSET(fakturace!B41,'DATA-GRAF-72H'!$D$3,0)","v":"2013-07-02T01:00:00"},{"$f":"OFFSET(fakturace!C41,'DATA-GRAF-72H'!$D$3,0)","v":0},{"$f":"OFFSET(fakturace!F41,'DATA-GRAF-72H'!$D$3,0)","v":101.7299999999999}]
[{"$f":"OFFSET(fakturace!B42,'DATA-GRAF-72H'!$D$3,0)","v":"2013-07-02T02:00:00"},{"$f":"OFFSET(fakturace!C42,'DATA-GRAF-72H'!$D$3,0)","v":0},{"$f":"OFFSET(fakturace!F42,'DATA-GRAF-72H'!$D$3,0)","v":24.539700000000039}]
[{"$f":"OFFSET(fakturace!B43,'DATA-GRAF-72H'!$D$3,0)","v":"2013-07-02T03:00:00"},{"$f":"OFFSET(fakturace!C43,'DATA-GRAF-72H'!$D$3,0)","v":0},{"$f":"OFFSET(fakturace!F43,'DATA-GRAF-72H'!$D$3,0)","v":-4.8290000000000646}]
[{"$f":"OFFSET(fakturace!B44,'DATA-GRAF-72H'!$D$3,0)","v":"2013-07-02T04:00:00"},{"$f":"OFFSET(fakturace!C44,'DATA-GRAF-72H'!$D$3,0)","v":0},{"$f":"OFFSET(fakturace!F44,'DATA-GRAF-72H'!$D$3,0)","v":10.764999999999986}]
[{"$f":"OFFSET(fakturace!B45,'DATA-GRAF-72H'!$D$3,0)","v":"2013-07-02T05:00:00"},{"$f":"OFFSET(fakturace!C45,'DATA-GRAF-72H'!$D$3,0)","v":0},{"$f":"OFFSET(fakturace!F45,'DATA-GRAF-72H'!$D$3,0)","v":72.621199999999931}]
[{"$f":"OFFSET(fakturace!B46,'DATA-GRAF-72H'!$D$3,0)","v":"2013-07-02T06:00:00"},{"$f":"OFFSET(fakturace!C46,'DATA-GRAF-72H'!$D$3,0)","v":0},{"$f":"OFFSET(fakturace!F46,'DATA-GRAF-72H'!$D$3,0)","v":379.04329999999993}]
[{"$f":"OFFSET(fakturace!B47,'DATA-GRAF-72H'!$D$3,0)","v":"2013-07-02T07:00:00"},{"$f":"OFFSET(fakturace!C47,'DATA-GRAF-72H'!$D$3,0)","v":0},{"$f":"OFFSET(fakturace!F47,'DATA-GRAF-72H'!$D$3,0)","v":653.4976999999999}]
[{"$f":"OFFSET(fakturace!B48,'DATA-GRAF-72H'!$D$3,0)","v":"2013-07-02T08:00:00"},{"$f":"OFFSET(fakturace!C48,'DATA-GRAF-72H'!$D$3,0)","v":0},{"$f":"OFFSET(fakturace!F48,'DATA-GRAF-72H'!$D$3,0)","v":597.87910000000011}]
[{"$f":"OFFSET(fakturace!B49,'DATA-GRAF-72H'!$D$3,0)","v":"2013-07-02T09:00:00"},{"$f":"OFFSET(fakturace!C49,'DATA-GRAF-72H'!$D$3,0)","v":0},{"$f":"OFFSET(fakturace!F49,'DATA-GRAF-72H'!$D$3,0)","v":587.74299999999994}]
[{"$f":"OFFSET(fakturace!B50,'DATA-GRAF-72H'!$D$3,0)","v":"2013-07-02T10:00:00"},{"$f":"OFFSET(fakturace!C50,'DATA-GRAF-72H'!$D$3,0)","v":0},{"$f":"OFFSET(fakturace!F50,'DATA-GRAF-72H'!$D$3,0)","v":521.46849999999995}]
[{"$f":"OFFSET(fakturace!B51,'DATA-GRAF-72H'!$D$3,0)","v":"2013-07-02T11:00:00"},{"$f":"OFFSET(fakturace!C51,'DATA-GRAF-72H'!$D$3,0)","v":0},{"$f":"OFFSET(fakturace!F51,'DATA-GRAF-72H'!$D$3,0)","v":558.89409999999998}]
[{"$f":"OFFSET(fakturace!B52,'DATA-GRAF-72H'!$D$3,0)","v":"2013-07-02T12:00:00"},{"$f":"OFFSET(fakturace!C52,'DATA-GRAF-72H'!$D$3,0)","v":0},{"$f":"OFFSET(fakturace!F52,'DATA-GRAF-72H'!$D$3,0)","v":455.19399999999996}]
[{"$f":"OFFSET(fakturace!B53,'DATA-GRAF-72H'!$D$3,0)","v":"2013-07-02T13:00:00"},{"$f":"OFFSET(fakturace!C53,'DATA-GRAF-72H'!$D$3,0)","v":0},{"$f":"OFFSET(fakturace!F53,'DATA-GRAF-72H'!$D$3,0)","v":416.72879999999986}]
[{"$f":"OFFSET(fakturace!B54,'DATA-GRAF-72H'!$D$3,0)","v":"2013-07-02T14:00:00"},{"$f":"OFFSET(fakturace!C54,'DATA-GRAF-72H'!$D$3,0)","v":0},{"$f":"OFFSET(fakturace!F54,'DATA-GRAF-72H'!$D$3,0)","v":359.03099999999995}]
[{"$f":"OFFSET(fakturace!B55,'DATA-GRAF-72H'!$D$3,0)","v":"2013-07-02T15:00:00"},{"$f":"OFFSET(fakturace!C55,'DATA-GRAF-72H'!$D$3,0)","v":0},{"$f":"OFFSET(fakturace!F55,'DATA-GRAF-72H'!$D$3,0)","v":400.6149999999999}]
[{"$f":"OFFSET(fakturace!B56,'DATA-GRAF-72H'!$D$3,0)","v":"2013-07-02T16:00:00"},{"$f":"OFFSET(fakturace!C56,'DATA-GRAF-72H'!$D$3,0)","v":0},{"$f":"OFFSET(fakturace!F56,'DATA-GRAF-72H'!$D$3,0)","v":387.61999999999989}]
[{"$f":"OFFSET(fakturace!B57,'DATA-GRAF-72H'!$D$3,0)","v":"2013-07-02T17:00:00"},{"$f":"OFFSET(fakturace!C57,'DATA-GRAF-72H'!$D$3,0)","v":0},{"$f":"OFFSET(fakturace!F57,'DATA-GRAF-72H'!$D$3,0)","v":414.90949999999987}]
[{"$f":"OFFSET(fakturace!B58,'DATA-GRAF-72H'!$D$3,0)","v":"2013-07-02T18:00:00"},{"$f":"OFFSET(fakturace!C58,'DATA-GRAF-72H'!$D$3,0)","v":0},{"$f":"OFFSET(fakturace!F58,'DATA-GRAF-72H'!$D$3,0)","v":486.38199999999983}]
[{"$f":"OFFSET(fakturace!B59,'DATA-GRAF-72H'!$D$3,0)","v":"2013-07-02T19:00:00"},{"$f":"OFFSET(fakturace!C59,'DATA-GRAF-72H'!$D$3,0)","v":0},{"$f":"OFFSET(fakturace!F59,'DATA-GRAF-72H'!$D$3,0)","v":574.74800000000005}]
[{"$f":"OFFSET(fakturace!B60,'DATA-GRAF-72H'!$D$3,0)","v":"2013-07-02T20:00:00"},{"$f":"OFFSET(fakturace!C60,'DATA-GRAF-72H'!$D$3,0)","v":0},{"$f":"OFFSET(fakturace!F60,'DATA-GRAF-72H'!$D$3,0)","v":556.55499999999984}]
[{"$f":"OFFSET(fakturace!B61,'DATA-GRAF-72H'!$D$3,0)","v":"2013-07-02T21:00:00"},{"$f":"OFFSET(fakturace!C61,'DATA-GRAF-72H'!$D$3,0)","v":0},{"$f":"OFFSET(fakturace!F61,'DATA-GRAF-72H'!$D$3,0)","v":518.6096}]
[{"$f":"OFFSET(fakturace!B62,'DATA-GRAF-72H'!$D$3,0)","v":"2013-07-02T22:00:00"},{"$f":"OFFSET(fakturace!C62,'DATA-GRAF-72H'!$D$3,0)","v":0},{"$f":"OFFSET(fakturace!F62,'DATA-GRAF-72H'!$D$3,0)","v":478.58500000000004}]
[{"$f":"OFFSET(fakturace!B63,'DATA-GRAF-72H'!$D$3,0)","v":"2013-07-02T23:00:00"},{"$f":"OFFSET(fakturace!C63,'DATA-GRAF-72H'!$D$3,0)","v":0},{"$f":"OFFSET(fakturace!F63,'DATA-GRAF-72H'!$D$3,0)","v":283.65999999999997}]
[{"$f":"OFFSET(fakturace!B64,'DATA-GRAF-72H'!$D$3,0)","v":"2013-07-03"},{"$f":"OFFSET(fakturace!C64,'DATA-GRAF-72H'!$D$3,0)","v":0},{"$f":"OFFSET(fakturace!F64,'DATA-GRAF-72H'!$D$3,0)","v":217.80859999999996}]
[{"$f":"OFFSET(fakturace!B65,'DATA-GRAF-72H'!$D$3,0)","v":"2013-07-03T01:00:00"},{"$f":"OFFSET(fakturace!C65,'DATA-GRAF-72H'!$D$3,0)","v":0},{"$f":"OFFSET(fakturace!F65,'DATA-GRAF-72H'!$D$3,0)","v":90.570799999999963}]
[{"$f":"OFFSET(fakturace!B66,'DATA-GRAF-72H'!$D$3,0)","v":"2013-07-03T02:00:00"},{"$f":"OFFSET(fakturace!C66,'DATA-GRAF-72H'!$D$3,0)","v":0},{"$f":"OFFSET(fakturace!F66,'DATA-GRAF-72H'!$D$3,0)","v":-11.427599999999984}]
[{"$f":"OFFSET(fakturace!B67,'DATA-GRAF-72H'!$D$3,0)","v":"2013-07-03T03:00:00"},{"$f":"OFFSET(fakturace!C67,'DATA-GRAF-72H'!$D$3,0)","v":0},{"$f":"OFFSET(fakturace!F67,'DATA-GRAF-72H'!$D$3,0)","v":-36.66700000000003}]
[{"$f":"OFFSET(fakturace!B68,'DATA-GRAF-72H'!$D$3,0)","v":"2013-07-03T04:00:00"},{"$f":"OFFSET(fakturace!C68,'DATA-GRAF-72H'!$D$3,0)","v":0},{"$f":"OFFSET(fakturace!F68,'DATA-GRAF-72H'!$D$3,0)","v":-22.09579999999994}]
[{"$f":"OFFSET(fakturace!B69,'DATA-GRAF-72H'!$D$3,0)","v":"2013-07-03T05:00:00"},{"$f":"OFFSET(fakturace!C69,'DATA-GRAF-72H'!$D$3,0)","v":0},{"$f":"OFFSET(fakturace!F69,'DATA-GRAF-72H'!$D$3,0)","v":81.203599999999938}]
[{"$f":"OFFSET(fakturace!B70,'DATA-GRAF-72H'!$D$3,0)","v":"2013-07-03T06:00:00"},{"$f":"OFFSET(fakturace!C70,'DATA-GRAF-72H'!$D$3,0)","v":0},{"$f":"OFFSET(fakturace!F70,'DATA-GRAF-72H'!$D$3,0)","v":256.05799999999999}]
[{"$f":"OFFSET(fakturace!B71,'DATA-GRAF-72H'!$D$3,0)","v":"2013-07-03T07:00:00"},{"$f":"OFFSET(fakturace!C71,'DATA-GRAF-72H'!$D$3,0)","v":0},{"$f":"OFFSET(fakturace!F71,'DATA-GRAF-72H'!$D$3,0)","v":479.82999999999993}]
[{"$f":"OFFSET(fakturace!B72,'DATA-GRAF-72H'!$D$3,0)","v":"2013-07-03T08:00:00"},{"$f":"OFFSET(fakturace!C72,'DATA-GRAF-72H'!$D$3,0)","v":0},{"$f":"OFFSET(fakturace!F72,'DATA-GRAF-72H'!$D$3,0)","v":669.77599999999984}]
[{"$f":"OFFSET(fakturace!B73,'DATA-GRAF-72H'!$D$3,0)","v":"2013-07-03T09:00:00"},{"$f":"OFFSET(fakturace!C73,'DATA-GRAF-72H'!$D$3,0)","v":0},{"$f":"OFFSET(fakturace!F73,'DATA-GRAF-72H'!$D$3,0)","v":697.09699999999998}]
[{"$f":"OFFSET(fakturace!B74,'DATA-GRAF-72H'!$D$3,0)","v":"2013-07-03T10:00:00"},{"$f":"OFFSET(fakturace!C74,'DATA-GRAF-72H'!$D$3,0)","v":0},{"$f":"OFFSET(fakturace!F74,'DATA-GRAF-72H'!$D$3,0)","v":744.71360000000004}]
[{"$f":"OFFSET(fakturace!B75,'DATA-GRAF-72H'!$D$3,0)","v":"2013-07-03T11:00:00"},{"$f":"OFFSET(fakturace!C75,'DATA-GRAF-72H'!$D$3,0)","v":0},{"$f":"OFFSET(fakturace!F75,'DATA-GRAF-72H'!$D$3,0)","v":800.91679999999997}]
[{"$f":"OFFSET(fakturace!B76,'DATA-GRAF-72H'!$D$3,0)","v":"2013-07-03T12:00:00"},{"$f":"OFFSET(fakturace!C76,'DATA-GRAF-72H'!$D$3,0)","v":0},{"$f":"OFFSET(fakturace!F76,'DATA-GRAF-72H'!$D$3,0)","v":753.04}]
[{"$f":"OFFSET(fakturace!B77,'DATA-GRAF-72H'!$D$3,0)","v":"2013-07-03T13:00:00"},{"$f":"OFFSET(fakturace!C77,'DATA-GRAF-72H'!$D$3,0)","v":0},{"$f":"OFFSET(fakturace!F77,'DATA-GRAF-72H'!$D$3,0)","v":711.92840000000001}]
[{"$f":"OFFSET(fakturace!B78,'DATA-GRAF-72H'!$D$3,0)","v":"2013-07-03T14:00:00"},{"$f":"OFFSET(fakturace!C78,'DATA-GRAF-72H'!$D$3,0)","v":0},{"$f":"OFFSET(fakturace!F78,'DATA-GRAF-72H'!$D$3,0)","v":607.06780000000003}]
[{"$f":"OFFSET(fakturace!B79,'DATA-GRAF-72H'!$D$3,0)","v":"2013-07-03T15:00:00"},{"$f":"OFFSET(fakturace!C79,'DATA-GRAF-72H'!$D$3,0)","v":0},{"$f":"OFFSET(fakturace!F79,'DATA-GRAF-72H'!$D$3,0)","v":602.64439999999991}]
[{"$f":"OFFSET(fakturace!B80,'DATA-GRAF-72H'!$D$3,0)","v":"2013-07-03T16:00:00"},{"$f":"OFFSET(fakturace!C80,'DATA-GRAF-72H'!$D$3,0)","v":0},{"$f":"OFFSET(fakturace!F80,'DATA-GRAF-72H'!$D$3,0)","v":568.298}]
[{"$f":"OFFSET(fakturace!B81,'DATA-GRAF-72H'!$D$3,0)","v":"2013-07-03T17:00:00"},{"$f":"OFFSET(fakturace!C81,'DATA-GRAF-72H'!$D$3,0)","v":0},{"$f":"OFFSET(fakturace!F81,'DATA-GRAF-72H'!$D$3,0)","v":593.53739999999993}]
[{"$f":"OFFSET(fakturace!B82,'DATA-GRAF-72H'!$D$3,0)","v":"2013-07-03T18:00:00"},{"$f":"OFFSET(fakturace!C82,'DATA-GRAF-72H'!$D$3,0)","v":0},{"$f":"OFFSET(fakturace!F82,'DATA-GRAF-72H'!$D$3,0)","v":616.95540000000005}]
[{"$f":"OFFSET(fakturace!B83,'DATA-GRAF-72H'!$D$3,0)","v":"2013-07-03T19:00:00"},{"$f":"OFFSET(fakturace!C83,'DATA-GRAF-72H'!$D$3,0)","v":0},{"$f":"OFFSET(fakturace!F83,'DATA-GRAF-72H'!$D$3,0)","v":638.03160000000003}]
[{"$f":"OFFSET(fakturace!B84,'DATA-GRAF-72H'!$D$3,0)","v":"2013-07-03T20:00:00"},{"$f":"OFFSET(fakturace!C84,'DATA-GRAF-72H'!$D$3,0)","v":0},{"$f":"OFFSET(fakturace!F84,'DATA-GRAF-72H'!$D$3,0)","v":528.48739999999998}]
[{"$f":"OFFSET(fakturace!B85,'DATA-GRAF-72H'!$D$3,0)","v":"2013-07-03T21:00:00"},{"$f":"OFFSET(fakturace!C85,'DATA-GRAF-72H'!$D$3,0)","v":0},{"$f":"OFFSET(fakturace!F85,'DATA-GRAF-72H'!$D$3,0)","v":438.19799999999987}]
[{"$f":"OFFSET(fakturace!B86,'DATA-GRAF-72H'!$D$3,0)","v":"2013-07-03T22:00:00"},{"$f":"OFFSET(fakturace!C86,'DATA-GRAF-72H'!$D$3,0)","v":0},{"$f":"OFFSET(fakturace!F86,'DATA-GRAF-72H'!$D$3,0)","v":518.8599999999999}]
[{"$f":"OFFSET(fakturace!B87,'DATA-GRAF-72H'!$D$3,0)","v":"2013-07-03T23:00:00"},{"$f":"OFFSET(fakturace!C87,'DATA-GRAF-72H'!$D$3,0)","v":0},{"$f":"OFFSET(fakturace!F87,'DATA-GRAF-72H'!$D$3,0)","v":318.24579999999992}]

{"sheet":"Graf","index":6,"n_rows":63,"n_cols":36,"rows_kept":63,"cut":false,"hidden":false,"merged":[[117,25,117,26],[118,25,118,26],[13,4,13,8],[18,2,18,8],[18,9,18,15],[18,16,18,21],[18,22,18,28],[62,1,62,3],[62,4,62,8],[13,1,13,3],[18,29,18,35],[33,2,33,8],[33,9,33,15],[33,16,33,21],[33,22,33,28],[33,29,33,35]]}
["CEZ Prodej_Týdeník prodeje EE_04\n týden_20130128"]
[]
[]
[]
[]
[]
[]
[]
[]
[]
[null,"Fakturace výroby",null,null,null,null,null,null,null,null,null,null,null,null,null,null,null,null,null,null,null,null,null,null,null,null,null,null,null,null,null,null,null,null,null,"zpracováno 9.10.2013"]
[]
[]
[null,"OBJEM SE [MWh]",null,null,"CENOVÝ TARIF [Kč/MWh]"]
[]
[]
[]
[]
[null,null,null,null,null,null,null,null,null,{"$f":"\"FAKTURACE VÝROBY \"&fakturace!$G$4","v":"FAKTURACE VÝROBY Třetí čtvrtletí 2013"}]
[null,null,null,null,null,null,null,null,null,{"$f":"J19&\" - 72 HODIN\"&'DATA-GRAF-72H'!$F$2","v":"FAKTURACE VÝROBY Třetí čtvrtletí 2013 - 72 HODIN (01.07.2013 00:00) - (03.07.2013 23:00)"}]
[]
[]
[]
[]
[]
[]
[]
[]
[]
[]
[]
[]
[]
[]
[]
[]
[]
[]
[]
[]
[]
[]
[]
[]
[]
[]
[]
[]
[]
[]
[]
[]
[null,null,null,null,null,null,null,null,null,null,null,null,5]
[]
[]
[]
[]
[]
[]
[]
[]
[]
[null,"OBJEM SE [MWh]",null,null,"CENOVÝ TARIF [Kč/MWh]"]