{"text_format":"1","workbook":"xlsx","n_sheets":7,"sheets":["CIS","Legenda","namerena data","fakturace","Data_Graf","DATA-GRAF-72H","Graf"],"not_rendered":{"charts":2,"images":1,"macros":1,"external_links":1,"defined_names":6,"comments":0,"pivot_tables":0},"unopened":[],"bounds":{"document_bytes":16777216,"sheet_cells":100000,"rows_first":2000,"rows_last":500,"rows_between":2000,"halvings":0,"cell_chars":16384,"cell_head_chars":4096},"cells_cut":0,"cells_raw":0,"read":"whole","date_system":"1900"}

{"sheet":"CIS","index":0,"n_rows":37,"n_cols":3,"rows_kept":37,"cut":false,"hidden":true,"merged":[]}
["Měsíc"]
["leden 2013",0,"leden 2013"]
["únor 2013",1,"únor 2013"]
["březen 2013",2,"březen 2013"]
["duben 2013",3,"duben 2013"]
["květen 2013",4,"květen 2013"]
["červen 2013",5,"červen 2013"]
["červenec 2013",6,"červenec 2013"]
["srpen 2013",7,"srpen 2013"]
["září 2013",8,"září 2013"]
["říjen 2013",9,"říjen 2013"]
["listopad 2013",10,"listopad 2013"]
["prosinec 2013",11,"prosinec 2013"]
["leden 2014",12,"leden 2014"]
["únor 2014",13,"únor 2014"]
["březen 2014",14,"březen 2014"]
["duben 2014",15,"duben 2014"]
["květen 2014",16,"květen 2014"]
["červen 2014",17,"červen 2014"]
["červenec 2014",18,"červenec 2014"]
["srpen 2014",19,"srpen 2014"]
["září 2014",20,"září 2014"]
["říjen 2014",21,"říjen 2014"]
["listopad 2014",22,"listopad 2014"]
["prosinec 2014",23,"prosinec 2014"]
["leden 2015",24,"leden 2015"]
["únor 2015",25,"únor 2015"]
["březen 2015",26,"březen 2015"]
["duben 2015",27,"duben 2015"]
["květen 2015",28,"květen 2015"]
["červen 2015",29,"červen 2015"]
["červenec 2015",30,"červenec 2015"]
["srpen 2015",31,"srpen 2015"]
["září 2015",32,"září 2015"]
["říjen 2015",33,"říjen 2015"]
["listopad 2015",34,"listopad 2015"]
["prosinec 2015",35,"prosinec 2015"]

{"sheet":"Legenda","index":1,"n_rows":53,"n_cols":5,"rows_kept":53,"cut":false,"hidden":false,"merged":[]}
[]
[]
[]
[]
[]
[]
[]
[]
[null,"Fakturace výroby z obnovitelných zdrojů elektřiny"]
[]
[]
[]
[]
[]
[]
[]
[]
[]
[]
[]
[]
[]
[]
[]
[]
[]
[]
[]
[]
[]
[]
[]
[]
[]
[null,"Soubor pro kalkulaci výkupní ceny dodávky elektřiny z obnovitelných zdrojů"]
[]
[null,"Popis souboru :"]
[]
[null,"naměřená data ","vstup pro manuální vložení hodinového profilu v kWh skutečné výroby"]
[null,null,"(zdroj dat : ČEZ On-line www.cez.cz/cezonline)"]
[]
[]
[null,"fakturace","přehled fakturovaných cen včetně zobrazení vstupních cen/kurzů"]
[null,null,"zobrazené hodnoty:",null,"měření MWh - hodnoty skutečného profilu výroby"]
[null,null,null,null,"cena Denní trh - hodinové ceny denního trhu v EUR/MWh"]
[null,null,null,null,"kurz ČNB [Kč/EUR] - denní kurz ČNB"]
[null,null,null,null,"cenový tarif [Kc/MWh] - tarifní cena zavislá na ceně denního trhu"]
[null,null,null,null,"fakturační hodnota [Kč] - hodinová cena dodávky v Kč"]
[]
[null,"graf:","grafické zobrazení průběhu výroby a tarifní ceny komodity"]
[]
[null,"zdroje dat:","http://www.ote-cr.cz/kratkodobe-trhy/elektrina/denni-trh"]
[null,null,"http://www.cnb.cz/cs/index.html"]

{"sheet":"namerena data","index":2,"n_rows":749,"n_cols":3,"rows_kept":749,"cut":false,"hidden":false,"merged":[]}
[]
["období : ",{"$f":"A6","v":"2013-08-01"}]
["pole pro aktualizaci"]
[]
["Datum","hodina","kWh"]
["2013-08-01",1,0]
["2013-08-01",2,0]
["2013-08-01",3,0]
["2013-08-01",4,0]
["2013-08-01",5,0]
["2013-08-01",6,0]
["2013-08-01",7,0]
["2013-08-01",8,0]
["2013-08-01",9,0]
["2013-08-01",10,0]
["2013-08-01",11,0]
["2013-08-01",12,0]
["2013-08-01",13,0]
["2013-08-01",14,0]
["2013-08-01",15,0]
["2013-08-01",16,0]
["2013-08-01",17,0]
["2013-08-01",18,0]
["2013-08-01",19,0]
["2013-08-01",20,0]
["2013-08-01",21,0]
["2013-08-01",22,0]
["2013-08-01",23,0]
["2013-08-01",24,0]
[{"$f":"A6+1","v":"2013-08-02"},1,0]
[{"$f":"A7+1","v":"2013-08-02"},2,0]
["2013-08-02",3,0]
["2013-08-02",4,0]
["2013-08-02",5,0]
["2013-08-02",6,0]
["2013-08-02",7,0]
["2013-08-02",8,0]
["2013-08-02",9,0]
["2013-08-02",10,0]
["2013-08-02",11,0]
["2013-08-02",12,0]
["2013-08-02",13,0]
["2013-08-02",14,0]
["2013-08-02",15,0]
["2013-08-02",16,0]
["2013-08-02",17,0]
["2013-08-02",18,0]
["2013-08-02",19,0]
["2013-08-02",20,0]
["2013-08-02",21,0]
["2013-08-02",22,0]
["2013-08-02",23,0]
["2013-08-02",24,0]
["2013-08-03",1,0]
["2013-08-03",2,0]
["2013-08-03",3,0]
["2013-08-03",4,0]
["2013-08-03",5,0]
["2013-08-03",6,0]
["2013-08-03",7,0]
["2013-08-03",8,0]
["2013-08-03",9,0]
["2013-08-03",10,0]
["2013-08-03",11,0]
["2013-08-03",12,0]
["2013-08-03",13,0]
["2013-08-03",14,0]
["2013-08-03",15,0]
["2013-08-03",16,0]
["2013-08-03",17,0]
["2013-08-03",18,0]
["2013-08-03",19,0]
["2013-08-03",20,0]
["2013-08-03",21,0]
["2013-08-03",22,0]
["2013-08-03",23,0]
["2013-08-03",24,0]
["2013-08-04",1,0]
["2013-08-04",2,0]
["2013-08-04",3,0]
["2013-08-04",4,0]
["2013-08-04",5,0]
["2013-08-04",6,0]
["2013-08-04",7,0]
["2013-08-04",8,0]
["2013-08-04",9,0]
["2013-08-04",10,0]
["2013-08-04",11,0]
["2013-08-04",12,0]
["2013-08-04",13,0]
["2013-08-04",14,0]
["2013-08-04",15,0]
["2013-08-04",16,0]
["2013-08-04",17,0]
[{"$f":"A71+1","v":"2013-08-04"},18,0]
["2013-08-04",19,0]
["2013-08-04",20,0]
["2013-08-04",21,0]
["2013-08-04",22,0]
["2013-08-04",23,0]
["2013-08-04",24,0]
["2013-08-05",1,0]
["2013-08-05",2,0]
["2013-08-05",3,0]
["2013-08-05",4,0]
["2013-08-05",5,0]
["2013-08-05",6,0]
["2013-08-05",7,0]
["2013-08-05",8,0]
["2013-08-05",9,0]
["2013-08-05",10,0]
["2013-08-05",11,0]
["2013-08-05",12,0]
["2013-08-05",13,0]
["2013-08-05",14,0]
["2013-08-05",15,0]
["2013-08-05",16,0]
["2013-08-05",17,0]
["2013-08-05",18,0]
["2013-08-05",19,0]
["2013-08-05",20,0]
["2013-08-05",21,0]
["2013-08-05",22,0]
["2013-08-05",23,0]
["2013-08-05",24,0]
["2013-08-06",1,0]
["2013-08-06",2,0]
["2013-08-06",3,0]
["2013-08-06",4,0]
["2013-08-06",5,0]
["2013-08-06",6,0]
["2013-08-06",7,0]
["2013-08-06",8,0]
["2013-08-06",9,0]
["2013-08-06",10,0]
["2013-08-06",11,0]
["2013-08-06",12,0]
["2013-08-06",13,0]
["2013-08-06",14,0]
["2013-08-06",15,0]
["2013-08-06",16,0]
["2013-08-06",17,0]
["2013-08-06",18,0]
["2013-08-06",19,0]
["2013-08-06",20,0]
["2013-08-06",21,0]
["2013-08-06",22,0]
["2013-08-06",23,0]
["2013-08-06",24,0]
["2013-08-07",1,0]
["2013-08-07",2,0]
["2013-08-07",3,0]
["2013-08-07",4,0]
["2013-08-07",5,0]
["2013-08-07",6,0]
["2013-08-07",7,0]
["2013-08-07",8,0]
["2013-08-07",9,0]
[{"$f":"A135+1","v":"2013-08-07"},10,0]
["2013-08-07",11,0]
["2013-08-07",12,0]
["2013-08-07",13,0]
["2013-08-07",14,0]
["2013-08-07",15,0]
["2013-08-07",16,0]
["2013-08-07",17,0]
["2013-08-07",18,0]
["2013-08-07",19,0]
["2013-08-07",20,0]
["2013-08-07",21,0]
["2013-08-07",22,0]
["2013-08-07",23,0]
["2013-08-07",24,0]
["2013-08-08",1,0]
["2013-08-08",2,0]
["2013-08-08",3,0]
["2013-08-08",4,0]
["2013-08-08",5,0]
["2013-08-08",6,0]
["2013-08-08",7,0]
["2013-08-08",8,0]
["2013-08-08",9,0]
["2013-08-08",10,0]
["2013-08-08",11,0]
["2013-08-08",12,0]
["2013-08-08",13,0]
["2013-08-08",14,0]
["2013-08-08",15,0]
["2013-08-08",16,0]
["2013-08-08",17,0]
["2013-08-08",18,0]
["2013-08-08",19,0]
["2013-08-08",20,0]
["2013-08-08",21,0]
["2013-08-08",22,0]
["2013-08-08",23,0]
["2013-08-08",24,0]
["2013-08-09",1,0]
["2013-08-09",2,0]
["2013-08-09",3,0]
["2013-08-09",4,0]
["2013-08-09",5,0]
["2013-08-09",6,0]
["2013-08-09",7,0]
["2013-08-09",8,0]
["2013-08-09",9,0]
["2013-08-09",10,0]
["2013-08-09",11,0]
["2013-08-09",12,0]
["2013-08-09",13,0]
["2013-08-09",14,0]
["2013-08-09",15,0]
["2013-08-09",16,0]
["2013-08-09",17,0]
["2013-08-09",18,0]
["2013-08-09",19,0]
["2013-08-09",20,0]
["2013-08-09",21,0]
["2013-08-09",22,0]
["2013-08-09",23,0]
["2013-08-09",24,0]
["2013-08-10",1,0]
[{"$f":"A199+1","v":"2013-08-10"},2,0]
["2013-08-10",3,0]
["2013-08-10",4,0]
["2013-08-10",5,0]
["2013-08-10",6,0]
["2013-08-10",7,0]
["2013-08-10",8,0]
["2013-08-10",9,0]
["2013-08-10",10,0]
["2013-08-10",11,0]
["2013-08-10",12,0]
["2013-08-10",13,0]
["2013-08-10",14,0]
["2013-08-10",15,0]
["2013-08-10",16,0]
["2013-08-10",17,0]
["2013-08-10",18,0]
["2013-08-10",19,0]
["2013-08-10",20,0]
["2013-08-10",21,0]
["2013-08-10",22,0]
["2013-08-10",23,0]
["2013-08-10",24,0]
["2013-08-11",1,0]
["2013-08-11",2,0]
["2013-08-11",3,0]
["2013-08-11",4,0]
["2013-08-11",5,0]
["2013-08-11",6,0]
["2013-08-11",7,0]
["2013-08-11",8,0]
["2013-08-11",9,0]
["2013-08-11",10,0]
["2013-08-11",11,0]
["2013-08-11",12,0]
["2013-08-11",13,0]
["2013-08-11",14,0]
["2013-08-11",15,0]
["2013-08-11",16,0]
["2013-08-11",17,0]
["2013-08-11",18,0]
["2013-08-11",19,0]
["2013-08-11",20,0]
["2013-08-11",21,0]
["2013-08-11",22,0]
["2013-08-11",23,0]
["2013-08-11",24,0]
["2013-08-12",1,0]
["2013-08-12",2,0]
["2013-08-12",3,0]
["2013-08-12",4,0]
["2013-08-12",5,0]
["2013-08-12",6,0]
["2013-08-12",7,0]
["2013-08-12",8,0]
["2013-08-12",9,0]
["2013-08-12",10,0]
["2013-08-12",11,0]
["2013-08-12",12,0]
["2013-08-12",13,0]
["2013-08-12",14,0]
["2013-08-12",15,0]
["2013-08-12",16,0]
["2013-08-12",17,0]
[{"$f":"A263+1","v":"2013-08-12"},18,0]
["2013-08-12",19,0]
["2013-08-12",20,0]
["2013-08-12",21,0]
["2013-08-12",22,0]
["2013-08-12",23,0]
["2013-08-12",24,0]
["2013-08-13",1,0]
["2013-08-13",2,0]
["2013-08-13",3,0]
["2013-08-13",4,0]
["2013-08-13",5,0]
["2013-08-13",6,0]
["2013-08-13",7,0]
["2013-08-13",8,0]
["2013-08-13",9,0]
["2013-08-13",10,0]
["2013-08-13",11,0]
["2013-08-13",12,0]
["2013-08-13",13,0]
["2013-08-13",14,0]
["2013-08-13",15,0]
["2013-08-13",16,0]
["2013-08-13",17,0]
["2013-08-13",18,0]
["2013-08-13",19,0]
["2013-08-13",20,0]
["2013-08-13",21,0]
["2013-08-13",22,0]
["2013-08-13",23,0]
["2013-08-13",24,0]
["2013-08-14",1,0]
["2013-08-14",2,0]
["2013-08-14",3,0]
["2013-08-14",4,0]
["2013-08-14",5,0]
["2013-08-14",6,0]
["2013-08-14",7,0]
["2013-08-14",8,0]
["2013-08-14",9,0]
["2013-08-14",10,0]
["2013-08-14",11,0]
["2013-08-14",12,0]
["2013-08-14",13,0]
["2013-08-14",14,0]
["2013-08-14",15,0]
["2013-08-14",16,0]
["2013-08-14",17,0]
["2013-08-14",18,0]
["2013-08-14",19,0]
["2013-08-14",20,0]
["2013-08-14",21,0]
["2013-08-14",22,0]
["2013-08-14",23,0]
["2013-08-14",24,0]
["2013-08-15",1,0]
["2013-08-15",2,0]
["2013-08-15",3,0]
["2013-08-15",4,0]
["2013-08-15",5,0]
["2013-08-15",6,0]
["2013-08-15",7,0]
["2013-08-15",8,0]
["2013-08-15",9,0]
[{"$f":"A327+1","v":"2013-08-15"},10,0]
["2013-08-15",11,0]
["2013-08-15",12,0]
["2013-08-15",13,0]
["2013-08-15",14,0]
["2013-08-15",15,0]
["2013-08-15",16,0]
["2013-08-15",17,0]
["2013-08-15",18,0]
["2013-08-15",19,0]
["2013-08-15",20,0]
["2013-08-15",21,0]
["2013-08-15",22,0]
["2013-08-15",23,0]
["2013-08-15",24,0]
["2013-08-16",1,0]
["2013-08-16",2,0]
["2013-08-16",3,0]
["2013-08-16",4,0]
["2013-08-16",5,0]
["2013-08-16",6,0]
["2013-08-16",7,0]
["2013-08-16",8,0]
["2013-08-16",9,0]
["2013-08-16",10,0]
["2013-08-16",11,0]
["2013-08-16",12,0]
["2013-08-16",13,0]
["2013-08-16",14,0]
["2013-08-16",15,0]
["2013-08-16",16,0]
["2013-08-16",17,0]
["2013-08-16",18,0]
["2013-08-16",19,0]
["2013-08-16",20,0]
["2013-08-16",21,0]
["2013-08-16",22,0]
["2013-08-16",23,0]
["2013-08-16",24,0]
["2013-08-17",1,0]
["2013-08-17",2,0]
["2013-08-17",3,0]
["2013-08-17",4,0]
["2013-08-17",5,0]
["2013-08-17",6,0]
["2013-08-17",7,0]
["2013-08-17",8,0]
["2013-08-17",9,0]
["2013-08-17",10,0]
["2013-08-17",11,0]
["2013-08-17",12,0]
["2013-08-17",13,0]
["2013-08-17",14,0]
["2013-08-17",15,0]
["2013-08-17",16,0]
["2013-08-17",17,0]
["2013-08-17",18,0]
["2013-08-17",19,0]
["2013-08-17",20,0]
["2013-08-17",21,0]
["2013-08-17",22,0]
["2013-08-17",23,0]
["2013-08-17",24,0]
["2013-08-18",1,0]
[{"$f":"A391+1","v":"2013-08-18"},2,0]
["2013-08-18",3,0]
["2013-08-18",4,0]
["2013-08-18",5,0]
["2013-08-18",6,0]
["2013-08-18",7,0]
["2013-08-18",8,0]
["2013-08-18",9,0]
["2013-08-18",10,0]
["2013-08-18",11,0]
["2013-08-18",12,0]
["2013-08-18",13,0]
["2013-08-18",14,0]
["2013-08-18",15,0]
["2013-08-18",16,0]
["2013-08-18",17,0]
["2013-08-18",18,0]
["2013-08-18",19,0]
["2013-08-18",20,0]
["2013-08-18",21,0]
["2013-08-18",22,0]
["2013-08-18",23,0]
["2013-08-18",24,0]
["2013-08-19",1,0]
["2013-08-19",2,0]
["2013-08-19",3,0]
["2013-08-19",4,0]
["2013-08-19",5,0]
["2013-08-19",6,0]
["2013-08-19",7,0]
["2013-08-19",8,0]
["2013-08-19",9,0]
["2013-08-19",10,0]
["2013-08-19",11,0]
["2013-08-19",12,0]
["2013-08-19",13,0]
["2013-08-19",14,0]
["2013-08-19",15,0]
["2013-08-19",16,0]
["2013-08-19",17,0]
["2013-08-19",18,0]
["2013-08-19",19,0]
["2013-08-19",20,0]
["2013-08-19",21,0]
["2013-08-19",22,0]
["2013-08-19",23,0]
["2013-08-19",24,0]
["2013-08-20",1,0]
["2013-08-20",2,0]
["2013-08-20",3,0]
["2013-08-20",4,0]
["2013-08-20",5,0]
["2013-08-20",6,0]
["2013-08-20",7,0]
["2013-08-20",8,0]
["2013-08-20",9,0]
["2013-08-20",10,0]
["2013-08-20",11,0]
["2013-08-20",12,0]
["2013-08-20",13,0]
["2013-08-20",14,0]
["2013-08-20",15,0]
["2013-08-20",16,0]
["2013-08-20",17,0]
[{"$f":"A455+1","v":"2013-08-20"},18,0]
["2013-08-20",19,0]
["2013-08-20",20,0]
["2013-08-20",21,0]
["2013-08-20",22,0]
["2013-08-20",23,0]
["2013-08-20",24,0]
["2013-08-21",1,0]
["2013-08-21",2,0]
["2013-08-21",3,0]
["2013-08-21",4,0]
["2013-08-21",5,0]
["2013-08-21",6,0]
["2013-08-21",7,0]
["2013-08-21",8,0]
["2013-08-21",9,0]
["2013-08-21",10,0]
["2013-08-21",11,0]
["2013-08-21",12,0]
["2013-08-21",13,0]
["2013-08-21",14,0]
["2013-08-21",15,0]
["2013-08-21",16,0]
["2013-08-21",17,0]
["2013-08-21",18,0]
["2013-08-21",19,0]
["2013-08-21",20,0]
["2013-08-21",21,0]
["2013-08-21",22,0]
["2013-08-21",23,0]
["2013-08-21",24,0]
["2013-08-22",1,0]
["2013-08-22",2,0]
["2013-08-22",3,0]
["2013-08-22",4,0]
["2013-08-22",5,0]
["2013-08-22",6,0]
["2013-08-22",7,0]
["2013-08-22",8,0]
["2013-08-22",9,0]
["2013-08-22",10,0]
["2013-08-22",11,0]
["2013-08-22",12,0]
["2013-08-22",13,0]
["2013-08-22",14,0]
["2013-08-22",15,0]
["2013-08-22",16,0]
["2013-08-22",17,0]
["2013-08-22",18,0]
["2013-08-22",19,0]
["2013-08-22",20,0]
["2013-08-22",21,0]
["2013-08-22",22,0]
["2013-08-22",23,0]
["2013-08-22",24,0]
["2013-08-23",1,0]
["2013-08-23",2,0]
["2013-08-23",3,0]
["2013-08-23",4,0]
["2013-08-23",5,0]
["2013-08-23",6,0]
["2013-08-23",7,0]
["2013-08-23",8,0]
["2013-08-23",9,0]
[{"$f":"A519+1","v":"2013-08-23"},10,0]
["2013-08-23",11,0]
["2013-08-23",12,0]
["2013-08-23",13,0]
["2013-08-23",14,0]
["2013-08-23",15,0]
["2013-08-23",16,0]
["2013-08-23",17,0]
["2013-08-23",18,0]
["2013-08-23",19,0]
["2013-08-23",20,0]
["2013-08-23",21,0]
["2013-08-23",22,0]
["2013-08-23",23,0]
["2013-08-23",24,0]
["2013-08-24",1,0]
["2013-08-24",2,0]
["2013-08-24",3,0]
["2013-08-24",4,0]
["2013-08-24",5,0]
["2013-08-24",6,0]
["2013-08-24",7,0]
["2013-08-24",8,0]
["2013-08-24",9,0]
["2013-08-24",10,0]
["2013-08-24",11,0]
["2013-08-24",12,0]
["2013-08-24",13,0]
["2013-08-24",14,0]
["2013-08-24",15,0]
["2013-08-24",16,0]
["2013-08-24",17,0]
["2013-08-24",18,0]
["2013-08-24",19,0]
["2013-08-24",20,0]
["2013-08-24",21,0]
["2013-08-24",22,0]
["2013-08-24",23,0]
["2013-08-24",24,0]
["2013-08-25",1,0]
["2013-08-25",2,0]
["2013-08-25",3,0]
["2013-08-25",4,0]
["2013-08-25",5,0]
["2013-08-25",6,0]
["2013-08-25",7,0]
["2013-08-25",8,0]
["2013-08-25",9,0]
["2013-08-25",10,0]
["2013-08-25",11,0]
["2013-08-25",12,0]
["2013-08-25",13,0]
["2013-08-25",14,0]
["2013-08-25",15,0]
["2013-08-25",16,0]
["2013-08-25",17,0]
["2013-08-25",18,0]
["2013-08-25",19,0]
["2013-08-25",20,0]
["2013-08-25",21,0]
["2013-08-25",22,0]
["2013-08-25",23,0]
["2013-08-25",24,0]
["2013-08-26",1,0]
[{"$f":"A583+1","v":"2013-08-26"},2,0]
["2013-08-26",3,0]
["2013-08-26",4,0]
["2013-08-26",5,0]
["2013-08-26",6,0]
["2013-08-26",7,0]
["2013-08-26",8,0]
["2013-08-26",9,0]
["2013-08-26",10,0]
["2013-08-26",11,0]
["2013-08-26",12,0]
["2013-08-26",13,0]
["2013-08-26",14,0]
["2013-08-26",15,0]
["2013-08-26",16,0]
["2013-08-26",17,0]
["2013-08-26",18,0]
["2013-08-26",19,0]
["2013-08-26",20,0]
["2013-08-26",21,0]
["2013-08-26",22,0]
["2013-08-26",23,0]
["2013-08-26",24,0]
["2013-08-27",1,0]
["2013-08-27",2,0]
["2013-08-27",3,0]
["2013-08-27",4,0]
["2013-08-27",5,0]
["2013-08-27",6,0]
["2013-08-27",7,0]
["2013-08-27",8,0]
["2013-08-27",9,0]
["2013-08-27",10,0]
["2013-08-27",11,0]
["2013-08-27",12,0]
["2013-08-27",13,0]
["2013-08-27",14,0]
["2013-08-27",15,0]
["2013-08-27",16,0]
["2013-08-27",17,0]
["2013-08-27",18,0]
["2013-08-27",19,0]
["2013-08-27",20,0]
["2013-08-27",21,0]
["2013-08-27",22,0]
["2013-08-27",23,0]
["2013-08-27",24,0]
["2013-08-28",1,0]
["2013-08-28",2,0]
["2013-08-28",3,0]
["2013-08-28",4,0]
["2013-08-28",5,0]
["2013-08-28",6,0]
["2013-08-28",7,0]
["2013-08-28",8,0]
["2013-08-28",9,0]
["2013-08-28",10,0]
["2013-08-28",11,0]
["2013-08-28",12,0]
["2013-08-28",13,0]
["2013-08-28",14,0]
["2013-08-28",15,0]
["2013-08-28",16,0]
["2013-08-28",17,0]
[{"$f":"A647+1","v":"2013-08-28"},18,0]
["2013-08-28",19,0]
["2013-08-28",20,0]
["2013-08-28",21,0]
["2013-08-28",22,0]
["2013-08-28",23,0]
["2013-08-28",24,0]
["2013-08-29",1,0]
["2013-08-29",2,0]
["2013-08-29",3,0]
["2013-08-29",4,0]
["2013-08-29",5,0]
["2013-08-29",6,0]
["2013-08-29",7,0]
["2013-08-29",8,0]
["2013-08-29",9,0]
["2013-08-29",10,0]
["2013-08-29",11,0]
["2013-08-29",12,0]
["2013-08-29",13,0]
["2013-08-29",14,0]
["2013-08-29",15,0]
["2013-08-29",16,0]
["2013-08-29",17,0]
["2013-08-29",18,0]
["2013-08-29",19,0]
["2013-08-29",20,0]
["2013-08-29",21,0]
["2013-08-29",22,0]
["2013-08-29",23,0]
["2013-08-29",24,0]
["2013-08-30",1,0]
["2013-08-30",2,0]
["2013-08-30",3,0]
["2013-08-30",4,0]
["2013-08-30",5,0]
["2013-08-30",6,0]
["2013-08-30",7,0]
["2013-08-30",8,0]
["2013-08-30",9,0]
["2013-08-30",10,0]
["2013-08-30",11,0]
["2013-08-30",12,0]
["2013-08-30",13,0]
["2013-08-30",14,0]
["2013-08-30",15,0]
["2013-08-30",16,0]
["2013-08-30",17,0]
["2013-08-30",18,0]
["2013-08-30",19,0]
["2013-08-30",20,0]
["2013-08-30",21,0]
["2013-08-30",22,0]
["2013-08-30",23,0]
["2013-08-30",24,0]
["2013-08-31",1,0]
["2013-08-31",2,0]
["2013-08-31",3,0]
["2013-08-31",4,0]
["2013-08-31",5,0]
["2013-08-31",6,0]
["2013-08-31",7,0]
["2013-08-31",8,0]
["2013-08-31",9,0]
[{"$f":"A711+1","v":"2013-08-31"},10,0]
["2013-08-31",11,0]
["2013-08-31",12,0]
["2013-08-31",13,0]
["2013-08-31",14,0]
["2013-08-31",15,0]
["2013-08-31",16,0]
["2013-08-31",17,0]
["2013-08-31",18,0]
["2013-08-31",19,0]
["2013-08-31",20,0]
["2013-08-31",21,0]
["2013-08-31",22,0]
["2013-08-31",23,0]
["2013-08-31",24,0]

{"sheet":"fakturace","index":3,"n_rows":759,"n_cols":7,"rows_kept":759,"cut":false,"hidden":false,"merged":[]}
[]
[]
[]
[null,null,"Fakturace výroby z obnovitelných zdrojů elektřiny",null,null,null,{"$f":"'namerena data'!B2","v":"2013-08-01"}]
[]
[]
[null,"Název pole","měření [MWh]","cena Denní trh [EUR/MWh]","kurz ČNB [Kč/EUR]","cenový tarif [Kc/MWh]","fakturační hodnota [Kč]"]
[null,"Suma",{"$f":"SUBTOTAL(9,C16:C759)","v":0}," -"," -"," -",{"$f":"SUBTOTAL(9,G16:G759)","v":0}]
[null,"Minimum",{"$f":"SUBTOTAL(5,C16:C759)","v":0},{"$f":"SUBTOTAL(5,D16:D759)","v":7.5},{"$f":"SUBTOTAL(5,E16:E759)","v":25.625},{"$f":"SUBTOTAL(5,F16:F759)","v":-405.5625},{"$f":"SUBTOTAL(5,G16:G759)","v":0}]
[null,"Maximum",{"$f":"SUBTOTAL(4,C16:C759)","v":0},{"$f":"SUBTOTAL(4,D16:D759)","v":69.2},{"$f":"SUBTOTAL(4,E16:E759)","v":25.98},{"$f":"SUBTOTAL(4,F16:F759)","v":1177.056},{"$f":"SUBTOTAL(4,G16:G759)","v":0}]
[null,"Aritmetický průměr prostý",{"$f":"IF(SUBTOTAL(9,C16:C759)=0,\" -\",SUBTOTAL(1,C16:C759))","v":" -"},{"$f":"IF(SUBTOTAL(9,D16:D759)=0,\" -\",SUBTOTAL(1,D16:D759))","v":38.028938172042992},{"$f":"IF(SUBTOTAL(9,E16:E759)=0,\" -\",SUBTOTAL(1,E16:E759))","v":25.819677419354843},{"$f":"IF(SUBTOTAL(9,F16:F759)=0,\" -\",SUBTOTAL(1,F16:F759))","v":381.55810813172013},{"$f":"IF(SUBTOTAL(9,G16:G759)=0,\" -\",SUBTOTAL(1,G16:G759))","v":" -"}]
[]
[null,"Cenový tarif","hodinová cena denního trhu snížena o :",null,null,600,"Kč/MWh"]
[]
[null,"Datum","měření [MWh]",{"$f":"D7","v":"cena Denní trh [EUR/MWh]"},"kurz ČNB [Kč/EUR]","cenový tarif [Kc/MWh]","fakturační hodnota [tis. Kč]"]
[null,{"$f":"'namerena data'!A6+('namerena data'!B6-1)/24","v":"2013-08-01"},{"$f":"IF('namerena data'!C6>0,'namerena data'!C6/1000,0)","v":0},32.57,25.954999999999998,{"$f":"+IF(AND(ISNUMBER(D16),ISNUMBER(E16)),D16*E16-$F$13,0)","v":245.35434999999995},{"$f":"+(C16*F16)","v":0}]
[null,{"$f":"'namerena data'!A7+('namerena data'!B7-1)/24","v":"2013-08-01T01:00:00"},{"$f":"IF('namerena data'!C7>0,'namerena data'!C7/1000,0)","v":0},29.5,25.954999999999998,{"$f":"+IF(AND(ISNUMBER(D17),ISNUMBER(E17)),D17*E17-$F$13,0)","v":165.6724999999999},{"$f":"+(C17*F17)","v":0}]
[null,{"$f":"'namerena data'!A8+('namerena data'!B8-1)/24","v":"2013-08-01T02:00:00"},{"$f":"IF('namerena data'!C8>0,'namerena data'!C8/1000,0)","v":0},27,25.954999999999998,100.78499999999997,0]
[null,{"$f":"'namerena data'!A9+('namerena data'!B9-1)/24","v":"2013-08-01T03:00:00"},{"$f":"IF('namerena data'!C9>0,'namerena data'!C9/1000,0)","v":0},25.61,25.954999999999998,64.707549999999969,0]
[null,{"$f":"'namerena data'!A10+('namerena data'!B10-1)/24","v":"2013-08-01T04:00:00"},{"$f":"IF('namerena data'!C10>0,'namerena data'!C10/1000,0)","v":0},25.61,25.954999999999998,64.707549999999969,0]
[null,{"$f":"'namerena data'!A11+('namerena data'!B11-1)/24","v":"2013-08-01T05:00:00"},{"$f":"IF('namerena data'!C11>0,'namerena data'!C11/1000,0)","v":0},28.9,25.954999999999998,150.09949999999992,0]
[null,{"$f":"'namerena data'!A12+('namerena data'!B12-1)/24","v":"2013-08-01T06:00:00"},{"$f":"IF('namerena data'!C12>0,'namerena data'!C12/1000,0)","v":0},32.51,25.954999999999998,243.7970499999999,0]
[null,{"$f":"'namerena data'!A13+('namerena data'!B13-1)/24","v":"2013-08-01T07:00:00"},{"$f":"IF('namerena data'!C13>0,'namerena data'!C13/1000,0)","v":0},43,25.954999999999998,516.06499999999983,0]
[null,{"$f":"'namerena data'!A14+('namerena data'!B14-1)/24","v":"2013-08-01T08:00:00"},{"$f":"IF('namerena data'!C14>0,'namerena data'!C14/1000,0)","v":0},45.63,25.954999999999998,584.32664999999997,0]
[null,{"$f":"'namerena data'!A15+('namerena data'!B15-1)/24","v":"2013-08-01T09:00:00"},{"$f":"IF('namerena data'!C15>0,'namerena data'!C15/1000,0)","v":0},44,25.954999999999998,542.02,0]
[null,{"$f":"'namerena data'!A16+('namerena data'!B16-1)/24","v":"2013-08-01T10:00:00"},{"$f":"IF('namerena data'!C16>0,'namerena data'!C16/1000,0)","v":0},43.08,25.954999999999998,518.14139999999998,0]
[null,{"$f":"'namerena data'!A17+('namerena data'!B17-1)/24","v":"2013-08-01T11:00:00"},{"$f":"IF('namerena data'!C17>0,'namerena data'!C17/1000,0)","v":0},42.74,25.954999999999998,509.31670000000008,0]
[null,{"$f":"'namerena data'!A18+('namerena data'!B18-1)/24","v":"2013-08-01T12:00:00"},{"$f":"IF('namerena data'!C18>0,'namerena data'!C18/1000,0)","v":0},39.36,25.954999999999998,421.58879999999988,0]
[null,{"$f":"'namerena data'!A19+('namerena data'!B19-1)/24","v":"2013-08-01T13:00:00"},{"$f":"IF('namerena data'!C19>0,'namerena data'!C19/1000,0)","v":0},35,25.954999999999998,308.42499999999995,0]
[null,{"$f":"'namerena data'!A20+('namerena data'!B20-1)/24","v":"2013-08-01T14:00:00"},{"$f":"IF('namerena data'!C20>0,'namerena data'!C20/1000,0)","v":0},34,25.954999999999998,282.46999999999991,0]
[null,{"$f":"'namerena data'!A21+('namerena data'!B21-1)/24","v":"2013-08-01T15:00:00"},{"$f":"IF('namerena data'!C21>0,'namerena data'!C21/1000,0)","v":0},34.07,25.954999999999998,284.28684999999996,0]
[null,{"$f":"'namerena data'!A22+('namerena data'!B22-1)/24","v":"2013-08-01T16:00:00"},{"$f":"IF('namerena data'!C22>0,'namerena data'!C22/1000,0)","v":0},36.17,25.954999999999998,338.79234999999994,0]
[null,{"$f":"'namerena data'!A23+('namerena data'!B23-1)/24","v":"2013-08-01T17:00:00"},{"$f":"IF('namerena data'!C23>0,'namerena data'!C23/1000,0)","v":0},41.7,25.954999999999998,482.32349999999997,0]
[null,{"$f":"'namerena data'!A24+('namerena data'!B24-1)/24","v":"2013-08-01T18:00:00"},{"$f":"IF('namerena data'!C24>0,'namerena data'!C24/1000,0)","v":0},43.9,25.954999999999998,539.42449999999985,0]
[null,{"$f":"'namerena data'!A25+('namerena data'!B25-1)/24","v":"2013-08-01T19:00:00"},{"$f":"IF('namerena data'!C25>0,'namerena data'!C25/1000,0)","v":0},46.58,25.954999999999998,608.98389999999995,0]
[null,{"$f":"'namerena data'!A26+('namerena data'!B26-1)/24","v":"2013-08-01T20:00:00"},{"$f":"IF('namerena data'!C26>0,'namerena data'!C26/1000,0)","v":0},47.8,25.954999999999998,640.64899999999989,0]
[null,{"$f":"'namerena data'!A27+('namerena data'!B27-1)/24","v":"2013-08-01T21:00:00"},{"$f":"IF('namerena data'!C27>0,'namerena data'!C27/1000,0)","v":0},45.4,25.954999999999998,578.35699999999997,0]
[null,{"$f":"'namerena data'!A28+('namerena data'!B28-1)/24","v":"2013-08-01T22:00:00"},{"$f":"IF('namerena data'!C28>0,'namerena data'!C28/1000,0)","v":0},43.79,25.954999999999998,536.56944999999996,0]
[null,{"$f":"'namerena data'!A29+('namerena data'!B29-1)/24","v":"2013-08-01T23:00:00"},{"$f":"IF('namerena data'!C29>0,'namerena data'!C29/1000,0)","v":0},34.380000000000003,25.954999999999998,292.3329,0]
[null,{"$f":"'namerena data'!A30+('namerena data'!B30-1)/24","v":"2013-08-02"},{"$f":"IF('namerena data'!C30>0,'namerena data'!C30/1000,0)","v":0},33.020000000000003,25.95,256.86900000000003,0]
[null,{"$f":"'namerena data'!A31+('namerena data'!B31-1)/24","v":"2013-08-02T01:00:00"},{"$f":"IF('namerena data'!C31>0,'namerena data'!C31/1000,0)","v":0},30,25.95,178.5,0]
[null,{"$f":"'namerena data'!A32+('namerena data'!B32-1)/24","v":"2013-08-02T02:00:00"},{"$f":"IF('namerena data'!C32>0,'namerena data'!C32/1000,0)","v":0},27.5,25.95,113.625,0]
[null,{"$f":"'namerena data'!A33+('namerena data'!B33-1)/24","v":"2013-08-02T03:00:00"},{"$f":"IF('namerena data'!C33>0,'namerena data'!C33/1000,0)","v":0},26.25,25.95,81.1875,0]
[null,{"$f":"'namerena data'!A34+('namerena data'!B34-1)/24","v":"2013-08-02T04:00:00"},{"$f":"IF('namerena data'!C34>0,'namerena data'!C34/1000,0)","v":0},26,25.95,74.699999999999932,0]
[null,{"$f":"'namerena data'!A35+('namerena data'!B35-1)/24","v":"2013-08-02T05:00:00"},{"$f":"IF('namerena data'!C35>0,'namerena data'!C35/1000,0)","v":0},28.78,25.95,146.84100000000001,0]
[null,{"$f":"'namerena data'!A36+('namerena data'!B36-1)/24","v":"2013-08-02T06:00:00"},{"$f":"IF('namerena data'!C36>0,'namerena data'!C36/1000,0)","v":0},36.21,25.95,339.64949999999999,0]
[null,{"$f":"'namerena data'!A37+('namerena data'!B37-1)/24","v":"2013-08-02T07:00:00"},{"$f":"IF('namerena data'!C37>0,'namerena data'!C37/1000,0)","v":0},42.7,25.95,508.06500000000005,0]
[null,{"$f":"'namerena data'!A38+('namerena data'!B38-1)/24","v":"2013-08-02T08:00:00"},{"$f":"IF('namerena data'!C38>0,'namerena data'!C38/1000,0)","v":0},46.7,25.95,611.86500000000001,0]
[null,{"$f":"'namerena data'!A39+('namerena data'!B39-1)/24","v":"2013-08-02T09:00:00"},{"$f":"IF('namerena data'!C39>0,'namerena data'!C39/1000,0)","v":0},46.11,25.95,596.55449999999996,0]
[null,{"$f":"'namerena data'!A40+('namerena data'!B40-1)/24","v":"2013-08-02T10:00:00"},{"$f":"IF('namerena data'!C40>0,'namerena data'!C40/1000,0)","v":0},44.63,25.95,558.14850000000001,0]
[null,{"$f":"'namerena data'!A41+('namerena data'!B41-1)/24","v":"2013-08-02T11:00:00"},{"$f":"IF('namerena data'!C41>0,'namerena data'!C41/1000,0)","v":0},43.6,25.95,531.42000000000007,0]
[null,{"$f":"'namerena data'!A42+('namerena data'!B42-1)/24","v":"2013-08-02T12:00:00"},{"$f":"IF('namerena data'!C42>0,'namerena data'!C42/1000,0)","v":0},38.049999999999997,25.95,387.39749999999992,0]
[null,{"$f":"'namerena data'!A43+('namerena data'!B43-1)/24","v":"2013-08-02T13:00:00"},{"$f":"IF('namerena data'!C43>0,'namerena data'!C43/1000,0)","v":0},37,25.95,360.15,0]
[null,{"$f":"'namerena data'!A44+('namerena data'!B44-1)/24","v":"2013-08-02T14:00:00"},{"$f":"IF('namerena data'!C44>0,'namerena data'!C44/1000,0)","v":0},35.700000000000003,25.95,326.41500000000008,0]
[null,{"$f":"'namerena data'!A45+('namerena data'!B45-1)/24","v":"2013-08-02T15:00:00"},{"$f":"IF('namerena data'!C45>0,'namerena data'!C45/1000,0)","v":0},35.4,25.95,318.62999999999988,0]
[null,{"$f":"'namerena data'!A46+('namerena data'!B46-1)/24","v":"2013-08-02T16:00:00"},{"$f":"IF('namerena data'!C46>0,'namerena data'!C46/1000,0)","v":0},35.79,25.95,328.75049999999999,0]
[null,{"$f":"'namerena data'!A47+('namerena data'!B47-1)/24","v":"2013-08-02T17:00:00"},{"$f":"IF('namerena data'!C47>0,'namerena data'!C47/1000,0)","v":0},39.799999999999997,25.95,432.80999999999995,0]
[null,{"$f":"'namerena data'!A48+('namerena data'!B48-1)/24","v":"2013-08-02T18:00:00"},{"$f":"IF('namerena data'!C48>0,'namerena data'!C48/1000,0)","v":0},45.2,25.95,572.94000000000005,0]
[null,{"$f":"'namerena data'!A49+('namerena data'!B49-1)/24","v":"2013-08-02T19:00:00"},{"$f":"IF('namerena data'!C49>0,'namerena data'!C49/1000,0)","v":0},45.42,25.95,578.64900000000011,0]
[null,{"$f":"'namerena data'!A50+('namerena data'!B50-1)/24","v":"2013-08-02T20:00:00"},{"$f":"IF('namerena data'!C50>0,'namerena data'!C50/1000,0)","v":0},41,25.95,463.95000000000005,0]
[null,{"$f":"'namerena data'!A51+('namerena data'!B51-1)/24","v":"2013-08-02T21:00:00"},{"$f":"IF('namerena data'!C51>0,'namerena data'!C51/1000,0)","v":0},40,25.95,438,0]
[null,{"$f":"'namerena data'!A52+('namerena data'!B52-1)/24","v":"2013-08-02T22:00:00"},{"$f":"IF('namerena data'!C52>0,'namerena data'!C52/1000,0)","v":0},39.5,25.95,425.02499999999986,0]
[null,{"$f":"'namerena data'!A53+('namerena data'!B53-1)/24","v":"2013-08-02T23:00:00"},{"$f":"IF('namerena data'!C53>0,'namerena data'!C53/1000,0)","v":0},35,25.95,308.25,0]
[null,{"$f":"'namerena data'!A54+('namerena data'!B54-1)/24","v":"2013-08-03"},{"$f":"IF('namerena data'!C54>0,'namerena data'!C54/1000,0)","v":0},29.8,25.95,173.30999999999995,0]
[null,{"$f":"'namerena data'!A55+('namerena data'!B55-1)/24","v":"2013-08-03T01:00:00"},{"$f":"IF('namerena data'!C55>0,'namerena data'!C55/1000,0)","v":0},28.2,25.95,131.78999999999996,0]
[null,{"$f":"'namerena data'!A56+('namerena data'!B56-1)/24","v":"2013-08-03T02:00:00"},{"$f":"IF('namerena data'!C56>0,'namerena data'!C56/1000,0)","v":0},27.61,25.95,116.47949999999992,0]
[null,{"$f":"'namerena data'!A57+('namerena data'!B57-1)/24","v":"2013-08-03T03:00:00"},{"$f":"IF('namerena data'!C57>0,'namerena data'!C57/1000,0)","v":0},26.6,25.95,90.269999999999982,0]
[null,{"$f":"'namerena data'!A58+('namerena data'!B58-1)/24","v":"2013-08-03T04:00:00"},{"$f":"IF('namerena data'!C58>0,'namerena data'!C58/1000,0)","v":0},26.3,25.95,82.485000000000014,0]
[null,{"$f":"'namerena data'!A59+('namerena data'!B59-1)/24","v":"2013-08-03T05:00:00"},{"$f":"IF('namerena data'!C59>0,'namerena data'!C59/1000,0)","v":0},25.33,25.95,57.313499999999976,0]
[null,{"$f":"'namerena data'!A60+('namerena data'!B60-1)/24","v":"2013-08-03T06:00:00"},{"$f":"IF('namerena data'!C60>0,'namerena data'!C60/1000,0)","v":0},25.8,25.95,69.509999999999991,0]
[null,{"$f":"'namerena data'!A61+('namerena data'!B61-1)/24","v":"2013-08-03T07:00:00"},{"$f":"IF('namerena data'!C61>0,'namerena data'!C61/1000,0)","v":0},28.3,25.95,134.38499999999999,0]
[null,{"$f":"'namerena data'!A62+('namerena data'!B62-1)/24","v":"2013-08-03T08:00:00"},{"$f":"IF('namerena data'!C62>0,'namerena data'!C62/1000,0)","v":0},30.7,25.95,196.66499999999996,0]
[null,{"$f":"'namerena data'!A63+('namerena data'!B63-1)/24","v":"2013-08-03T09:00:00"},{"$f":"IF('namerena data'!C63>0,'namerena data'!C63/1000,0)","v":0},32,25.95,230.39999999999998,0]
[null,{"$f":"'namerena data'!A64+('namerena data'!B64-1)/24","v":"2013-08-03T10:00:00"},{"$f":"IF('namerena data'!C64>0,'namerena data'!C64/1000,0)","v":0},32,25.95,230.39999999999998,0]
[null,{"$f":"'namerena data'!A65+('namerena data'!B65-1)/24","v":"2013-08-03T11:00:00"},{"$f":"IF('namerena data'!C65>0,'namerena data'!C65/1000,0)","v":0},31.1,25.95,207.04499999999996,0]
[null,{"$f":"'namerena data'!A66+('namerena data'!B66-1)/24","v":"2013-08-03T12:00:00"},{"$f":"IF('namerena data'!C66>0,'namerena data'!C66/1000,0)","v":0},27.98,25.95,126.08100000000002,0]
[null,{"$f":"'namerena data'!A67+('namerena data'!B67-1)/24","v":"2013-08-03T13:00:00"},{"$f":"IF('namerena data'!C67>0,'namerena data'!C67/1000,0)","v":0},25.25,25.95,55.237499999999955,0]
[null,{"$f":"'namerena data'!A68+('namerena data'!B68-1)/24","v":"2013-08-03T14:00:00"},{"$f":"IF('namerena data'!C68>0,'namerena data'!C68/1000,0)","v":0},21.8,25.95,-34.289999999999964,0]
[null,{"$f":"'namerena data'!A69+('namerena data'!B69-1)/24","v":"2013-08-03T15:00:00"},{"$f":"IF('namerena data'!C69>0,'namerena data'!C69/1000,0)","v":0},21.06,25.95,-53.493000000000052,0]
[null,{"$f":"'namerena data'!A70+('namerena data'!B70-1)/24","v":"2013-08-03T16:00:00"},{"$f":"IF('namerena data'!C70>0,'namerena data'!C70/1000,0)","v":0},25.7,25.95,66.914999999999964,0]
[null,{"$f":"'namerena data'!A71+('namerena data'!B71-1)/24","v":"2013-08-03T17:00:00"},{"$f":"IF('namerena data'!C71>0,'namerena data'!C71/1000,0)","v":0},29.3,25.95,{"$f":"+IF(AND(ISNUMBER(D81),ISNUMBER(E81)),D81*E81-$F$13,0)","v":160.33500000000004},{"$f":"+(C81*F81)","v":0}]
[null,{"$f":"'namerena data'!A72+('namerena data'!B72-1)/24","v":"2013-08-03T18:00:00"},{"$f":"IF('namerena data'!C72>0,'namerena data'!C72/1000,0)","v":0},33.200000000000003,25.95,261.54000000000008,0]
[null,{"$f":"'namerena data'!A73+('namerena data'!B73-1)/24","v":"2013-08-03T19:00:00"},{"$f":"IF('namerena data'!C73>0,'namerena data'!C73/1000,0)","v":0},34.630000000000003,25.95,298.64850000000001,0]
[null,{"$f":"'namerena data'!A74+('namerena data'!B74-1)/24","v":"2013-08-03T20:00:00"},{"$f":"IF('namerena data'!C74>0,'namerena data'!C74/1000,0)","v":0},32.200000000000003,25.95,235.59000000000003,0]
[null,{"$f":"'namerena data'!A75+('namerena data'!B75-1)/24","v":"2013-08-03T21:00:00"},{"$f":"IF('namerena data'!C75>0,'namerena data'!C75/1000,0)","v":0},34.200000000000003,25.95,287.49,0]
[null,{"$f":"'namerena data'!A76+('namerena data'!B76-1)/24","v":"2013-08-03T22:00:00"},{"$f":"IF('namerena data'!C76>0,'namerena data'!C76/1000,0)","v":0},36.200000000000003,25.95,339.3900000000001,0]
[null,{"$f":"'namerena data'!A77+('namerena data'!B77-1)/24","v":"2013-08-03T23:00:00"},{"$f":"IF('namerena data'!C77>0,'namerena data'!C77/1000,0)","v":0},30.75,25.95,197.96249999999998,0]
[null,{"$f":"'namerena data'!A78+('namerena data'!B78-1)/24","v":"2013-08-04"},{"$f":"IF('namerena data'!C78>0,'namerena data'!C78/1000,0)","v":0},27.34,25.95,109.47299999999996,0]
[null,{"$f":"'namerena data'!A79+('namerena data'!B79-1)/24","v":"2013-08-04T01:00:00"},{"$f":"IF('namerena data'!C79>0,'namerena data'!C79/1000,0)","v":0},22.87,25.95,-6.5235000000000127,0]
[null,{"$f":"'namerena data'!A80+('namerena data'!B80-1)/24","v":"2013-08-04T02:00:00"},{"$f":"IF('namerena data'!C80>0,'namerena data'!C80/1000,0)","v":0},20.88,25.95,-58.163999999999987,0]
[null,{"$f":"'namerena data'!A81+('namerena data'!B81-1)/24","v":"2013-08-04T03:00:00"},{"$f":"IF('namerena data'!C81>0,'namerena data'!C81/1000,0)","v":0},18.899999999999999,25.95,-109.54500000000007,0]
[null,{"$f":"'namerena data'!A82+('namerena data'!B82-1)/24","v":"2013-08-04T04:00:00"},{"$f":"IF('namerena data'!C82>0,'namerena data'!C82/1000,0)","v":0},19.37,25.95,-97.348500000000001,0]
[null,{"$f":"'namerena data'!A83+('namerena data'!B83-1)/24","v":"2013-08-04T05:00:00"},{"$f":"IF('namerena data'!C83>0,'namerena data'!C83/1000,0)","v":0},17.559999999999999,25.95,-144.31800000000004,0]
[null,{"$f":"'namerena data'!A84+('namerena data'!B84-1)/24","v":"2013-08-04T06:00:00"},{"$f":"IF('namerena data'!C84>0,'namerena data'!C84/1000,0)","v":0},17.8,25.95,-138.08999999999997,0]
[null,{"$f":"'namerena data'!A85+('namerena data'!B85-1)/24","v":"2013-08-04T07:00:00"},{"$f":"IF('namerena data'!C85>0,'namerena data'!C85/1000,0)","v":0},18.78,25.95,-112.65899999999999,0]
[null,{"$f":"'namerena data'!A86+('namerena data'!B86-1)/24","v":"2013-08-04T08:00:00"},{"$f":"IF('namerena data'!C86>0,'namerena data'!C86/1000,0)","v":0},19.57,25.95,-92.158500000000004,0]
[null,{"$f":"'namerena data'!A87+('namerena data'!B87-1)/24","v":"2013-08-04T09:00:00"},{"$f":"IF('namerena data'!C87>0,'namerena data'!C87/1000,0)","v":0},21.73,25.95,-36.106499999999983,0]
[null,{"$f":"'namerena data'!A88+('namerena data'!B88-1)/24","v":"2013-08-04T10:00:00"},{"$f":"IF('namerena data'!C88>0,'namerena data'!C88/1000,0)","v":0},25.93,25.95,72.883500000000026,0]
[null,{"$f":"'namerena data'!A89+('namerena data'!B89-1)/24","v":"2013-08-04T11:00:00"},{"$f":"IF('namerena data'!C89>0,'namerena data'!C89/1000,0)","v":0},27,25.95,100.64999999999998,0]
[null,{"$f":"'namerena data'!A90+('namerena data'!B90-1)/24","v":"2013-08-04T12:00:00"},{"$f":"IF('namerena data'!C90>0,'namerena data'!C90/1000,0)","v":0},25,25.95,48.75,0]
[null,{"$f":"'namerena data'!A91+('namerena data'!B91-1)/24","v":"2013-08-04T13:00:00"},{"$f":"IF('namerena data'!C91>0,'namerena data'!C91/1000,0)","v":0},23.66,25.95,13.976999999999975,0]
[null,{"$f":"'namerena data'!A92+('namerena data'!B92-1)/24","v":"2013-08-04T14:00:00"},{"$f":"IF('namerena data'!C92>0,'namerena data'!C92/1000,0)","v":0},21.24,25.95,-48.822000000000003,0]
[null,{"$f":"'namerena data'!A93+('namerena data'!B93-1)/24","v":"2013-08-04T15:00:00"},{"$f":"IF('namerena data'!C93>0,'namerena data'!C93/1000,0)","v":0},20.81,25.95,-59.980500000000006,0]
[null,{"$f":"'namerena data'!A94+('namerena data'!B94-1)/24","v":"2013-08-04T16:00:00"},{"$f":"IF('namerena data'!C94>0,'namerena data'!C94/1000,0)","v":0},24.94,25.95,47.192999999999984,0]
[null,{"$f":"'namerena data'!A95+('namerena data'!B95-1)/24","v":"2013-08-04T17:00:00"},{"$f":"IF('namerena data'!C95>0,'namerena data'!C95/1000,0)","v":0},28.6,25.95,142.17000000000007,0]
[null,{"$f":"'namerena data'!A96+('namerena data'!B96-1)/24","v":"2013-08-04T18:00:00"},{"$f":"IF('namerena data'!C96>0,'namerena data'!C96/1000,0)","v":0},35.46,25.95,320.18700000000001,0]
[null,{"$f":"'namerena data'!A97+('namerena data'!B97-1)/24","v":"2013-08-04T19:00:00"},{"$f":"IF('namerena data'!C97>0,'namerena data'!C97/1000,0)","v":0},37.590000000000003,25.95,375.46050000000002,0]
[null,{"$f":"'namerena data'!A98+('namerena data'!B98-1)/24","v":"2013-08-04T20:00:00"},{"$f":"IF('namerena data'!C98>0,'namerena data'!C98/1000,0)","v":0},38.99,25.95,411.79050000000007,0]
[null,{"$f":"'namerena data'!A99+('namerena data'!B99-1)/24","v":"2013-08-04T21:00:00"},{"$f":"IF('namerena data'!C99>0,'namerena data'!C99/1000,0)","v":0},42.66,25.95,507.02699999999982,0]
[null,{"$f":"'namerena data'!A100+('namerena data'!B100-1)/24","v":"2013-08-04T22:00:00"},{"$f":"IF('namerena data'!C100>0,'namerena data'!C100/1000,0)","v":0},39.46,25.95,423.98699999999997,0]
[null,{"$f":"'namerena data'!A101+('namerena data'!B101-1)/24","v":"2013-08-04T23:00:00"},{"$f":"IF('namerena data'!C101>0,'namerena data'!C101/1000,0)","v":0},34.03,25.95,283.07849999999996,0]
[null,{"$f":"'namerena data'!A102+('namerena data'!B102-1)/24","v":"2013-08-05"},{"$f":"IF('namerena data'!C102>0,'namerena data'!C102/1000,0)","v":0},30,25.934999999999999,178.04999999999995,0]
[null,{"$f":"'namerena data'!A103+('namerena data'!B103-1)/24","v":"2013-08-05T01:00:00"},{"$f":"IF('namerena data'!C103>0,'namerena data'!C103/1000,0)","v":0},27.9,25.934999999999999,123.58649999999989,0]
[null,{"$f":"'namerena data'!A104+('namerena data'!B104-1)/24","v":"2013-08-05T02:00:00"},{"$f":"IF('namerena data'!C104>0,'namerena data'!C104/1000,0)","v":0},26.05,25.934999999999999,75.606750000000034,0]
[null,{"$f":"'namerena data'!A105+('namerena data'!B105-1)/24","v":"2013-08-05T03:00:00"},{"$f":"IF('namerena data'!C105>0,'namerena data'!C105/1000,0)","v":0},25.3,25.934999999999999,56.155499999999961,0]
[null,{"$f":"'namerena data'!A106+('namerena data'!B106-1)/24","v":"2013-08-05T04:00:00"},{"$f":"IF('namerena data'!C106>0,'namerena data'!C106/1000,0)","v":0},25.82,25.934999999999999,69.641700000000014,0]
[null,{"$f":"'namerena data'!A107+('namerena data'!B107-1)/24","v":"2013-08-05T05:00:00"},{"$f":"IF('namerena data'!C107>0,'namerena data'!C107/1000,0)","v":0},26.8,25.934999999999999,95.057999999999993,0]
[null,{"$f":"'namerena data'!A108+('namerena data'!B108-1)/24","v":"2013-08-05T06:00:00"},{"$f":"IF('namerena data'!C108>0,'namerena data'!C108/1000,0)","v":0},37.1,25.934999999999999,362.18849999999998,0]
[null,{"$f":"'namerena data'!A109+('namerena data'!B109-1)/24","v":"2013-08-05T07:00:00"},{"$f":"IF('namerena data'!C109>0,'namerena data'!C109/1000,0)","v":0},48.1,25.934999999999999,647.47350000000006,0]
[null,{"$f":"'namerena data'!A110+('namerena data'!B110-1)/24","v":"2013-08-05T08:00:00"},{"$f":"IF('namerena data'!C110>0,'namerena data'!C110/1000,0)","v":0},47.48,25.934999999999999,631.39379999999983,0]
[null,{"$f":"'namerena data'!A111+('namerena data'!B111-1)/24","v":"2013-08-05T09:00:00"},{"$f":"IF('namerena data'!C111>0,'namerena data'!C111/1000,0)","v":0},47.58,25.934999999999999,633.9873,0]
[null,{"$f":"'namerena data'!A112+('namerena data'!B112-1)/24","v":"2013-08-05T10:00:00"},{"$f":"IF('namerena data'!C112>0,'namerena data'!C112/1000,0)","v":0},47.5,25.934999999999999,631.91249999999991,0]
[null,{"$f":"'namerena data'!A113+('namerena data'!B113-1)/24","v":"2013-08-05T11:00:00"},{"$f":"IF('namerena data'!C113>0,'namerena data'!C113/1000,0)","v":0},46.7,25.934999999999999,611.16450000000009,0]
[null,{"$f":"'namerena data'!A114+('namerena data'!B114-1)/24","v":"2013-08-05T12:00:00"},{"$f":"IF('namerena data'!C114>0,'namerena data'!C114/1000,0)","v":0},46.61,25.934999999999999,608.83034999999995,0]
[null,{"$f":"'namerena data'!A115+('namerena data'!B115-1)/24","v":"2013-08-05T13:00:00"},{"$f":"IF('namerena data'!C115>0,'namerena data'!C115/1000,0)","v":0},43,25.934999999999999,515.20499999999993,0]
[null,{"$f":"'namerena data'!A116+('namerena data'!B116-1)/24","v":"2013-08-05T14:00:00"},{"$f":"IF('namerena data'!C116>0,'namerena data'!C116/1000,0)","v":0},43.99,25.934999999999999,540.88065000000006,0]
[null,{"$f":"'namerena data'!A117+('namerena data'!B117-1)/24","v":"2013-08-05T15:00:00"},{"$f":"IF('namerena data'!C117>0,'namerena data'!C117/1000,0)","v":0},42.5,25.934999999999999,502.23749999999995,0]
[null,{"$f":"'namerena data'!A118+('namerena data'!B118-1)/24","v":"2013-08-05T16:00:00"},{"$f":"IF('namerena data'!C118>0,'namerena data'!C118/1000,0)","v":0},44.6,25.934999999999999,556.70100000000002,0]
[null,{"$f":"'namerena data'!A119+('namerena data'!B119-1)/24","v":"2013-08-05T17:00:00"},{"$f":"IF('namerena data'!C119>0,'namerena data'!C119/1000,0)","v":0},48.66,25.934999999999999,661.99709999999982,0]
[null,{"$f":"'namerena data'!A120+('namerena data'!B120-1)/24","v":"2013-08-05T18:00:00"},{"$f":"IF('namerena data'!C120>0,'namerena data'!C120/1000,0)","v":0},49.19,25.934999999999999,675.74264999999991,0]
[null,{"$f":"'namerena data'!A121+('namerena data'!B121-1)/24","v":"2013-08-05T19:00:00"},{"$f":"IF('namerena data'!C121>0,'namerena data'!C121/1000,0)","v":0},52,25.934999999999999,748.61999999999989,0]
[null,{"$f":"'namerena data'!A122+('namerena data'!B122-1)/24","v":"2013-08-05T20:00:00"},{"$f":"IF('namerena data'!C122>0,'namerena data'!C122/1000,0)","v":0},51,25.934999999999999,722.68499999999995,0]
[null,{"$f":"'namerena data'!A123+('namerena data'!B123-1)/24","v":"2013-08-05T21:00:00"},{"$f":"IF('namerena data'!C123>0,'namerena data'!C123/1000,0)","v":0},50.19,25.934999999999999,701.67764999999986,0]
[null,{"$f":"'namerena data'!A124+('namerena data'!B124-1)/24","v":"2013-08-05T22:00:00"},{"$f":"IF('namerena data'!C124>0,'namerena data'!C124/1000,0)","v":0},49.2,25.934999999999999,676.00199999999995,0]
[null,{"$f":"'namerena data'!A125+('namerena data'!B125-1)/24","v":"2013-08-05T23:00:00"},{"$f":"IF('namerena data'!C125>0,'namerena data'!C125/1000,0)","v":0},38.08,25.934999999999999,387.60479999999995,0]
[null,{"$f":"'namerena data'!A126+('namerena data'!B126-1)/24","v":"2013-08-06"},{"$f":"IF('namerena data'!C126>0,'namerena data'!C126/1000,0)","v":0},33.159999999999997,25.92,259.50720000000001,0]
[null,{"$f":"'namerena data'!A127+('namerena data'!B127-1)/24","v":"2013-08-06T01:00:00"},{"$f":"IF('namerena data'!C127>0,'namerena data'!C127/1000,0)","v":0},30.6,25.92,193.15200000000004,0]
[null,{"$f":"'namerena data'!A128+('namerena data'!B128-1)/24","v":"2013-08-06T02:00:00"},{"$f":"IF('namerena data'!C128>0,'namerena data'!C128/1000,0)","v":0},29.02,25.92,152.19839999999999,0]
[null,{"$f":"'namerena data'!A129+('namerena data'!B129-1)/24","v":"2013-08-06T03:00:00"},{"$f":"IF('namerena data'!C129>0,'namerena data'!C129/1000,0)","v":0},27.7,25.92,117.98400000000004,0]
[null,{"$f":"'namerena data'!A130+('namerena data'!B130-1)/24","v":"2013-08-06T04:00:00"},{"$f":"IF('namerena data'!C130>0,'namerena data'!C130/1000,0)","v":0},28.35,25.92,134.83200000000011,0]
[null,{"$f":"'namerena data'!A131+('namerena data'!B131-1)/24","v":"2013-08-06T05:00:00"},{"$f":"IF('namerena data'!C131>0,'namerena data'!C131/1000,0)","v":0},29.57,25.92,166.45440000000008,0]
[null,{"$f":"'namerena data'!A132+('namerena data'!B132-1)/24","v":"2013-08-06T06:00:00"},{"$f":"IF('namerena data'!C132>0,'namerena data'!C132/1000,0)","v":0},35.35,25.92,316.27200000000005,0]
[null,{"$f":"'namerena data'!A133+('namerena data'!B133-1)/24","v":"2013-08-06T07:00:00"},{"$f":"IF('namerena data'!C133>0,'namerena data'!C133/1000,0)","v":0},45.8,25.92,587.13599999999997,0]
[null,{"$f":"'namerena data'!A134+('namerena data'!B134-1)/24","v":"2013-08-06T08:00:00"},{"$f":"IF('namerena data'!C134>0,'namerena data'!C134/1000,0)","v":0},48.17,25.92,648.56640000000016,0]
[null,{"$f":"'namerena data'!A135+('namerena data'!B135-1)/24","v":"2013-08-06T09:00:00"},{"$f":"IF('namerena data'!C135>0,'namerena data'!C135/1000,0)","v":0},48.22,25.92,{"$f":"+IF(AND(ISNUMBER(D145),ISNUMBER(E145)),D145*E145-$F$13,0)","v":649.86239999999998},{"$f":"+(C145*F145)","v":0}]
[null,{"$f":"'namerena data'!A136+('namerena data'!B136-1)/24","v":"2013-08-06T10:00:00"},{"$f":"IF('namerena data'!C136>0,'namerena data'!C136/1000,0)","v":0},46.9,25.92,615.64800000000014,0]
[null,{"$f":"'namerena data'!A137+('namerena data'!B137-1)/24","v":"2013-08-06T11:00:00"},{"$f":"IF('namerena data'!C137>0,'namerena data'!C137/1000,0)","v":0},45,25.92,566.40000000000009,0]
[null,{"$f":"'namerena data'!A138+('namerena data'!B138-1)/24","v":"2013-08-06T12:00:00"},{"$f":"IF('namerena data'!C138>0,'namerena data'!C138/1000,0)","v":0},44.63,25.92,556.80960000000005,0]
[null,{"$f":"'namerena data'!A139+('namerena data'!B139-1)/24","v":"2013-08-06T13:00:00"},{"$f":"IF('namerena data'!C139>0,'namerena data'!C139/1000,0)","v":0},43.29,25.92,522.07680000000005,0]
[null,{"$f":"'namerena data'!A140+('namerena data'!B140-1)/24","v":"2013-08-06T14:00:00"},{"$f":"IF('namerena data'!C140>0,'namerena data'!C140/1000,0)","v":0},43.65,25.92,531.40800000000013,0]
[null,{"$f":"'namerena data'!A141+('namerena data'!B141-1)/24","v":"2013-08-06T15:00:00"},{"$f":"IF('namerena data'!C141>0,'namerena data'!C141/1000,0)","v":0},44.29,25.92,547.99680000000012,0]
[null,{"$f":"'namerena data'!A142+('namerena data'!B142-1)/24","v":"2013-08-06T16:00:00"},{"$f":"IF('namerena data'!C142>0,'namerena data'!C142/1000,0)","v":0},45,25.92,566.40000000000009,0]
[null,{"$f":"'namerena data'!A143+('namerena data'!B143-1)/24","v":"2013-08-06T17:00:00"},{"$f":"IF('namerena data'!C143>0,'namerena data'!C143/1000,0)","v":0},48.2,25.92,649.34400000000005,0]
[null,{"$f":"'namerena data'!A144+('namerena data'!B144-1)/24","v":"2013-08-06T18:00:00"},{"$f":"IF('namerena data'!C144>0,'namerena data'!C144/1000,0)","v":0},49.8,25.92,690.81600000000003,0]
[null,{"$f":"'namerena data'!A145+('namerena data'!B145-1)/24","v":"2013-08-06T19:00:00"},{"$f":"IF('namerena data'!C145>0,'namerena data'!C145/1000,0)","v":0},51,25.92,721.92000000000007,0]
[null,{"$f":"'namerena data'!A146+('namerena data'!B146-1)/24","v":"2013-08-06T20:00:00"},{"$f":"IF('namerena data'!C146>0,'namerena data'!C146/1000,0)","v":0},50,25.92,696,0]
[null,{"$f":"'namerena data'!A147+('namerena data'!B147-1)/24","v":"2013-08-06T21:00:00"},{"$f":"IF('namerena data'!C147>0,'namerena data'!C147/1000,0)","v":0},48.4,25.92,654.52800000000002,0]
[null,{"$f":"'namerena data'!A148+('namerena data'!B148-1)/24","v":"2013-08-06T22:00:00"},{"$f":"IF('namerena data'!C148>0,'namerena data'!C148/1000,0)","v":0},47.62,25.92,634.31040000000007,0]
[null,{"$f":"'namerena data'!A149+('namerena data'!B149-1)/24","v":"2013-08-06T23:00:00"},{"$f":"IF('namerena data'!C149>0,'namerena data'!C149/1000,0)","v":0},35.6,25.92,322.75200000000007,0]
[null,{"$f":"'namerena data'!A150+('namerena data'!B150-1)/24","v":"2013-08-07"},{"$f":"IF('namerena data'!C150>0,'namerena data'!C150/1000,0)","v":0},29.9,25.98,176.80200000000002,0]
[null,{"$f":"'namerena data'!A151+('namerena data'!B151-1)/24","v":"2013-08-07T01:00:00"},{"$f":"IF('namerena data'!C151>0,'namerena data'!C151/1000,0)","v":0},28.7,25.98,145.62599999999998,0]
[null,{"$f":"'namerena data'!A152+('namerena data'!B152-1)/24","v":"2013-08-07T02:00:00"},{"$f":"IF('namerena data'!C152>0,'namerena data'!C152/1000,0)","v":0},25.2,25.98,54.696000000000026,0]
[null,{"$f":"'namerena data'!A153+('namerena data'!B153-1)/24","v":"2013-08-07T03:00:00"},{"$f":"IF('namerena data'!C153>0,'namerena data'!C153/1000,0)","v":0},23.59,25.98,12.868200000000002,0]
[null,{"$f":"'namerena data'!A154+('namerena data'!B154-1)/24","v":"2013-08-07T04:00:00"},{"$f":"IF('namerena data'!C154>0,'namerena data'!C154/1000,0)","v":0},25.1,25.98,52.09800000000007,0]
[null,{"$f":"'namerena data'!A155+('namerena data'!B155-1)/24","v":"2013-08-07T05:00:00"},{"$f":"IF('namerena data'!C155>0,'namerena data'!C155/1000,0)","v":0},28.35,25.98,136.53300000000002,0]
[null,{"$f":"'namerena data'!A156+('namerena data'!B156-1)/24","v":"2013-08-07T06:00:00"},{"$f":"IF('namerena data'!C156>0,'namerena data'!C156/1000,0)","v":0},33.15,25.98,261.23699999999997,0]
[null,{"$f":"'namerena data'!A157+('namerena data'!B157-1)/24","v":"2013-08-07T07:00:00"},{"$f":"IF('namerena data'!C157>0,'namerena data'!C157/1000,0)","v":0},44.7,25.98,561.30600000000004,0]
[null,{"$f":"'namerena data'!A158+('namerena data'!B158-1)/24","v":"2013-08-07T08:00:00"},{"$f":"IF('namerena data'!C158>0,'namerena data'!C158/1000,0)","v":0},43.73,25.98,536.10539999999992,0]
[null,{"$f":"'namerena data'!A159+('namerena data'!B159-1)/24","v":"2013-08-07T09:00:00"},{"$f":"IF('namerena data'!C159>0,'namerena data'!C159/1000,0)","v":0},44.2,25.98,548.31600000000003,0]
[null,{"$f":"'namerena data'!A160+('namerena data'!B160-1)/24","v":"2013-08-07T10:00:00"},{"$f":"IF('namerena data'!C160>0,'namerena data'!C160/1000,0)","v":0},44.2,25.98,548.31600000000003,0]
[null,{"$f":"'namerena data'!A161+('namerena data'!B161-1)/24","v":"2013-08-07T11:00:00"},{"$f":"IF('namerena data'!C161>0,'namerena data'!C161/1000,0)","v":0},44.2,25.98,548.31600000000003,0]
[null,{"$f":"'namerena data'!A162+('namerena data'!B162-1)/24","v":"2013-08-07T12:00:00"},{"$f":"IF('namerena data'!C162>0,'namerena data'!C162/1000,0)","v":0},44.35,25.98,552.21299999999997,0]
[null,{"$f":"'namerena data'!A163+('namerena data'!B163-1)/24","v":"2013-08-07T13:00:00"},{"$f":"IF('namerena data'!C163>0,'namerena data'!C163/1000,0)","v":0},42.19,25.98,496.09619999999995,0]
[null,{"$f":"'namerena data'!A164+('namerena data'!B164-1)/24","v":"2013-08-07T14:00:00"},{"$f":"IF('namerena data'!C164>0,'namerena data'!C164/1000,0)","v":0},40.200000000000003,25.98,444.39600000000019,0]
[null,{"$f":"'namerena data'!A165+('namerena data'!B165-1)/24","v":"2013-08-07T15:00:00"},{"$f":"IF('namerena data'!C165>0,'namerena data'!C165/1000,0)","v":0},39.4,25.98,423.61199999999997,0]
[null,{"$f":"'namerena data'!A166+('namerena data'!B166-1)/24","v":"2013-08-07T16:00:00"},{"$f":"IF('namerena data'!C166>0,'namerena data'!C166/1000,0)","v":0},39.770000000000003,25.98,433.22460000000001,0]
[null,{"$f":"'namerena data'!A167+('namerena data'!B167-1)/24","v":"2013-08-07T17:00:00"},{"$f":"IF('namerena data'!C167>0,'namerena data'!C167/1000,0)","v":0},42.9,25.98,514.54199999999992,0]
[null,{"$f":"'namerena data'!A168+('namerena data'!B168-1)/24","v":"2013-08-07T18:00:00"},{"$f":"IF('namerena data'!C168>0,'namerena data'!C168/1000,0)","v":0},42.47,25.98,503.37059999999997,0]
[null,{"$f":"'namerena data'!A169+('namerena data'!B169-1)/24","v":"2013-08-07T19:00:00"},{"$f":"IF('namerena data'!C169>0,'namerena data'!C169/1000,0)","v":0},41.7,25.98,483.36599999999999,0]
[null,{"$f":"'namerena data'!A170+('namerena data'!B170-1)/24","v":"2013-08-07T20:00:00"},{"$f":"IF('namerena data'!C170>0,'namerena data'!C170/1000,0)","v":0},41.37,25.98,474.79259999999999,0]
[null,{"$f":"'namerena data'!A171+('namerena data'!B171-1)/24","v":"2013-08-07T21:00:00"},{"$f":"IF('namerena data'!C171>0,'namerena data'!C171/1000,0)","v":0},40,25.98,439.20000000000005,0]
[null,{"$f":"'namerena data'!A172+('namerena data'!B172-1)/24","v":"2013-08-07T22:00:00"},{"$f":"IF('namerena data'!C172>0,'namerena data'!C172/1000,0)","v":0},37.4,25.98,371.65199999999993,0]
[null,{"$f":"'namerena data'!A173+('namerena data'!B173-1)/24","v":"2013-08-07T23:00:00"},{"$f":"IF('namerena data'!C173>0,'namerena data'!C173/1000,0)","v":0},28.02,25.98,127.95960000000002,0]
[null,{"$f":"'namerena data'!A174+('namerena data'!B174-1)/24","v":"2013-08-08"},{"$f":"IF('namerena data'!C174>0,'namerena data'!C174/1000,0)","v":0},29,25.815000000000001,148.63499999999999,0]
[null,{"$f":"'namerena data'!A175+('namerena data'!B175-1)/24","v":"2013-08-08T01:00:00"},{"$f":"IF('namerena data'!C175>0,'namerena data'!C175/1000,0)","v":0},27,25.815000000000001,97.004999999999995,0]
[null,{"$f":"'namerena data'!A176+('namerena data'!B176-1)/24","v":"2013-08-08T02:00:00"},{"$f":"IF('namerena data'!C176>0,'namerena data'!C176/1000,0)","v":0},25.7,25.815000000000001,63.445500000000038,0]
[null,{"$f":"'namerena data'!A177+('namerena data'!B177-1)/24","v":"2013-08-08T03:00:00"},{"$f":"IF('namerena data'!C177>0,'namerena data'!C177/1000,0)","v":0},23.92,25.815000000000001,17.494800000000055,0]
[null,{"$f":"'namerena data'!A178+('namerena data'!B178-1)/24","v":"2013-08-08T04:00:00"},{"$f":"IF('namerena data'!C178>0,'namerena data'!C178/1000,0)","v":0},24.3,25.815000000000001,27.304500000000075,0]
[null,{"$f":"'namerena data'!A179+('namerena data'!B179-1)/24","v":"2013-08-08T05:00:00"},{"$f":"IF('namerena data'!C179>0,'namerena data'!C179/1000,0)","v":0},26.8,25.815000000000001,91.842000000000098,0]
[null,{"$f":"'namerena data'!A180+('namerena data'!B180-1)/24","v":"2013-08-08T06:00:00"},{"$f":"IF('namerena data'!C180>0,'namerena data'!C180/1000,0)","v":0},37.799999999999997,25.815000000000001,375.80700000000002,0]
[null,{"$f":"'namerena data'!A181+('namerena data'!B181-1)/24","v":"2013-08-08T07:00:00"},{"$f":"IF('namerena data'!C181>0,'namerena data'!C181/1000,0)","v":0},49.22,25.815000000000001,670.61429999999996,0]
[null,{"$f":"'namerena data'!A182+('namerena data'!B182-1)/24","v":"2013-08-08T08:00:00"},{"$f":"IF('namerena data'!C182>0,'namerena data'!C182/1000,0)","v":0},57.4,25.815000000000001,881.78099999999995,0]
[null,{"$f":"'namerena data'!A183+('namerena data'!B183-1)/24","v":"2013-08-08T09:00:00"},{"$f":"IF('namerena data'!C183>0,'namerena data'!C183/1000,0)","v":0},55.8,25.815000000000001,840.47700000000009,0]
[null,{"$f":"'namerena data'!A184+('namerena data'!B184-1)/24","v":"2013-08-08T10:00:00"},{"$f":"IF('namerena data'!C184>0,'namerena data'!C184/1000,0)","v":0},54.9,25.815000000000001,817.24350000000004,0]
[null,{"$f":"'namerena data'!A185+('namerena data'!B185-1)/24","v":"2013-08-08T11:00:00"},{"$f":"IF('namerena data'!C185>0,'namerena data'!C185/1000,0)","v":0},51.5,25.815000000000001,729.47250000000008,0]
[null,{"$f":"'namerena data'!A186+('namerena data'!B186-1)/24","v":"2013-08-08T12:00:00"},{"$f":"IF('namerena data'!C186>0,'namerena data'!C186/1000,0)","v":0},48.9,25.815000000000001,662.35349999999994,0]
[null,{"$f":"'namerena data'!A187+('namerena data'!B187-1)/24","v":"2013-08-08T13:00:00"},{"$f":"IF('namerena data'!C187>0,'namerena data'!C187/1000,0)","v":0},45.9,25.815000000000001,584.9085,0]
[null,{"$f":"'namerena data'!A188+('namerena data'!B188-1)/24","v":"2013-08-08T14:00:00"},{"$f":"IF('namerena data'!C188>0,'namerena data'!C188/1000,0)","v":0},44.6,25.815000000000001,551.34900000000016,0]
[null,{"$f":"'namerena data'!A189+('namerena data'!B189-1)/24","v":"2013-08-08T15:00:00"},{"$f":"IF('namerena data'!C189>0,'namerena data'!C189/1000,0)","v":0},45.68,25.815000000000001,579.22919999999999,0]
[null,{"$f":"'namerena data'!A190+('namerena data'!B190-1)/24","v":"2013-08-08T16:00:00"},{"$f":"IF('namerena data'!C190>0,'namerena data'!C190/1000,0)","v":0},44.04,25.815000000000001,536.89260000000013,0]
[null,{"$f":"'namerena data'!A191+('namerena data'!B191-1)/24","v":"2013-08-08T17:00:00"},{"$f":"IF('namerena data'!C191>0,'namerena data'!C191/1000,0)","v":0},45.6,25.815000000000001,577.16399999999999,0]
[null,{"$f":"'namerena data'!A192+('namerena data'!B192-1)/24","v":"2013-08-08T18:00:00"},{"$f":"IF('namerena data'!C192>0,'namerena data'!C192/1000,0)","v":0},49,25.815000000000001,664.93500000000017,0]
[null,{"$f":"'namerena data'!A193+('namerena data'!B193-1)/24","v":"2013-08-08T19:00:00"},{"$f":"IF('namerena data'!C193>0,'namerena data'!C193/1000,0)","v":0},48.19,25.815000000000001,644.02485000000001,0]
[null,{"$f":"'namerena data'!A194+('namerena data'!B194-1)/24","v":"2013-08-08T20:00:00"},{"$f":"IF('namerena data'!C194>0,'namerena data'!C194/1000,0)","v":0},44.2,25.815000000000001,541.02300000000014,0]
[null,{"$f":"'namerena data'!A195+('namerena data'!B195-1)/24","v":"2013-08-08T21:00:00"},{"$f":"IF('namerena data'!C195>0,'namerena data'!C195/1000,0)","v":0},43.8,25.815000000000001,530.69699999999989,0]
[null,{"$f":"'namerena data'!A196+('namerena data'!B196-1)/24","v":"2013-08-08T22:00:00"},{"$f":"IF('namerena data'!C196>0,'namerena data'!C196/1000,0)","v":0},42.05,25.815000000000001,485.52074999999991,0]
[null,{"$f":"'namerena data'!A197+('namerena data'!B197-1)/24","v":"2013-08-08T23:00:00"},{"$f":"IF('namerena data'!C197>0,'namerena data'!C197/1000,0)","v":0},32.119999999999997,25.815000000000001,229.17779999999993,0]
[null,{"$f":"'namerena data'!A198+('namerena data'!B198-1)/24","v":"2013-08-09"},{"$f":"IF('namerena data'!C198>0,'namerena data'!C198/1000,0)","v":0},27.65,25.925000000000001,116.82624999999996,0]
[null,{"$f":"'namerena data'!A199+('namerena data'!B199-1)/24","v":"2013-08-09T01:00:00"},{"$f":"IF('namerena data'!C199>0,'namerena data'!C199/1000,0)","v":0},27.4,25.925000000000001,{"$f":"+IF(AND(ISNUMBER(D209),ISNUMBER(E209)),D209*E209-$F$13,0)","v":110.34500000000003},{"$f":"+(C209*F209)","v":0}]
[null,{"$f":"'namerena data'!A200+('namerena data'!B200-1)/24","v":"2013-08-09T02:00:00"},{"$f":"IF('namerena data'!C200>0,'namerena data'!C200/1000,0)","v":0},25.9,25.925000000000001,71.457499999999982,0]
[null,{"$f":"'namerena data'!A201+('namerena data'!B201-1)/24","v":"2013-08-09T03:00:00"},{"$f":"IF('namerena data'!C201>0,'namerena data'!C201/1000,0)","v":0},25.6,25.925000000000001,63.680000000000064,0]
[null,{"$f":"'namerena data'!A202+('namerena data'!B202-1)/24","v":"2013-08-09T04:00:00"},{"$f":"IF('namerena data'!C202>0,'namerena data'!C202/1000,0)","v":0},25.4,25.925000000000001,58.495000000000005,0]
[null,{"$f":"'namerena data'!A203+('namerena data'!B203-1)/24","v":"2013-08-09T05:00:00"},{"$f":"IF('namerena data'!C203>0,'namerena data'!C203/1000,0)","v":0},27.25,25.925000000000001,106.45625000000007,0]
[null,{"$f":"'namerena data'!A204+('namerena data'!B204-1)/24","v":"2013-08-09T06:00:00"},{"$f":"IF('namerena data'!C204>0,'namerena data'!C204/1000,0)","v":0},35.799999999999997,25.925000000000001,328.1149999999999,0]
[null,{"$f":"'namerena data'!A205+('namerena data'!B205-1)/24","v":"2013-08-09T07:00:00"},{"$f":"IF('namerena data'!C205>0,'namerena data'!C205/1000,0)","v":0},44.5,25.925000000000001,553.66250000000014,0]
[null,{"$f":"'namerena data'!A206+('namerena data'!B206-1)/24","v":"2013-08-09T08:00:00"},{"$f":"IF('namerena data'!C206>0,'namerena data'!C206/1000,0)","v":0},46.3,25.925000000000001,600.32749999999987,0]
[null,{"$f":"'namerena data'!A207+('namerena data'!B207-1)/24","v":"2013-08-09T09:00:00"},{"$f":"IF('namerena data'!C207>0,'namerena data'!C207/1000,0)","v":0},44.29,25.925000000000001,548.2182499999999,0]
[null,{"$f":"'namerena data'!A208+('namerena data'!B208-1)/24","v":"2013-08-09T10:00:00"},{"$f":"IF('namerena data'!C208>0,'namerena data'!C208/1000,0)","v":0},43.5,25.925000000000001,527.73749999999995,0]
[null,{"$f":"'namerena data'!A209+('namerena data'!B209-1)/24","v":"2013-08-09T11:00:00"},{"$f":"IF('namerena data'!C209>0,'namerena data'!C209/1000,0)","v":0},44.56,25.925000000000001,555.21800000000007,0]
[null,{"$f":"'namerena data'!A210+('namerena data'!B210-1)/24","v":"2013-08-09T12:00:00"},{"$f":"IF('namerena data'!C210>0,'namerena data'!C210/1000,0)","v":0},42,25.925000000000001,488.85000000000014,0]
[null,{"$f":"'namerena data'!A211+('namerena data'!B211-1)/24","v":"2013-08-09T13:00:00"},{"$f":"IF('namerena data'!C211>0,'namerena data'!C211/1000,0)","v":0},38.9,25.925000000000001,408.48249999999996,0]
[null,{"$f":"'namerena data'!A212+('namerena data'!B212-1)/24","v":"2013-08-09T14:00:00"},{"$f":"IF('namerena data'!C212>0,'namerena data'!C212/1000,0)","v":0},37.729999999999997,25.925000000000001,378.15024999999991,0]
[null,{"$f":"'namerena data'!A213+('namerena data'!B213-1)/24","v":"2013-08-09T15:00:00"},{"$f":"IF('namerena data'!C213>0,'namerena data'!C213/1000,0)","v":0},37.06,25.925000000000001,360.78050000000007,0]
[null,{"$f":"'namerena data'!A214+('namerena data'!B214-1)/24","v":"2013-08-09T16:00:00"},{"$f":"IF('namerena data'!C214>0,'namerena data'!C214/1000,0)","v":0},37.01,25.925000000000001,359.48424999999997,0]
[null,{"$f":"'namerena data'!A215+('namerena data'!B215-1)/24","v":"2013-08-09T17:00:00"},{"$f":"IF('namerena data'!C215>0,'namerena data'!C215/1000,0)","v":0},37.11,25.925000000000001,362.07675000000006,0]
[null,{"$f":"'namerena data'!A216+('namerena data'!B216-1)/24","v":"2013-08-09T18:00:00"},{"$f":"IF('namerena data'!C216>0,'namerena data'!C216/1000,0)","v":0},39,25.925000000000001,411.07500000000005,0]
[null,{"$f":"'namerena data'!A217+('namerena data'!B217-1)/24","v":"2013-08-09T19:00:00"},{"$f":"IF('namerena data'!C217>0,'namerena data'!C217/1000,0)","v":0},40.119999999999997,25.925000000000001,440.11099999999988,0]
[null,{"$f":"'namerena data'!A218+('namerena data'!B218-1)/24","v":"2013-08-09T20:00:00"},{"$f":"IF('namerena data'!C218>0,'namerena data'!C218/1000,0)","v":0},40.200000000000003,25.925000000000001,442.18500000000017,0]
[null,{"$f":"'namerena data'!A219+('namerena data'!B219-1)/24","v":"2013-08-09T21:00:00"},{"$f":"IF('namerena data'!C219>0,'namerena data'!C219/1000,0)","v":0},38.520000000000003,25.925000000000001,398.63100000000009,0]
[null,{"$f":"'namerena data'!A220+('namerena data'!B220-1)/24","v":"2013-08-09T22:00:00"},{"$f":"IF('namerena data'!C220>0,'namerena data'!C220/1000,0)","v":0},36.9,25.925000000000001,356.63249999999994,0]
[null,{"$f":"'namerena data'!A221+('namerena data'!B221-1)/24","v":"2013-08-09T23:00:00"},{"$f":"IF('namerena data'!C221>0,'namerena data'!C221/1000,0)","v":0},29.8,25.925000000000001,172.56500000000005,0]
[null,{"$f":"'namerena data'!A222+('namerena data'!B222-1)/24","v":"2013-08-10"},{"$f":"IF('namerena data'!C222>0,'namerena data'!C222/1000,0)","v":0},30.7,25.925000000000001,195.89750000000004,0]
[null,{"$f":"'namerena data'!A223+('namerena data'!B223-1)/24","v":"2013-08-10T01:00:00"},{"$f":"IF('namerena data'!C223>0,'namerena data'!C223/1000,0)","v":0},29.1,25.925000000000001,154.41750000000002,0]
[null,{"$f":"'namerena data'!A224+('namerena data'!B224-1)/24","v":"2013-08-10T02:00:00"},{"$f":"IF('namerena data'!C224>0,'namerena data'!C224/1000,0)","v":0},27.92,25.925000000000001,123.82600000000002,0]
[null,{"$f":"'namerena data'!A225+('namerena data'!B225-1)/24","v":"2013-08-10T03:00:00"},{"$f":"IF('namerena data'!C225>0,'namerena data'!C225/1000,0)","v":0},26.29,25.925000000000001,81.568250000000035,0]
[null,{"$f":"'namerena data'!A226+('namerena data'!B226-1)/24","v":"2013-08-10T04:00:00"},{"$f":"IF('namerena data'!C226>0,'namerena data'!C226/1000,0)","v":0},26,25.925000000000001,74.050000000000068,0]
[null,{"$f":"'namerena data'!A227+('namerena data'!B227-1)/24","v":"2013-08-10T05:00:00"},{"$f":"IF('namerena data'!C227>0,'namerena data'!C227/1000,0)","v":0},25,25.925000000000001,48.125,0]
[null,{"$f":"'namerena data'!A228+('namerena data'!B228-1)/24","v":"2013-08-10T06:00:00"},{"$f":"IF('namerena data'!C228>0,'namerena data'!C228/1000,0)","v":0},25.8,25.925000000000001,68.865000000000009,0]
[null,{"$f":"'namerena data'!A229+('namerena data'!B229-1)/24","v":"2013-08-10T07:00:00"},{"$f":"IF('namerena data'!C229>0,'namerena data'!C229/1000,0)","v":0},26.3,25.925000000000001,81.827499999999986,0]
[null,{"$f":"'namerena data'!A230+('namerena data'!B230-1)/24","v":"2013-08-10T08:00:00"},{"$f":"IF('namerena data'!C230>0,'namerena data'!C230/1000,0)","v":0},27.75,25.925000000000001,119.41875000000005,0]
[null,{"$f":"'namerena data'!A231+('namerena data'!B231-1)/24","v":"2013-08-10T09:00:00"},{"$f":"IF('namerena data'!C231>0,'namerena data'!C231/1000,0)","v":0},30.5,25.925000000000001,190.71249999999998,0]
[null,{"$f":"'namerena data'!A232+('namerena data'!B232-1)/24","v":"2013-08-10T10:00:00"},{"$f":"IF('namerena data'!C232>0,'namerena data'!C232/1000,0)","v":0},30.93,25.925000000000001,201.86025000000006,0]
[null,{"$f":"'namerena data'!A233+('namerena data'!B233-1)/24","v":"2013-08-10T11:00:00"},{"$f":"IF('namerena data'!C233>0,'namerena data'!C233/1000,0)","v":0},30.68,25.925000000000001,195.37900000000002,0]
[null,{"$f":"'namerena data'!A234+('namerena data'!B234-1)/24","v":"2013-08-10T12:00:00"},{"$f":"IF('namerena data'!C234>0,'namerena data'!C234/1000,0)","v":0},26.6,25.925000000000001,89.605000000000018,0]
[null,{"$f":"'namerena data'!A235+('namerena data'!B235-1)/24","v":"2013-08-10T13:00:00"},{"$f":"IF('namerena data'!C235>0,'namerena data'!C235/1000,0)","v":0},24,25.925000000000001,22.200000000000045,0]
[null,{"$f":"'namerena data'!A236+('namerena data'!B236-1)/24","v":"2013-08-10T14:00:00"},{"$f":"IF('namerena data'!C236>0,'namerena data'!C236/1000,0)","v":0},22.43,25.925000000000001,-18.502250000000004,0]
[null,{"$f":"'namerena data'!A237+('namerena data'!B237-1)/24","v":"2013-08-10T15:00:00"},{"$f":"IF('namerena data'!C237>0,'namerena data'!C237/1000,0)","v":0},21.9,25.925000000000001,-32.242500000000064,0]
[null,{"$f":"'namerena data'!A238+('namerena data'!B238-1)/24","v":"2013-08-10T16:00:00"},{"$f":"IF('namerena data'!C238>0,'namerena data'!C238/1000,0)","v":0},24.63,25.925000000000001,38.532749999999965,0]
[null,{"$f":"'namerena data'!A239+('namerena data'!B239-1)/24","v":"2013-08-10T17:00:00"},{"$f":"IF('namerena data'!C239>0,'namerena data'!C239/1000,0)","v":0},29.8,25.925000000000001,172.56500000000005,0]
[null,{"$f":"'namerena data'!A240+('namerena data'!B240-1)/24","v":"2013-08-10T18:00:00"},{"$f":"IF('namerena data'!C240>0,'namerena data'!C240/1000,0)","v":0},33.75,25.925000000000001,274.96875,0]
[null,{"$f":"'namerena data'!A241+('namerena data'!B241-1)/24","v":"2013-08-10T19:00:00"},{"$f":"IF('namerena data'!C241>0,'namerena data'!C241/1000,0)","v":0},35.299999999999997,25.925000000000001,315.15249999999992,0]
[null,{"$f":"'namerena data'!A242+('namerena data'!B242-1)/24","v":"2013-08-10T20:00:00"},{"$f":"IF('namerena data'!C242>0,'namerena data'!C242/1000,0)","v":0},34,25.925000000000001,281.45000000000005,0]
[null,{"$f":"'namerena data'!A243+('namerena data'!B243-1)/24","v":"2013-08-10T21:00:00"},{"$f":"IF('namerena data'!C243>0,'namerena data'!C243/1000,0)","v":0},35,25.925000000000001,307.375,0]
[null,{"$f":"'namerena data'!A244+('namerena data'!B244-1)/24","v":"2013-08-10T22:00:00"},{"$f":"IF('namerena data'!C244>0,'namerena data'!C244/1000,0)","v":0},36.659999999999997,25.925000000000001,350.41049999999996,0]
[null,{"$f":"'namerena data'!A245+('namerena data'!B245-1)/24","v":"2013-08-10T23:00:00"},{"$f":"IF('namerena data'!C245>0,'namerena data'!C245/1000,0)","v":0},29,25.925000000000001,151.82500000000005,0]
[null,{"$f":"'namerena data'!A246+('namerena data'!B246-1)/24","v":"2013-08-11"},{"$f":"IF('namerena data'!C246>0,'namerena data'!C246/1000,0)","v":0},25.2,25.925000000000001,53.309999999999945,0]
[null,{"$f":"'namerena data'!A247+('namerena data'!B247-1)/24","v":"2013-08-11T01:00:00"},{"$f":"IF('namerena data'!C247>0,'namerena data'!C247/1000,0)","v":0},20,25.925000000000001,-81.5,0]
[null,{"$f":"'namerena data'!A248+('namerena data'!B248-1)/24","v":"2013-08-11T02:00:00"},{"$f":"IF('namerena data'!C248>0,'namerena data'!C248/1000,0)","v":0},16.41,25.925000000000001,-174.57074999999998,0]
[null,{"$f":"'namerena data'!A249+('namerena data'!B249-1)/24","v":"2013-08-11T03:00:00"},{"$f":"IF('namerena data'!C249>0,'namerena data'!C249/1000,0)","v":0},15.4,25.925000000000001,-200.755,0]
[null,{"$f":"'namerena data'!A250+('namerena data'!B250-1)/24","v":"2013-08-11T04:00:00"},{"$f":"IF('namerena data'!C250>0,'namerena data'!C250/1000,0)","v":0},14.3,25.925000000000001,-229.27249999999998,0]
[null,{"$f":"'namerena data'!A251+('namerena data'!B251-1)/24","v":"2013-08-11T05:00:00"},{"$f":"IF('namerena data'!C251>0,'namerena data'!C251/1000,0)","v":0},13.67,25.925000000000001,-245.60525000000001,0]
[null,{"$f":"'namerena data'!A252+('namerena data'!B252-1)/24","v":"2013-08-11T06:00:00"},{"$f":"IF('namerena data'!C252>0,'namerena data'!C252/1000,0)","v":0},11.75,25.925000000000001,-295.38124999999997,0]
[null,{"$f":"'namerena data'!A253+('namerena data'!B253-1)/24","v":"2013-08-11T07:00:00"},{"$f":"IF('namerena data'!C253>0,'namerena data'!C253/1000,0)","v":0},13.77,25.925000000000001,-243.01274999999998,0]
[null,{"$f":"'namerena data'!A254+('namerena data'!B254-1)/24","v":"2013-08-11T08:00:00"},{"$f":"IF('namerena data'!C254>0,'namerena data'!C254/1000,0)","v":0},16,25.925000000000001,-185.2,0]
[null,{"$f":"'namerena data'!A255+('namerena data'!B255-1)/24","v":"2013-08-11T09:00:00"},{"$f":"IF('namerena data'!C255>0,'namerena data'!C255/1000,0)","v":0},18.399999999999999,25.925000000000001,-122.98000000000002,0]
[null,{"$f":"'namerena data'!A256+('namerena data'!B256-1)/24","v":"2013-08-11T10:00:00"},{"$f":"IF('namerena data'!C256>0,'namerena data'!C256/1000,0)","v":0},20,25.925000000000001,-81.5,0]
[null,{"$f":"'namerena data'!A257+('namerena data'!B257-1)/24","v":"2013-08-11T11:00:00"},{"$f":"IF('namerena data'!C257>0,'namerena data'!C257/1000,0)","v":0},19,25.925000000000001,-107.42500000000001,0]
[null,{"$f":"'namerena data'!A258+('namerena data'!B258-1)/24","v":"2013-08-11T12:00:00"},{"$f":"IF('namerena data'!C258>0,'namerena data'!C258/1000,0)","v":0},15.8,25.925000000000001,-190.38499999999999,0]
[null,{"$f":"'namerena data'!A259+('namerena data'!B259-1)/24","v":"2013-08-11T13:00:00"},{"$f":"IF('namerena data'!C259>0,'namerena data'!C259/1000,0)","v":0},11,25.925000000000001,-314.82499999999999,0]
[null,{"$f":"'namerena data'!A260+('namerena data'!B260-1)/24","v":"2013-08-11T14:00:00"},{"$f":"IF('namerena data'!C260>0,'namerena data'!C260/1000,0)","v":0},8.6999999999999993,25.925000000000001,-374.45249999999999,0]
[null,{"$f":"'namerena data'!A261+('namerena data'!B261-1)/24","v":"2013-08-11T15:00:00"},{"$f":"IF('namerena data'!C261>0,'namerena data'!C261/1000,0)","v":0},7.5,25.925000000000001,-405.5625,0]
[null,{"$f":"'namerena data'!A262+('namerena data'!B262-1)/24","v":"2013-08-11T16:00:00"},{"$f":"IF('namerena data'!C262>0,'namerena data'!C262/1000,0)","v":0},11,25.925000000000001,-314.82499999999999,0]
[null,{"$f":"'namerena data'!A263+('namerena data'!B263-1)/24","v":"2013-08-11T17:00:00"},{"$f":"IF('namerena data'!C263>0,'namerena data'!C263/1000,0)","v":0},16.149999999999999,25.925000000000001,{"$f":"+IF(AND(ISNUMBER(D273),ISNUMBER(E273)),D273*E273-$F$13,0)","v":-181.31125000000003},{"$f":"+(C273*F273)","v":0}]
[null,{"$f":"'namerena data'!A264+('namerena data'!B264-1)/24","v":"2013-08-11T18:00:00"},{"$f":"IF('namerena data'!C264>0,'namerena data'!C264/1000,0)","v":0},27.1,25.925000000000001,102.56750000000011,0]
[null,{"$f":"'namerena data'!A265+('namerena data'!B265-1)/24","v":"2013-08-11T19:00:00"},{"$f":"IF('namerena data'!C265>0,'namerena data'!C265/1000,0)","v":0},34.200000000000003,25.925000000000001,286.6350000000001,0]
[null,{"$f":"'namerena data'!A266+('namerena data'!B266-1)/24","v":"2013-08-11T20:00:00"},{"$f":"IF('namerena data'!C266>0,'namerena data'!C266/1000,0)","v":0},37.409999999999997,25.925000000000001,369.85424999999998,0]
[null,{"$f":"'namerena data'!A267+('namerena data'!B267-1)/24","v":"2013-08-11T21:00:00"},{"$f":"IF('namerena data'!C267>0,'namerena data'!C267/1000,0)","v":0},39.97,25.925000000000001,436.22225000000003,0]
[null,{"$f":"'namerena data'!A268+('namerena data'!B268-1)/24","v":"2013-08-11T22:00:00"},{"$f":"IF('namerena data'!C268>0,'namerena data'!C268/1000,0)","v":0},40,25.925000000000001,437,0]
[null,{"$f":"'namerena data'!A269+('namerena data'!B269-1)/24","v":"2013-08-11T23:00:00"},{"$f":"IF('namerena data'!C269>0,'namerena data'!C269/1000,0)","v":0},27.02,25.925000000000001,100.49350000000004,0]
[null,{"$f":"'namerena data'!A270+('namerena data'!B270-1)/24","v":"2013-08-12"},{"$f":"IF('namerena data'!C270>0,'namerena data'!C270/1000,0)","v":0},26,25.88,72.88,0]
[null,{"$f":"'namerena data'!A271+('namerena data'!B271-1)/24","v":"2013-08-12T01:00:00"},{"$f":"IF('namerena data'!C271>0,'namerena data'!C271/1000,0)","v":0},23.03,25.88,-3.983600000000024,0]
[null,{"$f":"'namerena data'!A272+('namerena data'!B272-1)/24","v":"2013-08-12T02:00:00"},{"$f":"IF('namerena data'!C272>0,'namerena data'!C272/1000,0)","v":0},21.12,25.88,-53.414400000000001,0]
[null,{"$f":"'namerena data'!A273+('namerena data'!B273-1)/24","v":"2013-08-12T03:00:00"},{"$f":"IF('namerena data'!C273>0,'namerena data'!C273/1000,0)","v":0},21,25.88,-56.519999999999982,0]
[null,{"$f":"'namerena data'!A274+('namerena data'!B274-1)/24","v":"2013-08-12T04:00:00"},{"$f":"IF('namerena data'!C274>0,'namerena data'!C274/1000,0)","v":0},21.3,25.88,-48.755999999999972,0]
[null,{"$f":"'namerena data'!A275+('namerena data'!B275-1)/24","v":"2013-08-12T05:00:00"},{"$f":"IF('namerena data'!C275>0,'namerena data'!C275/1000,0)","v":0},25,25.88,47,0]
[null,{"$f":"'namerena data'!A276+('namerena data'!B276-1)/24","v":"2013-08-12T06:00:00"},{"$f":"IF('namerena data'!C276>0,'namerena data'!C276/1000,0)","v":0},36.799999999999997,25.88,352.3839999999999,0]
[null,{"$f":"'namerena data'!A277+('namerena data'!B277-1)/24","v":"2013-08-12T07:00:00"},{"$f":"IF('namerena data'!C277>0,'namerena data'!C277/1000,0)","v":0},45.66,25.88,581.68079999999986,0]
[null,{"$f":"'namerena data'!A278+('namerena data'!B278-1)/24","v":"2013-08-12T08:00:00"},{"$f":"IF('namerena data'!C278>0,'namerena data'!C278/1000,0)","v":0},43.8,25.88,533.54399999999987,0]
[null,{"$f":"'namerena data'!A279+('namerena data'!B279-1)/24","v":"2013-08-12T09:00:00"},{"$f":"IF('namerena data'!C279>0,'namerena data'!C279/1000,0)","v":0},42.07,25.88,488.77160000000003,0]
[null,{"$f":"'namerena data'!A280+('namerena data'!B280-1)/24","v":"2013-08-12T10:00:00"},{"$f":"IF('namerena data'!C280>0,'namerena data'!C280/1000,0)","v":0},41.49,25.88,473.76119999999992,0]
[null,{"$f":"'namerena data'!A281+('namerena data'!B281-1)/24","v":"2013-08-12T11:00:00"},{"$f":"IF('namerena data'!C281>0,'namerena data'!C281/1000,0)","v":0},40,25.88,435.20000000000005,0]
[null,{"$f":"'namerena data'!A282+('namerena data'!B282-1)/24","v":"2013-08-12T12:00:00"},{"$f":"IF('namerena data'!C282>0,'namerena data'!C282/1000,0)","v":0},38.799999999999997,25.88,404.14399999999989,0]
[null,{"$f":"'namerena data'!A283+('namerena data'!B283-1)/24","v":"2013-08-12T13:00:00"},{"$f":"IF('namerena data'!C283>0,'namerena data'!C283/1000,0)","v":0},34.799999999999997,25.88,300.62399999999991,0]
[null,{"$f":"'namerena data'!A284+('namerena data'!B284-1)/24","v":"2013-08-12T14:00:00"},{"$f":"IF('namerena data'!C284>0,'namerena data'!C284/1000,0)","v":0},33.799999999999997,25.88,274.74399999999991,0]
[null,{"$f":"'namerena data'!A285+('namerena data'!B285-1)/24","v":"2013-08-12T15:00:00"},{"$f":"IF('namerena data'!C285>0,'namerena data'!C285/1000,0)","v":0},36.299999999999997,25.88,339.44399999999985,0]
[null,{"$f":"'namerena data'!A286+('namerena data'!B286-1)/24","v":"2013-08-12T16:00:00"},{"$f":"IF('namerena data'!C286>0,'namerena data'!C286/1000,0)","v":0},35.92,25.88,329.6096,0]
[null,{"$f":"'namerena data'!A287+('namerena data'!B287-1)/24","v":"2013-08-12T17:00:00"},{"$f":"IF('namerena data'!C287>0,'namerena data'!C287/1000,0)","v":0},40.590000000000003,25.88,450.4692,0]
[null,{"$f":"'namerena data'!A288+('namerena data'!B288-1)/24","v":"2013-08-12T18:00:00"},{"$f":"IF('namerena data'!C288>0,'namerena data'!C288/1000,0)","v":0},44.8,25.88,559.42399999999998,0]
[null,{"$f":"'namerena data'!A289+('namerena data'!B289-1)/24","v":"2013-08-12T19:00:00"},{"$f":"IF('namerena data'!C289>0,'namerena data'!C289/1000,0)","v":0},48.24,25.88,648.45119999999997,0]
[null,{"$f":"'namerena data'!A290+('namerena data'!B290-1)/24","v":"2013-08-12T20:00:00"},{"$f":"IF('namerena data'!C290>0,'namerena data'!C290/1000,0)","v":0},48.91,25.88,665.79079999999976,0]
[null,{"$f":"'namerena data'!A291+('namerena data'!B291-1)/24","v":"2013-08-12T21:00:00"},{"$f":"IF('namerena data'!C291>0,'namerena data'!C291/1000,0)","v":0},47.51,25.88,629.55879999999979,0]
[null,{"$f":"'namerena data'!A292+('namerena data'!B292-1)/24","v":"2013-08-12T22:00:00"},{"$f":"IF('namerena data'!C292>0,'namerena data'!C292/1000,0)","v":0},42.22,25.88,492.65359999999987,0]
[null,{"$f":"'namerena data'!A293+('namerena data'!B293-1)/24","v":"2013-08-12T23:00:00"},{"$f":"IF('namerena data'!C293>0,'namerena data'!C293/1000,0)","v":0},33,25.88,254.03999999999996,0]
[null,{"$f":"'namerena data'!A294+('namerena data'!B294-1)/24","v":"2013-08-13"},{"$f":"IF('namerena data'!C294>0,'namerena data'!C294/1000,0)","v":0},30.47,25.875,188.41125,0]
[null,{"$f":"'namerena data'!A295+('namerena data'!B295-1)/24","v":"2013-08-13T01:00:00"},{"$f":"IF('namerena data'!C295>0,'namerena data'!C295/1000,0)","v":0},27.19,25.875,103.54124999999999,0]
[null,{"$f":"'namerena data'!A296+('namerena data'!B296-1)/24","v":"2013-08-13T02:00:00"},{"$f":"IF('namerena data'!C296>0,'namerena data'!C296/1000,0)","v":0},26,25.875,72.75,0]
[null,{"$f":"'namerena data'!A297+('namerena data'!B297-1)/24","v":"2013-08-13T03:00:00"},{"$f":"IF('namerena data'!C297>0,'namerena data'!C297/1000,0)","v":0},25.2,25.875,52.049999999999955,0]
[null,{"$f":"'namerena data'!A298+('namerena data'!B298-1)/24","v":"2013-08-13T04:00:00"},{"$f":"IF('namerena data'!C298>0,'namerena data'!C298/1000,0)","v":0},25.81,25.875,67.833750000000009,0]
[null,{"$f":"'namerena data'!A299+('namerena data'!B299-1)/24","v":"2013-08-13T05:00:00"},{"$f":"IF('namerena data'!C299>0,'namerena data'!C299/1000,0)","v":0},28.28,25.875,131.745,0]
[null,{"$f":"'namerena data'!A300+('namerena data'!B300-1)/24","v":"2013-08-13T06:00:00"},{"$f":"IF('namerena data'!C300>0,'namerena data'!C300/1000,0)","v":0},39.43,25.875,420.25125000000003,0]
[null,{"$f":"'namerena data'!A301+('namerena data'!B301-1)/24","v":"2013-08-13T07:00:00"},{"$f":"IF('namerena data'!C301>0,'namerena data'!C301/1000,0)","v":0},45.01,25.875,564.63374999999996,0]
[null,{"$f":"'namerena data'!A302+('namerena data'!B302-1)/24","v":"2013-08-13T08:00:00"},{"$f":"IF('namerena data'!C302>0,'namerena data'!C302/1000,0)","v":0},46.02,25.875,590.76750000000015,0]
[null,{"$f":"'namerena data'!A303+('namerena data'!B303-1)/24","v":"2013-08-13T09:00:00"},{"$f":"IF('namerena data'!C303>0,'namerena data'!C303/1000,0)","v":0},44.4,25.875,548.84999999999991,0]
[null,{"$f":"'namerena data'!A304+('namerena data'!B304-1)/24","v":"2013-08-13T10:00:00"},{"$f":"IF('namerena data'!C304>0,'namerena data'!C304/1000,0)","v":0},41.1,25.875,463.46250000000009,0]
[null,{"$f":"'namerena data'!A305+('namerena data'!B305-1)/24","v":"2013-08-13T11:00:00"},{"$f":"IF('namerena data'!C305>0,'namerena data'!C305/1000,0)","v":0},41.34,25.875,469.67250000000013,0]
[null,{"$f":"'namerena data'!A306+('namerena data'!B306-1)/24","v":"2013-08-13T12:00:00"},{"$f":"IF('namerena data'!C306>0,'namerena data'!C306/1000,0)","v":0},39.15,25.875,413.00624999999991,0]
[null,{"$f":"'namerena data'!A307+('namerena data'!B307-1)/24","v":"2013-08-13T13:00:00"},{"$f":"IF('namerena data'!C307>0,'namerena data'!C307/1000,0)","v":0},35.07,25.875,307.43624999999997,0]
[null,{"$f":"'namerena data'!A308+('namerena data'!B308-1)/24","v":"2013-08-13T14:00:00"},{"$f":"IF('namerena data'!C308>0,'namerena data'!C308/1000,0)","v":0},33.54,25.875,267.84749999999997,0]
[null,{"$f":"'namerena data'!A309+('namerena data'!B309-1)/24","v":"2013-08-13T15:00:00"},{"$f":"IF('namerena data'!C309>0,'namerena data'!C309/1000,0)","v":0},32.799999999999997,25.875,248.69999999999993,0]
[null,{"$f":"'namerena data'!A310+('namerena data'!B310-1)/24","v":"2013-08-13T16:00:00"},{"$f":"IF('namerena data'!C310>0,'namerena data'!C310/1000,0)","v":0},33.83,25.875,275.35124999999994,0]
[null,{"$f":"'namerena data'!A311+('namerena data'!B311-1)/24","v":"2013-08-13T17:00:00"},{"$f":"IF('namerena data'!C311>0,'namerena data'!C311/1000,0)","v":0},38.380000000000003,25.875,393.0825000000001,0]
[null,{"$f":"'namerena data'!A312+('namerena data'!B312-1)/24","v":"2013-08-13T18:00:00"},{"$f":"IF('namerena data'!C312>0,'namerena data'!C312/1000,0)","v":0},40.619999999999997,25.875,451.04250000000002,0]
[null,{"$f":"'namerena data'!A313+('namerena data'!B313-1)/24","v":"2013-08-13T19:00:00"},{"$f":"IF('namerena data'!C313>0,'namerena data'!C313/1000,0)","v":0},45.1,25.875,566.96250000000009,0]
[null,{"$f":"'namerena data'!A314+('namerena data'!B314-1)/24","v":"2013-08-13T20:00:00"},{"$f":"IF('namerena data'!C314>0,'namerena data'!C314/1000,0)","v":0},42,25.875,486.75,0]
[null,{"$f":"'namerena data'!A315+('namerena data'!B315-1)/24","v":"2013-08-13T21:00:00"},{"$f":"IF('namerena data'!C315>0,'namerena data'!C315/1000,0)","v":0},40,25.875,435,0]
[null,{"$f":"'namerena data'!A316+('namerena data'!B316-1)/24","v":"2013-08-13T22:00:00"},{"$f":"IF('namerena data'!C316>0,'namerena data'!C316/1000,0)","v":0},37.47,25.875,369.53625,0]
[null,{"$f":"'namerena data'!A317+('namerena data'!B317-1)/24","v":"2013-08-13T23:00:00"},{"$f":"IF('namerena data'!C317>0,'namerena data'!C317/1000,0)","v":0},30.32,25.875,184.52999999999997,0]
[null,{"$f":"'namerena data'!A318+('namerena data'!B318-1)/24","v":"2013-08-14"},{"$f":"IF('namerena data'!C318>0,'namerena data'!C318/1000,0)","v":0},28.81,25.82,143.87419999999997,0]
[null,{"$f":"'namerena data'!A319+('namerena data'!B319-1)/24","v":"2013-08-14T01:00:00"},{"$f":"IF('namerena data'!C319>0,'namerena data'!C319/1000,0)","v":0},26.6,25.82,86.812000000000012,0]
[null,{"$f":"'namerena data'!A320+('namerena data'!B320-1)/24","v":"2013-08-14T02:00:00"},{"$f":"IF('namerena data'!C320>0,'namerena data'!C320/1000,0)","v":0},25.75,25.82,64.865000000000009,0]
[null,{"$f":"'namerena data'!A321+('namerena data'!B321-1)/24","v":"2013-08-14T03:00:00"},{"$f":"IF('namerena data'!C321>0,'namerena data'!C321/1000,0)","v":0},25.04,25.82,46.532799999999952,0]
[null,{"$f":"'namerena data'!A322+('namerena data'!B322-1)/24","v":"2013-08-14T04:00:00"},{"$f":"IF('namerena data'!C322>0,'namerena data'!C322/1000,0)","v":0},26.24,25.82,77.516799999999989,0]
[null,{"$f":"'namerena data'!A323+('namerena data'!B323-1)/24","v":"2013-08-14T05:00:00"},{"$f":"IF('namerena data'!C323>0,'namerena data'!C323/1000,0)","v":0},27.8,25.82,117.79600000000005,0]
[null,{"$f":"'namerena data'!A324+('namerena data'!B324-1)/24","v":"2013-08-14T06:00:00"},{"$f":"IF('namerena data'!C324>0,'namerena data'!C324/1000,0)","v":0},37.5,25.82,368.25,0]
[null,{"$f":"'namerena data'!A325+('namerena data'!B325-1)/24","v":"2013-08-14T07:00:00"},{"$f":"IF('namerena data'!C325>0,'namerena data'!C325/1000,0)","v":0},44.45,25.82,547.69900000000007,0]
[null,{"$f":"'namerena data'!A326+('namerena data'!B326-1)/24","v":"2013-08-14T08:00:00"},{"$f":"IF('namerena data'!C326>0,'namerena data'!C326/1000,0)","v":0},44.83,25.82,557.51060000000007,0]
[null,{"$f":"'namerena data'!A327+('namerena data'!B327-1)/24","v":"2013-08-14T09:00:00"},{"$f":"IF('namerena data'!C327>0,'namerena data'!C327/1000,0)","v":0},43.2,25.82,{"$f":"+IF(AND(ISNUMBER(D337),ISNUMBER(E337)),D337*E337-$F$13,0)","v":515.42399999999998},{"$f":"+(C337*F337)","v":0}]
[null,{"$f":"'namerena data'!A328+('namerena data'!B328-1)/24","v":"2013-08-14T10:00:00"},{"$f":"IF('namerena data'!C328>0,'namerena data'!C328/1000,0)","v":0},41.82,25.82,479.79240000000004,0]
[null,{"$f":"'namerena data'!A329+('namerena data'!B329-1)/24","v":"2013-08-14T11:00:00"},{"$f":"IF('namerena data'!C329>0,'namerena data'!C329/1000,0)","v":0},40.799999999999997,25.82,453.4559999999999,0]
[null,{"$f":"'namerena data'!A330+('namerena data'!B330-1)/24","v":"2013-08-14T12:00:00"},{"$f":"IF('namerena data'!C330>0,'namerena data'!C330/1000,0)","v":0},39,25.82,406.98,0]
[null,{"$f":"'namerena data'!A331+('namerena data'!B331-1)/24","v":"2013-08-14T13:00:00"},{"$f":"IF('namerena data'!C331>0,'namerena data'!C331/1000,0)","v":0},34.96,25.82,302.66719999999998,0]
[null,{"$f":"'namerena data'!A332+('namerena data'!B332-1)/24","v":"2013-08-14T14:00:00"},{"$f":"IF('namerena data'!C332>0,'namerena data'!C332/1000,0)","v":0},32.53,25.82,239.92460000000005,0]
[null,{"$f":"'namerena data'!A333+('namerena data'!B333-1)/24","v":"2013-08-14T15:00:00"},{"$f":"IF('namerena data'!C333>0,'namerena data'!C333/1000,0)","v":0},32.26,25.82,232.95319999999992,0]
[null,{"$f":"'namerena data'!A334+('namerena data'!B334-1)/24","v":"2013-08-14T16:00:00"},{"$f":"IF('namerena data'!C334>0,'namerena data'!C334/1000,0)","v":0},33.26,25.82,258.77319999999997,0]
[null,{"$f":"'namerena data'!A335+('namerena data'!B335-1)/24","v":"2013-08-14T17:00:00"},{"$f":"IF('namerena data'!C335>0,'namerena data'!C335/1000,0)","v":0},37.06,25.82,356.88920000000007,0]
[null,{"$f":"'namerena data'!A336+('namerena data'!B336-1)/24","v":"2013-08-14T18:00:00"},{"$f":"IF('namerena data'!C336>0,'namerena data'!C336/1000,0)","v":0},39.5,25.82,419.89,0]
[null,{"$f":"'namerena data'!A337+('namerena data'!B337-1)/24","v":"2013-08-14T19:00:00"},{"$f":"IF('namerena data'!C337>0,'namerena data'!C337/1000,0)","v":0},43,25.82,510.26,0]
[null,{"$f":"'namerena data'!A338+('namerena data'!B338-1)/24","v":"2013-08-14T20:00:00"},{"$f":"IF('namerena data'!C338>0,'namerena data'!C338/1000,0)","v":0},45.9,25.82,585.13799999999992,0]
[null,{"$f":"'namerena data'!A339+('namerena data'!B339-1)/24","v":"2013-08-14T21:00:00"},{"$f":"IF('namerena data'!C339>0,'namerena data'!C339/1000,0)","v":0},45.5,25.82,574.80999999999995,0]
[null,{"$f":"'namerena data'!A340+('namerena data'!B340-1)/24","v":"2013-08-14T22:00:00"},{"$f":"IF('namerena data'!C340>0,'namerena data'!C340/1000,0)","v":0},41.44,25.82,469.98080000000004,0]
[null,{"$f":"'namerena data'!A341+('namerena data'!B341-1)/24","v":"2013-08-14T23:00:00"},{"$f":"IF('namerena data'!C341>0,'namerena data'!C341/1000,0)","v":0},33,25.82,252.06000000000006,0]
[null,{"$f":"'namerena data'!A342+('namerena data'!B342-1)/24","v":"2013-08-15"},{"$f":"IF('namerena data'!C342>0,'namerena data'!C342/1000,0)","v":0},29.68,25.815000000000001,166.18920000000003,0]
[null,{"$f":"'namerena data'!A343+('namerena data'!B343-1)/24","v":"2013-08-15T01:00:00"},{"$f":"IF('namerena data'!C343>0,'namerena data'!C343/1000,0)","v":0},28,25.815000000000001,122.82000000000005,0]
[null,{"$f":"'namerena data'!A344+('namerena data'!B344-1)/24","v":"2013-08-15T02:00:00"},{"$f":"IF('namerena data'!C344>0,'namerena data'!C344/1000,0)","v":0},26.04,25.815000000000001,72.222600000000057,0]
[null,{"$f":"'namerena data'!A345+('namerena data'!B345-1)/24","v":"2013-08-15T03:00:00"},{"$f":"IF('namerena data'!C345>0,'namerena data'!C345/1000,0)","v":0},25.23,25.815000000000001,51.312450000000013,0]
[null,{"$f":"'namerena data'!A346+('namerena data'!B346-1)/24","v":"2013-08-15T04:00:00"},{"$f":"IF('namerena data'!C346>0,'namerena data'!C346/1000,0)","v":0},27.05,25.815000000000001,98.295749999999998,0]
[null,{"$f":"'namerena data'!A347+('namerena data'!B347-1)/24","v":"2013-08-15T05:00:00"},{"$f":"IF('namerena data'!C347>0,'namerena data'!C347/1000,0)","v":0},27.05,25.815000000000001,98.295749999999998,0]
[null,{"$f":"'namerena data'!A348+('namerena data'!B348-1)/24","v":"2013-08-15T06:00:00"},{"$f":"IF('namerena data'!C348>0,'namerena data'!C348/1000,0)","v":0},31.31,25.815000000000001,208.26765,0]
[null,{"$f":"'namerena data'!A349+('namerena data'!B349-1)/24","v":"2013-08-15T07:00:00"},{"$f":"IF('namerena data'!C349>0,'namerena data'!C349/1000,0)","v":0},38.31,25.815000000000001,388.97265000000016,0]
[null,{"$f":"'namerena data'!A350+('namerena data'!B350-1)/24","v":"2013-08-15T08:00:00"},{"$f":"IF('namerena data'!C350>0,'namerena data'!C350/1000,0)","v":0},39.22,25.815000000000001,412.46429999999998,0]
[null,{"$f":"'namerena data'!A351+('namerena data'!B351-1)/24","v":"2013-08-15T09:00:00"},{"$f":"IF('namerena data'!C351>0,'namerena data'!C351/1000,0)","v":0},33.21,25.815000000000001,257.31615000000011,0]
[null,{"$f":"'namerena data'!A352+('namerena data'!B352-1)/24","v":"2013-08-15T10:00:00"},{"$f":"IF('namerena data'!C352>0,'namerena data'!C352/1000,0)","v":0},29.8,25.815000000000001,169.28700000000003,0]
[null,{"$f":"'namerena data'!A353+('namerena data'!B353-1)/24","v":"2013-08-15T11:00:00"},{"$f":"IF('namerena data'!C353>0,'namerena data'!C353/1000,0)","v":0},29.93,25.815000000000001,172.64295000000004,0]
[null,{"$f":"'namerena data'!A354+('namerena data'!B354-1)/24","v":"2013-08-15T12:00:00"},{"$f":"IF('namerena data'!C354>0,'namerena data'!C354/1000,0)","v":0},27.78,25.815000000000001,117.14070000000004,0]
[null,{"$f":"'namerena data'!A355+('namerena data'!B355-1)/24","v":"2013-08-15T13:00:00"},{"$f":"IF('namerena data'!C355>0,'namerena data'!C355/1000,0)","v":0},25.5,25.815000000000001,58.282500000000027,0]
[null,{"$f":"'namerena data'!A356+('namerena data'!B356-1)/24","v":"2013-08-15T14:00:00"},{"$f":"IF('namerena data'!C356>0,'namerena data'!C356/1000,0)","v":0},25.26,25.815000000000001,52.086900000000128,0]
[null,{"$f":"'namerena data'!A357+('namerena data'!B357-1)/24","v":"2013-08-15T15:00:00"},{"$f":"IF('namerena data'!C357>0,'namerena data'!C357/1000,0)","v":0},25,25.815000000000001,45.375,0]
[null,{"$f":"'namerena data'!A358+('namerena data'!B358-1)/24","v":"2013-08-15T16:00:00"},{"$f":"IF('namerena data'!C358>0,'namerena data'!C358/1000,0)","v":0},29.04,25.815000000000001,149.66759999999999,0]
[null,{"$f":"'namerena data'!A359+('namerena data'!B359-1)/24","v":"2013-08-15T17:00:00"},{"$f":"IF('namerena data'!C359>0,'namerena data'!C359/1000,0)","v":0},34.03,25.815000000000001,278.48445000000004,0]
[null,{"$f":"'namerena data'!A360+('namerena data'!B360-1)/24","v":"2013-08-15T18:00:00"},{"$f":"IF('namerena data'!C360>0,'namerena data'!C360/1000,0)","v":0},40.549999999999997,25.815000000000001,446.79825000000005,0]
[null,{"$f":"'namerena data'!A361+('namerena data'!B361-1)/24","v":"2013-08-15T19:00:00"},{"$f":"IF('namerena data'!C361>0,'namerena data'!C361/1000,0)","v":0},44.1,25.815000000000001,538.44150000000013,0]
[null,{"$f":"'namerena data'!A362+('namerena data'!B362-1)/24","v":"2013-08-15T20:00:00"},{"$f":"IF('namerena data'!C362>0,'namerena data'!C362/1000,0)","v":0},45.19,25.815000000000001,566.57985000000008,0]
[null,{"$f":"'namerena data'!A363+('namerena data'!B363-1)/24","v":"2013-08-15T21:00:00"},{"$f":"IF('namerena data'!C363>0,'namerena data'!C363/1000,0)","v":0},43.01,25.815000000000001,510.30314999999996,0]
[null,{"$f":"'namerena data'!A364+('namerena data'!B364-1)/24","v":"2013-08-15T22:00:00"},{"$f":"IF('namerena data'!C364>0,'namerena data'!C364/1000,0)","v":0},35.9,25.815000000000001,326.75850000000003,0]
[null,{"$f":"'namerena data'!A365+('namerena data'!B365-1)/24","v":"2013-08-15T23:00:00"},{"$f":"IF('namerena data'!C365>0,'namerena data'!C365/1000,0)","v":0},30,25.815000000000001,174.45000000000005,0]
[null,{"$f":"'namerena data'!A366+('namerena data'!B366-1)/24","v":"2013-08-16"},{"$f":"IF('namerena data'!C366>0,'namerena data'!C366/1000,0)","v":0},29,25.8,148.20000000000005,0]
[null,{"$f":"'namerena data'!A367+('namerena data'!B367-1)/24","v":"2013-08-16T01:00:00"},{"$f":"IF('namerena data'!C367>0,'namerena data'!C367/1000,0)","v":0},27.03,25.8,97.374000000000024,0]
[null,{"$f":"'namerena data'!A368+('namerena data'!B368-1)/24","v":"2013-08-16T02:00:00"},{"$f":"IF('namerena data'!C368>0,'namerena data'!C368/1000,0)","v":0},25.56,25.8,59.447999999999979,0]
[null,{"$f":"'namerena data'!A369+('namerena data'!B369-1)/24","v":"2013-08-16T03:00:00"},{"$f":"IF('namerena data'!C369>0,'namerena data'!C369/1000,0)","v":0},25,25.8,45,0]
[null,{"$f":"'namerena data'!A370+('namerena data'!B370-1)/24","v":"2013-08-16T04:00:00"},{"$f":"IF('namerena data'!C370>0,'namerena data'!C370/1000,0)","v":0},25,25.8,45,0]
[null,{"$f":"'namerena data'!A371+('namerena data'!B371-1)/24","v":"2013-08-16T05:00:00"},{"$f":"IF('namerena data'!C371>0,'namerena data'!C371/1000,0)","v":0},27.6,25.8,112.08000000000004,0]
[null,{"$f":"'namerena data'!A372+('namerena data'!B372-1)/24","v":"2013-08-16T06:00:00"},{"$f":"IF('namerena data'!C372>0,'namerena data'!C372/1000,0)","v":0},39.200000000000003,25.8,411.36000000000013,0]
[null,{"$f":"'namerena data'!A373+('namerena data'!B373-1)/24","v":"2013-08-16T07:00:00"},{"$f":"IF('namerena data'!C373>0,'namerena data'!C373/1000,0)","v":0},45.6,25.8,576.48,0]
[null,{"$f":"'namerena data'!A374+('namerena data'!B374-1)/24","v":"2013-08-16T08:00:00"},{"$f":"IF('namerena data'!C374>0,'namerena data'!C374/1000,0)","v":0},44,25.8,535.20000000000005,0]
[null,{"$f":"'namerena data'!A375+('namerena data'!B375-1)/24","v":"2013-08-16T09:00:00"},{"$f":"IF('namerena data'!C375>0,'namerena data'!C375/1000,0)","v":0},38.9,25.8,403.62,0]
[null,{"$f":"'namerena data'!A376+('namerena data'!B376-1)/24","v":"2013-08-16T10:00:00"},{"$f":"IF('namerena data'!C376>0,'namerena data'!C376/1000,0)","v":0},35.049999999999997,25.8,304.28999999999996,0]
[null,{"$f":"'namerena data'!A377+('namerena data'!B377-1)/24","v":"2013-08-16T11:00:00"},{"$f":"IF('namerena data'!C377>0,'namerena data'!C377/1000,0)","v":0},32.880000000000003,25.8,248.30400000000009,0]
[null,{"$f":"'namerena data'!A378+('namerena data'!B378-1)/24","v":"2013-08-16T12:00:00"},{"$f":"IF('namerena data'!C378>0,'namerena data'!C378/1000,0)","v":0},31,25.8,199.80000000000007,0]
[null,{"$f":"'namerena data'!A379+('namerena data'!B379-1)/24","v":"2013-08-16T13:00:00"},{"$f":"IF('namerena data'!C379>0,'namerena data'!C379/1000,0)","v":0},28.1,25.8,124.98000000000002,0]
[null,{"$f":"'namerena data'!A380+('namerena data'!B380-1)/24","v":"2013-08-16T14:00:00"},{"$f":"IF('namerena data'!C380>0,'namerena data'!C380/1000,0)","v":0},27.1,25.8,99.180000000000064,0]
[null,{"$f":"'namerena data'!A381+('namerena data'!B381-1)/24","v":"2013-08-16T15:00:00"},{"$f":"IF('namerena data'!C381>0,'namerena data'!C381/1000,0)","v":0},28,25.8,122.39999999999998,0]
[null,{"$f":"'namerena data'!A382+('namerena data'!B382-1)/24","v":"2013-08-16T16:00:00"},{"$f":"IF('namerena data'!C382>0,'namerena data'!C382/1000,0)","v":0},30.86,25.8,196.18799999999999,0]
[null,{"$f":"'namerena data'!A383+('namerena data'!B383-1)/24","v":"2013-08-16T17:00:00"},{"$f":"IF('namerena data'!C383>0,'namerena data'!C383/1000,0)","v":0},37.18,25.8,359.24400000000003,0]
[null,{"$f":"'namerena data'!A384+('namerena data'!B384-1)/24","v":"2013-08-16T18:00:00"},{"$f":"IF('namerena data'!C384>0,'namerena data'!C384/1000,0)","v":0},40.270000000000003,25.8,438.96600000000012,0]
[null,{"$f":"'namerena data'!A385+('namerena data'!B385-1)/24","v":"2013-08-16T19:00:00"},{"$f":"IF('namerena data'!C385>0,'namerena data'!C385/1000,0)","v":0},44.59,25.8,550.42200000000003,0]
[null,{"$f":"'namerena data'!A386+('namerena data'!B386-1)/24","v":"2013-08-16T20:00:00"},{"$f":"IF('namerena data'!C386>0,'namerena data'!C386/1000,0)","v":0},45.1,25.8,563.58000000000015,0]
[null,{"$f":"'namerena data'!A387+('namerena data'!B387-1)/24","v":"2013-08-16T21:00:00"},{"$f":"IF('namerena data'!C387>0,'namerena data'!C387/1000,0)","v":0},42.03,25.8,484.37400000000002,0]
[null,{"$f":"'namerena data'!A388+('namerena data'!B388-1)/24","v":"2013-08-16T22:00:00"},{"$f":"IF('namerena data'!C388>0,'namerena data'!C388/1000,0)","v":0},36.5,25.8,341.70000000000005,0]
[null,{"$f":"'namerena data'!A389+('namerena data'!B389-1)/24","v":"2013-08-16T23:00:00"},{"$f":"IF('namerena data'!C389>0,'namerena data'!C389/1000,0)","v":0},31.06,25.8,201.34799999999996,0]
[null,{"$f":"'namerena data'!A390+('namerena data'!B390-1)/24","v":"2013-08-17"},{"$f":"IF('namerena data'!C390>0,'namerena data'!C390/1000,0)","v":0},33.700000000000003,25.8,269.46000000000015,0]
[null,{"$f":"'namerena data'!A391+('namerena data'!B391-1)/24","v":"2013-08-17T01:00:00"},{"$f":"IF('namerena data'!C391>0,'namerena data'!C391/1000,0)","v":0},31.11,25.8,{"$f":"+IF(AND(ISNUMBER(D401),ISNUMBER(E401)),D401*E401-$F$13,0)","v":202.63800000000003},{"$f":"+(C401*F401)","v":0}]
[null,{"$f":"'namerena data'!A392+('namerena data'!B392-1)/24","v":"2013-08-17T02:00:00"},{"$f":"IF('namerena data'!C392>0,'namerena data'!C392/1000,0)","v":0},29.3,25.8,155.94000000000005,0]
[null,{"$f":"'namerena data'!A393+('namerena data'!B393-1)/24","v":"2013-08-17T03:00:00"},{"$f":"IF('namerena data'!C393>0,'namerena data'!C393/1000,0)","v":0},27.6,25.8,112.08000000000004,0]
[null,{"$f":"'namerena data'!A394+('namerena data'!B394-1)/24","v":"2013-08-17T04:00:00"},{"$f":"IF('namerena data'!C394>0,'namerena data'!C394/1000,0)","v":0},27.7,25.8,114.65999999999997,0]
[null,{"$f":"'namerena data'!A395+('namerena data'!B395-1)/24","v":"2013-08-17T05:00:00"},{"$f":"IF('namerena data'!C395>0,'namerena data'!C395/1000,0)","v":0},27,25.8,96.600000000000023,0]
[null,{"$f":"'namerena data'!A396+('namerena data'!B396-1)/24","v":"2013-08-17T06:00:00"},{"$f":"IF('namerena data'!C396>0,'namerena data'!C396/1000,0)","v":0},29.04,25.8,149.23199999999997,0]
[null,{"$f":"'namerena data'!A397+('namerena data'!B397-1)/24","v":"2013-08-17T07:00:00"},{"$f":"IF('namerena data'!C397>0,'namerena data'!C397/1000,0)","v":0},32.200000000000003,25.8,230.7600000000001,0]
[null,{"$f":"'namerena data'!A398+('namerena data'!B398-1)/24","v":"2013-08-17T08:00:00"},{"$f":"IF('namerena data'!C398>0,'namerena data'!C398/1000,0)","v":0},32.799999999999997,25.8,246.2399999999999,0]
[null,{"$f":"'namerena data'!A399+('namerena data'!B399-1)/24","v":"2013-08-17T09:00:00"},{"$f":"IF('namerena data'!C399>0,'namerena data'!C399/1000,0)","v":0},35.630000000000003,25.8,319.25400000000013,0]
[null,{"$f":"'namerena data'!A400+('namerena data'!B400-1)/24","v":"2013-08-17T10:00:00"},{"$f":"IF('namerena data'!C400>0,'namerena data'!C400/1000,0)","v":0},35.85,25.8,324.93000000000006,0]
[null,{"$f":"'namerena data'!A401+('namerena data'!B401-1)/24","v":"2013-08-17T11:00:00"},{"$f":"IF('namerena data'!C401>0,'namerena data'!C401/1000,0)","v":0},35,25.8,303,0]
[null,{"$f":"'namerena data'!A402+('namerena data'!B402-1)/24","v":"2013-08-17T12:00:00"},{"$f":"IF('namerena data'!C402>0,'namerena data'!C402/1000,0)","v":0},31.11,25.8,202.63800000000003,0]
[null,{"$f":"'namerena data'!A403+('namerena data'!B403-1)/24","v":"2013-08-17T13:00:00"},{"$f":"IF('namerena data'!C403>0,'namerena data'!C403/1000,0)","v":0},28.09,25.8,124.72199999999998,0]
[null,{"$f":"'namerena data'!A404+('namerena data'!B404-1)/24","v":"2013-08-17T14:00:00"},{"$f":"IF('namerena data'!C404>0,'namerena data'!C404/1000,0)","v":0},26.22,25.8,76.475999999999999,0]
[null,{"$f":"'namerena data'!A405+('namerena data'!B405-1)/24","v":"2013-08-17T15:00:00"},{"$f":"IF('namerena data'!C405>0,'namerena data'!C405/1000,0)","v":0},27.39,25.8,106.66200000000003,0]
[null,{"$f":"'namerena data'!A406+('namerena data'!B406-1)/24","v":"2013-08-17T16:00:00"},{"$f":"IF('namerena data'!C406>0,'namerena data'!C406/1000,0)","v":0},29.13,25.8,151.55399999999997,0]
[null,{"$f":"'namerena data'!A407+('namerena data'!B407-1)/24","v":"2013-08-17T17:00:00"},{"$f":"IF('namerena data'!C407>0,'namerena data'!C407/1000,0)","v":0},33.9,25.8,274.62,0]
[null,{"$f":"'namerena data'!A408+('namerena data'!B408-1)/24","v":"2013-08-17T18:00:00"},{"$f":"IF('namerena data'!C408>0,'namerena data'!C408/1000,0)","v":0},36.369999999999997,25.8,338.346,0]
[null,{"$f":"'namerena data'!A409+('namerena data'!B409-1)/24","v":"2013-08-17T19:00:00"},{"$f":"IF('namerena data'!C409>0,'namerena data'!C409/1000,0)","v":0},40.89,25.8,454.96199999999999,0]
[null,{"$f":"'namerena data'!A410+('namerena data'!B410-1)/24","v":"2013-08-17T20:00:00"},{"$f":"IF('namerena data'!C410>0,'namerena data'!C410/1000,0)","v":0},41.7,25.8,475.86000000000013,0]
[null,{"$f":"'namerena data'!A411+('namerena data'!B411-1)/24","v":"2013-08-17T21:00:00"},{"$f":"IF('namerena data'!C411>0,'namerena data'!C411/1000,0)","v":0},41.4,25.8,468.11999999999989,0]
[null,{"$f":"'namerena data'!A412+('namerena data'!B412-1)/24","v":"2013-08-17T22:00:00"},{"$f":"IF('namerena data'!C412>0,'namerena data'!C412/1000,0)","v":0},39.06,25.8,407.74800000000005,0]
[null,{"$f":"'namerena data'!A413+('namerena data'!B413-1)/24","v":"2013-08-17T23:00:00"},{"$f":"IF('namerena data'!C413>0,'namerena data'!C413/1000,0)","v":0},33.57,25.8,266.10599999999999,0]
[null,{"$f":"'namerena data'!A414+('namerena data'!B414-1)/24","v":"2013-08-18"},{"$f":"IF('namerena data'!C414>0,'namerena data'!C414/1000,0)","v":0},25.4,25.8,55.319999999999936,0]
[null,{"$f":"'namerena data'!A415+('namerena data'!B415-1)/24","v":"2013-08-18T01:00:00"},{"$f":"IF('namerena data'!C415>0,'namerena data'!C415/1000,0)","v":0},22.11,25.8,-29.562000000000012,0]
[null,{"$f":"'namerena data'!A416+('namerena data'!B416-1)/24","v":"2013-08-18T02:00:00"},{"$f":"IF('namerena data'!C416>0,'namerena data'!C416/1000,0)","v":0},20.5,25.8,-71.100000000000023,0]
[null,{"$f":"'namerena data'!A417+('namerena data'!B417-1)/24","v":"2013-08-18T03:00:00"},{"$f":"IF('namerena data'!C417>0,'namerena data'!C417/1000,0)","v":0},17.899999999999999,25.8,-138.18,0]
[null,{"$f":"'namerena data'!A418+('namerena data'!B418-1)/24","v":"2013-08-18T04:00:00"},{"$f":"IF('namerena data'!C418>0,'namerena data'!C418/1000,0)","v":0},17,25.8,-161.39999999999998,0]
[null,{"$f":"'namerena data'!A419+('namerena data'!B419-1)/24","v":"2013-08-18T05:00:00"},{"$f":"IF('namerena data'!C419>0,'namerena data'!C419/1000,0)","v":0},17.5,25.8,-148.5,0]
[null,{"$f":"'namerena data'!A420+('namerena data'!B420-1)/24","v":"2013-08-18T06:00:00"},{"$f":"IF('namerena data'!C420>0,'namerena data'!C420/1000,0)","v":0},17.100000000000001,25.8,-158.81999999999994,0]
[null,{"$f":"'namerena data'!A421+('namerena data'!B421-1)/24","v":"2013-08-18T07:00:00"},{"$f":"IF('namerena data'!C421>0,'namerena data'!C421/1000,0)","v":0},19,25.8,-109.80000000000001,0]
[null,{"$f":"'namerena data'!A422+('namerena data'!B422-1)/24","v":"2013-08-18T08:00:00"},{"$f":"IF('namerena data'!C422>0,'namerena data'!C422/1000,0)","v":0},21.02,25.8,-57.683999999999969,0]
[null,{"$f":"'namerena data'!A423+('namerena data'!B423-1)/24","v":"2013-08-18T09:00:00"},{"$f":"IF('namerena data'!C423>0,'namerena data'!C423/1000,0)","v":0},19.920000000000002,25.8,-86.063999999999965,0]
[null,{"$f":"'namerena data'!A424+('namerena data'!B424-1)/24","v":"2013-08-18T10:00:00"},{"$f":"IF('namerena data'!C424>0,'namerena data'!C424/1000,0)","v":0},20.399999999999999,25.8,-73.680000000000064,0]
[null,{"$f":"'namerena data'!A425+('namerena data'!B425-1)/24","v":"2013-08-18T11:00:00"},{"$f":"IF('namerena data'!C425>0,'namerena data'!C425/1000,0)","v":0},22.47,25.8,-20.274000000000001,0]
[null,{"$f":"'namerena data'!A426+('namerena data'!B426-1)/24","v":"2013-08-18T12:00:00"},{"$f":"IF('namerena data'!C426>0,'namerena data'!C426/1000,0)","v":0},19.600000000000001,25.8,-94.319999999999936,0]
[null,{"$f":"'namerena data'!A427+('namerena data'!B427-1)/24","v":"2013-08-18T13:00:00"},{"$f":"IF('namerena data'!C427>0,'namerena data'!C427/1000,0)","v":0},14.75,25.8,-219.45,0]
[null,{"$f":"'namerena data'!A428+('namerena data'!B428-1)/24","v":"2013-08-18T14:00:00"},{"$f":"IF('namerena data'!C428>0,'namerena data'!C428/1000,0)","v":0},11.97,25.8,-291.17399999999998,0]
[null,{"$f":"'namerena data'!A429+('namerena data'!B429-1)/24","v":"2013-08-18T15:00:00"},{"$f":"IF('namerena data'!C429>0,'namerena data'!C429/1000,0)","v":0},12.23,25.8,-284.46600000000001,0]
[null,{"$f":"'namerena data'!A430+('namerena data'!B430-1)/24","v":"2013-08-18T16:00:00"},{"$f":"IF('namerena data'!C430>0,'namerena data'!C430/1000,0)","v":0},16.78,25.8,-167.07599999999996,0]
[null,{"$f":"'namerena data'!A431+('namerena data'!B431-1)/24","v":"2013-08-18T17:00:00"},{"$f":"IF('namerena data'!C431>0,'namerena data'!C431/1000,0)","v":0},24.1,25.8,21.780000000000086,0]
[null,{"$f":"'namerena data'!A432+('namerena data'!B432-1)/24","v":"2013-08-18T18:00:00"},{"$f":"IF('namerena data'!C432>0,'namerena data'!C432/1000,0)","v":0},29.44,25.8,159.55200000000002,0]
[null,{"$f":"'namerena data'!A433+('namerena data'!B433-1)/24","v":"2013-08-18T19:00:00"},{"$f":"IF('namerena data'!C433>0,'namerena data'!C433/1000,0)","v":0},33.020000000000003,25.8,251.91600000000005,0]
[null,{"$f":"'namerena data'!A434+('namerena data'!B434-1)/24","v":"2013-08-18T20:00:00"},{"$f":"IF('namerena data'!C434>0,'namerena data'!C434/1000,0)","v":0},36.299999999999997,25.8,336.53999999999996,0]
[null,{"$f":"'namerena data'!A435+('namerena data'!B435-1)/24","v":"2013-08-18T21:00:00"},{"$f":"IF('namerena data'!C435>0,'namerena data'!C435/1000,0)","v":0},38,25.8,380.4,0]
[null,{"$f":"'namerena data'!A436+('namerena data'!B436-1)/24","v":"2013-08-18T22:00:00"},{"$f":"IF('namerena data'!C436>0,'namerena data'!C436/1000,0)","v":0},38.5,25.8,393.30000000000007,0]
[null,{"$f":"'namerena data'!A437+('namerena data'!B437-1)/24","v":"2013-08-18T23:00:00"},{"$f":"IF('namerena data'!C437>0,'namerena data'!C437/1000,0)","v":0},30.84,25.8,195.67200000000003,0]
[null,{"$f":"'namerena data'!A438+('namerena data'!B438-1)/24","v":"2013-08-19"},{"$f":"IF('namerena data'!C438>0,'namerena data'!C438/1000,0)","v":0},35.04,25.855,305.95920000000001,0]
[null,{"$f":"'namerena data'!A439+('namerena data'!B439-1)/24","v":"2013-08-19T01:00:00"},{"$f":"IF('namerena data'!C439>0,'namerena data'!C439/1000,0)","v":0},31.58,25.855,216.5009,0]
[null,{"$f":"'namerena data'!A440+('namerena data'!B440-1)/24","v":"2013-08-19T02:00:00"},{"$f":"IF('namerena data'!C440>0,'namerena data'!C440/1000,0)","v":0},28.04,25.855,124.9742,0]
[null,{"$f":"'namerena data'!A441+('namerena data'!B441-1)/24","v":"2013-08-19T03:00:00"},{"$f":"IF('namerena data'!C441>0,'namerena data'!C441/1000,0)","v":0},26.55,25.855,86.450249999999983,0]
[null,{"$f":"'namerena data'!A442+('namerena data'!B442-1)/24","v":"2013-08-19T04:00:00"},{"$f":"IF('namerena data'!C442>0,'namerena data'!C442/1000,0)","v":0},26.71,25.855,90.58705000000009,0]
[null,{"$f":"'namerena data'!A443+('namerena data'!B443-1)/24","v":"2013-08-19T05:00:00"},{"$f":"IF('namerena data'!C443>0,'namerena data'!C443/1000,0)","v":0},31.03,25.855,202.28065000000004,0]
[null,{"$f":"'namerena data'!A444+('namerena data'!B444-1)/24","v":"2013-08-19T06:00:00"},{"$f":"IF('namerena data'!C444>0,'namerena data'!C444/1000,0)","v":0},38.93,25.855,406.53515000000004,0]
[null,{"$f":"'namerena data'!A445+('namerena data'!B445-1)/24","v":"2013-08-19T07:00:00"},{"$f":"IF('namerena data'!C445>0,'namerena data'!C445/1000,0)","v":0},52.44,25.855,755.83619999999996,0]
[null,{"$f":"'namerena data'!A446+('namerena data'!B446-1)/24","v":"2013-08-19T08:00:00"},{"$f":"IF('namerena data'!C446>0,'namerena data'!C446/1000,0)","v":0},61.51,25.855,990.34105,0]
[null,{"$f":"'namerena data'!A447+('namerena data'!B447-1)/24","v":"2013-08-19T09:00:00"},{"$f":"IF('namerena data'!C447>0,'namerena data'!C447/1000,0)","v":0},61.24,25.855,983.36020000000008,0]
[null,{"$f":"'namerena data'!A448+('namerena data'!B448-1)/24","v":"2013-08-19T10:00:00"},{"$f":"IF('namerena data'!C448>0,'namerena data'!C448/1000,0)","v":0},64.78,25.855,1074.8869,0]
[null,{"$f":"'namerena data'!A449+('namerena data'!B449-1)/24","v":"2013-08-19T11:00:00"},{"$f":"IF('namerena data'!C449>0,'namerena data'!C449/1000,0)","v":0},67,25.855,1132.2850000000001,0]
[null,{"$f":"'namerena data'!A450+('namerena data'!B450-1)/24","v":"2013-08-19T12:00:00"},{"$f":"IF('namerena data'!C450>0,'namerena data'!C450/1000,0)","v":0},66.92,25.855,1130.2166,0]
[null,{"$f":"'namerena data'!A451+('namerena data'!B451-1)/24","v":"2013-08-19T13:00:00"},{"$f":"IF('namerena data'!C451>0,'namerena data'!C451/1000,0)","v":0},63.24,25.855,1035.0702000000001,0]
[null,{"$f":"'namerena data'!A452+('namerena data'!B452-1)/24","v":"2013-08-19T14:00:00"},{"$f":"IF('namerena data'!C452>0,'namerena data'!C452/1000,0)","v":0},59.98,25.855,950.78289999999993,0]
[null,{"$f":"'namerena data'!A453+('namerena data'!B453-1)/24","v":"2013-08-19T15:00:00"},{"$f":"IF('namerena data'!C453>0,'namerena data'!C453/1000,0)","v":0},59.5,25.855,938.37249999999995,0]
[null,{"$f":"'namerena data'!A454+('namerena data'!B454-1)/24","v":"2013-08-19T16:00:00"},{"$f":"IF('namerena data'!C454>0,'namerena data'!C454/1000,0)","v":0},58.07,25.855,901.39985000000001,0]
[null,{"$f":"'namerena data'!A455+('namerena data'!B455-1)/24","v":"2013-08-19T17:00:00"},{"$f":"IF('namerena data'!C455>0,'namerena data'!C455/1000,0)","v":0},55.97,25.855,{"$f":"+IF(AND(ISNUMBER(D465),ISNUMBER(E465)),D465*E465-$F$13,0)","v":847.10435000000007},{"$f":"+(C465*F465)","v":0}]
[null,{"$f":"'namerena data'!A456+('namerena data'!B456-1)/24","v":"2013-08-19T18:00:00"},{"$f":"IF('namerena data'!C456>0,'namerena data'!C456/1000,0)","v":0},58.04,25.855,900.62419999999997,0]
[null,{"$f":"'namerena data'!A457+('namerena data'!B457-1)/24","v":"2013-08-19T19:00:00"},{"$f":"IF('namerena data'!C457>0,'namerena data'!C457/1000,0)","v":0},59.02,25.855,925.96210000000019,0]
[null,{"$f":"'namerena data'!A458+('namerena data'!B458-1)/24","v":"2013-08-19T20:00:00"},{"$f":"IF('namerena data'!C458>0,'namerena data'!C458/1000,0)","v":0},53.92,25.855,794.10159999999996,0]
[null,{"$f":"'namerena data'!A459+('namerena data'!B459-1)/24","v":"2013-08-19T21:00:00"},{"$f":"IF('namerena data'!C459>0,'namerena data'!C459/1000,0)","v":0},52,25.855,744.46,0]
[null,{"$f":"'namerena data'!A460+('namerena data'!B460-1)/24","v":"2013-08-19T22:00:00"},{"$f":"IF('namerena data'!C460>0,'namerena data'!C460/1000,0)","v":0},48.09,25.855,643.36695000000009,0]
[null,{"$f":"'namerena data'!A461+('namerena data'!B461-1)/24","v":"2013-08-19T23:00:00"},{"$f":"IF('namerena data'!C461>0,'namerena data'!C461/1000,0)","v":0},36.83,25.855,352.23964999999998,0]
[null,{"$f":"'namerena data'!A462+('namerena data'!B462-1)/24","v":"2013-08-20"},{"$f":"IF('namerena data'!C462>0,'namerena data'!C462/1000,0)","v":0},32.880000000000003,25.774999999999999,247.48199999999997,0]
[null,{"$f":"'namerena data'!A463+('namerena data'!B463-1)/24","v":"2013-08-20T01:00:00"},{"$f":"IF('namerena data'!C463>0,'namerena data'!C463/1000,0)","v":0},31.93,25.774999999999999,222.99574999999993,0]
[null,{"$f":"'namerena data'!A464+('namerena data'!B464-1)/24","v":"2013-08-20T02:00:00"},{"$f":"IF('namerena data'!C464>0,'namerena data'!C464/1000,0)","v":0},30.66,25.774999999999999,190.26149999999996,0]
[null,{"$f":"'namerena data'!A465+('namerena data'!B465-1)/24","v":"2013-08-20T03:00:00"},{"$f":"IF('namerena data'!C465>0,'namerena data'!C465/1000,0)","v":0},29.98,25.774999999999999,172.73449999999991,0]
[null,{"$f":"'namerena data'!A466+('namerena data'!B466-1)/24","v":"2013-08-20T04:00:00"},{"$f":"IF('namerena data'!C466>0,'namerena data'!C466/1000,0)","v":0},30,25.774999999999999,173.25,0]
[null,{"$f":"'namerena data'!A467+('namerena data'!B467-1)/24","v":"2013-08-20T05:00:00"},{"$f":"IF('namerena data'!C467>0,'namerena data'!C467/1000,0)","v":0},31.3,25.774999999999999,206.75749999999994,0]
[null,{"$f":"'namerena data'!A468+('namerena data'!B468-1)/24","v":"2013-08-20T06:00:00"},{"$f":"IF('namerena data'!C468>0,'namerena data'!C468/1000,0)","v":0},39,25.774999999999999,405.22499999999991,0]
[null,{"$f":"'namerena data'!A469+('namerena data'!B469-1)/24","v":"2013-08-20T07:00:00"},{"$f":"IF('namerena data'!C469>0,'namerena data'!C469/1000,0)","v":0},49.55,25.774999999999999,677.15124999999989,0]
[null,{"$f":"'namerena data'!A470+('namerena data'!B470-1)/24","v":"2013-08-20T08:00:00"},{"$f":"IF('namerena data'!C470>0,'namerena data'!C470/1000,0)","v":0},54.68,25.774999999999999,809.37699999999995,0]
[null,{"$f":"'namerena data'!A471+('namerena data'!B471-1)/24","v":"2013-08-20T09:00:00"},{"$f":"IF('namerena data'!C471>0,'namerena data'!C471/1000,0)","v":0},56.03,25.774999999999999,844.17325000000005,0]
[null,{"$f":"'namerena data'!A472+('namerena data'!B472-1)/24","v":"2013-08-20T10:00:00"},{"$f":"IF('namerena data'!C472>0,'namerena data'!C472/1000,0)","v":0},54,25.774999999999999,791.84999999999991,0]
[null,{"$f":"'namerena data'!A473+('namerena data'!B473-1)/24","v":"2013-08-20T11:00:00"},{"$f":"IF('namerena data'!C473>0,'namerena data'!C473/1000,0)","v":0},55.7,25.774999999999999,835.66750000000002,0]
[null,{"$f":"'namerena data'!A474+('namerena data'!B474-1)/24","v":"2013-08-20T12:00:00"},{"$f":"IF('namerena data'!C474>0,'namerena data'!C474/1000,0)","v":0},51.8,25.774999999999999,735.14499999999975,0]
[null,{"$f":"'namerena data'!A475+('namerena data'!B475-1)/24","v":"2013-08-20T13:00:00"},{"$f":"IF('namerena data'!C475>0,'namerena data'!C475/1000,0)","v":0},49.7,25.774999999999999,681.01749999999993,0]
[null,{"$f":"'namerena data'!A476+('namerena data'!B476-1)/24","v":"2013-08-20T14:00:00"},{"$f":"IF('namerena data'!C476>0,'namerena data'!C476/1000,0)","v":0},46.1,25.774999999999999,588.22749999999996,0]
[null,{"$f":"'namerena data'!A477+('namerena data'!B477-1)/24","v":"2013-08-20T15:00:00"},{"$f":"IF('namerena data'!C477>0,'namerena data'!C477/1000,0)","v":0},44.7,25.774999999999999,552.14249999999993,0]
[null,{"$f":"'namerena data'!A478+('namerena data'!B478-1)/24","v":"2013-08-20T16:00:00"},{"$f":"IF('namerena data'!C478>0,'namerena data'!C478/1000,0)","v":0},48.47,25.774999999999999,649.3142499999999,0]
[null,{"$f":"'namerena data'!A479+('namerena data'!B479-1)/24","v":"2013-08-20T17:00:00"},{"$f":"IF('namerena data'!C479>0,'namerena data'!C479/1000,0)","v":0},51.97,25.774999999999999,739.52674999999999,0]
[null,{"$f":"'namerena data'!A480+('namerena data'!B480-1)/24","v":"2013-08-20T18:00:00"},{"$f":"IF('namerena data'!C480>0,'namerena data'!C480/1000,0)","v":0},55.7,25.774999999999999,835.66750000000002,0]
[null,{"$f":"'namerena data'!A481+('namerena data'!B481-1)/24","v":"2013-08-20T19:00:00"},{"$f":"IF('namerena data'!C481>0,'namerena data'!C481/1000,0)","v":0},57.85,25.774999999999999,891.08375000000001,0]
[null,{"$f":"'namerena data'!A482+('namerena data'!B482-1)/24","v":"2013-08-20T20:00:00"},{"$f":"IF('namerena data'!C482>0,'namerena data'!C482/1000,0)","v":0},59.7,25.774999999999999,938.76749999999993,0]
[null,{"$f":"'namerena data'!A483+('namerena data'!B483-1)/24","v":"2013-08-20T21:00:00"},{"$f":"IF('namerena data'!C483>0,'namerena data'!C483/1000,0)","v":0},54.62,25.774999999999999,807.8304999999998,0]
[null,{"$f":"'namerena data'!A484+('namerena data'!B484-1)/24","v":"2013-08-20T22:00:00"},{"$f":"IF('namerena data'!C484>0,'namerena data'!C484/1000,0)","v":0},48.56,25.774999999999999,651.63400000000001,0]
[null,{"$f":"'namerena data'!A485+('namerena data'!B485-1)/24","v":"2013-08-20T23:00:00"},{"$f":"IF('namerena data'!C485>0,'namerena data'!C485/1000,0)","v":0},36.08,25.774999999999999,329.96199999999988,0]
[null,{"$f":"'namerena data'!A486+('namerena data'!B486-1)/24","v":"2013-08-21"},{"$f":"IF('namerena data'!C486>0,'namerena data'!C486/1000,0)","v":0},32.03,25.774999999999999,225.57325000000003,0]
[null,{"$f":"'namerena data'!A487+('namerena data'!B487-1)/24","v":"2013-08-21T01:00:00"},{"$f":"IF('namerena data'!C487>0,'namerena data'!C487/1000,0)","v":0},31.4,25.774999999999999,209.33499999999992,0]
[null,{"$f":"'namerena data'!A488+('namerena data'!B488-1)/24","v":"2013-08-21T02:00:00"},{"$f":"IF('namerena data'!C488>0,'namerena data'!C488/1000,0)","v":0},29.9,25.774999999999999,170.6724999999999,0]
[null,{"$f":"'namerena data'!A489+('namerena data'!B489-1)/24","v":"2013-08-21T03:00:00"},{"$f":"IF('namerena data'!C489>0,'namerena data'!C489/1000,0)","v":0},29.6,25.774999999999999,162.93999999999994,0]
[null,{"$f":"'namerena data'!A490+('namerena data'!B490-1)/24","v":"2013-08-21T04:00:00"},{"$f":"IF('namerena data'!C490>0,'namerena data'!C490/1000,0)","v":0},30.1,25.774999999999999,175.82749999999999,0]
[null,{"$f":"'namerena data'!A491+('namerena data'!B491-1)/24","v":"2013-08-21T05:00:00"},{"$f":"IF('namerena data'!C491>0,'namerena data'!C491/1000,0)","v":0},31.19,25.774999999999999,203.92224999999996,0]
[null,{"$f":"'namerena data'!A492+('namerena data'!B492-1)/24","v":"2013-08-21T06:00:00"},{"$f":"IF('namerena data'!C492>0,'namerena data'!C492/1000,0)","v":0},41.74,25.774999999999999,475.84850000000006,0]
[null,{"$f":"'namerena data'!A493+('namerena data'!B493-1)/24","v":"2013-08-21T07:00:00"},{"$f":"IF('namerena data'!C493>0,'namerena data'!C493/1000,0)","v":0},50.7,25.774999999999999,706.79250000000002,0]
[null,{"$f":"'namerena data'!A494+('namerena data'!B494-1)/24","v":"2013-08-21T08:00:00"},{"$f":"IF('namerena data'!C494>0,'namerena data'!C494/1000,0)","v":0},54.1,25.774999999999999,794.42750000000001,0]
[null,{"$f":"'namerena data'!A495+('namerena data'!B495-1)/24","v":"2013-08-21T09:00:00"},{"$f":"IF('namerena data'!C495>0,'namerena data'!C495/1000,0)","v":0},52,25.774999999999999,740.3,0]
[null,{"$f":"'namerena data'!A496+('namerena data'!B496-1)/24","v":"2013-08-21T10:00:00"},{"$f":"IF('namerena data'!C496>0,'namerena data'!C496/1000,0)","v":0},50.13,25.774999999999999,692.10075000000006,0]
[null,{"$f":"'namerena data'!A497+('namerena data'!B497-1)/24","v":"2013-08-21T11:00:00"},{"$f":"IF('namerena data'!C497>0,'namerena data'!C497/1000,0)","v":0},50.29,25.774999999999999,696.22474999999986,0]
[null,{"$f":"'namerena data'!A498+('namerena data'!B498-1)/24","v":"2013-08-21T12:00:00"},{"$f":"IF('namerena data'!C498>0,'namerena data'!C498/1000,0)","v":0},46.25,25.774999999999999,592.09375,0]
[null,{"$f":"'namerena data'!A499+('namerena data'!B499-1)/24","v":"2013-08-21T13:00:00"},{"$f":"IF('namerena data'!C499>0,'namerena data'!C499/1000,0)","v":0},45.3,25.774999999999999,567.60749999999985,0]
[null,{"$f":"'namerena data'!A500+('namerena data'!B500-1)/24","v":"2013-08-21T14:00:00"},{"$f":"IF('namerena data'!C500>0,'namerena data'!C500/1000,0)","v":0},44.3,25.774999999999999,541.83249999999975,0]
[null,{"$f":"'namerena data'!A501+('namerena data'!B501-1)/24","v":"2013-08-21T15:00:00"},{"$f":"IF('namerena data'!C501>0,'namerena data'!C501/1000,0)","v":0},43.8,25.774999999999999,528.94499999999994,0]
[null,{"$f":"'namerena data'!A502+('namerena data'!B502-1)/24","v":"2013-08-21T16:00:00"},{"$f":"IF('namerena data'!C502>0,'namerena data'!C502/1000,0)","v":0},43.01,25.774999999999999,508.58274999999981,0]
[null,{"$f":"'namerena data'!A503+('namerena data'!B503-1)/24","v":"2013-08-21T17:00:00"},{"$f":"IF('namerena data'!C503>0,'namerena data'!C503/1000,0)","v":0},48.8,25.774999999999999,657.81999999999994,0]
[null,{"$f":"'namerena data'!A504+('namerena data'!B504-1)/24","v":"2013-08-21T18:00:00"},{"$f":"IF('namerena data'!C504>0,'namerena data'!C504/1000,0)","v":0},51.51,25.774999999999999,727.6702499999999,0]
[null,{"$f":"'namerena data'!A505+('namerena data'!B505-1)/24","v":"2013-08-21T19:00:00"},{"$f":"IF('namerena data'!C505>0,'namerena data'!C505/1000,0)","v":0},55.21,25.774999999999999,823.03774999999996,0]
[null,{"$f":"'namerena data'!A506+('namerena data'!B506-1)/24","v":"2013-08-21T20:00:00"},{"$f":"IF('namerena data'!C506>0,'namerena data'!C506/1000,0)","v":0},56.1,25.774999999999999,845.97749999999996,0]
[null,{"$f":"'namerena data'!A507+('namerena data'!B507-1)/24","v":"2013-08-21T21:00:00"},{"$f":"IF('namerena data'!C507>0,'namerena data'!C507/1000,0)","v":0},52.25,25.774999999999999,746.74374999999986,0]
[null,{"$f":"'namerena data'!A508+('namerena data'!B508-1)/24","v":"2013-08-21T22:00:00"},{"$f":"IF('namerena data'!C508>0,'namerena data'!C508/1000,0)","v":0},42.45,25.774999999999999,494.14875000000006,0]
[null,{"$f":"'namerena data'!A509+('namerena data'!B509-1)/24","v":"2013-08-21T23:00:00"},{"$f":"IF('namerena data'!C509>0,'namerena data'!C509/1000,0)","v":0},35.75,25.774999999999999,321.45624999999995,0]
[null,{"$f":"'namerena data'!A510+('namerena data'!B510-1)/24","v":"2013-08-22"},{"$f":"IF('namerena data'!C510>0,'namerena data'!C510/1000,0)","v":0},35.700000000000003,25.74,318.91800000000001,0]
[null,{"$f":"'namerena data'!A511+('namerena data'!B511-1)/24","v":"2013-08-22T01:00:00"},{"$f":"IF('namerena data'!C511>0,'namerena data'!C511/1000,0)","v":0},34.090000000000003,25.74,277.47660000000008,0]
[null,{"$f":"'namerena data'!A512+('namerena data'!B512-1)/24","v":"2013-08-22T02:00:00"},{"$f":"IF('namerena data'!C512>0,'namerena data'!C512/1000,0)","v":0},32.270000000000003,25.74,230.62980000000005,0]
[null,{"$f":"'namerena data'!A513+('namerena data'!B513-1)/24","v":"2013-08-22T03:00:00"},{"$f":"IF('namerena data'!C513>0,'namerena data'!C513/1000,0)","v":0},30.3,25.74,179.92200000000003,0]
[null,{"$f":"'namerena data'!A514+('namerena data'!B514-1)/24","v":"2013-08-22T04:00:00"},{"$f":"IF('namerena data'!C514>0,'namerena data'!C514/1000,0)","v":0},30.61,25.74,187.90139999999997,0]
[null,{"$f":"'namerena data'!A515+('namerena data'!B515-1)/24","v":"2013-08-22T05:00:00"},{"$f":"IF('namerena data'!C515>0,'namerena data'!C515/1000,0)","v":0},33.94,25.74,273.61559999999986,0]
[null,{"$f":"'namerena data'!A516+('namerena data'!B516-1)/24","v":"2013-08-22T06:00:00"},{"$f":"IF('namerena data'!C516>0,'namerena data'!C516/1000,0)","v":0},45.5,25.74,571.16999999999985,0]
[null,{"$f":"'namerena data'!A517+('namerena data'!B517-1)/24","v":"2013-08-22T07:00:00"},{"$f":"IF('namerena data'!C517>0,'namerena data'!C517/1000,0)","v":0},58,25.74,892.91999999999985,0]
[null,{"$f":"'namerena data'!A518+('namerena data'!B518-1)/24","v":"2013-08-22T08:00:00"},{"$f":"IF('namerena data'!C518>0,'namerena data'!C518/1000,0)","v":0},59,25.74,918.65999999999985,0]
[null,{"$f":"'namerena data'!A519+('namerena data'!B519-1)/24","v":"2013-08-22T09:00:00"},{"$f":"IF('namerena data'!C519>0,'namerena data'!C519/1000,0)","v":0},54.5,25.74,{"$f":"+IF(AND(ISNUMBER(D529),ISNUMBER(E529)),D529*E529-$F$13,0)","v":802.82999999999993},{"$f":"+(C529*F529)","v":0}]
[null,{"$f":"'namerena data'!A520+('namerena data'!B520-1)/24","v":"2013-08-22T10:00:00"},{"$f":"IF('namerena data'!C520>0,'namerena data'!C520/1000,0)","v":0},52.69,25.74,756.24059999999986,0]
[null,{"$f":"'namerena data'!A521+('namerena data'!B521-1)/24","v":"2013-08-22T11:00:00"},{"$f":"IF('namerena data'!C521>0,'namerena data'!C521/1000,0)","v":0},52.6,25.74,753.92399999999998,0]
[null,{"$f":"'namerena data'!A522+('namerena data'!B522-1)/24","v":"2013-08-22T12:00:00"},{"$f":"IF('namerena data'!C522>0,'namerena data'!C522/1000,0)","v":0},50.39,25.74,697.03859999999986,0]
[null,{"$f":"'namerena data'!A523+('namerena data'!B523-1)/24","v":"2013-08-22T13:00:00"},{"$f":"IF('namerena data'!C523>0,'namerena data'!C523/1000,0)","v":0},48.5,25.74,648.38999999999987,0]
[null,{"$f":"'namerena data'!A524+('namerena data'!B524-1)/24","v":"2013-08-22T14:00:00"},{"$f":"IF('namerena data'!C524>0,'namerena data'!C524/1000,0)","v":0},46.93,25.74,607.97820000000002,0]
[null,{"$f":"'namerena data'!A525+('namerena data'!B525-1)/24","v":"2013-08-22T15:00:00"},{"$f":"IF('namerena data'!C525>0,'namerena data'!C525/1000,0)","v":0},46.7,25.74,602.05799999999999,0]
[null,{"$f":"'namerena data'!A526+('namerena data'!B526-1)/24","v":"2013-08-22T16:00:00"},{"$f":"IF('namerena data'!C526>0,'namerena data'!C526/1000,0)","v":0},45.78,25.74,578.3771999999999,0]
[null,{"$f":"'namerena data'!A527+('namerena data'!B527-1)/24","v":"2013-08-22T17:00:00"},{"$f":"IF('namerena data'!C527>0,'namerena data'!C527/1000,0)","v":0},49.81,25.74,682.10940000000005,0]
[null,{"$f":"'namerena data'!A528+('namerena data'!B528-1)/24","v":"2013-08-22T18:00:00"},{"$f":"IF('namerena data'!C528>0,'namerena data'!C528/1000,0)","v":0},51.9,25.74,735.90599999999995,0]
[null,{"$f":"'namerena data'!A529+('namerena data'!B529-1)/24","v":"2013-08-22T19:00:00"},{"$f":"IF('namerena data'!C529>0,'namerena data'!C529/1000,0)","v":0},55.19,25.74,820.59059999999977,0]
[null,{"$f":"'namerena data'!A530+('namerena data'!B530-1)/24","v":"2013-08-22T20:00:00"},{"$f":"IF('namerena data'!C530>0,'namerena data'!C530/1000,0)","v":0},55.33,25.74,824.19419999999991,0]
[null,{"$f":"'namerena data'!A531+('namerena data'!B531-1)/24","v":"2013-08-22T21:00:00"},{"$f":"IF('namerena data'!C531>0,'namerena data'!C531/1000,0)","v":0},52.5,25.74,751.34999999999991,0]
[null,{"$f":"'namerena data'!A532+('namerena data'!B532-1)/24","v":"2013-08-22T22:00:00"},{"$f":"IF('namerena data'!C532>0,'namerena data'!C532/1000,0)","v":0},44.2,25.74,537.70800000000008,0]
[null,{"$f":"'namerena data'!A533+('namerena data'!B533-1)/24","v":"2013-08-22T23:00:00"},{"$f":"IF('namerena data'!C533>0,'namerena data'!C533/1000,0)","v":0},36.46,25.74,338.48039999999992,0]
[null,{"$f":"'namerena data'!A534+('namerena data'!B534-1)/24","v":"2013-08-23"},{"$f":"IF('namerena data'!C534>0,'namerena data'!C534/1000,0)","v":0},34.6,25.664999999999999,288.00900000000001,0]
[null,{"$f":"'namerena data'!A535+('namerena data'!B535-1)/24","v":"2013-08-23T01:00:00"},{"$f":"IF('namerena data'!C535>0,'namerena data'!C535/1000,0)","v":0},34.619999999999997,25.664999999999999,288.52229999999986,0]
[null,{"$f":"'namerena data'!A536+('namerena data'!B536-1)/24","v":"2013-08-23T02:00:00"},{"$f":"IF('namerena data'!C536>0,'namerena data'!C536/1000,0)","v":0},32.200000000000003,25.664999999999999,226.41300000000001,0]
[null,{"$f":"'namerena data'!A537+('namerena data'!B537-1)/24","v":"2013-08-23T03:00:00"},{"$f":"IF('namerena data'!C537>0,'namerena data'!C537/1000,0)","v":0},29.99,25.664999999999999,169.6933499999999,0]
[null,{"$f":"'namerena data'!A538+('namerena data'!B538-1)/24","v":"2013-08-23T04:00:00"},{"$f":"IF('namerena data'!C538>0,'namerena data'!C538/1000,0)","v":0},31,25.664999999999999,195.61500000000001,0]
[null,{"$f":"'namerena data'!A539+('namerena data'!B539-1)/24","v":"2013-08-23T05:00:00"},{"$f":"IF('namerena data'!C539>0,'namerena data'!C539/1000,0)","v":0},33.700000000000003,25.664999999999999,264.91050000000007,0]
[null,{"$f":"'namerena data'!A540+('namerena data'!B540-1)/24","v":"2013-08-23T06:00:00"},{"$f":"IF('namerena data'!C540>0,'namerena data'!C540/1000,0)","v":0},39.200000000000003,25.664999999999999,406.06799999999998,0]
[null,{"$f":"'namerena data'!A541+('namerena data'!B541-1)/24","v":"2013-08-23T07:00:00"},{"$f":"IF('namerena data'!C541>0,'namerena data'!C541/1000,0)","v":0},51,25.664999999999999,708.91499999999996,0]
[null,{"$f":"'namerena data'!A542+('namerena data'!B542-1)/24","v":"2013-08-23T08:00:00"},{"$f":"IF('namerena data'!C542>0,'namerena data'!C542/1000,0)","v":0},55.5,25.664999999999999,824.40750000000003,0]
[null,{"$f":"'namerena data'!A543+('namerena data'!B543-1)/24","v":"2013-08-23T09:00:00"},{"$f":"IF('namerena data'!C543>0,'namerena data'!C543/1000,0)","v":0},57.7,25.664999999999999,880.87049999999999,0]
[null,{"$f":"'namerena data'!A544+('namerena data'!B544-1)/24","v":"2013-08-23T10:00:00"},{"$f":"IF('namerena data'!C544>0,'namerena data'!C544/1000,0)","v":0},57,25.664999999999999,862.90499999999997,0]
[null,{"$f":"'namerena data'!A545+('namerena data'!B545-1)/24","v":"2013-08-23T11:00:00"},{"$f":"IF('namerena data'!C545>0,'namerena data'!C545/1000,0)","v":0},58.09,25.664999999999999,890.87985000000003,0]
[null,{"$f":"'namerena data'!A546+('namerena data'!B546-1)/24","v":"2013-08-23T12:00:00"},{"$f":"IF('namerena data'!C546>0,'namerena data'!C546/1000,0)","v":0},53.6,25.664999999999999,775.64400000000001,0]
[null,{"$f":"'namerena data'!A547+('namerena data'!B547-1)/24","v":"2013-08-23T13:00:00"},{"$f":"IF('namerena data'!C547>0,'namerena data'!C547/1000,0)","v":0},49.92,25.664999999999999,681.19679999999994,0]
[null,{"$f":"'namerena data'!A548+('namerena data'!B548-1)/24","v":"2013-08-23T14:00:00"},{"$f":"IF('namerena data'!C548>0,'namerena data'!C548/1000,0)","v":0},46.4,25.664999999999999,590.85599999999999,0]
[null,{"$f":"'namerena data'!A549+('namerena data'!B549-1)/24","v":"2013-08-23T15:00:00"},{"$f":"IF('namerena data'!C549>0,'namerena data'!C549/1000,0)","v":0},46.4,25.664999999999999,590.85599999999999,0]
[null,{"$f":"'namerena data'!A550+('namerena data'!B550-1)/24","v":"2013-08-23T16:00:00"},{"$f":"IF('namerena data'!C550>0,'namerena data'!C550/1000,0)","v":0},44.6,25.664999999999999,544.65900000000011,0]
[null,{"$f":"'namerena data'!A551+('namerena data'!B551-1)/24","v":"2013-08-23T17:00:00"},{"$f":"IF('namerena data'!C551>0,'namerena data'!C551/1000,0)","v":0},47.6,25.664999999999999,621.654,0]
[null,{"$f":"'namerena data'!A552+('namerena data'!B552-1)/24","v":"2013-08-23T18:00:00"},{"$f":"IF('namerena data'!C552>0,'namerena data'!C552/1000,0)","v":0},48.1,25.664999999999999,634.48649999999998,0]
[null,{"$f":"'namerena data'!A553+('namerena data'!B553-1)/24","v":"2013-08-23T19:00:00"},{"$f":"IF('namerena data'!C553>0,'namerena data'!C553/1000,0)","v":0},49.4,25.664999999999999,667.85099999999989,0]
[null,{"$f":"'namerena data'!A554+('namerena data'!B554-1)/24","v":"2013-08-23T20:00:00"},{"$f":"IF('namerena data'!C554>0,'namerena data'!C554/1000,0)","v":0},49.49,25.664999999999999,670.16084999999998,0]
[null,{"$f":"'namerena data'!A555+('namerena data'!B555-1)/24","v":"2013-08-23T21:00:00"},{"$f":"IF('namerena data'!C555>0,'namerena data'!C555/1000,0)","v":0},45.6,25.664999999999999,570.32400000000007,0]
[null,{"$f":"'namerena data'!A556+('namerena data'!B556-1)/24","v":"2013-08-23T22:00:00"},{"$f":"IF('namerena data'!C556>0,'namerena data'!C556/1000,0)","v":0},42.3,25.664999999999999,485.62949999999978,0]
[null,{"$f":"'namerena data'!A557+('namerena data'!B557-1)/24","v":"2013-08-23T23:00:00"},{"$f":"IF('namerena data'!C557>0,'namerena data'!C557/1000,0)","v":0},33.950000000000003,25.664999999999999,271.32675000000006,0]
[null,{"$f":"'namerena data'!A558+('namerena data'!B558-1)/24","v":"2013-08-24"},{"$f":"IF('namerena data'!C558>0,'namerena data'!C558/1000,0)","v":0},34.4,25.664999999999999,282.87599999999998,0]
[null,{"$f":"'namerena data'!A559+('namerena data'!B559-1)/24","v":"2013-08-24T01:00:00"},{"$f":"IF('namerena data'!C559>0,'namerena data'!C559/1000,0)","v":0},30.24,25.664999999999999,176.10959999999989,0]
[null,{"$f":"'namerena data'!A560+('namerena data'!B560-1)/24","v":"2013-08-24T02:00:00"},{"$f":"IF('namerena data'!C560>0,'namerena data'!C560/1000,0)","v":0},28.37,25.664999999999999,128.11604999999997,0]
[null,{"$f":"'namerena data'!A561+('namerena data'!B561-1)/24","v":"2013-08-24T03:00:00"},{"$f":"IF('namerena data'!C561>0,'namerena data'!C561/1000,0)","v":0},27.22,25.664999999999999,98.601299999999924,0]
[null,{"$f":"'namerena data'!A562+('namerena data'!B562-1)/24","v":"2013-08-24T04:00:00"},{"$f":"IF('namerena data'!C562>0,'namerena data'!C562/1000,0)","v":0},27,25.664999999999999,92.954999999999927,0]
[null,{"$f":"'namerena data'!A563+('namerena data'!B563-1)/24","v":"2013-08-24T05:00:00"},{"$f":"IF('namerena data'!C563>0,'namerena data'!C563/1000,0)","v":0},26.5,25.664999999999999,80.122499999999945,0]
[null,{"$f":"'namerena data'!A564+('namerena data'!B564-1)/24","v":"2013-08-24T06:00:00"},{"$f":"IF('namerena data'!C564>0,'namerena data'!C564/1000,0)","v":0},28.04,25.664999999999999,119.64659999999992,0]
[null,{"$f":"'namerena data'!A565+('namerena data'!B565-1)/24","v":"2013-08-24T07:00:00"},{"$f":"IF('namerena data'!C565>0,'namerena data'!C565/1000,0)","v":0},31.15,25.664999999999999,199.46474999999998,0]
[null,{"$f":"'namerena data'!A566+('namerena data'!B566-1)/24","v":"2013-08-24T08:00:00"},{"$f":"IF('namerena data'!C566>0,'namerena data'!C566/1000,0)","v":0},34.1,25.664999999999999,275.17650000000003,0]
[null,{"$f":"'namerena data'!A567+('namerena data'!B567-1)/24","v":"2013-08-24T09:00:00"},{"$f":"IF('namerena data'!C567>0,'namerena data'!C567/1000,0)","v":0},35.1,25.664999999999999,300.8415,0]
[null,{"$f":"'namerena data'!A568+('namerena data'!B568-1)/24","v":"2013-08-24T10:00:00"},{"$f":"IF('namerena data'!C568>0,'namerena data'!C568/1000,0)","v":0},34.1,25.664999999999999,275.17650000000003,0]
[null,{"$f":"'namerena data'!A569+('namerena data'!B569-1)/24","v":"2013-08-24T11:00:00"},{"$f":"IF('namerena data'!C569>0,'namerena data'!C569/1000,0)","v":0},33.299999999999997,25.664999999999999,254.64449999999988,0]
[null,{"$f":"'namerena data'!A570+('namerena data'!B570-1)/24","v":"2013-08-24T12:00:00"},{"$f":"IF('namerena data'!C570>0,'namerena data'!C570/1000,0)","v":0},31.73,25.664999999999999,214.35045000000002,0]
[null,{"$f":"'namerena data'!A571+('namerena data'!B571-1)/24","v":"2013-08-24T13:00:00"},{"$f":"IF('namerena data'!C571>0,'namerena data'!C571/1000,0)","v":0},28.4,25.664999999999999,128.88599999999997,0]
[null,{"$f":"'namerena data'!A572+('namerena data'!B572-1)/24","v":"2013-08-24T14:00:00"},{"$f":"IF('namerena data'!C572>0,'namerena data'!C572/1000,0)","v":0},28,25.664999999999999,118.62,0]
[null,{"$f":"'namerena data'!A573+('namerena data'!B573-1)/24","v":"2013-08-24T15:00:00"},{"$f":"IF('namerena data'!C573>0,'namerena data'!C573/1000,0)","v":0},29.2,25.664999999999999,149.41800000000001,0]
[null,{"$f":"'namerena data'!A574+('namerena data'!B574-1)/24","v":"2013-08-24T16:00:00"},{"$f":"IF('namerena data'!C574>0,'namerena data'!C574/1000,0)","v":0},29.9,25.664999999999999,167.38349999999991,0]
[null,{"$f":"'namerena data'!A575+('namerena data'!B575-1)/24","v":"2013-08-24T17:00:00"},{"$f":"IF('namerena data'!C575>0,'namerena data'!C575/1000,0)","v":0},33.229999999999997,25.664999999999999,252.84794999999986,0]
[null,{"$f":"'namerena data'!A576+('namerena data'!B576-1)/24","v":"2013-08-24T18:00:00"},{"$f":"IF('namerena data'!C576>0,'namerena data'!C576/1000,0)","v":0},35.04,25.664999999999999,299.30159999999989,0]
[null,{"$f":"'namerena data'!A577+('namerena data'!B577-1)/24","v":"2013-08-24T19:00:00"},{"$f":"IF('namerena data'!C577>0,'namerena data'!C577/1000,0)","v":0},36.46,25.664999999999999,335.74590000000001,0]
[null,{"$f":"'namerena data'!A578+('namerena data'!B578-1)/24","v":"2013-08-24T20:00:00"},{"$f":"IF('namerena data'!C578>0,'namerena data'!C578/1000,0)","v":0},37.5,25.664999999999999,362.4375,0]
[null,{"$f":"'namerena data'!A579+('namerena data'!B579-1)/24","v":"2013-08-24T21:00:00"},{"$f":"IF('namerena data'!C579>0,'namerena data'!C579/1000,0)","v":0},36.43,25.664999999999999,334.97595000000001,0]
[null,{"$f":"'namerena data'!A580+('namerena data'!B580-1)/24","v":"2013-08-24T22:00:00"},{"$f":"IF('namerena data'!C580>0,'namerena data'!C580/1000,0)","v":0},34,25.664999999999999,272.61,0]
[null,{"$f":"'namerena data'!A581+('namerena data'!B581-1)/24","v":"2013-08-24T23:00:00"},{"$f":"IF('namerena data'!C581>0,'namerena data'!C581/1000,0)","v":0},29.7,25.664999999999999,162.25049999999999,0]
[null,{"$f":"'namerena data'!A582+('namerena data'!B582-1)/24","v":"2013-08-25"},{"$f":"IF('namerena data'!C582>0,'namerena data'!C582/1000,0)","v":0},27.17,25.664999999999999,97.318049999999971,0]
[null,{"$f":"'namerena data'!A583+('namerena data'!B583-1)/24","v":"2013-08-25T01:00:00"},{"$f":"IF('namerena data'!C583>0,'namerena data'!C583/1000,0)","v":0},23,25.664999999999999,{"$f":"+IF(AND(ISNUMBER(D593),ISNUMBER(E593)),D593*E593-$F$13,0)","v":-9.7050000000000409},{"$f":"+(C593*F593)","v":0}]
[null,{"$f":"'namerena data'!A584+('namerena data'!B584-1)/24","v":"2013-08-25T02:00:00"},{"$f":"IF('namerena data'!C584>0,'namerena data'!C584/1000,0)","v":0},20.5,25.664999999999999,-73.867500000000064,0]
[null,{"$f":"'namerena data'!A585+('namerena data'!B585-1)/24","v":"2013-08-25T03:00:00"},{"$f":"IF('namerena data'!C585>0,'namerena data'!C585/1000,0)","v":0},18.559999999999999,25.664999999999999,-123.65760000000006,0]
[null,{"$f":"'namerena data'!A586+('namerena data'!B586-1)/24","v":"2013-08-25T04:00:00"},{"$f":"IF('namerena data'!C586>0,'namerena data'!C586/1000,0)","v":0},17.8,25.664999999999999,-143.16300000000001,0]
[null,{"$f":"'namerena data'!A587+('namerena data'!B587-1)/24","v":"2013-08-25T05:00:00"},{"$f":"IF('namerena data'!C587>0,'namerena data'!C587/1000,0)","v":0},15.99,25.664999999999999,-189.61664999999999,0]
[null,{"$f":"'namerena data'!A588+('namerena data'!B588-1)/24","v":"2013-08-25T06:00:00"},{"$f":"IF('namerena data'!C588>0,'namerena data'!C588/1000,0)","v":0},15.2,25.664999999999999,-209.89200000000005,0]
[null,{"$f":"'namerena data'!A589+('namerena data'!B589-1)/24","v":"2013-08-25T07:00:00"},{"$f":"IF('namerena data'!C589>0,'namerena data'!C589/1000,0)","v":0},18.8,25.664999999999999,-117.49799999999999,0]
[null,{"$f":"'namerena data'!A590+('namerena data'!B590-1)/24","v":"2013-08-25T08:00:00"},{"$f":"IF('namerena data'!C590>0,'namerena data'!C590/1000,0)","v":0},23.57,25.664999999999999,4.9240499999999656,0]
[null,{"$f":"'namerena data'!A591+('namerena data'!B591-1)/24","v":"2013-08-25T09:00:00"},{"$f":"IF('namerena data'!C591>0,'namerena data'!C591/1000,0)","v":0},27.15,25.664999999999999,96.804749999999899,0]
[null,{"$f":"'namerena data'!A592+('namerena data'!B592-1)/24","v":"2013-08-25T10:00:00"},{"$f":"IF('namerena data'!C592>0,'namerena data'!C592/1000,0)","v":0},29.35,25.664999999999999,153.26774999999998,0]
[null,{"$f":"'namerena data'!A593+('namerena data'!B593-1)/24","v":"2013-08-25T11:00:00"},{"$f":"IF('namerena data'!C593>0,'namerena data'!C593/1000,0)","v":0},30.35,25.664999999999999,178.93275000000006,0]
[null,{"$f":"'namerena data'!A594+('namerena data'!B594-1)/24","v":"2013-08-25T12:00:00"},{"$f":"IF('namerena data'!C594>0,'namerena data'!C594/1000,0)","v":0},28.69,25.664999999999999,136.32884999999999,0]
[null,{"$f":"'namerena data'!A595+('namerena data'!B595-1)/24","v":"2013-08-25T13:00:00"},{"$f":"IF('namerena data'!C595>0,'namerena data'!C595/1000,0)","v":0},27.75,25.664999999999999,112.20375000000001,0]
[null,{"$f":"'namerena data'!A596+('namerena data'!B596-1)/24","v":"2013-08-25T14:00:00"},{"$f":"IF('namerena data'!C596>0,'namerena data'!C596/1000,0)","v":0},26.13,25.664999999999999,70.626449999999977,0]
[null,{"$f":"'namerena data'!A597+('namerena data'!B597-1)/24","v":"2013-08-25T15:00:00"},{"$f":"IF('namerena data'!C597>0,'namerena data'!C597/1000,0)","v":0},27,25.664999999999999,92.954999999999927,0]
[null,{"$f":"'namerena data'!A598+('namerena data'!B598-1)/24","v":"2013-08-25T16:00:00"},{"$f":"IF('namerena data'!C598>0,'namerena data'!C598/1000,0)","v":0},26.7,25.664999999999999,85.255499999999984,0]
[null,{"$f":"'namerena data'!A599+('namerena data'!B599-1)/24","v":"2013-08-25T17:00:00"},{"$f":"IF('namerena data'!C599>0,'namerena data'!C599/1000,0)","v":0},28.54,25.664999999999999,132.4790999999999,0]
[null,{"$f":"'namerena data'!A600+('namerena data'!B600-1)/24","v":"2013-08-25T18:00:00"},{"$f":"IF('namerena data'!C600>0,'namerena data'!C600/1000,0)","v":0},33.17,25.664999999999999,251.30804999999998,0]
[null,{"$f":"'namerena data'!A601+('namerena data'!B601-1)/24","v":"2013-08-25T19:00:00"},{"$f":"IF('namerena data'!C601>0,'namerena data'!C601/1000,0)","v":0},33.75,25.664999999999999,266.19375000000002,0]
[null,{"$f":"'namerena data'!A602+('namerena data'!B602-1)/24","v":"2013-08-25T20:00:00"},{"$f":"IF('namerena data'!C602>0,'namerena data'!C602/1000,0)","v":0},35.61,25.664999999999999,313.9306499999999,0]
[null,{"$f":"'namerena data'!A603+('namerena data'!B603-1)/24","v":"2013-08-25T21:00:00"},{"$f":"IF('namerena data'!C603>0,'namerena data'!C603/1000,0)","v":0},36.6,25.664999999999999,339.33900000000006,0]
[null,{"$f":"'namerena data'!A604+('namerena data'!B604-1)/24","v":"2013-08-25T22:00:00"},{"$f":"IF('namerena data'!C604>0,'namerena data'!C604/1000,0)","v":0},35.49,25.664999999999999,310.85085000000004,0]
[null,{"$f":"'namerena data'!A605+('namerena data'!B605-1)/24","v":"2013-08-25T23:00:00"},{"$f":"IF('namerena data'!C605>0,'namerena data'!C605/1000,0)","v":0},32.1,25.664999999999999,223.84649999999999,0]
[null,{"$f":"'namerena data'!A606+('namerena data'!B606-1)/24","v":"2013-08-26"},{"$f":"IF('namerena data'!C606>0,'namerena data'!C606/1000,0)","v":0},27.3,25.625,99.5625,0]
[null,{"$f":"'namerena data'!A607+('namerena data'!B607-1)/24","v":"2013-08-26T01:00:00"},{"$f":"IF('namerena data'!C607>0,'namerena data'!C607/1000,0)","v":0},26.7,25.625,84.1875,0]
[null,{"$f":"'namerena data'!A608+('namerena data'!B608-1)/24","v":"2013-08-26T02:00:00"},{"$f":"IF('namerena data'!C608>0,'namerena data'!C608/1000,0)","v":0},25.1,25.625,43.1875,0]
[null,{"$f":"'namerena data'!A609+('namerena data'!B609-1)/24","v":"2013-08-26T03:00:00"},{"$f":"IF('namerena data'!C609>0,'namerena data'!C609/1000,0)","v":0},23.79,25.625,9.6187499999999773,0]
[null,{"$f":"'namerena data'!A610+('namerena data'!B610-1)/24","v":"2013-08-26T04:00:00"},{"$f":"IF('namerena data'!C610>0,'namerena data'!C610/1000,0)","v":0},24.9,25.625,38.0625,0]
[null,{"$f":"'namerena data'!A611+('namerena data'!B611-1)/24","v":"2013-08-26T05:00:00"},{"$f":"IF('namerena data'!C611>0,'namerena data'!C611/1000,0)","v":0},28.53,25.625,131.08125000000007,0]
[null,{"$f":"'namerena data'!A612+('namerena data'!B612-1)/24","v":"2013-08-26T06:00:00"},{"$f":"IF('namerena data'!C612>0,'namerena data'!C612/1000,0)","v":0},40.1,25.625,427.5625,0]
[null,{"$f":"'namerena data'!A613+('namerena data'!B613-1)/24","v":"2013-08-26T07:00:00"},{"$f":"IF('namerena data'!C613>0,'namerena data'!C613/1000,0)","v":0},52.29,25.625,739.93125000000009,0]
[null,{"$f":"'namerena data'!A614+('namerena data'!B614-1)/24","v":"2013-08-26T08:00:00"},{"$f":"IF('namerena data'!C614>0,'namerena data'!C614/1000,0)","v":0},60.49,25.625,950.05625000000009,0]
[null,{"$f":"'namerena data'!A615+('namerena data'!B615-1)/24","v":"2013-08-26T09:00:00"},{"$f":"IF('namerena data'!C615>0,'namerena data'!C615/1000,0)","v":0},62.82,25.625,1009.7625,0]
[null,{"$f":"'namerena data'!A616+('namerena data'!B616-1)/24","v":"2013-08-26T10:00:00"},{"$f":"IF('namerena data'!C616>0,'namerena data'!C616/1000,0)","v":0},63.5,25.625,1027.1875,0]
[null,{"$f":"'namerena data'!A617+('namerena data'!B617-1)/24","v":"2013-08-26T11:00:00"},{"$f":"IF('namerena data'!C617>0,'namerena data'!C617/1000,0)","v":0},63.5,25.625,1027.1875,0]
[null,{"$f":"'namerena data'!A618+('namerena data'!B618-1)/24","v":"2013-08-26T12:00:00"},{"$f":"IF('namerena data'!C618>0,'namerena data'!C618/1000,0)","v":0},63.6,25.625,1029.75,0]
[null,{"$f":"'namerena data'!A619+('namerena data'!B619-1)/24","v":"2013-08-26T13:00:00"},{"$f":"IF('namerena data'!C619>0,'namerena data'!C619/1000,0)","v":0},62.9,25.625,1011.8125,0]
[null,{"$f":"'namerena data'!A620+('namerena data'!B620-1)/24","v":"2013-08-26T14:00:00"},{"$f":"IF('namerena data'!C620>0,'namerena data'!C620/1000,0)","v":0},53.56,25.625,772.47500000000014,0]
[null,{"$f":"'namerena data'!A621+('namerena data'!B621-1)/24","v":"2013-08-26T15:00:00"},{"$f":"IF('namerena data'!C621>0,'namerena data'!C621/1000,0)","v":0},51.6,25.625,722.25,0]
[null,{"$f":"'namerena data'!A622+('namerena data'!B622-1)/24","v":"2013-08-26T16:00:00"},{"$f":"IF('namerena data'!C622>0,'namerena data'!C622/1000,0)","v":0},51.55,25.625,720.96875,0]
[null,{"$f":"'namerena data'!A623+('namerena data'!B623-1)/24","v":"2013-08-26T17:00:00"},{"$f":"IF('namerena data'!C623>0,'namerena data'!C623/1000,0)","v":0},51.53,25.625,720.45624999999995,0]
[null,{"$f":"'namerena data'!A624+('namerena data'!B624-1)/24","v":"2013-08-26T18:00:00"},{"$f":"IF('namerena data'!C624>0,'namerena data'!C624/1000,0)","v":0},55.1,25.625,811.9375,0]
[null,{"$f":"'namerena data'!A625+('namerena data'!B625-1)/24","v":"2013-08-26T19:00:00"},{"$f":"IF('namerena data'!C625>0,'namerena data'!C625/1000,0)","v":0},55.9,25.625,832.4375,0]
[null,{"$f":"'namerena data'!A626+('namerena data'!B626-1)/24","v":"2013-08-26T20:00:00"},{"$f":"IF('namerena data'!C626>0,'namerena data'!C626/1000,0)","v":0},58.9,25.625,909.3125,0]
[null,{"$f":"'namerena data'!A627+('namerena data'!B627-1)/24","v":"2013-08-26T21:00:00"},{"$f":"IF('namerena data'!C627>0,'namerena data'!C627/1000,0)","v":0},53,25.625,758.125,0]
[null,{"$f":"'namerena data'!A628+('namerena data'!B628-1)/24","v":"2013-08-26T22:00:00"},{"$f":"IF('namerena data'!C628>0,'namerena data'!C628/1000,0)","v":0},46.8,25.625,599.25,0]
[null,{"$f":"'namerena data'!A629+('namerena data'!B629-1)/24","v":"2013-08-26T23:00:00"},{"$f":"IF('namerena data'!C629>0,'namerena data'!C629/1000,0)","v":0},36.299999999999997,25.625,330.18749999999989,0]
[null,{"$f":"'namerena data'!A630+('namerena data'!B630-1)/24","v":"2013-08-27"},{"$f":"IF('namerena data'!C630>0,'namerena data'!C630/1000,0)","v":0},34.299999999999997,25.76,283.56799999999998,0]
[null,{"$f":"'namerena data'!A631+('namerena data'!B631-1)/24","v":"2013-08-27T01:00:00"},{"$f":"IF('namerena data'!C631>0,'namerena data'!C631/1000,0)","v":0},32.200000000000003,25.76,229.47200000000009,0]
[null,{"$f":"'namerena data'!A632+('namerena data'!B632-1)/24","v":"2013-08-27T02:00:00"},{"$f":"IF('namerena data'!C632>0,'namerena data'!C632/1000,0)","v":0},30.01,25.76,173.05760000000009,0]
[null,{"$f":"'namerena data'!A633+('namerena data'!B633-1)/24","v":"2013-08-27T03:00:00"},{"$f":"IF('namerena data'!C633>0,'namerena data'!C633/1000,0)","v":0},28.4,25.76,131.58400000000006,0]
[null,{"$f":"'namerena data'!A634+('namerena data'!B634-1)/24","v":"2013-08-27T04:00:00"},{"$f":"IF('namerena data'!C634>0,'namerena data'!C634/1000,0)","v":0},29.13,25.76,150.38880000000006,0]
[null,{"$f":"'namerena data'!A635+('namerena data'!B635-1)/24","v":"2013-08-27T05:00:00"},{"$f":"IF('namerena data'!C635>0,'namerena data'!C635/1000,0)","v":0},32,25.76,224.32000000000005,0]
[null,{"$f":"'namerena data'!A636+('namerena data'!B636-1)/24","v":"2013-08-27T06:00:00"},{"$f":"IF('namerena data'!C636>0,'namerena data'!C636/1000,0)","v":0},44.59,25.76,548.63840000000005,0]
[null,{"$f":"'namerena data'!A637+('namerena data'!B637-1)/24","v":"2013-08-27T07:00:00"},{"$f":"IF('namerena data'!C637>0,'namerena data'!C637/1000,0)","v":0},56.6,25.76,858.01600000000008,0]
[null,{"$f":"'namerena data'!A638+('namerena data'!B638-1)/24","v":"2013-08-27T08:00:00"},{"$f":"IF('namerena data'!C638>0,'namerena data'!C638/1000,0)","v":0},59.35,25.76,928.85600000000022,0]
[null,{"$f":"'namerena data'!A639+('namerena data'!B639-1)/24","v":"2013-08-27T09:00:00"},{"$f":"IF('namerena data'!C639>0,'namerena data'!C639/1000,0)","v":0},62.8,25.76,1017.7280000000001,0]
[null,{"$f":"'namerena data'!A640+('namerena data'!B640-1)/24","v":"2013-08-27T10:00:00"},{"$f":"IF('namerena data'!C640>0,'namerena data'!C640/1000,0)","v":0},62,25.76,997.12000000000012,0]
[null,{"$f":"'namerena data'!A641+('namerena data'!B641-1)/24","v":"2013-08-27T11:00:00"},{"$f":"IF('namerena data'!C641>0,'namerena data'!C641/1000,0)","v":0},64.36,25.76,1057.9136000000001,0]
[null,{"$f":"'namerena data'!A642+('namerena data'!B642-1)/24","v":"2013-08-27T12:00:00"},{"$f":"IF('namerena data'!C642>0,'namerena data'!C642/1000,0)","v":0},61.5,25.76,984.24,0]
[null,{"$f":"'namerena data'!A643+('namerena data'!B643-1)/24","v":"2013-08-27T13:00:00"},{"$f":"IF('namerena data'!C643>0,'namerena data'!C643/1000,0)","v":0},60.3,25.76,953.32799999999997,0]
[null,{"$f":"'namerena data'!A644+('namerena data'!B644-1)/24","v":"2013-08-27T14:00:00"},{"$f":"IF('namerena data'!C644>0,'namerena data'!C644/1000,0)","v":0},58.16,25.76,898.2016000000001,0]
[null,{"$f":"'namerena data'!A645+('namerena data'!B645-1)/24","v":"2013-08-27T15:00:00"},{"$f":"IF('namerena data'!C645>0,'namerena data'!C645/1000,0)","v":0},56.8,25.76,863.16800000000012,0]
[null,{"$f":"'namerena data'!A646+('namerena data'!B646-1)/24","v":"2013-08-27T16:00:00"},{"$f":"IF('namerena data'!C646>0,'namerena data'!C646/1000,0)","v":0},56.9,25.76,865.74400000000014,0]
[null,{"$f":"'namerena data'!A647+('namerena data'!B647-1)/24","v":"2013-08-27T17:00:00"},{"$f":"IF('namerena data'!C647>0,'namerena data'!C647/1000,0)","v":0},57,25.76,{"$f":"+IF(AND(ISNUMBER(D657),ISNUMBER(E657)),D657*E657-$F$13,0)","v":868.32000000000016},{"$f":"+(C657*F657)","v":0}]
[null,{"$f":"'namerena data'!A648+('namerena data'!B648-1)/24","v":"2013-08-27T18:00:00"},{"$f":"IF('namerena data'!C648>0,'namerena data'!C648/1000,0)","v":0},58.2,25.76,899.2320000000002,0]
[null,{"$f":"'namerena data'!A649+('namerena data'!B649-1)/24","v":"2013-08-27T19:00:00"},{"$f":"IF('namerena data'!C649>0,'namerena data'!C649/1000,0)","v":0},60.75,25.76,964.92000000000007,0]
[null,{"$f":"'namerena data'!A650+('namerena data'!B650-1)/24","v":"2013-08-27T20:00:00"},{"$f":"IF('namerena data'!C650>0,'namerena data'!C650/1000,0)","v":0},65.2,25.76,1079.5520000000001,0]
[null,{"$f":"'namerena data'!A651+('namerena data'!B651-1)/24","v":"2013-08-27T21:00:00"},{"$f":"IF('namerena data'!C651>0,'namerena data'!C651/1000,0)","v":0},56.95,25.76,867.03200000000015,0]
[null,{"$f":"'namerena data'!A652+('namerena data'!B652-1)/24","v":"2013-08-27T22:00:00"},{"$f":"IF('namerena data'!C652>0,'namerena data'!C652/1000,0)","v":0},52.44,25.76,750.85439999999994,0]
[null,{"$f":"'namerena data'!A653+('namerena data'!B653-1)/24","v":"2013-08-27T23:00:00"},{"$f":"IF('namerena data'!C653>0,'namerena data'!C653/1000,0)","v":0},39.1,25.76,407.21600000000012,0]
[null,{"$f":"'namerena data'!A654+('namerena data'!B654-1)/24","v":"2013-08-28"},{"$f":"IF('namerena data'!C654>0,'namerena data'!C654/1000,0)","v":0},35,25.715,300.02499999999998,0]
[null,{"$f":"'namerena data'!A655+('namerena data'!B655-1)/24","v":"2013-08-28T01:00:00"},{"$f":"IF('namerena data'!C655>0,'namerena data'!C655/1000,0)","v":0},33.93,25.715,272.50995,0]
[null,{"$f":"'namerena data'!A656+('namerena data'!B656-1)/24","v":"2013-08-28T02:00:00"},{"$f":"IF('namerena data'!C656>0,'namerena data'!C656/1000,0)","v":0},32.5,25.715,235.73749999999995,0]
[null,{"$f":"'namerena data'!A657+('namerena data'!B657-1)/24","v":"2013-08-28T03:00:00"},{"$f":"IF('namerena data'!C657>0,'namerena data'!C657/1000,0)","v":0},31,25.715,197.16499999999996,0]
[null,{"$f":"'namerena data'!A658+('namerena data'!B658-1)/24","v":"2013-08-28T04:00:00"},{"$f":"IF('namerena data'!C658>0,'namerena data'!C658/1000,0)","v":0},30.9,25.715,194.59349999999995,0]
[null,{"$f":"'namerena data'!A659+('namerena data'!B659-1)/24","v":"2013-08-28T05:00:00"},{"$f":"IF('namerena data'!C659>0,'namerena data'!C659/1000,0)","v":0},35.5,25.715,312.88250000000005,0]
[null,{"$f":"'namerena data'!A660+('namerena data'!B660-1)/24","v":"2013-08-28T06:00:00"},{"$f":"IF('namerena data'!C660>0,'namerena data'!C660/1000,0)","v":0},46.32,25.715,591.11879999999996,0]
[null,{"$f":"'namerena data'!A661+('namerena data'!B661-1)/24","v":"2013-08-28T07:00:00"},{"$f":"IF('namerena data'!C661>0,'namerena data'!C661/1000,0)","v":0},60.4,25.715,953.18599999999992,0]
[null,{"$f":"'namerena data'!A662+('namerena data'!B662-1)/24","v":"2013-08-28T08:00:00"},{"$f":"IF('namerena data'!C662>0,'namerena data'!C662/1000,0)","v":0},62.9,25.715,1017.4735000000001,0]
[null,{"$f":"'namerena data'!A663+('namerena data'!B663-1)/24","v":"2013-08-28T09:00:00"},{"$f":"IF('namerena data'!C663>0,'namerena data'!C663/1000,0)","v":0},64,25.715,1045.76,0]
[null,{"$f":"'namerena data'!A664+('namerena data'!B664-1)/24","v":"2013-08-28T10:00:00"},{"$f":"IF('namerena data'!C664>0,'namerena data'!C664/1000,0)","v":0},64.900000000000006,25.715,1068.9035000000001,0]
[null,{"$f":"'namerena data'!A665+('namerena data'!B665-1)/24","v":"2013-08-28T11:00:00"},{"$f":"IF('namerena data'!C665>0,'namerena data'!C665/1000,0)","v":0},64.88,25.715,1068.3891999999998,0]
[null,{"$f":"'namerena data'!A666+('namerena data'!B666-1)/24","v":"2013-08-28T12:00:00"},{"$f":"IF('namerena data'!C666>0,'namerena data'!C666/1000,0)","v":0},63,25.715,1020.0450000000001,0]
[null,{"$f":"'namerena data'!A667+('namerena data'!B667-1)/24","v":"2013-08-28T13:00:00"},{"$f":"IF('namerena data'!C667>0,'namerena data'!C667/1000,0)","v":0},61.9,25.715,991.75849999999991,0]
[null,{"$f":"'namerena data'!A668+('namerena data'!B668-1)/24","v":"2013-08-28T14:00:00"},{"$f":"IF('namerena data'!C668>0,'namerena data'!C668/1000,0)","v":0},59.3,25.715,924.89949999999999,0]
[null,{"$f":"'namerena data'!A669+('namerena data'!B669-1)/24","v":"2013-08-28T15:00:00"},{"$f":"IF('namerena data'!C669>0,'namerena data'!C669/1000,0)","v":0},58.42,25.715,902.27030000000013,0]
[null,{"$f":"'namerena data'!A670+('namerena data'!B670-1)/24","v":"2013-08-28T16:00:00"},{"$f":"IF('namerena data'!C670>0,'namerena data'!C670/1000,0)","v":0},53.6,25.715,778.32400000000007,0]
[null,{"$f":"'namerena data'!A671+('namerena data'!B671-1)/24","v":"2013-08-28T17:00:00"},{"$f":"IF('namerena data'!C671>0,'namerena data'!C671/1000,0)","v":0},55.7,25.715,832.32550000000015,0]
[null,{"$f":"'namerena data'!A672+('namerena data'!B672-1)/24","v":"2013-08-28T18:00:00"},{"$f":"IF('namerena data'!C672>0,'namerena data'!C672/1000,0)","v":0},55.52,25.715,827.69680000000017,0]
[null,{"$f":"'namerena data'!A673+('namerena data'!B673-1)/24","v":"2013-08-28T19:00:00"},{"$f":"IF('namerena data'!C673>0,'namerena data'!C673/1000,0)","v":0},57.7,25.715,883.75549999999998,0]
[null,{"$f":"'namerena data'!A674+('namerena data'!B674-1)/24","v":"2013-08-28T20:00:00"},{"$f":"IF('namerena data'!C674>0,'namerena data'!C674/1000,0)","v":0},60.59,25.715,958.07185000000004,0]
[null,{"$f":"'namerena data'!A675+('namerena data'!B675-1)/24","v":"2013-08-28T21:00:00"},{"$f":"IF('namerena data'!C675>0,'namerena data'!C675/1000,0)","v":0},55.85,25.715,836.18274999999994,0]
[null,{"$f":"'namerena data'!A676+('namerena data'!B676-1)/24","v":"2013-08-28T22:00:00"},{"$f":"IF('namerena data'!C676>0,'namerena data'!C676/1000,0)","v":0},49.21,25.715,665.43515000000002,0]
[null,{"$f":"'namerena data'!A677+('namerena data'!B677-1)/24","v":"2013-08-28T23:00:00"},{"$f":"IF('namerena data'!C677>0,'namerena data'!C677/1000,0)","v":0},41.25,25.715,460.74375000000009,0]
[null,{"$f":"'namerena data'!A678+('namerena data'!B678-1)/24","v":"2013-08-29"},{"$f":"IF('namerena data'!C678>0,'namerena data'!C678/1000,0)","v":0},36.03,25.68,325.25040000000001,0]
[null,{"$f":"'namerena data'!A679+('namerena data'!B679-1)/24","v":"2013-08-29T01:00:00"},{"$f":"IF('namerena data'!C679>0,'namerena data'!C679/1000,0)","v":0},35.07,25.68,300.59759999999994,0]
[null,{"$f":"'namerena data'!A680+('namerena data'!B680-1)/24","v":"2013-08-29T02:00:00"},{"$f":"IF('namerena data'!C680>0,'namerena data'!C680/1000,0)","v":0},33.97,25.68,272.34960000000001,0]
[null,{"$f":"'namerena data'!A681+('namerena data'!B681-1)/24","v":"2013-08-29T03:00:00"},{"$f":"IF('namerena data'!C681>0,'namerena data'!C681/1000,0)","v":0},32.81,25.68,242.56080000000009,0]
[null,{"$f":"'namerena data'!A682+('namerena data'!B682-1)/24","v":"2013-08-29T04:00:00"},{"$f":"IF('namerena data'!C682>0,'namerena data'!C682/1000,0)","v":0},32.93,25.68,245.64239999999995,0]
[null,{"$f":"'namerena data'!A683+('namerena data'!B683-1)/24","v":"2013-08-29T05:00:00"},{"$f":"IF('namerena data'!C683>0,'namerena data'!C683/1000,0)","v":0},36.799999999999997,25.68,345.02399999999989,0]
[null,{"$f":"'namerena data'!A684+('namerena data'!B684-1)/24","v":"2013-08-29T06:00:00"},{"$f":"IF('namerena data'!C684>0,'namerena data'!C684/1000,0)","v":0},50.73,25.68,702.74639999999999,0]
[null,{"$f":"'namerena data'!A685+('namerena data'!B685-1)/24","v":"2013-08-29T07:00:00"},{"$f":"IF('namerena data'!C685>0,'namerena data'!C685/1000,0)","v":0},64.099999999999994,25.68,1046.0879999999997,0]
[null,{"$f":"'namerena data'!A686+('namerena data'!B686-1)/24","v":"2013-08-29T08:00:00"},{"$f":"IF('namerena data'!C686>0,'namerena data'!C686/1000,0)","v":0},64.2,25.68,1048.6559999999999,0]
[null,{"$f":"'namerena data'!A687+('namerena data'!B687-1)/24","v":"2013-08-29T09:00:00"},{"$f":"IF('namerena data'!C687>0,'namerena data'!C687/1000,0)","v":0},61.07,25.68,968.27759999999989,0]
[null,{"$f":"'namerena data'!A688+('namerena data'!B688-1)/24","v":"2013-08-29T10:00:00"},{"$f":"IF('namerena data'!C688>0,'namerena data'!C688/1000,0)","v":0},59.82,25.68,936.17759999999998,0]
[null,{"$f":"'namerena data'!A689+('namerena data'!B689-1)/24","v":"2013-08-29T11:00:00"},{"$f":"IF('namerena data'!C689>0,'namerena data'!C689/1000,0)","v":0},60.06,25.68,942.34079999999994,0]
[null,{"$f":"'namerena data'!A690+('namerena data'!B690-1)/24","v":"2013-08-29T12:00:00"},{"$f":"IF('namerena data'!C690>0,'namerena data'!C690/1000,0)","v":0},55,25.68,812.40000000000009,0]
[null,{"$f":"'namerena data'!A691+('namerena data'!B691-1)/24","v":"2013-08-29T13:00:00"},{"$f":"IF('namerena data'!C691>0,'namerena data'!C691/1000,0)","v":0},53,25.68,761.04,0]
[null,{"$f":"'namerena data'!A692+('namerena data'!B692-1)/24","v":"2013-08-29T14:00:00"},{"$f":"IF('namerena data'!C692>0,'namerena data'!C692/1000,0)","v":0},53.07,25.68,762.83760000000007,0]
[null,{"$f":"'namerena data'!A693+('namerena data'!B693-1)/24","v":"2013-08-29T15:00:00"},{"$f":"IF('namerena data'!C693>0,'namerena data'!C693/1000,0)","v":0},53.88,25.68,783.63840000000005,0]
[null,{"$f":"'namerena data'!A694+('namerena data'!B694-1)/24","v":"2013-08-29T16:00:00"},{"$f":"IF('namerena data'!C694>0,'namerena data'!C694/1000,0)","v":0},55.9,25.68,835.51199999999994,0]
[null,{"$f":"'namerena data'!A695+('namerena data'!B695-1)/24","v":"2013-08-29T17:00:00"},{"$f":"IF('namerena data'!C695>0,'namerena data'!C695/1000,0)","v":0},58.6,25.68,904.84799999999996,0]
[null,{"$f":"'namerena data'!A696+('namerena data'!B696-1)/24","v":"2013-08-29T18:00:00"},{"$f":"IF('namerena data'!C696>0,'namerena data'!C696/1000,0)","v":0},62.09,25.68,994.47120000000018,0]
[null,{"$f":"'namerena data'!A697+('namerena data'!B697-1)/24","v":"2013-08-29T19:00:00"},{"$f":"IF('namerena data'!C697>0,'namerena data'!C697/1000,0)","v":0},65.099999999999994,25.68,1071.7679999999998,0]
[null,{"$f":"'namerena data'!A698+('namerena data'!B698-1)/24","v":"2013-08-29T20:00:00"},{"$f":"IF('namerena data'!C698>0,'namerena data'!C698/1000,0)","v":0},69.2,25.68,1177.056,0]
[null,{"$f":"'namerena data'!A699+('namerena data'!B699-1)/24","v":"2013-08-29T21:00:00"},{"$f":"IF('namerena data'!C699>0,'namerena data'!C699/1000,0)","v":0},60.82,25.68,961.85760000000005,0]
[null,{"$f":"'namerena data'!A700+('namerena data'!B700-1)/24","v":"2013-08-29T22:00:00"},{"$f":"IF('namerena data'!C700>0,'namerena data'!C700/1000,0)","v":0},52.6,25.68,750.76800000000003,0]
[null,{"$f":"'namerena data'!A701+('namerena data'!B701-1)/24","v":"2013-08-29T23:00:00"},{"$f":"IF('namerena data'!C701>0,'namerena data'!C701/1000,0)","v":0},40.22,25.68,432.84960000000001,0]
[null,{"$f":"'namerena data'!A702+('namerena data'!B702-1)/24","v":"2013-08-30"},{"$f":"IF('namerena data'!C702>0,'namerena data'!C702/1000,0)","v":0},35.200000000000003,25.734999999999999,305.87200000000007,0]
[null,{"$f":"'namerena data'!A703+('namerena data'!B703-1)/24","v":"2013-08-30T01:00:00"},{"$f":"IF('namerena data'!C703>0,'namerena data'!C703/1000,0)","v":0},34.049999999999997,25.734999999999999,276.27674999999988,0]
[null,{"$f":"'namerena data'!A704+('namerena data'!B704-1)/24","v":"2013-08-30T02:00:00"},{"$f":"IF('namerena data'!C704>0,'namerena data'!C704/1000,0)","v":0},32.26,25.734999999999999,230.21109999999987,0]
[null,{"$f":"'namerena data'!A705+('namerena data'!B705-1)/24","v":"2013-08-30T03:00:00"},{"$f":"IF('namerena data'!C705>0,'namerena data'!C705/1000,0)","v":0},30.98,25.734999999999999,197.27030000000002,0]
[null,{"$f":"'namerena data'!A706+('namerena data'!B706-1)/24","v":"2013-08-30T04:00:00"},{"$f":"IF('namerena data'!C706>0,'namerena data'!C706/1000,0)","v":0},30.91,25.734999999999999,195.46884999999997,0]
[null,{"$f":"'namerena data'!A707+('namerena data'!B707-1)/24","v":"2013-08-30T05:00:00"},{"$f":"IF('namerena data'!C707>0,'namerena data'!C707/1000,0)","v":0},35,25.734999999999999,300.72500000000002,0]
[null,{"$f":"'namerena data'!A708+('namerena data'!B708-1)/24","v":"2013-08-30T06:00:00"},{"$f":"IF('namerena data'!C708>0,'namerena data'!C708/1000,0)","v":0},47.7,25.734999999999999,627.55950000000007,0]
[null,{"$f":"'namerena data'!A709+('namerena data'!B709-1)/24","v":"2013-08-30T07:00:00"},{"$f":"IF('namerena data'!C709>0,'namerena data'!C709/1000,0)","v":0},60.07,25.734999999999999,945.90145000000007,0]
[null,{"$f":"'namerena data'!A710+('namerena data'!B710-1)/24","v":"2013-08-30T08:00:00"},{"$f":"IF('namerena data'!C710>0,'namerena data'!C710/1000,0)","v":0},61.19,25.734999999999999,974.72464999999988,0]
[null,{"$f":"'namerena data'!A711+('namerena data'!B711-1)/24","v":"2013-08-30T09:00:00"},{"$f":"IF('namerena data'!C711>0,'namerena data'!C711/1000,0)","v":0},60.08,25.734999999999999,{"$f":"+IF(AND(ISNUMBER(D721),ISNUMBER(E721)),D721*E721-$F$13,0)","v":946.15879999999993},{"$f":"+(C721*F721)","v":0}]
[null,{"$f":"'namerena data'!A712+('namerena data'!B712-1)/24","v":"2013-08-30T10:00:00"},{"$f":"IF('namerena data'!C712>0,'namerena data'!C712/1000,0)","v":0},58.7,25.734999999999999,910.64450000000011,0]
[null,{"$f":"'namerena data'!A713+('namerena data'!B713-1)/24","v":"2013-08-30T11:00:00"},{"$f":"IF('namerena data'!C713>0,'namerena data'!C713/1000,0)","v":0},58.17,25.734999999999999,897.00495000000001,0]
[null,{"$f":"'namerena data'!A714+('namerena data'!B714-1)/24","v":"2013-08-30T12:00:00"},{"$f":"IF('namerena data'!C714>0,'namerena data'!C714/1000,0)","v":0},54.6,25.734999999999999,805.13100000000009,0]
[null,{"$f":"'namerena data'!A715+('namerena data'!B715-1)/24","v":"2013-08-30T13:00:00"},{"$f":"IF('namerena data'!C715>0,'namerena data'!C715/1000,0)","v":0},52.38,25.734999999999999,747.99929999999995,0]
[null,{"$f":"'namerena data'!A716+('namerena data'!B716-1)/24","v":"2013-08-30T14:00:00"},{"$f":"IF('namerena data'!C716>0,'namerena data'!C716/1000,0)","v":0},51.09,25.734999999999999,714.80115000000001,0]
[null,{"$f":"'namerena data'!A717+('namerena data'!B717-1)/24","v":"2013-08-30T15:00:00"},{"$f":"IF('namerena data'!C717>0,'namerena data'!C717/1000,0)","v":0},50.18,25.734999999999999,691.38229999999999,0]
[null,{"$f":"'namerena data'!A718+('namerena data'!B718-1)/24","v":"2013-08-30T16:00:00"},{"$f":"IF('namerena data'!C718>0,'namerena data'!C718/1000,0)","v":0},51.18,25.734999999999999,717.11729999999989,0]
[null,{"$f":"'namerena data'!A719+('namerena data'!B719-1)/24","v":"2013-08-30T17:00:00"},{"$f":"IF('namerena data'!C719>0,'namerena data'!C719/1000,0)","v":0},55.17,25.734999999999999,819.79995000000008,0]
[null,{"$f":"'namerena data'!A720+('namerena data'!B720-1)/24","v":"2013-08-30T18:00:00"},{"$f":"IF('namerena data'!C720>0,'namerena data'!C720/1000,0)","v":0},55.68,25.734999999999999,832.9248,0]
[null,{"$f":"'namerena data'!A721+('namerena data'!B721-1)/24","v":"2013-08-30T19:00:00"},{"$f":"IF('namerena data'!C721>0,'namerena data'!C721/1000,0)","v":0},57.54,25.734999999999999,880.79189999999994,0]
[null,{"$f":"'namerena data'!A722+('namerena data'!B722-1)/24","v":"2013-08-30T20:00:00"},{"$f":"IF('namerena data'!C722>0,'namerena data'!C722/1000,0)","v":0},60.7,25.734999999999999,962.11450000000013,0]
[null,{"$f":"'namerena data'!A723+('namerena data'!B723-1)/24","v":"2013-08-30T21:00:00"},{"$f":"IF('namerena data'!C723>0,'namerena data'!C723/1000,0)","v":0},56.58,25.734999999999999,856.08629999999994,0]
[null,{"$f":"'namerena data'!A724+('namerena data'!B724-1)/24","v":"2013-08-30T22:00:00"},{"$f":"IF('namerena data'!C724>0,'namerena data'!C724/1000,0)","v":0},48.5,25.734999999999999,648.14750000000004,0]
[null,{"$f":"'namerena data'!A725+('namerena data'!B725-1)/24","v":"2013-08-30T23:00:00"},{"$f":"IF('namerena data'!C725>0,'namerena data'!C725/1000,0)","v":0},40.49,25.734999999999999,442.01015000000007,0]
[null,{"$f":"'namerena data'!A726+('namerena data'!B726-1)/24","v":"2013-08-31"},{"$f":"IF('namerena data'!C726>0,'namerena data'!C726/1000,0)","v":0},34.94,25.734999999999999,{"$f":"+IF(AND(ISNUMBER(D736),ISNUMBER(E736)),D736*E736-$F$13,0)","v":299.18089999999995},{"$f":"+(C736*F736)","v":0}]
[null,{"$f":"'namerena data'!A727+('namerena data'!B727-1)/24","v":"2013-08-31T01:00:00"},{"$f":"IF('namerena data'!C727>0,'namerena data'!C727/1000,0)","v":0},33.049999999999997,25.734999999999999,250.54174999999987,0]
[null,{"$f":"'namerena data'!A728+('namerena data'!B728-1)/24","v":"2013-08-31T02:00:00"},{"$f":"IF('namerena data'!C728>0,'namerena data'!C728/1000,0)","v":0},29.21,25.734999999999999,151.71934999999996,0]
[null,{"$f":"'namerena data'!A729+('namerena data'!B729-1)/24","v":"2013-08-31T03:00:00"},{"$f":"IF('namerena data'!C729>0,'namerena data'!C729/1000,0)","v":0},27.61,25.734999999999999,110.54334999999992,0]
[null,{"$f":"'namerena data'!A730+('namerena data'!B730-1)/24","v":"2013-08-31T04:00:00"},{"$f":"IF('namerena data'!C730>0,'namerena data'!C730/1000,0)","v":0},26.75,25.734999999999999,88.411249999999995,0]
[null,{"$f":"'namerena data'!A731+('namerena data'!B731-1)/24","v":"2013-08-31T05:00:00"},{"$f":"IF('namerena data'!C731>0,'namerena data'!C731/1000,0)","v":0},26.9,25.734999999999999,92.271499999999946,0]
[null,{"$f":"'namerena data'!A732+('namerena data'!B732-1)/24","v":"2013-08-31T06:00:00"},{"$f":"IF('namerena data'!C732>0,'namerena data'!C732/1000,0)","v":0},27.07,25.734999999999999,96.646449999999959,0]
[null,{"$f":"'namerena data'!A733+('namerena data'!B733-1)/24","v":"2013-08-31T07:00:00"},{"$f":"IF('namerena data'!C733>0,'namerena data'!C733/1000,0)","v":0},30,25.734999999999999,172.04999999999995,0]
[null,{"$f":"'namerena data'!A734+('namerena data'!B734-1)/24","v":"2013-08-31T08:00:00"},{"$f":"IF('namerena data'!C734>0,'namerena data'!C734/1000,0)","v":0},32.700000000000003,25.734999999999999,241.53450000000009,0]
[null,{"$f":"'namerena data'!A735+('namerena data'!B735-1)/24","v":"2013-08-31T09:00:00"},{"$f":"IF('namerena data'!C735>0,'namerena data'!C735/1000,0)","v":0},36.57,25.734999999999999,341.12895000000003,0]
[null,{"$f":"'namerena data'!A736+('namerena data'!B736-1)/24","v":"2013-08-31T10:00:00"},{"$f":"IF('namerena data'!C736>0,'namerena data'!C736/1000,0)","v":0},35.1,25.734999999999999,303.29849999999999,0]
[null,{"$f":"'namerena data'!A737+('namerena data'!B737-1)/24","v":"2013-08-31T11:00:00"},{"$f":"IF('namerena data'!C737>0,'namerena data'!C737/1000,0)","v":0},33.299999999999997,25.734999999999999,256.9754999999999,0]
[null,{"$f":"'namerena data'!A738+('namerena data'!B738-1)/24","v":"2013-08-31T12:00:00"},{"$f":"IF('namerena data'!C738>0,'namerena data'!C738/1000,0)","v":0},30.3,25.734999999999999,179.77049999999997,0]
[null,{"$f":"'namerena data'!A739+('namerena data'!B739-1)/24","v":"2013-08-31T13:00:00"},{"$f":"IF('namerena data'!C739>0,'namerena data'!C739/1000,0)","v":0},27.7,25.734999999999999,112.85949999999991,0]
[null,{"$f":"'namerena data'!A740+('namerena data'!B740-1)/24","v":"2013-08-31T14:00:00"},{"$f":"IF('namerena data'!C740>0,'namerena data'!C740/1000,0)","v":0},27.3,25.734999999999999,102.56550000000004,0]
[null,{"$f":"'namerena data'!A741+('namerena data'!B741-1)/24","v":"2013-08-31T15:00:00"},{"$f":"IF('namerena data'!C741>0,'namerena data'!C741/1000,0)","v":0},27.2,25.734999999999999,99.991999999999962,0]
[null,{"$f":"'namerena data'!A742+('namerena data'!B742-1)/24","v":"2013-08-31T16:00:00"},{"$f":"IF('namerena data'!C742>0,'namerena data'!C742/1000,0)","v":0},30.9,25.734999999999999,195.2115,0]
[null,{"$f":"'namerena data'!A743+('namerena data'!B743-1)/24","v":"2013-08-31T17:00:00"},{"$f":"IF('namerena data'!C743>0,'namerena data'!C743/1000,0)","v":0},34.1,25.734999999999999,277.56349999999998,0]
[null,{"$f":"'namerena data'!A744+('namerena data'!B744-1)/24","v":"2013-08-31T18:00:00"},{"$f":"IF('namerena data'!C744>0,'namerena data'!C744/1000,0)","v":0},35.21,25.734999999999999,306.12935000000004,0]
[null,{"$f":"'namerena data'!A745+('namerena data'!B745-1)/24","v":"2013-08-31T19:00:00"},{"$f":"IF('namerena data'!C745>0,'namerena data'!C745/1000,0)","v":0},38.94,25.734999999999999,402.12089999999989,0]
[null,{"$f":"'namerena data'!A746+('namerena data'!B746-1)/24","v":"2013-08-31T20:00:00"},{"$f":"IF('namerena data'!C746>0,'namerena data'!C746/1000,0)","v":0},41.44,25.734999999999999,466.45839999999998,0]
[null,{"$f":"'namerena data'!A747+('namerena data'!B747-1)/24","v":"2013-08-31T21:00:00"},{"$f":"IF('namerena data'!C747>0,'namerena data'!C747/1000,0)","v":0},38.43,25.734999999999999,388.99604999999997,0]
[null,{"$f":"'namerena data'!A748+('namerena data'!B748-1)/24","v":"2013-08-31T22:00:00"},{"$f":"IF('namerena data'!C748>0,'namerena data'!C748/1000,0)","v":0},35.090000000000003,25.734999999999999,303.04115000000002,0]
[null,{"$f":"'namerena data'!A749+('namerena data'!B749-1)/24","v":"2013-08-31T23:00:00"},{"$f":"IF('namerena data'!C749>0,'namerena data'!C749/1000,0)","v":0},30.59,25.734999999999999,187.23365000000001,0]

{"sheet":"Data_Graf","index":4,"n_rows":746,"n_cols":7,"rows_kept":746,"cut":false,"hidden":true,"merged":[[0,0,0,2],[1,4,1,6]]}
["MĚSÍC",null,null,null,{"$f":"\"FAKTURACE VÝROBY \"&UPPER(TEXT(E4,\"MMMM RRRR\"))","v":{"$error":"#REF!"}},{"$f":"\"FAKTURACE VÝROBY- 72 HODIN (\"&TEXT(E4,\"DD.MM.RRRR HH:MM\")&\" - \"&TEXT(E74,\"DD.MM.RRRR HH:MM\")&\")\"","v":{"$error":"#REF!"}}]
[{"$f":"fakturace!B15","v":"Datum"},{"$f":"fakturace!C15","v":"měření [MWh]"},{"$f":"fakturace!F15","v":"cenový tarif [Kc/MWh]"},null,"D3"]
[{"$f":"OFFSET(fakturace!B16,fakturace!#REF!,0)","v":{"$error":"#REF!"}},{"$f":"OFFSET(fakturace!C16,fakturace!#REF!,0)","v":{"$error":"#REF!"}},{"$f":"OFFSET(fakturace!F16,fakturace!#REF!,0)","v":{"$error":"#REF!"}},null,"Datum","mereni v MWh","cenový tarif v Kc/MWh"]
[{"$f":"OFFSET(fakturace!B17,fakturace!#REF!,0)","v":{"$error":"#REF!"}},{"$f":"OFFSET(fakturace!C17,fakturace!#REF!,0)","v":{"$error":"#REF!"}},{"$f":"OFFSET(fakturace!F17,fakturace!#REF!,0)","v":{"$error":"#REF!"}},null,{"$f":"OFFSET(fakturace!B16,fakturace!#REF!,0)","v":{"$error":"#REF!"}},{"$f":"OFFSET(fakturace!C16,fakturace!#REF!,0)","v":{"$error":"#REF!"}},{"$f":"OFFSET(fakturace!F16,fakturace!#REF!,0)","v":{"$error":"#REF!"}}]
[{"$f":"OFFSET(fakturace!B18,fakturace!#REF!,0)","v":{"$error":"#REF!"}},{"$f":"OFFSET(fakturace!C18,fakturace!#REF!,0)","v":{"$error":"#REF!"}},{"$f":"OFFSET(fakturace!F18,fakturace!#REF!,0)","v":{"$error":"#REF!"}},null,{"$f":"OFFSET(fakturace!B17,fakturace!#REF!,0)","v":{"$error":"#REF!"}},{"$f":"OFFSET(fakturace!C17,fakturace!#REF!,0)","v":{"$error":"#REF!"}},{"$f":"OFFSET(fakturace!F17,fakturace!#REF!,0)","v":{"$error":"#REF!"}}]
[{"$f":"OFFSET(fakturace!B19,fakturace!#REF!,0)","v":{"$error":"#REF!"}},{"$f":"OFFSET(fakturace!C19,fakturace!#REF!,0)","v":{"$error":"#REF!"}},{"$f":"OFFSET(fakturace!F19,fakturace!#REF!,0)","v":{"$error":"#REF!"}},null,{"$f":"OFFSET(fakturace!B18,fakturace!#REF!,0)","v":{"$error":"#REF!"}},{"$f":"OFFSET(fakturace!C18,fakturace!#REF!,0)","v":{"$error":"#REF!"}},{"$f":"OFFSET(fakturace!F18,fakturace!#REF!,0)","v":{"$error":"#REF!"}}]
[{"$f":"OFFSET(fakturace!B20,fakturace!#REF!,0)","v":{"$error":"#REF!"}},{"$f":"OFFSET(fakturace!C20,fakturace!#REF!,0)","v":{"$error":"#REF!"}},{"$f":"OFFSET(fakturace!F20,fakturace!#REF!,0)","v":{"$error":"#REF!"}},null,{"$f":"OFFSET(fakturace!B19,fakturace!#REF!,0)","v":{"$error":"#REF!"}},{"$f":"OFFSET(fakturace!C19,fakturace!#REF!,0)","v":{"$error":"#REF!"}},{"$f":"OFFSET(fakturace!F19,fakturace!#REF!,0)","v":{"$error":"#REF!"}}]
[{"$f":"OFFSET(fakturace!B21,fakturace!#REF!,0)","v":{"$error":"#REF!"}},{"$f":"OFFSET(fakturace!C21,fakturace!#REF!,0)","v":{"$error":"#REF!"}},{"$f":"OFFSET(fakturace!F21,fakturace!#REF!,0)","v":{"$error":"#REF!"}},null,{"$f":"OFFSET(fakturace!B20,fakturace!#REF!,0)","v":{"$error":"#REF!"}},{"$f":"OFFSET(fakturace!C20,fakturace!#REF!,0)","v":{"$error":"#REF!"}},{"$f":"OFFSET(fakturace!F20,fakturace!#REF!,0)","v":{"$error":"#REF!"}}]
[{"$f":"OFFSET(fakturace!B22,fakturace!#REF!,0)","v":{"$error":"#REF!"}},{"$f":"OFFSET(fakturace!C22,fakturace!#REF!,0)","v":{"$error":"#REF!"}},{"$f":"OFFSET(fakturace!F22,fakturace!#REF!,0)","v":{"$error":"#REF!"}},null,{"$f":"OFFSET(fakturace!B21,fakturace!#REF!,0)","v":{"$error":"#REF!"}},{"$f":"OFFSET(fakturace!C21,fakturace!#REF!,0)","v":{"$error":"#REF!"}},{"$f":"OFFSET(fakturace!F21,fakturace!#REF!,0)","v":{"$error":"#REF!"}}]
[{"$f":"OFFSET(fakturace!B23,fakturace!#REF!,0)","v":{"$error":"#REF!"}},{"$f":"OFFSET(fakturace!C23,fakturace!#REF!,0)","v":{"$error":"#REF!"}},{"$f":"OFFSET(fakturace!F23,fakturace!#REF!,0)","v":{"$error":"#REF!"}},null,{"$f":"OFFSET(fakturace!B22,fakturace!#REF!,0)","v":{"$error":"#REF!"}},{"$f":"OFFSET(fakturace!C22,fakturace!#REF!,0)","v":{"$error":"#REF!"}},{"$f":"OFFSET(fakturace!F22,fakturace!#REF!,0)","v":{"$error":"#REF!"}}]
[{"$f":"OFFSET(fakturace!B24,fakturace!#REF!,0)","v":{"$error":"#REF!"}},{"$f":"OFFSET(fakturace!C24,fakturace!#REF!,0)","v":{"$error":"#REF!"}},{"$f":"OFFSET(fakturace!F24,fakturace!#REF!,0)","v":{"$error":"#REF!"}},null,{"$f":"OFFSET(fakturace!B23,fakturace!#REF!,0)","v":{"$error":"#REF!"}},{"$f":"OFFSET(fakturace!C23,fakturace!#REF!,0)","v":{"$error":"#REF!"}},{"$f":"OFFSET(fakturace!F23,fakturace!#REF!,0)","v":{"$error":"#REF!"}}]
[{"$f":"OFFSET(fakturace!B25,fakturace!#REF!,0)","v":{"$error":"#REF!"}},{"$f":"OFFSET(fakturace!C25,fakturace!#REF!,0)","v":{"$error":"#REF!"}},{"$f":"OFFSET(fakturace!F25,fakturace!#REF!,0)","v":{"$error":"#REF!"}},null,{"$f":"OFFSET(fakturace!B24,fakturace!#REF!,0)","v":{"$error":"#REF!"}},{"$f":"OFFSET(fakturace!C24,fakturace!#REF!,0)","v":{"$error":"#REF!"}},{"$f":"OFFSET(fakturace!F24,fakturace!#REF!,0)","v":{"$error":"#REF!"}}]
[{"$f":"OFFSET(fakturace!B26,fakturace!#REF!,0)","v":{"$error":"#REF!"}},{"$f":"OFFSET(fakturace!C26,fakturace!#REF!,0)","v":{"$error":"#REF!"}},{"$f":"OFFSET(fakturace!F26,fakturace!#REF!,0)","v":{"$error":"#REF!"}},null,{"$f":"OFFSET(fakturace!B25,fakturace!#REF!,0)","v":{"$error":"#REF!"}},{"$f":"OFFSET(fakturace!C25,fakturace!#REF!,0)","v":{"$error":"#REF!"}},{"$f":"OFFSET(fakturace!F25,fakturace!#REF!,0)","v":{"$error":"#REF!"}}]
[{"$f":"OFFSET(fakturace!B27,fakturace!#REF!,0)","v":{"$error":"#REF!"}},{"$f":"OFFSET(fakturace!C27,fakturace!#REF!,0)","v":{"$error":"#REF!"}},{"$f":"OFFSET(fakturace!F27,fakturace!#REF!,0)","v":{"$error":"#REF!"}},null,{"$f":"OFFSET(fakturace!B26,fakturace!#REF!,0)","v":{"$error":"#REF!"}},{"$f":"OFFSET(fakturace!C26,fakturace!#REF!,0)","v":{"$error":"#REF!"}},{"$f":"OFFSET(fakturace!F26,fakturace!#REF!,0)","v":{"$error":"#REF!"}}]
[{"$f":"OFFSET(fakturace!B28,fakturace!#REF!,0)","v":{"$error":"#REF!"}},{"$f":"OFFSET(fakturace!C28,fakturace!#REF!,0)","v":{"$error":"#REF!"}},{"$f":"OFFSET(fakturace!F28,fakturace!#REF!,0)","v":{"$error":"#REF!"}},null,{"$f":"OFFSET(fakturace!B27,fakturace!#REF!,0)","v":{"$error":"#REF!"}},{"$f":"OFFSET(fakturace!C27,fakturace!#REF!,0)","v":{"$error":"#REF!"}},{"$f":"OFFSET(fakturace!F27,fakturace!#REF!,0)","v":{"$error":"#REF!"}}]
[{"$f":"OFFSET(fakturace!B29,fakturace!#REF!,0)","v":{"$error":"#REF!"}},{"$f":"OFFSET(fakturace!C29,fakturace!#REF!,0)","v":{"$error":"#REF!"}},{"$f":"OFFSET(fakturace!F29,fakturace!#REF!,0)","v":{"$error":"#REF!"}},null,{"$f":"OFFSET(fakturace!B28,fakturace!#REF!,0)","v":{"$error":"#REF!"}},{"$f":"OFFSET(fakturace!C28,fakturace!#REF!,0)","v":{"$error":"#REF!"}},{"$f":"OFFSET(fakturace!F28,fakturace!#REF!,0)","v":{"$error":"#REF!"}}]
[{"$f":"OFFSET(fakturace!B30,fakturace!#REF!,0)","v":{"$error":"#REF!"}},{"$f":"OFFSET(fakturace!C30,fakturace!#REF!,0)","v":{"$error":"#REF!"}},{"$f":"OFFSET(fakturace!F30,fakturace!#REF!,0)","v":{"$error":"#REF!"}},null,{"$f":"OFFSET(fakturace!B29,fakturace!#REF!,0)","v":{"$error":"#REF!"}},{"$f":"OFFSET(fakturace!C29,fakturace!#REF!,0)","v":{"$error":"#REF!"}},{"$f":"OFFSET(fakturace!F29,fakturace!#REF!,0)","v":{"$error":"#REF!"}}]
[{"$f":"OFFSET(fakturace!B31,fakturace!#REF!,0)","v":{"$error":"#REF!"}},{"$f":"OFFSET(fakturace!C31,fakturace!#REF!,0)","v":{"$error":"#REF!"}},{"$f":"OFFSET(fakturace!F31,fakturace!#REF!,0)","v":{"$error":"#REF!"}},null,{"$f":"OFFSET(fakturace!B30,fakturace!#REF!,0)","v":{"$error":"#REF!"}},{"$f":"OFFSET(fakturace!C30,fakturace!#REF!,0)","v":{"$error":"#REF!"}},{"$f":"OFFSET(fakturace!F30,fakturace!#REF!,0)","v":{"$error":"#REF!"}}]
[{"$f":"OFFSET(fakturace!B32,fakturace!#REF!,0)","v":{"$error":"#REF!"}},{"$f":"OFFSET(fakturace!C32,fakturace!#REF!,0)","v":{"$error":"#REF!"}},{"$f":"OFFSET(fakturace!F32,fakturace!#REF!,0)","v":{"$error":"#REF!"}},null,{"$f":"OFFSET(fakturace!B31,fakturace!#REF!,0)","v":{"$error":"#REF!"}},{"$f":"OFFSET(fakturace!C31,fakturace!#REF!,0)","v":{"$error":"#REF!"}},{"$f":"OFFSET(fakturace!F31,fakturace!#REF!,0)","v":{"$error":"#REF!"}}]
[{"$f":"OFFSET(fakturace!B33,fakturace!#REF!,0)","v":{"$error":"#REF!"}},{"$f":"OFFSET(fakturace!C33,fakturace!#REF!,0)","v":{"$error":"#REF!"}},{"$f":"OFFSET(fakturace!F33,fakturace!#REF!,0)","v":{"$error":"#REF!"}},null,{"$f":"OFFSET(fakturace!B32,fakturace!#REF!,0)","v":{"$error":"#REF!"}},{"$f":"OFFSET(fakturace!C32,fakturace!#REF!,0)","v":{"$error":"#REF!"}},{"$f":"OFFSET(fakturace!F32,fakturace!#REF!,0)","v":{"$error":"#REF!"}}]
[{"$f":"OFFSET(fakturace!B34,fakturace!#REF!,0)","v":{"$error":"#REF!"}},{"$f":"OFFSET(fakturace!C34,fakturace!#REF!,0)","v":{"$error":"#REF!"}},{"$f":"OFFSET(fakturace!F34,fakturace!#REF!,0)","v":{"$error":"#REF!"}},null,{"$f":"OFFSET(fakturace!B33,fakturace!#REF!,0)","v":{"$error":"#REF!"}},{"$f":"OFFSET(fakturace!C33,fakturace!#REF!,0)","v":{"$error":"#REF!"}},{"$f":"OFFSET(fakturace!F33,fakturace!#REF!,0)","v":{"$error":"#REF!"}}]
[{"$f":"OFFSET(fakturace!B35,fakturace!#REF!,0)","v":{"$error":"#REF!"}},{"$f":"OFFSET(fakturace!C35,fakturace!#REF!,0)","v":{"$error":"#REF!"}},{"$f":"OFFSET(fakturace!F35,fakturace!#REF!,0)","v":{"$error":"#REF!"}},null,{"$f":"OFFSET(fakturace!B34,fakturace!#REF!,0)","v":{"$error":"#REF!"}},{"$f":"OFFSET(fakturace!C34,fakturace!#REF!,0)","v":{"$error":"#REF!"}},{"$f":"OFFSET(fakturace!F34,fakturace!#REF!,0)","v":{"$error":"#REF!"}}]
[{"$f":"OFFSET(fakturace!B36,fakturace!#REF!,0)","v":{"$error":"#REF!"}},{"$f":"OFFSET(fakturace!C36,fakturace!#REF!,0)","v":{"$error":"#REF!"}},{"$f":"OFFSET(fakturace!F36,fakturace!#REF!,0)","v":{"$error":"#REF!"}},null,{"$f":"OFFSET(fakturace!B35,fakturace!#REF!,0)","v":{"$error":"#REF!"}},{"$f":"OFFSET(fakturace!C35,fakturace!#REF!,0)","v":{"$error":"#REF!"}},{"$f":"OFFSET(fakturace!F35,fakturace!#REF!,0)","v":{"$error":"#REF!"}}]
[{"$f":"OFFSET(fakturace!B37,fakturace!#REF!,0)","v":{"$error":"#REF!"}},{"$f":"OFFSET(fakturace!C37,fakturace!#REF!,0)","v":{"$error":"#REF!"}},{"$f":"OFFSET(fakturace!F37,fakturace!#REF!,0)","v":{"$error":"#REF!"}},null,{"$f":"OFFSET(fakturace!B36,fakturace!#REF!,0)","v":{"$error":"#REF!"}},{"$f":"OFFSET(fakturace!C36,fakturace!#REF!,0)","v":{"$error":"#REF!"}},{"$f":"OFFSET(fakturace!F36,fakturace!#REF!,0)","v":{"$error":"#REF!"}}]
[{"$f":"OFFSET(fakturace!B38,fakturace!#REF!,0)","v":{"$error":"#REF!"}},{"$f":"OFFSET(fakturace!C38,fakturace!#REF!,0)","v":{"$error":"#REF!"}},{"$f":"OFFSET(fakturace!F38,fakturace!#REF!,0)","v":{"$error":"#REF!"}},null,{"$f":"OFFSET(fakturace!B37,fakturace!#REF!,0)","v":{"$error":"#REF!"}},{"$f":"OFFSET(fakturace!C37,fakturace!#REF!,0)","v":{"$error":"#REF!"}},{"$f":"OFFSET(fakturace!F37,fakturace!#REF!,0)","v":{"$error":"#REF!"}}]
[{"$f":"OFFSET(fakturace!B39,fakturace!#REF!,0)","v":{"$error":"#REF!"}},{"$f":"OFFSET(fakturace!C39,fakturace!#REF!,0)","v":{"$error":"#REF!"}},{"$f":"OFFSET(fakturace!F39,fakturace!#REF!,0)","v":{"$error":"#REF!"}},null,{"$f":"OFFSET(fakturace!B38,fakturace!#REF!,0)","v":{"$error":"#REF!"}},{"$f":"OFFSET(fakturace!C38,fakturace!#REF!,0)","v":{"$error":"#REF!"}},{"$f":"OFFSET(fakturace!F38,fakturace!#REF!,0)","v":{"$error":"#REF!"}}]
[{"$f":"OFFSET(fakturace!B40,fakturace!#REF!,0)","v":{"$error":"#REF!"}},{"$f":"OFFSET(fakturace!C40,fakturace!#REF!,0)","v":{"$error":"#REF!"}},{"$f":"OFFSET(fakturace!F40,fakturace!#REF!,0)","v":{"$error":"#REF!"}},null,{"$f":"OFFSET(fakturace!B39,fakturace!#REF!,0)","v":{"$error":"#REF!"}},{"$f":"OFFSET(fakturace!C39,fakturace!#REF!,0)","v":{"$error":"#REF!"}},{"$f":"OFFSET(fakturace!F39,fakturace!#REF!,0)","v":{"$error":"#REF!"}}]
[{"$f":"OFFSET(fakturace!B41,fakturace!#REF!,0)","v":{"$error":"#REF!"}},{"$f":"OFFSET(fakturace!C41,fakturace!#REF!,0)","v":{"$error":"#REF!"}},{"$f":"OFFSET(fakturace!F41,fakturace!#REF!,0)","v":{"$error":"#REF!"}},null,{"$f":"OFFSET(fakturace!B40,fakturace!#REF!,0)","v":{"$error":"#REF!"}},{"$f":"OFFSET(fakturace!C40,fakturace!#REF!,0)","v":{"$error":"#REF!"}},{"$f":"OFFSET(fakturace!F40,fakturace!#REF!,0)","v":{"$error":"#REF!"}}]
[{"$f":"OFFSET(fakturace!B42,fakturace!#REF!,0)","v":{"$error":"#REF!"}},{"$f":"OFFSET(fakturace!C42,fakturace!#REF!,0)","v":{"$error":"#REF!"}},{"$f":"OFFSET(fakturace!F42,fakturace!#REF!,0)","v":{"$error":"#REF!"}},null,{"$f":"OFFSET(fakturace!B41,fakturace!#REF!,0)","v":{"$error":"#REF!"}},{"$f":"OFFSET(fakturace!C41,fakturace!#REF!,0)","v":{"$error":"#REF!"}},{"$f":"OFFSET(fakturace!F41,fakturace!#REF!,0)","v":{"$error":"#REF!"}}]
[{"$f":"OFFSET(fakturace!B43,fakturace!#REF!,0)","v":{"$error":"#REF!"}},{"$f":"OFFSET(fakturace!C43,fakturace!#REF!,0)","v":{"$error":"#REF!"}},{"$f":"OFFSET(fakturace!F43,fakturace!#REF!,0)","v":{"$error":"#REF!"}},null,{"$f":"OFFSET(fakturace!B42,fakturace!#REF!,0)","v":{"$error":"#REF!"}},{"$f":"OFFSET(fakturace!C42,fakturace!#REF!,0)","v":{"$error":"#REF!"}},{"$f":"OFFSET(fakturace!F42,fakturace!#REF!,0)","v":{"$error":"#REF!"}}]
[{"$f":"OFFSET(fakturace!B44,fakturace!#REF!,0)","v":{"$error":"#REF!"}},{"$f":"OFFSET(fakturace!C44,fakturace!#REF!,0)","v":{"$error":"#REF!"}},{"$f":"OFFSET(fakturace!F44,fakturace!#REF!,0)","v":{"$error":"#REF!"}},null,{"$f":"OFFSET(fakturace!B43,fakturace!#REF!,0)","v":{"$error":"#REF!"}},{"$f":"OFFSET(fakturace!C43,fakturace!#REF!,0)","v":{"$error":"#REF!"}},{"$f":"OFFSET(fakturace!F43,fakturace!#REF!,0)","v":{"$error":"#REF!"}}]
[{"$f":"OFFSET(fakturace!B45,fakturace!#REF!,0)","v":{"$error":"#REF!"}},{"$f":"OFFSET(fakturace!C45,fakturace!#REF!,0)","v":{"$error":"#REF!"}},{"$f":"OFFSET(fakturace!F45,fakturace!#REF!,0)","v":{"$error":"#REF!"}},null,{"$f":"OFFSET(fakturace!B44,fakturace!#REF!,0)","v":{"$error":"#REF!"}},{"$f":"OFFSET(fakturace!C44,fakturace!#REF!,0)","v":{"$error":"#REF!"}},{"$f":"OFFSET(fakturace!F44,fakturace!#REF!,0)","v":{"$error":"#REF!"}}]
[{"$f":"OFFSET(fakturace!B46,fakturace!#REF!,0)","v":{"$error":"#REF!"}},{"$f":"OFFSET(fakturace!C46,fakturace!#REF!,0)","v":{"$error":"#REF!"}},{"$f":"OFFSET(fakturace!F46,fakturace!#REF!,0)","v":{"$error":"#REF!"}},null,{"$f":"OFFSET(fakturace!B45,fakturace!#REF!,0)","v":{"$error":"#REF!"}},{"$f":"OFFSET(fakturace!C45,fakturace!#REF!,0)","v":{"$error":"#REF!"}},{"$f":"OFFSET(fakturace!F45,fakturace!#REF!,0)","v":{"$error":"#REF!"}}]
[{"$f":"OFFSET(fakturace!B47,fakturace!#REF!,0)","v":{"$error":"#REF!"}},{"$f":"OFFSET(fakturace!C47,fakturace!#REF!,0)","v":{"$error":"#REF!"}},{"$f":"OFFSET(fakturace!F47,fakturace!#REF!,0)","v":{"$error":"#REF!"}},null,{"$f":"OFFSET(fakturace!B46,fakturace!#REF!,0)","v":{"$error":"#REF!"}},{"$f":"OFFSET(fakturace!C46,fakturace!#REF!,0)","v":{"$error":"#REF!"}},{"$f":"OFFSET(fakturace!F46,fakturace!#REF!,0)","v":{"$error":"#REF!"}}]
[{"$f":"OFFSET(fakturace!B48,fakturace!#REF!,0)","v":{"$error":"#REF!"}},{"$f":"OFFSET(fakturace!C48,fakturace!#REF!,0)","v":{"$error":"#REF!"}},{"$f":"OFFSET(fakturace!F48,fakturace!#REF!,0)","v":{"$error":"#REF!"}},null,{"$f":"OFFSET(fakturace!B47,fakturace!#REF!,0)","v":{"$error":"#REF!"}},{"$f":"OFFSET(fakturace!C47,fakturace!#REF!,0)","v":{"$error":"#REF!"}},{"$f":"OFFSET(fakturace!F47,fakturace!#REF!,0)","v":{"$error":"#REF!"}}]
[{"$f":"OFFSET(fakturace!B49,fakturace!#REF!,0)","v":{"$error":"#REF!"}},{"$f":"OFFSET(fakturace!C49,fakturace!#REF!,0)","v":{"$error":"#REF!"}},{"$f":"OFFSET(fakturace!F49,fakturace!#REF!,0)","v":{"$error":"#REF!"}},null,{"$f":"OFFSET(fakturace!B48,fakturace!#REF!,0)","v":{"$error":"#REF!"}},{"$f":"OFFSET(fakturace!C48,fakturace!#REF!,0)","v":{"$error":"#REF!"}},{"$f":"OFFSET(fakturace!F48,fakturace!#REF!,0)","v":{"$error":"#REF!"}}]
[{"$f":"OFFSET(fakturace!B50,fakturace!#REF!,0)","v":{"$error":"#REF!"}},{"$f":"OFFSET(fakturace!C50,fakturace!#REF!,0)","v":{"$error":"#REF!"}},{"$f":"OFFSET(fakturace!F50,fakturace!#REF!,0)","v":{"$error":"#REF!"}},null,{"$f":"OFFSET(fakturace!B49,fakturace!#REF!,0)","v":{"$error":"#REF!"}},{"$f":"OFFSET(fakturace!C49,fakturace!#REF!,0)","v":{"$error":"#REF!"}},{"$f":"OFFSET(fakturace!F49,fakturace!#REF!,0)","v":{"$error":"#REF!"}}]
[{"$f":"OFFSET(fakturace!B51,fakturace!#REF!,0)","v":{"$error":"#REF!"}},{"$f":"OFFSET(fakturace!C51,fakturace!#REF!,0)","v":{"$error":"#REF!"}},{"$f":"OFFSET(fakturace!F51,fakturace!#REF!,0)","v":{"$error":"#REF!"}},null,{"$f":"OFFSET(fakturace!B50,fakturace!#REF!,0)","v":{"$error":"#REF!"}},{"$f":"OFFSET(fakturace!C50,fakturace!#REF!,0)","v":{"$error":"#REF!"}},{"$f":"OFFSET(fakturace!F50,fakturace!#REF!,0)","v":{"$error":"#REF!"}}]
[{"$f":"OFFSET(fakturace!B52,fakturace!#REF!,0)","v":{"$error":"#REF!"}},{"$f":"OFFSET(fakturace!C52,fakturace!#REF!,0)","v":{"$error":"#REF!"}},{"$f":"OFFSET(fakturace!F52,fakturace!#REF!,0)","v":{"$error":"#REF!"}},null,{"$f":"OFFSET(fakturace!B51,fakturace!#REF!,0)","v":{"$error":"#REF!"}},{"$f":"OFFSET(fakturace!C51,fakturace!#REF!,0)","v":{"$error":"#REF!"}},{"$f":"OFFSET(fakturace!F51,fakturace!#REF!,0)","v":{"$error":"#REF!"}}]
[{"$f":"OFFSET(fakturace!B53,fakturace!#REF!,0)","v":{"$error":"#REF!"}},{"$f":"OFFSET(fakturace!C53,fakturace!#REF!,0)","v":{"$error":"#REF!"}},{"$f":"OFFSET(fakturace!F53,fakturace!#REF!,0)","v":{"$error":"#REF!"}},null,{"$f":"OFFSET(fakturace!B52,fakturace!#REF!,0)","v":{"$error":"#REF!"}},{"$f":"OFFSET(fakturace!C52,fakturace!#REF!,0)","v":{"$error":"#REF!"}},{"$f":"OFFSET(fakturace!F52,fakturace!#REF!,0)","v":{"$error":"#REF!"}}]
[{"$f":"OFFSET(fakturace!B54,fakturace!#REF!,0)","v":{"$error":"#REF!"}},{"$f":"OFFSET(fakturace!C54,fakturace!#REF!,0)","v":{"$error":"#REF!"}},{"$f":"OFFSET(fakturace!F54,fakturace!#REF!,0)","v":{"$error":"#REF!"}},null,{"$f":"OFFSET(fakturace!B53,fakturace!#REF!,0)","v":{"$error":"#REF!"}},{"$f":"OFFSET(fakturace!C53,fakturace!#REF!,0)","v":{"$error":"#REF!"}},{"$f":"OFFSET(fakturace!F53,fakturace!#REF!,0)","v":{"$error":"#REF!"}}]
[{"$f":"OFFSET(fakturace!B55,fakturace!#REF!,0)","v":{"$error":"#REF!"}},{"$f":"OFFSET(fakturace!C55,fakturace!#REF!,0)","v":{"$error":"#REF!"}},{"$f":"OFFSET(fakturace!F55,fakturace!#REF!,0)","v":{"$error":"#REF!"}},null,{"$f":"OFFSET(fakturace!B54,fakturace!#REF!,0)","v":{"$error":"#REF!"}},{"$f":"OFFSET(fakturace!C54,fakturace!#REF!,0)","v":{"$error":"#REF!"}},{"$f":"OFFSET(fakturace!F54,fakturace!#REF!,0)","v":{"$error":"#REF!"}}]
[{"$f":"OFFSET(fakturace!B56,fakturace!#REF!,0)","v":{"$error":"#REF!"}},{"$f":"OFFSET(fakturace!C56,fakturace!#REF!,0)","v":{"$error":"#REF!"}},{"$f":"OFFSET(fakturace!F56,fakturace!#REF!,0)","v":{"$error":"#REF!"}},null,{"$f":"OFFSET(fakturace!B55,fakturace!#REF!,0)","v":{"$error":"#REF!"}},{"$f":"OFFSET(fakturace!C55,fakturace!#REF!,0)","v":{"$error":"#REF!"}},{"$f":"OFFSET(fakturace!F55,fakturace!#REF!,0)","v":{"$error":"#REF!"}}]
[{"$f":"OFFSET(fakturace!B57,fakturace!#REF!,0)","v":{"$error":"#REF!"}},{"$f":"OFFSET(fakturace!C57,fakturace!#REF!,0)","v":{"$error":"#REF!"}},{"$f":"OFFSET(fakturace!F57,fakturace!#REF!,0)","v":{"$error":"#REF!"}},null,{"$f":"OFFSET(fakturace!B56,fakturace!#REF!,0)","v":{"$error":"#REF!"}},{"$f":"OFFSET(fakturace!C56,fakturace!#REF!,0)","v":{"$error":"#REF!"}},{"$f":"OFFSET(fakturace!F56,fakturace!#REF!,0)","v":{"$error":"#REF!"}}]
[{"$f":"OFFSET(fakturace!B58,fakturace!#REF!,0)","v":{"$error":"#REF!"}},{"$f":"OFFSET(fakturace!C58,fakturace!#REF!,0)","v":{"$error":"#REF!"}},{"$f":"OFFSET(fakturace!F58,fakturace!#REF!,0)","v":{"$error":"#REF!"}},null,{"$f":"OFFSET(fakturace!B57,fakturace!#REF!,0)","v":{"$error":"#REF!"}},{"$f":"OFFSET(fakturace!C57,fakturace!#REF!,0)","v":{"$error":"#REF!"}},{"$f":"OFFSET(fakturace!F57,fakturace!#REF!,0)","v":{"$error":"#REF!"}}]
[{"$f":"OFFSET(fakturace!B59,fakturace!#REF!,0)","v":{"$error":"#REF!"}},{"$f":"OFFSET(fakturace!C59,fakturace!#REF!,0)","v":{"$error":"#REF!"}},{"$f":"OFFSET(fakturace!F59,fakturace!#REF!,0)","v":{"$error":"#REF!"}},null,{"$f":"OFFSET(fakturace!B58,fakturace!#REF!,0)","v":{"$error":"#REF!"}},{"$f":"OFFSET(fakturace!C58,fakturace!#REF!,0)","v":{"$error":"#REF!"}},{"$f":"OFFSET(fakturace!F58,fakturace!#REF!,0)","v":{"$error":"#REF!"}}]
[{"$f":"OFFSET(fakturace!B60,fakturace!#REF!,0)","v":{"$error":"#REF!"}},{"$f":"OFFSET(fakturace!C60,fakturace!#REF!,0)","v":{"$error":"#REF!"}},{"$f":"OFFSET(fakturace!F60,fakturace!#REF!,0)","v":{"$error":"#REF!"}},null,{"$f":"OFFSET(fakturace!B59,fakturace!#REF!,0)","v":{"$error":"#REF!"}},{"$f":"OFFSET(fakturace!C59,fakturace!#REF!,0)","v":{"$error":"#REF!"}},{"$f":"OFFSET(fakturace!F59,fakturace!#REF!,0)","v":{"$error":"#REF!"}}]
[{"$f":"OFFSET(fakturace!B61,fakturace!#REF!,0)","v":{"$error":"#REF!"}},{"$f":"OFFSET(fakturace!C61,fakturace!#REF!,0)","v":{"$error":"#REF!"}},{"$f":"OFFSET(fakturace!F61,fakturace!#REF!,0)","v":{"$error":"#REF!"}},null,{"$f":"OFFSET(fakturace!B60,fakturace!#REF!,0)","v":{"$error":"#REF!"}},{"$f":"OFFSET(fakturace!C60,fakturace!#REF!,0)","v":{"$error":"#REF!"}},{"$f":"OFFSET(fakturace!F60,fakturace!#REF!,0)","v":{"$error":"#REF!"}}]
[{"$f":"OFFSET(fakturace!B62,fakturace!#REF!,0)","v":{"$error":"#REF!"}},{"$f":"OFFSET(fakturace!C62,fakturace!#REF!,0)","v":{"$error":"#REF!"}},{"$f":"OFFSET(fakturace!F62,fakturace!#REF!,0)","v":{"$error":"#REF!"}},null,{"$f":"OFFSET(fakturace!B61,fakturace!#REF!,0)","v":{"$error":"#REF!"}},{"$f":"OFFSET(fakturace!C61,fakturace!#REF!,0)","v":{"$error":"#REF!"}},{"$f":"OFFSET(fakturace!F61,fakturace!#REF!,0)","v":{"$error":"#REF!"}}]
[{"$f":"OFFSET(fakturace!B63,fakturace!#REF!,0)","v":{"$error":"#REF!"}},{"$f":"OFFSET(fakturace!C63,fakturace!#REF!,0)","v":{"$error":"#REF!"}},{"$f":"OFFSET(fakturace!F63,fakturace!#REF!,0)","v":{"$error":"#REF!"}},null,{"$f":"OFFSET(fakturace!B62,fakturace!#REF!,0)","v":{"$error":"#REF!"}},{"$f":"OFFSET(fakturace!C62,fakturace!#REF!,0)","v":{"$error":"#REF!"}},{"$f":"OFFSET(fakturace!F62,fakturace!#REF!,0)","v":{"$error":"#REF!"}}]
[{"$f":"OFFSET(fakturace!B64,fakturace!#REF!,0)","v":{"$error":"#REF!"}},{"$f":"OFFSET(fakturace!C64,fakturace!#REF!,0)","v":{"$error":"#REF!"}},{"$f":"OFFSET(fakturace!F64,fakturace!#REF!,0)","v":{"$error":"#REF!"}},null,{"$f":"OFFSET(fakturace!B63,fakturace!#REF!,0)","v":{"$error":"#REF!"}},{"$f":"OFFSET(fakturace!C63,fakturace!#REF!,0)","v":{"$error":"#REF!"}},{"$f":"OFFSET(fakturace!F63,fakturace!#REF!,0)","v":{"$error":"#REF!"}}]
[{"$f":"OFFSET(fakturace!B65,fakturace!#REF!,0)","v":{"$error":"#REF!"}},{"$f":"OFFSET(fakturace!C65,fakturace!#REF!,0)","v":{"$error":"#REF!"}},{"$f":"OFFSET(fakturace!F65,fakturace!#REF!,0)","v":{"$error":"#REF!"}},null,{"$f":"OFFSET(fakturace!B64,fakturace!#REF!,0)","v":{"$error":"#REF!"}},{"$f":"OFFSET(fakturace!C64,fakturace!#REF!,0)","v":{"$error":"#REF!"}},{"$f":"OFFSET(fakturace!F64,fakturace!#REF!,0)","v":{"$error":"#REF!"}}]
[{"$f":"OFFSET(fakturace!B66,fakturace!#REF!,0)","v":{"$error":"#REF!"}},{"$f":"OFFSET(fakturace!C66,fakturace!#REF!,0)","v":{"$error":"#REF!"}},{"$f":"OFFSET(fakturace!F66,fakturace!#REF!,0)","v":{"$error":"#REF!"}},null,{"$f":"OFFSET(fakturace!B65,fakturace!#REF!,0)","v":{"$error":"#REF!"}},{"$f":"OFFSET(fakturace!C65,fakturace!#REF!,0)","v":{"$error":"#REF!"}},{"$f":"OFFSET(fakturace!F65,fakturace!#REF!,0)","v":{"$error":"#REF!"}}]
[{"$f":"OFFSET(fakturace!B67,fakturace!#REF!,0)","v":{"$error":"#REF!"}},{"$f":"OFFSET(fakturace!C67,fakturace!#REF!,0)","v":{"$error":"#REF!"}},{"$f":"OFFSET(fakturace!F67,fakturace!#REF!,0)","v":{"$error":"#REF!"}},null,{"$f":"OFFSET(fakturace!B66,fakturace!#REF!,0)","v":{"$error":"#REF!"}},{"$f":"OFFSET(fakturace!C66,fakturace!#REF!,0)","v":{"$error":"#REF!"}},{"$f":"OFFSET(fakturace!F66,fakturace!#REF!,0)","v":{"$error":"#REF!"}}]
[{"$f":"OFFSET(fakturace!B68,fakturace!#REF!,0)","v":{"$error":"#REF!"}},{"$f":"OFFSET(fakturace!C68,fakturace!#REF!,0)","v":{"$error":"#REF!"}},{"$f":"OFFSET(fakturace!F68,fakturace!#REF!,0)","v":{"$error":"#REF!"}},null,{"$f":"OFFSET(fakturace!B67,fakturace!#REF!,0)","v":{"$error":"#REF!"}},{"$f":"OFFSET(fakturace!C67,fakturace!#REF!,0)","v":{"$error":"#REF!"}},{"$f":"OFFSET(fakturace!F67,fakturace!#REF!,0)","v":{"$error":"#REF!"}}]
[{"$f":"OFFSET(fakturace!B69,fakturace!#REF!,0)","v":{"$error":"#REF!"}},{"$f":"OFFSET(fakturace!C69,fakturace!#REF!,0)","v":{"$error":"#REF!"}},{"$f":"OFFSET(fakturace!F69,fakturace!#REF!,0)","v":{"$error":"#REF!"}},null,{"$f":"OFFSET(fakturace!B68,fakturace!#REF!,0)","v":{"$error":"#REF!"}},{"$f":"OFFSET(fakturace!C68,fakturace!#REF!,0)","v":{"$error":"#REF!"}},{"$f":"OFFSET(fakturace!F68,fakturace!#REF!,0)","v":{"$error":"#REF!"}}]
[{"$f":"OFFSET(fakturace!B70,fakturace!#REF!,0)","v":{"$error":"#REF!"}},{"$f":"OFFSET(fakturace!C70,fakturace!#REF!,0)","v":{"$error":"#REF!"}},{"$f":"OFFSET(fakturace!F70,fakturace!#REF!,0)","v":{"$error":"#REF!"}},null,{"$f":"OFFSET(fakturace!B69,fakturace!#REF!,0)","v":{"$error":"#REF!"}},{"$f":"OFFSET(fakturace!C69,fakturace!#REF!,0)","v":{"$error":"#REF!"}},{"$f":"OFFSET(fakturace!F69,fakturace!#REF!,0)","v":{"$error":"#REF!"}}]
[{"$f":"OFFSET(fakturace!B71,fakturace!#REF!,0)","v":{"$error":"#REF!"}},{"$f":"OFFSET(fakturace!C71,fakturace!#REF!,0)","v":{"$error":"#REF!"}},{"$f":"OFFSET(fakturace!F71,fakturace!#REF!,0)","v":{"$error":"#REF!"}},null,{"$f":"OFFSET(fakturace!B70,fakturace!#REF!,0)","v":{"$error":"#REF!"}},{"$f":"OFFSET(fakturace!C70,fakturace!#REF!,0)","v":{"$error":"#REF!"}},{"$f":"OFFSET(fakturace!F70,fakturace!#REF!,0)","v":{"$error":"#REF!"}}]
[{"$f":"OFFSET(fakturace!B72,fakturace!#REF!,0)","v":{"$error":"#REF!"}},{"$f":"OFFSET(fakturace!C72,fakturace!#REF!,0)","v":{"$error":"#REF!"}},{"$f":"OFFSET(fakturace!F72,fakturace!#REF!,0)","v":{"$error":"#REF!"}},null,{"$f":"OFFSET(fakturace!B71,fakturace!#REF!,0)","v":{"$error":"#REF!"}},{"$f":"OFFSET(fakturace!C71,fakturace!#REF!,0)","v":{"$error":"#REF!"}},{"$f":"OFFSET(fakturace!F71,fakturace!#REF!,0)","v":{"$error":"#REF!"}}]
[{"$f":"OFFSET(fakturace!B73,fakturace!#REF!,0)","v":{"$error":"#REF!"}},{"$f":"OFFSET(fakturace!C73,fakturace!#REF!,0)","v":{"$error":"#REF!"}},{"$f":"OFFSET(fakturace!F73,fakturace!#REF!,0)","v":{"$error":"#REF!"}},null,{"$f":"OFFSET(fakturace!B72,fakturace!#REF!,0)","v":{"$error":"#REF!"}},{"$f":"OFFSET(fakturace!C72,fakturace!#REF!,0)","v":{"$error":"#REF!"}},{"$f":"OFFSET(fakturace!F72,fakturace!#REF!,0)","v":{"$error":"#REF!"}}]
[{"$f":"OFFSET(fakturace!B74,fakturace!#REF!,0)","v":{"$error":"#REF!"}},{"$f":"OFFSET(fakturace!C74,fakturace!#REF!,0)","v":{"$error":"#REF!"}},{"$f":"OFFSET(fakturace!F74,fakturace!#REF!,0)","v":{"$error":"#REF!"}},null,{"$f":"OFFSET(fakturace!B73,fakturace!#REF!,0)","v":{"$error":"#REF!"}},{"$f":"OFFSET(fakturace!C73,fakturace!#REF!,0)","v":{"$error":"#REF!"}},{"$f":"OFFSET(fakturace!F73,fakturace!#REF!,0)","v":{"$error":"#REF!"}}]
[{"$f":"OFFSET(fakturace!B75,fakturace!#REF!,0)","v":{"$error":"#REF!"}},{"$f":"OFFSET(fakturace!C75,fakturace!#REF!,0)","v":{"$error":"#REF!"}},{"$f":"OFFSET(fakturace!F75,fakturace!#REF!,0)","v":{"$error":"#REF!"}},null,{"$f":"OFFSET(fakturace!B74,fakturace!#REF!,0)","v":{"$error":"#REF!"}},{"$f":"OFFSET(fakturace!C74,fakturace!#REF!,0)","v":{"$error":"#REF!"}},{"$f":"OFFSET(fakturace!F74,fakturace!#REF!,0)","v":{"$error":"#REF!"}}]
[{"$f":"OFFSET(fakturace!B76,fakturace!#REF!,0)","v":{"$error":"#REF!"}},{"$f":"OFFSET(fakturace!C76,fakturace!#REF!,0)","v":{"$error":"#REF!"}},{"$f":"OFFSET(fakturace!F76,fakturace!#REF!,0)","v":{"$error":"#REF!"}},null,{"$f":"OFFSET(fakturace!B75,fakturace!#REF!,0)","v":{"$error":"#REF!"}},{"$f":"OFFSET(fakturace!C75,fakturace!#REF!,0)","v":{"$error":"#REF!"}},{"$f":"OFFSET(fakturace!F75,fakturace!#REF!,0)","v":{"$error":"#REF!"}}]
[{"$f":"OFFSET(fakturace!B77,fakturace!#REF!,0)","v":{"$error":"#REF!"}},{"$f":"OFFSET(fakturace!C77,fakturace!#REF!,0)","v":{"$error":"#REF!"}},{"$f":"OFFSET(fakturace!F77,fakturace!#REF!,0)","v":{"$error":"#REF!"}},null,{"$f":"OFFSET(fakturace!B76,fakturace!#REF!,0)","v":{"$error":"#REF!"}},{"$f":"OFFSET(fakturace!C76,fakturace!#REF!,0)","v":{"$error":"#REF!"}},{"$f":"OFFSET(fakturace!F76,fakturace!#REF!,0)","v":{"$error":"#REF!"}}]
[{"$f":"OFFSET(fakturace!B78,fakturace!#REF!,0)","v":{"$error":"#REF!"}},{"$f":"OFFSET(fakturace!C78,fakturace!#REF!,0)","v":{"$error":"#REF!"}},{"$f":"OFFSET(fakturace!F78,fakturace!#REF!,0)","v":{"$error":"#REF!"}},null,{"$f":"OFFSET(fakturace!B77,fakturace!#REF!,0)","v":{"$error":"#REF!"}},{"$f":"OFFSET(fakturace!C77,fakturace!#REF!,0)","v":{"$error":"#REF!"}},{"$f":"OFFSET(fakturace!F77,fakturace!#REF!,0)","v":{"$error":"#REF!"}}]
[{"$f":"OFFSET(fakturace!B79,fakturace!#REF!,0)","v":{"$error":"#REF!"}},{"$f":"OFFSET(fakturace!C79,fakturace!#REF!,0)","v":{"$error":"#REF!"}},{"$f":"OFFSET(fakturace!F79,fakturace!#REF!,0)","v":{"$error":"#REF!"}},null,{"$f":"OFFSET(fakturace!B78,fakturace!#REF!,0)","v":{"$error":"#REF!"}},{"$f":"OFFSET(fakturace!C78,fakturace!#REF!,0)","v":{"$error":"#REF!"}},{"$f":"OFFSET(fakturace!F78,fakturace!#REF!,0)","v":{"$error":"#REF!"}}]
[{"$f":"OFFSET(fakturace!B80,fakturace!#REF!,0)","v":{"$error":"#REF!"}},{"$f":"OFFSET(fakturace!C80,fakturace!#REF!,0)","v":{"$error":"#REF!"}},{"$f":"OFFSET(fakturace!F80,fakturace!#REF!,0)","v":{"$error":"#REF!"}},null,{"$f":"OFFSET(fakturace!B79,fakturace!#REF!,0)","v":{"$error":"#REF!"}},{"$f":"OFFSET(fakturace!C79,fakturace!#REF!,0)","v":{"$error":"#REF!"}},{"$f":"OFFSET(fakturace!F79,fakturace!#REF!,0)","v":{"$error":"#REF!"}}]
[{"$f":"OFFSET(fakturace!B81,fakturace!#REF!,0)","v":{"$error":"#REF!"}},{"$f":"OFFSET(fakturace!C81,fakturace!#REF!,0)","v":{"$error":"#REF!"}},{"$f":"OFFSET(fakturace!F81,fakturace!#REF!,0)","v":{"$error":"#REF!"}},null,{"$f":"OFFSET(fakturace!B80,fakturace!#REF!,0)","v":{"$error":"#REF!"}},{"$f":"OFFSET(fakturace!C80,fakturace!#REF!,0)","v":{"$error":"#REF!"}},{"$f":"OFFSET(fakturace!F80,fakturace!#REF!,0)","v":{"$error":"#REF!"}}]
[{"$f":"OFFSET(fakturace!B82,fakturace!#REF!,0)","v":{"$error":"#REF!"}},{"$f":"OFFSET(fakturace!C82,fakturace!#REF!,0)","v":{"$error":"#REF!"}},{"$f":"OFFSET(fakturace!F82,fakturace!#REF!,0)","v":{"$error":"#REF!"}},null,{"$f":"OFFSET(fakturace!B81,fakturace!#REF!,0)","v":{"$error":"#REF!"}},{"$f":"OFFSET(fakturace!C81,fakturace!#REF!,0)","v":{"$error":"#REF!"}},{"$f":"OFFSET(fakturace!F81,fakturace!#REF!,0)","v":{"$error":"#REF!"}}]
[{"$f":"OFFSET(fakturace!B83,fakturace!#REF!,0)","v":{"$error":"#REF!"}},{"$f":"OFFSET(fakturace!C83,fakturace!#REF!,0)","v":{"$error":"#REF!"}},{"$f":"OFFSET(fakturace!F83,fakturace!#REF!,0)","v":{"$error":"#REF!"}},null,{"$f":"OFFSET(fakturace!B82,fakturace!#REF!,0)","v":{"$error":"#REF!"}},{"$f":"OFFSET(fakturace!C82,fakturace!#REF!,0)","v":{"$error":"#REF!"}},{"$f":"OFFSET(fakturace!F82,fakturace!#REF!,0)","v":{"$error":"#REF!"}}]
[{"$f":"OFFSET(fakturace!B84,fakturace!#REF!,0)","v":{"$error":"#REF!"}},{"$f":"OFFSET(fakturace!C84,fakturace!#REF!,0)","v":{"$error":"#REF!"}},{"$f":"OFFSET(fakturace!F84,fakturace!#REF!,0)","v":{"$error":"#REF!"}},null,{"$f":"OFFSET(fakturace!B83,fakturace!#REF!,0)","v":{"$error":"#REF!"}},{"$f":"OFFSET(fakturace!C83,fakturace!#REF!,0)","v":{"$error":"#REF!"}},{"$f":"OFFSET(fakturace!F83,fakturace!#REF!,0)","v":{"$error":"#REF!"}}]
[{"$f":"OFFSET(fakturace!B85,fakturace!#REF!,0)","v":{"$error":"#REF!"}},{"$f":"OFFSET(fakturace!C85,fakturace!#REF!,0)","v":{"$error":"#REF!"}},{"$f":"OFFSET(fakturace!F85,fakturace!#REF!,0)","v":{"$error":"#REF!"}},null,{"$f":"OFFSET(fakturace!B84,fakturace!#REF!,0)","v":{"$error":"#REF!"}},{"$f":"OFFSET(fakturace!C84,fakturace!#REF!,0)","v":{"$error":"#REF!"}},{"$f":"OFFSET(fakturace!F84,fakturace!#REF!,0)","v":{"$error":"#REF!"}}]
[{"$f":"OFFSET(fakturace!B86,fakturace!#REF!,0)","v":{"$error":"#REF!"}},{"$f":"OFFSET(fakturace!C86,fakturace!#REF!,0)","v":{"$error":"#REF!"}},{"$f":"OFFSET(fakturace!F86,fakturace!#REF!,0)","v":{"$error":"#REF!"}},null,{"$f":"OFFSET(fakturace!B85,fakturace!#REF!,0)","v":{"$error":"#REF!"}},{"$f":"OFFSET(fakturace!C85,fakturace!#REF!,0)","v":{"$error":"#REF!"}},{"$f":"OFFSET(fakturace!F85,fakturace!#REF!,0)","v":{"$error":"#REF!"}}]
[{"$f":"OFFSET(fakturace!B87,fakturace!#REF!,0)","v":{"$error":"#REF!"}},{"$f":"OFFSET(fakturace!C87,fakturace!#REF!,0)","v":{"$error":"#REF!"}},{"$f":"OFFSET(fakturace!F87,fakturace!#REF!,0)","v":{"$error":"#REF!"}},null,{"$f":"OFFSET(fakturace!B86,fakturace!#REF!,0)","v":{"$error":"#REF!"}},{"$f":"OFFSET(fakturace!C86,fakturace!#REF!,0)","v":{"$error":"#REF!"}},{"$f":"OFFSET(fakturace!F86,fakturace!#REF!,0)","v":{"$error":"#REF!"}}]
[{"$f":"OFFSET(fakturace!B88,fakturace!#REF!,0)","v":{"$error":"#REF!"}},{"$f":"OFFSET(fakturace!C88,fakturace!#REF!,0)","v":{"$error":"#REF!"}},{"$f":"OFFSET(fakturace!F88,fakturace!#REF!,0)","v":{"$error":"#REF!"}}]
[{"$f":"OFFSET(fakturace!B89,fakturace!#REF!,0)","v":{"$error":"#REF!"}},{"$f":"OFFSET(fakturace!C89,fakturace!#REF!,0)","v":{"$error":"#REF!"}},{"$f":"OFFSET(fakturace!F89,fakturace!#REF!,0)","v":{"$error":"#REF!"}}]
[{"$f":"OFFSET(fakturace!B90,fakturace!#REF!,0)","v":{"$error":"#REF!"}},{"$f":"OFFSET(fakturace!C90,fakturace!#REF!,0)","v":{"$error":"#REF!"}},{"$f":"OFFSET(fakturace!F90,fakturace!#REF!,0)","v":{"$error":"#REF!"}}]
[{"$f":"OFFSET(fakturace!B91,fakturace!#REF!,0)","v":{"$error":"#REF!"}},{"$f":"OFFSET(fakturace!C91,fakturace!#REF!,0)","v":{"$error":"#REF!"}},{"$f":"OFFSET(fakturace!F91,fakturace!#REF!,0)","v":{"$error":"#REF!"}}]
[{"$f":"OFFSET(fakturace!B92,fakturace!#REF!,0)","v":{"$error":"#REF!"}},{"$f":"OFFSET(fakturace!C92,fakturace!#REF!,0)","v":{"$error":"#REF!"}},{"$f":"OFFSET(fakturace!F92,fakturace!#REF!,0)","v":{"$error":"#REF!"}}]
[{"$f":"OFFSET(fakturace!B93,fakturace!#REF!,0)","v":{"$error":"#REF!"}},{"$f":"OFFSET(fakturace!C93,fakturace!#REF!,0)","v":{"$error":"#REF!"}},{"$f":"OFFSET(fakturace!F93,fakturace!#REF!,0)","v":{"$error":"#REF!"}}]
[{"$f":"OFFSET(fakturace!B94,fakturace!#REF!,0)","v":{"$error":"#REF!"}},{"$f":"OFFSET(fakturace!C94,fakturace!#REF!,0)","v":{"$error":"#REF!"}},{"$f":"OFFSET(fakturace!F94,fakturace!#REF!,0)","v":{"$error":"#REF!"}}]
[{"$f":"OFFSET(fakturace!B95,fakturace!#REF!,0)","v":{"$error":"#REF!"}},{"$f":"OFFSET(fakturace!C95,fakturace!#REF!,0)","v":{"$error":"#REF!"}},{"$f":"OFFSET(fakturace!F95,fakturace!#REF!,0)","v":{"$error":"#REF!"}}]
[{"$f":"OFFSET(fakturace!B96,fakturace!#REF!,0)","v":{"$error":"#REF!"}},{"$f":"OFFSET(fakturace!C96,fakturace!#REF!,0)","v":{"$error":"#REF!"}},{"$f":"OFFSET(fakturace!F96,fakturace!#REF!,0)","v":{"$error":"#REF!"}}]
[{"$f":"OFFSET(fakturace!B97,fakturace!#REF!,0)","v":{"$error":"#REF!"}},{"$f":"OFFSET(fakturace!C97,fakturace!#REF!,0)","v":{"$error":"#REF!"}},{"$f":"OFFSET(fakturace!F97,fakturace!#REF!,0)","v":{"$error":"#REF!"}}]
[{"$f":"OFFSET(fakturace!B98,fakturace!#REF!,0)","v":{"$error":"#REF!"}},{"$f":"OFFSET(fakturace!C98,fakturace!#REF!,0)","v":{"$error":"#REF!"}},{"$f":"OFFSET(fakturace!F98,fakturace!#REF!,0)","v":{"$error":"#REF!"}}]
[{"$f":"OFFSET(fakturace!B99,fakturace!#REF!,0)","v":{"$error":"#REF!"}},{"$f":"OFFSET(fakturace!C99,fakturace!#REF!,0)","v":{"$error":"#REF!"}},{"$f":"OFFSET(fakturace!F99,fakturace!#REF!,0)","v":{"$error":"#REF!"}}]
[{"$f":"OFFSET(fakturace!B100,fakturace!#REF!,0)","v":{"$error":"#REF!"}},{"$f":"OFFSET(fakturace!C100,fakturace!#REF!,0)","v":{"$error":"#REF!"}},{"$f":"OFFSET(fakturace!F100,fakturace!#REF!,0)","v":{"$error":"#REF!"}}]
[{"$f":"OFFSET(fakturace!B101,fakturace!#REF!,0)","v":{"$error":"#REF!"}},{"$f":"OFFSET(fakturace!C101,fakturace!#REF!,0)","v":{"$error":"#REF!"}},{"$f":"OFFSET(fakturace!F101,fakturace!#REF!,0)","v":{"$error":"#REF!"}}]
[{"$f":"OFFSET(fakturace!B102,fakturace!#REF!,0)","v":{"$error":"#REF!"}},{"$f":"OFFSET(fakturace!C102,fakturace!#REF!,0)","v":{"$error":"#REF!"}},{"$f":"OFFSET(fakturace!F102,fakturace!#REF!,0)","v":{"$error":"#REF!"}}]
[{"$f":"OFFSET(fakturace!B103,fakturace!#REF!,0)","v":{"$error":"#REF!"}},{"$f":"OFFSET(fakturace!C103,fakturace!#REF!,0)","v":{"$error":"#REF!"}},{"$f":"OFFSET(fakturace!F103,fakturace!#REF!,0)","v":{"$error":"#REF!"}}]
[{"$f":"OFFSET(fakturace!B104,fakturace!#REF!,0)","v":{"$error":"#REF!"}},{"$f":"OFFSET(fakturace!C104,fakturace!#REF!,0)","v":{"$error":"#REF!"}},{"$f":"OFFSET(fakturace!F104,fakturace!#REF!,0)","v":{"$error":"#REF!"}}]
[{"$f":"OFFSET(fakturace!B105,fakturace!#REF!,0)","v":{"$error":"#REF!"}},{"$f":"OFFSET(fakturace!C105,fakturace!#REF!,0)","v":{"$error":"#REF!"}},{"$f":"OFFSET(fakturace!F105,fakturace!#REF!,0)","v":{"$error":"#REF!"}}]
[{"$f":"OFFSET(fakturace!B106,fakturace!#REF!,0)","v":{"$error":"#REF!"}},{"$f":"OFFSET(fakturace!C106,fakturace!#REF!,0)","v":{"$error":"#REF!"}},{"$f":"OFFSET(fakturace!F106,fakturace!#REF!,0)","v":{"$error":"#REF!"}}]
[{"$f":"OFFSET(fakturace!B107,fakturace!#REF!,0)","v":{"$error":"#REF!"}},{"$f":"OFFSET(fakturace!C107,fakturace!#REF!,0)","v":{"$error":"#REF!"}},{"$f":"OFFSET(fakturace!F107,fakturace!#REF!,0)","v":{"$error":"#REF!"}}]
[{"$f":"OFFSET(fakturace!B108,fakturace!#REF!,0)","v":{"$error":"#REF!"}},{"$f":"OFFSET(fakturace!C108,fakturace!#REF!,0)","v":{"$error":"#REF!"}},{"$f":"OFFSET(fakturace!F108,fakturace!#REF!,0)","v":{"$error":"#REF!"}}]
[{"$f":"OFFSET(fakturace!B109,fakturace!#REF!,0)","v":{"$error":"#REF!"}},{"$f":"OFFSET(fakturace!C109,fakturace!#REF!,0)","v":{"$error":"#REF!"}},{"$f":"OFFSET(fakturace!F109,fakturace!#REF!,0)","v":{"$error":"#REF!"}}]
[{"$f":"OFFSET(fakturace!B110,fakturace!#REF!,0)","v":{"$error":"#REF!"}},{"$f":"OFFSET(fakturace!C110,fakturace!#REF!,0)","v":{"$error":"#REF!"}},{"$f":"OFFSET(fakturace!F110,fakturace!#REF!,0)","v":{"$error":"#REF!"}}]
[{"$f":"OFFSET(fakturace!B111,fakturace!#REF!,0)","v":{"$error":"#REF!"}},{"$f":"OFFSET(fakturace!C111,fakturace!#REF!,0)","v":{"$error":"#REF!"}},{"$f":"OFFSET(fakturace!F111,fakturace!#REF!,0)","v":{"$error":"#REF!"}}]
[{"$f":"OFFSET(fakturace!B112,fakturace!#REF!,0)","v":{"$error":"#REF!"}},{"$f":"OFFSET(fakturace!C112,fakturace!#REF!,0)","v":{"$error":"#REF!"}},{"$f":"OFFSET(fakturace!F112,fakturace!#REF!,0)","v":{"$error":"#REF!"}}]
[{"$f":"OFFSET(fakturace!B113,fakturace!#REF!,0)","v":{"$error":"#REF!"}},{"$f":"OFFSET(fakturace!C113,fakturace!#REF!,0)","v":{"$error":"#REF!"}},{"$f":"OFFSET(fakturace!F113,fakturace!#REF!,0)","v":{"$error":"#REF!"}}]
[{"$f":"OFFSET(fakturace!B114,fakturace!#REF!,0)","v":{"$error":"#REF!"}},{"$f":"OFFSET(fakturace!C114,fakturace!#REF!,0)","v":{"$error":"#REF!"}},{"$f":"OFFSET(fakturace!F114,fakturace!#REF!,0)","v":{"$error":"#REF!"}}]
[{"$f":"OFFSET(fakturace!B115,fakturace!#REF!,0)","v":{"$error":"#REF!"}},{"$f":"OFFSET(fakturace!C115,fakturace!#REF!,0)","v":{"$error":"#REF!"}},{"$f":"OFFSET(fakturace!F115,fakturace!#REF!,0)","v":{"$error":"#REF!"}}]
[{"$f":"OFFSET(fakturace!B116,fakturace!#REF!,0)","v":{"$error":"#REF!"}},{"$f":"OFFSET(fakturace!C116,fakturace!#REF!,0)","v":{"$error":"#REF!"}},{"$f":"OFFSET(fakturace!F116,fakturace!#REF!,0)","v":{"$error":"#REF!"}}]
[{"$f":"OFFSET(fakturace!B117,fakturace!#REF!,0)","v":{"$error":"#REF!"}},{"$f":"OFFSET(fakturace!C117,fakturace!#REF!,0)","v":{"$error":"#REF!"}},{"$f":"OFFSET(fakturace!F117,fakturace!#REF!,0)","v":{"$error":"#REF!"}}]
[{"$f":"OFFSET(fakturace!B118,fakturace!#REF!,0)","v":{"$error":"#REF!"}},{"$f":"OFFSET(fakturace!C118,fakturace!#REF!,0)","v":{"$error":"#REF!"}},{"$f":"OFFSET(fakturace!F118,fakturace!#REF!,0)","v":{"$error":"#REF!"}}]
[{"$f":"OFFSET(fakturace!B119,fakturace!#REF!,0)","v":{"$error":"#REF!"}},{"$f":"OFFSET(fakturace!C119,fakturace!#REF!,0)","v":{"$error":"#REF!"}},{"$f":"OFFSET(fakturace!F119,fakturace!#REF!,0)","v":{"$error":"#REF!"}}]
[{"$f":"OFFSET(fakturace!B120,fakturace!#REF!,0)","v":{"$error":"#REF!"}},{"$f":"OFFSET(fakturace!C120,fakturace!#REF!,0)","v":{"$error":"#REF!"}},{"$f":"OFFSET(fakturace!F120,fakturace!#REF!,0)","v":{"$error":"#REF!"}}]
[{"$f":"OFFSET(fakturace!B121,fakturace!#REF!,0)","v":{"$error":"#REF!"}},{"$f":"OFFSET(fakturace!C121,fakturace!#REF!,0)","v":{"$error":"#REF!"}},{"$f":"OFFSET(fakturace!F121,fakturace!#REF!,0)","v":{"$error":"#REF!"}}]
[{"$f":"OFFSET(fakturace!B122,fakturace!#REF!,0)","v":{"$error":"#REF!"}},{"$f":"OFFSET(fakturace!C122,fakturace!#REF!,0)","v":{"$error":"#REF!"}},{"$f":"OFFSET(fakturace!F122,fakturace!#REF!,0)","v":{"$error":"#REF!"}}]
[{"$f":"OFFSET(fakturace!B123,fakturace!#REF!,0)","v":{"$error":"#REF!"}},{"$f":"OFFSET(fakturace!C123,fakturace!#REF!,0)","v":{"$error":"#REF!"}},{"$f":"OFFSET(fakturace!F123,fakturace!#REF!,0)","v":{"$error":"#REF!"}}]
[{"$f":"OFFSET(fakturace!B124,fakturace!#REF!,0)","v":{"$error":"#REF!"}},{"$f":"OFFSET(fakturace!C124,fakturace!#REF!,0)","v":{"$error":"#REF!"}},{"$f":"OFFSET(fakturace!F124,fakturace!#REF!,0)","v":{"$error":"#REF!"}}]
[{"$f":"OFFSET(fakturace!B125,fakturace!#REF!,0)","v":{"$error":"#REF!"}},{"$f":"OFFSET(fakturace!C125,fakturace!#REF!,0)","v":{"$error":"#REF!"}},{"$f":"OFFSET(fakturace!F125,fakturace!#REF!,0)","v":{"$error":"#REF!"}}]
[{"$f":"OFFSET(fakturace!B126,fakturace!#REF!,0)","v":{"$error":"#REF!"}},{"$f":"OFFSET(fakturace!C126,fakturace!#REF!,0)","v":{"$error":"#REF!"}},{"$f":"OFFSET(fakturace!F126,fakturace!#REF!,0)","v":{"$error":"#REF!"}}]
[{"$f":"OFFSET(fakturace!B127,fakturace!#REF!,0)","v":{"$error":"#REF!"}},{"$f":"OFFSET(fakturace!C127,fakturace!#REF!,0)","v":{"$error":"#REF!"}},{"$f":"OFFSET(fakturace!F127,fakturace!#REF!,0)","v":{"$error":"#REF!"}}]
[{"$f":"OFFSET(fakturace!B128,fakturace!#REF!,0)","v":{"$error":"#REF!"}},{"$f":"OFFSET(fakturace!C128,fakturace!#REF!,0)","v":{"$error":"#REF!"}},{"$f":"OFFSET(fakturace!F128,fakturace!#REF!,0)","v":{"$error":"#REF!"}}]
[{"$f":"OFFSET(fakturace!B129,fakturace!#REF!,0)","v":{"$error":"#REF!"}},{"$f":"OFFSET(fakturace!C129,fakturace!#REF!,0)","v":{"$error":"#REF!"}},{"$f":"OFFSET(fakturace!F129,fakturace!#REF!,0)","v":{"$error":"#REF!"}}]
[{"$f":"OFFSET(fakturace!B130,fakturace!#REF!,0)","v":{"$error":"#REF!"}},{"$f":"OFFSET(fakturace!C130,fakturace!#REF!,0)","v":{"$error":"#REF!"}},{"$f":"OFFSET(fakturace!F130,fakturace!#REF!,0)","v":{"$error":"#REF!"}}]
[{"$f":"OFFSET(fakturace!B131,fakturace!#REF!,0)","v":{"$error":"#REF!"}},{"$f":"OFFSET(fakturace!C131,fakturace!#REF!,0)","v":{"$error":"#REF!"}},{"$f":"OFFSET(fakturace!F131,fakturace!#REF!,0)","v":{"$error":"#REF!"}}]
[{"$f":"OFFSET(fakturace!B132,fakturace!#REF!,0)","v":{"$error":"#REF!"}},{"$f":"OFFSET(fakturace!C132,fakturace!#REF!,0)","v":{"$error":"#REF!"}},{"$f":"OFFSET(fakturace!F132,fakturace!#REF!,0)","v":{"$error":"#REF!"}}]
[{"$f":"OFFSET(fakturace!B133,fakturace!#REF!,0)","v":{"$error":"#REF!"}},{"$f":"OFFSET(fakturace!C133,fakturace!#REF!,0)","v":{"$error":"#REF!"}},{"$f":"OFFSET(fakturace!F133,fakturace!#REF!,0)","v":{"$error":"#REF!"}}]
[{"$f":"OFFSET(fakturace!B134,fakturace!#REF!,0)","v":{"$error":"#REF!"}},{"$f":"OFFSET(fakturace!C134,fakturace!#REF!,0)","v":{"$error":"#REF!"}},{"$f":"OFFSET(fakturace!F134,fakturace!#REF!,0)","v":{"$error":"#REF!"}}]
[{"$f":"OFFSET(fakturace!B135,fakturace!#REF!,0)","v":{"$error":"#REF!"}},{"$f":"OFFSET(fakturace!C135,fakturace!#REF!,0)","v":{"$error":"#REF!"}},{"$f":"OFFSET(fakturace!F135,fakturace!#REF!,0)","v":{"$error":"#REF!"}}]
[{"$f":"OFFSET(fakturace!B136,fakturace!#REF!,0)","v":{"$error":"#REF!"}},{"$f":"OFFSET(fakturace!C136,fakturace!#REF!,0)","v":{"$error":"#REF!"}},{"$f":"OFFSET(fakturace!F136,fakturace!#REF!,0)","v":{"$error":"#REF!"}}]
[{"$f":"OFFSET(fakturace!B137,fakturace!#REF!,0)","v":{"$error":"#REF!"}},{"$f":"OFFSET(fakturace!C137,fakturace!#REF!,0)","v":{"$error":"#REF!"}},{"$f":"OFFSET(fakturace!F137,fakturace!#REF!,0)","v":{"$error":"#REF!"}}]
[{"$f":"OFFSET(fakturace!B138,fakturace!#REF!,0)","v":{"$error":"#REF!"}},{"$f":"OFFSET(fakturace!C138,fakturace!#REF!,0)","v":{"$error":"#REF!"}},{"$f":"OFFSET(fakturace!F138,fakturace!#REF!,0)","v":{"$error":"#REF!"}}]
[{"$f":"OFFSET(fakturace!B139,fakturace!#REF!,0)","v":{"$error":"#REF!"}},{"$f":"OFFSET(fakturace!C139,fakturace!#REF!,0)","v":{"$error":"#REF!"}},{"$f":"OFFSET(fakturace!F139,fakturace!#REF!,0)","v":{"$error":"#REF!"}}]
[{"$f":"OFFSET(fakturace!B140,fakturace!#REF!,0)","v":{"$error":"#REF!"}},{"$f":"OFFSET(fakturace!C140,fakturace!#REF!,0)","v":{"$error":"#REF!"}},{"$f":"OFFSET(fakturace!F140,fakturace!#REF!,0)","v":{"$error":"#REF!"}}]
[{"$f":"OFFSET(fakturace!B141,fakturace!#REF!,0)","v":{"$error":"#REF!"}},{"$f":"OFFSET(fakturace!C141,fakturace!#REF!,0)","v":{"$error":"#REF!"}},{"$f":"OFFSET(fakturace!F141,fakturace!#REF!,0)","v":{"$error":"#REF!"}}]
[{"$f":"OFFSET(fakturace!B142,fakturace!#REF!,0)","v":{"$error":"#REF!"}},{"$f":"OFFSET(fakturace!C142,fakturace!#REF!,0)","v":{"$error":"#REF!"}},{"$f":"OFFSET(fakturace!F142,fakturace!#REF!,0)","v":{"$error":"#REF!"}}]
[{"$f":"OFFSET(fakturace!B143,fakturace!#REF!,0)","v":{"$error":"#REF!"}},{"$f":"OFFSET(fakturace!C143,fakturace!#REF!,0)","v":{"$error":"#REF!"}},{"$f":"OFFSET(fakturace!F143,fakturace!#REF!,0)","v":{"$error":"#REF!"}}]
[{"$f":"OFFSET(fakturace!B144,fakturace!#REF!,0)","v":{"$error":"#REF!"}},{"$f":"OFFSET(fakturace!C144,fakturace!#REF!,0)","v":{"$error":"#REF!"}},{"$f":"OFFSET(fakturace!F144,fakturace!#REF!,0)","v":{"$error":"#REF!"}}]
[{"$f":"OFFSET(fakturace!B145,fakturace!#REF!,0)","v":{"$error":"#REF!"}},{"$f":"OFFSET(fakturace!C145,fakturace!#REF!,0)","v":{"$error":"#REF!"}},{"$f":"OFFSET(fakturace!F145,fakturace!#REF!,0)","v":{"$error":"#REF!"}}]
[{"$f":"OFFSET(fakturace!B146,fakturace!#REF!,0)","v":{"$error":"#REF!"}},{"$f":"OFFSET(fakturace!C146,fakturace!#REF!,0)","v":{"$error":"#REF!"}},{"$f":"OFFSET(fakturace!F146,fakturace!#REF!,0)","v":{"$error":"#REF!"}}]
[{"$f":"OFFSET(fakturace!B147,fakturace!#REF!,0)","v":{"$error":"#REF!"}},{"$f":"OFFSET(fakturace!C147,fakturace!#REF!,0)","v":{"$error":"#REF!"}},{"$f":"OFFSET(fakturace!F147,fakturace!#REF!,0)","v":{"$error":"#REF!"}}]
[{"$f":"OFFSET(fakturace!B148,fakturace!#REF!,0)","v":{"$error":"#REF!"}},{"$f":"OFFSET(fakturace!C148,fakturace!#REF!,0)","v":{"$error":"#REF!"}},{"$f":"OFFSET(fakturace!F148,fakturace!#REF!,0)","v":{"$error":"#REF!"}}]
[{"$f":"OFFSET(fakturace!B149,fakturace!#REF!,0)","v":{"$error":"#REF!"}},{"$f":"OFFSET(fakturace!C149,fakturace!#REF!,0)","v":{"$error":"#REF!"}},{"$f":"OFFSET(fakturace!F149,fakturace!#REF!,0)","v":{"$error":"#REF!"}}]
[{"$f":"OFFSET(fakturace!B150,fakturace!#REF!,0)","v":{"$error":"#REF!"}},{"$f":"OFFSET(fakturace!C150,fakturace!#REF!,0)","v":{"$error":"#REF!"}},{"$f":"OFFSET(fakturace!F150,fakturace!#REF!,0)","v":{"$error":"#REF!"}}]
[{"$f":"OFFSET(fakturace!B151,fakturace!#REF!,0)","v":{"$error":"#REF!"}},{"$f":"OFFSET(fakturace!C151,fakturace!#REF!,0)","v":{"$error":"#REF!"}},{"$f":"OFFSET(fakturace!F151,fakturace!#REF!,0)","v":{"$error":"#REF!"}}]
[{"$f":"OFFSET(fakturace!B152,fakturace!#REF!,0)","v":{"$error":"#REF!"}},{"$f":"OFFSET(fakturace!C152,fakturace!#REF!,0)","v":{"$error":"#REF!"}},{"$f":"OFFSET(fakturace!F152,fakturace!#REF!,0)","v":{"$error":"#REF!"}}]
[{"$f":"OFFSET(fakturace!B153,fakturace!#REF!,0)","v":{"$error":"#REF!"}},{"$f":"OFFSET(fakturace!C153,fakturace!#REF!,0)","v":{"$error":"#REF!"}},{"$f":"OFFSET(fakturace!F153,fakturace!#REF!,0)","v":{"$error":"#REF!"}}]
[{"$f":"OFFSET(fakturace!B154,fakturace!#REF!,0)","v":{"$error":"#REF!"}},{"$f":"OFFSET(fakturace!C154,fakturace!#REF!,0)","v":{"$error":"#REF!"}},{"$f":"OFFSET(fakturace!F154,fakturace!#REF!,0)","v":{"$error":"#REF!"}}]
[{"$f":"OFFSET(fakturace!B155,fakturace!#REF!,0)","v":{"$error":"#REF!"}},{"$f":"OFFSET(fakturace!C155,fakturace!#REF!,0)","v":{"$error":"#REF!"}},{"$f":"OFFSET(fakturace!F155,fakturace!#REF!,0)","v":{"$error":"#REF!"}}]
[{"$f":"OFFSET(fakturace!B156,fakturace!#REF!,0)","v":{"$error":"#REF!"}},{"$f":"OFFSET(fakturace!C156,fakturace!#REF!,0)","v":{"$error":"#REF!"}},{"$f":"OFFSET(fakturace!F156,fakturace!#REF!,0)","v":{"$error":"#REF!"}}]
[{"$f":"OFFSET(fakturace!B157,fakturace!#REF!,0)","v":{"$error":"#REF!"}},{"$f":"OFFSET(fakturace!C157,fakturace!#REF!,0)","v":{"$error":"#REF!"}},{"$f":"OFFSET(fakturace!F157,fakturace!#REF!,0)","v":{"$error":"#REF!"}}]
[{"$f":"OFFSET(fakturace!B158,fakturace!#REF!,0)","v":{"$error":"#REF!"}},{"$f":"OFFSET(fakturace!C158,fakturace!#REF!,0)","v":{"$error":"#REF!"}},{"$f":"OFFSET(fakturace!F158,fakturace!#REF!,0)","v":{"$error":"#REF!"}}]
[{"$f":"OFFSET(fakturace!B159,fakturace!#REF!,0)","v":{"$error":"#REF!"}},{"$f":"OFFSET(fakturace!C159,fakturace!#REF!,0)","v":{"$error":"#REF!"}},{"$f":"OFFSET(fakturace!F159,fakturace!#REF!,0)","v":{"$error":"#REF!"}}]
[{"$f":"OFFSET(fakturace!B160,fakturace!#REF!,0)","v":{"$error":"#REF!"}},{"$f":"OFFSET(fakturace!C160,fakturace!#REF!,0)","v":{"$error":"#REF!"}},{"$f":"OFFSET(fakturace!F160,fakturace!#REF!,0)","v":{"$error":"#REF!"}}]
[{"$f":"OFFSET(fakturace!B161,fakturace!#REF!,0)","v":{"$error":"#REF!"}},{"$f":"OFFSET(fakturace!C161,fakturace!#REF!,0)","v":{"$error":"#REF!"}},{"$f":"OFFSET(fakturace!F161,fakturace!#REF!,0)","v":{"$error":"#REF!"}}]
[{"$f":"OFFSET(fakturace!B162,fakturace!#REF!,0)","v":{"$error":"#REF!"}},{"$f":"OFFSET(fakturace!C162,fakturace!#REF!,0)","v":{"$error":"#REF!"}},{"$f":"OFFSET(fakturace!F162,fakturace!#REF!,0)","v":{"$error":"#REF!"}}]
[{"$f":"OFFSET(fakturace!B163,fakturace!#REF!,0)","v":{"$error":"#REF!"}},{"$f":"OFFSET(fakturace!C163,fakturace!#REF!,0)","v":{"$error":"#REF!"}},{"$f":"OFFSET(fakturace!F163,fakturace!#REF!,0)","v":{"$error":"#REF!"}}]
[{"$f":"OFFSET(fakturace!B164,fakturace!#REF!,0)","v":{"$error":"#REF!"}},{"$f":"OFFSET(fakturace!C164,fakturace!#REF!,0)","v":{"$error":"#REF!"}},{"$f":"OFFSET(fakturace!F164,fakturace!#REF!,0)","v":{"$error":"#REF!"}}]
[{"$f":"OFFSET(fakturace!B165,fakturace!#REF!,0)","v":{"$error":"#REF!"}},{"$f":"OFFSET(fakturace!C165,fakturace!#REF!,0)","v":{"$error":"#REF!"}},{"$f":"OFFSET(fakturace!F165,fakturace!#REF!,0)","v":{"$error":"#REF!"}}]
[{"$f":"OFFSET(fakturace!B166,fakturace!#REF!,0)","v":{"$error":"#REF!"}},{"$f":"OFFSET(fakturace!C166,fakturace!#REF!,0)","v":{"$error":"#REF!"}},{"$f":"OFFSET(fakturace!F166,fakturace!#REF!,0)","v":{"$error":"#REF!"}}]
[{"$f":"OFFSET(fakturace!B167,fakturace!#REF!,0)","v":{"$error":"#REF!"}},{"$f":"OFFSET(fakturace!C167,fakturace!#REF!,0)","v":{"$error":"#REF!"}},{"$f":"OFFSET(fakturace!F167,fakturace!#REF!,0)","v":{"$error":"#REF!"}}]
[{"$f":"OFFSET(fakturace!B168,fakturace!#REF!,0)","v":{"$error":"#REF!"}},{"$f":"OFFSET(fakturace!C168,fakturace!#REF!,0)","v":{"$error":"#REF!"}},{"$f":"OFFSET(fakturace!F168,fakturace!#REF!,0)","v":{"$error":"#REF!"}}]
[{"$f":"OFFSET(fakturace!B169,fakturace!#REF!,0)","v":{"$error":"#REF!"}},{"$f":"OFFSET(fakturace!C169,fakturace!#REF!,0)","v":{"$error":"#REF!"}},{"$f":"OFFSET(fakturace!F169,fakturace!#REF!,0)","v":{"$error":"#REF!"}}]
[{"$f":"OFFSET(fakturace!B170,fakturace!#REF!,0)","v":{"$error":"#REF!"}},{"$f":"OFFSET(fakturace!C170,fakturace!#REF!,0)","v":{"$error":"#REF!"}},{"$f":"OFFSET(fakturace!F170,fakturace!#REF!,0)","v":{"$error":"#REF!"}}]
[{"$f":"OFFSET(fakturace!B171,fakturace!#REF!,0)","v":{"$error":"#REF!"}},{"$f":"OFFSET(fakturace!C171,fakturace!#REF!,0)","v":{"$error":"#REF!"}},{"$f":"OFFSET(fakturace!F171,fakturace!#REF!,0)","v":{"$error":"#REF!"}}]
[{"$f":"OFFSET(fakturace!B172,fakturace!#REF!,0)","v":{"$error":"#REF!"}},{"$f":"OFFSET(fakturace!C172,fakturace!#REF!,0)","v":{"$error":"#REF!"}},{"$f":"OFFSET(fakturace!F172,fakturace!#REF!,0)","v":{"$error":"#REF!"}}]
[{"$f":"OFFSET(fakturace!B173,fakturace!#REF!,0)","v":{"$error":"#REF!"}},{"$f":"OFFSET(fakturace!C173,fakturace!#REF!,0)","v":{"$error":"#REF!"}},{"$f":"OFFSET(fakturace!F173,fakturace!#REF!,0)","v":{"$error":"#REF!"}}]
[{"$f":"OFFSET(fakturace!B174,fakturace!#REF!,0)","v":{"$error":"#REF!"}},{"$f":"OFFSET(fakturace!C174,fakturace!#REF!,0)","v":{"$error":"#REF!"}},{"$f":"OFFSET(fakturace!F174,fakturace!#REF!,0)","v":{"$error":"#REF!"}}]
[{"$f":"OFFSET(fakturace!B175,fakturace!#REF!,0)","v":{"$error":"#REF!"}},{"$f":"OFFSET(fakturace!C175,fakturace!#REF!,0)","v":{"$error":"#REF!"}},{"$f":"OFFSET(fakturace!F175,fakturace!#REF!,0)","v":{"$error":"#REF!"}}]
[{"$f":"OFFSET(fakturace!B176,fakturace!#REF!,0)","v":{"$error":"#REF!"}},{"$f":"OFFSET(fakturace!C176,fakturace!#REF!,0)","v":{"$error":"#REF!"}},{"$f":"OFFSET(fakturace!F176,fakturace!#REF!,0)","v":{"$error":"#REF!"}}]
[{"$f":"OFFSET(fakturace!B177,fakturace!#REF!,0)","v":{"$error":"#REF!"}},{"$f":"OFFSET(fakturace!C177,fakturace!#REF!,0)","v":{"$error":"#REF!"}},{"$f":"OFFSET(fakturace!F177,fakturace!#REF!,0)","v":{"$error":"#REF!"}}]
[{"$f":"OFFSET(fakturace!B178,fakturace!#REF!,0)","v":{"$error":"#REF!"}},{"$f":"OFFSET(fakturace!C178,fakturace!#REF!,0)","v":{"$error":"#REF!"}},{"$f":"OFFSET(fakturace!F178,fakturace!#REF!,0)","v":{"$error":"#REF!"}}]
[{"$f":"OFFSET(fakturace!B179,fakturace!#REF!,0)","v":{"$error":"#REF!"}},{"$f":"OFFSET(fakturace!C179,fakturace!#REF!,0)","v":{"$error":"#REF!"}},{"$f":"OFFSET(fakturace!F179,fakturace!#REF!,0)","v":{"$error":"#REF!"}}]
[{"$f":"OFFSET(fakturace!B180,fakturace!#REF!,0)","v":{"$error":"#REF!"}},{"$f":"OFFSET(fakturace!C180,fakturace!#REF!,0)","v":{"$error":"#REF!"}},{"$f":"OFFSET(fakturace!F180,fakturace!#REF!,0)","v":{"$error":"#REF!"}}]
[{"$f":"OFFSET(fakturace!B181,fakturace!#REF!,0)","v":{"$error":"#REF!"}},{"$f":"OFFSET(fakturace!C181,fakturace!#REF!,0)","v":{"$error":"#REF!"}},{"$f":"OFFSET(fakturace!F181,fakturace!#REF!,0)","v":{"$error":"#REF!"}}]
[{"$f":"OFFSET(fakturace!B182,fakturace!#REF!,0)","v":{"$error":"#REF!"}},{"$f":"OFFSET(fakturace!C182,fakturace!#REF!,0)","v":{"$error":"#REF!"}},{"$f":"OFFSET(fakturace!F182,fakturace!#REF!,0)","v":{"$error":"#REF!"}}]
[{"$f":"OFFSET(fakturace!B183,fakturace!#REF!,0)","v":{"$error":"#REF!"}},{"$f":"OFFSET(fakturace!C183,fakturace!#REF!,0)","v":{"$error":"#REF!"}},{"$f":"OFFSET(fakturace!F183,fakturace!#REF!,0)","v":{"$error":"#REF!"}}]
[{"$f":"OFFSET(fakturace!B184,fakturace!#REF!,0)","v":{"$error":"#REF!"}},{"$f":"OFFSET(fakturace!C184,fakturace!#REF!,0)","v":{"$error":"#REF!"}},{"$f":"OFFSET(fakturace!F184,fakturace!#REF!,0)","v":{"$error":"#REF!"}}]
[{"$f":"OFFSET(fakturace!B185,fakturace!#REF!,0)","v":{"$error":"#REF!"}},{"$f":"OFFSET(fakturace!C185,fakturace!#REF!,0)","v":{"$error":"#REF!"}},{"$f":"OFFSET(fakturace!F185,fakturace!#REF!,0)","v":{"$error":"#REF!"}}]
[{"$f":"OFFSET(fakturace!B186,fakturace!#REF!,0)","v":{"$error":"#REF!"}},{"$f":"OFFSET(fakturace!C186,fakturace!#REF!,0)","v":{"$error":"#REF!"}},{"$f":"OFFSET(fakturace!F186,fakturace!#REF!,0)","v":{"$error":"#REF!"}}]
[{"$f":"OFFSET(fakturace!B187,fakturace!#REF!,0)","v":{"$error":"#REF!"}},{"$f":"OFFSET(fakturace!C187,fakturace!#REF!,0)","v":{"$error":"#REF!"}},{"$f":"OFFSET(fakturace!F187,fakturace!#REF!,0)","v":{"$error":"#REF!"}}]
[{"$f":"OFFSET(fakturace!B188,fakturace!#REF!,0)","v":{"$error":"#REF!"}},{"$f":"OFFSET(fakturace!C188,fakturace!#REF!,0)","v":{"$error":"#REF!"}},{"$f":"OFFSET(fakturace!F188,fakturace!#REF!,0)","v":{"$error":"#REF!"}}]
[{"$f":"OFFSET(fakturace!B189,fakturace!#REF!,0)","v":{"$error":"#REF!"}},{"$f":"OFFSET(fakturace!C189,fakturace!#REF!,0)","v":{"$error":"#REF!"}},{"$f":"OFFSET(fakturace!F189,fakturace!#REF!,0)","v":{"$error":"#REF!"}}]
[{"$f":"OFFSET(fakturace!B190,fakturace!#REF!,0)","v":{"$error":"#REF!"}},{"$f":"OFFSET(fakturace!C190,fakturace!#REF!,0)","v":{"$error":"#REF!"}},{"$f":"OFFSET(fakturace!F190,fakturace!#REF!,0)","v":{"$error":"#REF!"}}]
[{"$f":"OFFSET(fakturace!B191,fakturace!#REF!,0)","v":{"$error":"#REF!"}},{"$f":"OFFSET(fakturace!C191,fakturace!#REF!,0)","v":{"$error":"#REF!"}},{"$f":"OFFSET(fakturace!F191,fakturace!#REF!,0)","v":{"$error":"#REF!"}}]
[{"$f":"OFFSET(fakturace!B192,fakturace!#REF!,0)","v":{"$error":"#REF!"}},{"$f":"OFFSET(fakturace!C192,fakturace!#REF!,0)","v":{"$error":"#REF!"}},{"$f":"OFFSET(fakturace!F192,fakturace!#REF!,0)","v":{"$error":"#REF!"}}]
[{"$f":"OFFSET(fakturace!B193,fakturace!#REF!,0)","v":{"$error":"#REF!"}},{"$f":"OFFSET(fakturace!C193,fakturace!#REF!,0)","v":{"$error":"#REF!"}},{"$f":"OFFSET(fakturace!F193,fakturace!#REF!,0)","v":{"$error":"#REF!"}}]
[{"$f":"OFFSET(fakturace!B194,fakturace!#REF!,0)","v":{"$error":"#REF!"}},{"$f":"OFFSET(fakturace!C194,fakturace!#REF!,0)","v":{"$error":"#REF!"}},{"$f":"OFFSET(fakturace!F194,fakturace!#REF!,0)","v":{"$error":"#REF!"}}]
[{"$f":"OFFSET(fakturace!B195,fakturace!#REF!,0)","v":{"$error":"#REF!"}},{"$f":"OFFSET(fakturace!C195,fakturace!#REF!,0)","v":{"$error":"#REF!"}},{"$f":"OFFSET(fakturace!F195,fakturace!#REF!,0)","v":{"$error":"#REF!"}}]
[{"$f":"OFFSET(fakturace!B196,fakturace!#REF!,0)","v":{"$error":"#REF!"}},{"$f":"OFFSET(fakturace!C196,fakturace!#REF!,0)","v":{"$error":"#REF!"}},{"$f":"OFFSET(fakturace!F196,fakturace!#REF!,0)","v":{"$error":"#REF!"}}]
[{"$f":"OFFSET(fakturace!B197,fakturace!#REF!,0)","v":{"$error":"#REF!"}},{"$f":"OFFSET(fakturace!C197,fakturace!#REF!,0)","v":{"$error":"#REF!"}},{"$f":"OFFSET(fakturace!F197,fakturace!#REF!,0)","v":{"$error":"#REF!"}}]
[{"$f":"OFFSET(fakturace!B198,fakturace!#REF!,0)","v":{"$error":"#REF!"}},{"$f":"OFFSET(fakturace!C198,fakturace!#REF!,0)","v":{"$error":"#REF!"}},{"$f":"OFFSET(fakturace!F198,fakturace!#REF!,0)","v":{"$error":"#REF!"}}]
[{"$f":"OFFSET(fakturace!B199,fakturace!#REF!,0)","v":{"$error":"#REF!"}},{"$f":"OFFSET(fakturace!C199,fakturace!#REF!,0)","v":{"$error":"#REF!"}},{"$f":"OFFSET(fakturace!F199,fakturace!#REF!,0)","v":{"$error":"#REF!"}}]
[{"$f":"OFFSET(fakturace!B200,fakturace!#REF!,0)","v":{"$error":"#REF!"}},{"$f":"OFFSET(fakturace!C200,fakturace!#REF!,0)","v":{"$error":"#REF!"}},{"$f":"OFFSET(fakturace!F200,fakturace!#REF!,0)","v":{"$error":"#REF!"}}]
[{"$f":"OFFSET(fakturace!B201,fakturace!#REF!,0)","v":{"$error":"#REF!"}},{"$f":"OFFSET(fakturace!C201,fakturace!#REF!,0)","v":{"$error":"#REF!"}},{"$f":"OFFSET(fakturace!F201,fakturace!#REF!,0)","v":{"$error":"#REF!"}}]
[{"$f":"OFFSET(fakturace!B202,fakturace!#REF!,0)","v":{"$error":"#REF!"}},{"$f":"OFFSET(fakturace!C202,fakturace!#REF!,0)","v":{"$error":"#REF!"}},{"$f":"OFFSET(fakturace!F202,fakturace!#REF!,0)","v":{"$error":"#REF!"}}]
[{"$f":"OFFSET(fakturace!B203,fakturace!#REF!,0)","v":{"$error":"#REF!"}},{"$f":"OFFSET(fakturace!C203,fakturace!#REF!,0)","v":{"$error":"#REF!"}},{"$f":"OFFSET(fakturace!F203,fakturace!#REF!,0)","v":{"$error":"#REF!"}}]
[{"$f":"OFFSET(fakturace!B204,fakturace!#REF!,0)","v":{"$error":"#REF!"}},{"$f":"OFFSET(fakturace!C204,fakturace!#REF!,0)","v":{"$error":"#REF!"}},{"$f":"OFFSET(fakturace!F204,fakturace!#REF!,0)","v":{"$error":"#REF!"}}]
[{"$f":"OFFSET(fakturace!B205,fakturace!#REF!,0)","v":{"$error":"#REF!"}},{"$f":"OFFSET(fakturace!C205,fakturace!#REF!,0)","v":{"$error":"#REF!"}},{"$f":"OFFSET(fakturace!F205,fakturace!#REF!,0)","v":{"$error":"#REF!"}}]
[{"$f":"OFFSET(fakturace!B206,fakturace!#REF!,0)","v":{"$error":"#REF!"}},{"$f":"OFFSET(fakturace!C206,fakturace!#REF!,0)","v":{"$error":"#REF!"}},{"$f":"OFFSET(fakturace!F206,fakturace!#REF!,0)","v":{"$error":"#REF!"}}]
[{"$f":"OFFSET(fakturace!B207,fakturace!#REF!,0)","v":{"$error":"#REF!"}},{"$f":"OFFSET(fakturace!C207,fakturace!#REF!,0)","v":{"$error":"#REF!"}},{"$f":"OFFSET(fakturace!F207,fakturace!#REF!,0)","v":{"$error":"#REF!"}}]
[{"$f":"OFFSET(fakturace!B208,fakturace!#REF!,0)","v":{"$error":"#REF!"}},{"$f":"OFFSET(fakturace!C208,fakturace!#REF!,0)","v":{"$error":"#REF!"}},{"$f":"OFFSET(fakturace!F208,fakturace!#REF!,0)","v":{"$error":"#REF!"}}]
[{"$f":"OFFSET(fakturace!B209,fakturace!#REF!,0)","v":{"$error":"#REF!"}},{"$f":"OFFSET(fakturace!C209,fakturace!#REF!,0)","v":{"$error":"#REF!"}},{"$f":"OFFSET(fakturace!F209,fakturace!#REF!,0)","v":{"$error":"#REF!"}}]
[{"$f":"OFFSET(fakturace!B210,fakturace!#REF!,0)","v":{"$error":"#REF!"}},{"$f":"OFFSET(fakturace!C210,fakturace!#REF!,0)","v":{"$error":"#REF!"}},{"$f":"OFFSET(fakturace!F210,fakturace!#REF!,0)","v":{"$error":"#REF!"}}]
[{"$f":"OFFSET(fakturace!B211,fakturace!#REF!,0)","v":{"$error":"#REF!"}},{"$f":"OFFSET(fakturace!C211,fakturace!#REF!,0)","v":{"$error":"#REF!"}},{"$f":"OFFSET(fakturace!F211,fakturace!#REF!,0)","v":{"$error":"#REF!"}}]
[{"$f":"OFFSET(fakturace!B212,fakturace!#REF!,0)","v":{"$error":"#REF!"}},{"$f":"OFFSET(fakturace!C212,fakturace!#REF!,0)","v":{"$error":"#REF!"}},{"$f":"OFFSET(fakturace!F212,fakturace!#REF!,0)","v":{"$error":"#REF!"}}]
[{"$f":"OFFSET(fakturace!B213,fakturace!#REF!,0)","v":{"$error":"#REF!"}},{"$f":"OFFSET(fakturace!C213,fakturace!#REF!,0)","v":{"$error":"#REF!"}},{"$f":"OFFSET(fakturace!F213,fakturace!#REF!,0)","v":{"$error":"#REF!"}}]
[{"$f":"OFFSET(fakturace!B214,fakturace!#REF!,0)","v":{"$error":"#REF!"}},{"$f":"OFFSET(fakturace!C214,fakturace!#REF!,0)","v":{"$error":"#REF!"}},{"$f":"OFFSET(fakturace!F214,fakturace!#REF!,0)","v":{"$error":"#REF!"}}]
[{"$f":"OFFSET(fakturace!B215,fakturace!#REF!,0)","v":{"$error":"#REF!"}},{"$f":"OFFSET(fakturace!C215,fakturace!#REF!,0)","v":{"$error":"#REF!"}},{"$f":"OFFSET(fakturace!F215,fakturace!#REF!,0)","v":{"$error":"#REF!"}}]
[{"$f":"OFFSET(fakturace!B216,fakturace!#REF!,0)","v":{"$error":"#REF!"}},{"$f":"OFFSET(fakturace!C216,fakturace!#REF!,0)","v":{"$error":"#REF!"}},{"$f":"OFFSET(fakturace!F216,fakturace!#REF!,0)","v":{"$error":"#REF!"}}]
[{"$f":"OFFSET(fakturace!B217,fakturace!#REF!,0)","v":{"$error":"#REF!"}},{"$f":"OFFSET(fakturace!C217,fakturace!#REF!,0)","v":{"$error":"#REF!"}},{"$f":"OFFSET(fakturace!F217,fakturace!#REF!,0)","v":{"$error":"#REF!"}}]
[{"$f":"OFFSET(fakturace!B218,fakturace!#REF!,0)","v":{"$error":"#REF!"}},{"$f":"OFFSET(fakturace!C218,fakturace!#REF!,0)","v":{"$error":"#REF!"}},{"$f":"OFFSET(fakturace!F218,fakturace!#REF!,0)","v":{"$error":"#REF!"}}]
[{"$f":"OFFSET(fakturace!B219,fakturace!#REF!,0)","v":{"$error":"#REF!"}},{"$f":"OFFSET(fakturace!C219,fakturace!#REF!,0)","v":{"$error":"#REF!"}},{"$f":"OFFSET(fakturace!F219,fakturace!#REF!,0)","v":{"$error":"#REF!"}}]
[{"$f":"OFFSET(fakturace!B220,fakturace!#REF!,0)","v":{"$error":"#REF!"}},{"$f":"OFFSET(fakturace!C220,fakturace!#REF!,0)","v":{"$error":"#REF!"}},{"$f":"OFFSET(fakturace!F220,fakturace!#REF!,0)","v":{"$error":"#REF!"}}]
[{"$f":"OFFSET(fakturace!B221,fakturace!#REF!,0)","v":{"$error":"#REF!"}},{"$f":"OFFSET(fakturace!C221,fakturace!#REF!,0)","v":{"$error":"#REF!"}},{"$f":"OFFSET(fakturace!F221,fakturace!#REF!,0)","v":{"$error":"#REF!"}}]
[{"$f":"OFFSET(fakturace!B222,fakturace!#REF!,0)","v":{"$error":"#REF!"}},{"$f":"OFFSET(fakturace!C222,fakturace!#REF!,0)","v":{"$error":"#REF!"}},{"$f":"OFFSET(fakturace!F222,fakturace!#REF!,0)","v":{"$error":"#REF!"}}]
[{"$f":"OFFSET(fakturace!B223,fakturace!#REF!,0)","v":{"$error":"#REF!"}},{"$f":"OFFSET(fakturace!C223,fakturace!#REF!,0)","v":{"$error":"#REF!"}},{"$f":"OFFSET(fakturace!F223,fakturace!#REF!,0)","v":{"$error":"#REF!"}}]
[{"$f":"OFFSET(fakturace!B224,fakturace!#REF!,0)","v":{"$error":"#REF!"}},{"$f":"OFFSET(fakturace!C224,fakturace!#REF!,0)","v":{"$error":"#REF!"}},{"$f":"OFFSET(fakturace!F224,fakturace!#REF!,0)","v":{"$error":"#REF!"}}]
[{"$f":"OFFSET(fakturace!B225,fakturace!#REF!,0)","v":{"$error":"#REF!"}},{"$f":"OFFSET(fakturace!C225,fakturace!#REF!,0)","v":{"$error":"#REF!"}},{"$f":"OFFSET(fakturace!F225,fakturace!#REF!,0)","v":{"$error":"#REF!"}}]
[{"$f":"OFFSET(fakturace!B226,fakturace!#REF!,0)","v":{"$error":"#REF!"}},{"$f":"OFFSET(fakturace!C226,fakturace!#REF!,0)","v":{"$error":"#REF!"}},{"$f":"OFFSET(fakturace!F226,fakturace!#REF!,0)","v":{"$error":"#REF!"}}]
[{"$f":"OFFSET(fakturace!B227,fakturace!#REF!,0)","v":{"$error":"#REF!"}},{"$f":"OFFSET(fakturace!C227,fakturace!#REF!,0)","v":{"$error":"#REF!"}},{"$f":"OFFSET(fakturace!F227,fakturace!#REF!,0)","v":{"$error":"#REF!"}}]
[{"$f":"OFFSET(fakturace!B228,fakturace!#REF!,0)","v":{"$error":"#REF!"}},{"$f":"OFFSET(fakturace!C228,fakturace!#REF!,0)","v":{"$error":"#REF!"}},{"$f":"OFFSET(fakturace!F228,fakturace!#REF!,0)","v":{"$error":"#REF!"}}]
[{"$f":"OFFSET(fakturace!B229,fakturace!#REF!,0)","v":{"$error":"#REF!"}},{"$f":"OFFSET(fakturace!C229,fakturace!#REF!,0)","v":{"$error":"#REF!"}},{"$f":"OFFSET(fakturace!F229,fakturace!#REF!,0)","v":{"$error":"#REF!"}}]
[{"$f":"OFFSET(fakturace!B230,fakturace!#REF!,0)","v":{"$error":"#REF!"}},{"$f":"OFFSET(fakturace!C230,fakturace!#REF!,0)","v":{"$error":"#REF!"}},{"$f":"OFFSET(fakturace!F230,fakturace!#REF!,0)","v":{"$error":"#REF!"}}]
[{"$f":"OFFSET(fakturace!B231,fakturace!#REF!,0)","v":{"$error":"#REF!"}},{"$f":"OFFSET(fakturace!C231,fakturace!#REF!,0)","v":{"$error":"#REF!"}},{"$f":"OFFSET(fakturace!F231,fakturace!#REF!,0)","v":{"$error":"#REF!"}}]
[{"$f":"OFFSET(fakturace!B232,fakturace!#REF!,0)","v":{"$error":"#REF!"}},{"$f":"OFFSET(fakturace!C232,fakturace!#REF!,0)","v":{"$error":"#REF!"}},{"$f":"OFFSET(fakturace!F232,fakturace!#REF!,0)","v":{"$error":"#REF!"}}]
[{"$f":"OFFSET(fakturace!B233,fakturace!#REF!,0)","v":{"$error":"#REF!"}},{"$f":"OFFSET(fakturace!C233,fakturace!#REF!,0)","v":{"$error":"#REF!"}},{"$f":"OFFSET(fakturace!F233,fakturace!#REF!,0)","v":{"$error":"#REF!"}}]
[{"$f":"OFFSET(fakturace!B234,fakturace!#REF!,0)","v":{"$error":"#REF!"}},{"$f":"OFFSET(fakturace!C234,fakturace!#REF!,0)","v":{"$error":"#REF!"}},{"$f":"OFFSET(fakturace!F234,fakturace!#REF!,0)","v":{"$error":"#REF!"}}]
[{"$f":"OFFSET(fakturace!B235,fakturace!#REF!,0)","v":{"$error":"#REF!"}},{"$f":"OFFSET(fakturace!C235,fakturace!#REF!,0)","v":{"$error":"#REF!"}},{"$f":"OFFSET(fakturace!F235,fakturace!#REF!,0)","v":{"$error":"#REF!"}}]
[{"$f":"OFFSET(fakturace!B236,fakturace!#REF!,0)","v":{"$error":"#REF!"}},{"$f":"OFFSET(fakturace!C236,fakturace!#REF!,0)","v":{"$error":"#REF!"}},{"$f":"OFFSET(fakturace!F236,fakturace!#REF!,0)","v":{"$error":"#REF!"}}]
[{"$f":"OFFSET(fakturace!B237,fakturace!#REF!,0)","v":{"$error":"#REF!"}},{"$f":"OFFSET(fakturace!C237,fakturace!#REF!,0)","v":{"$error":"#REF!"}},{"$f":"OFFSET(fakturace!F237,fakturace!#REF!,0)","v":{"$error":"#REF!"}}]
[{"$f":"OFFSET(fakturace!B238,fakturace!#REF!,0)","v":{"$error":"#REF!"}},{"$f":"OFFSET(fakturace!C238,fakturace!#REF!,0)","v":{"$error":"#REF!"}},{"$f":"OFFSET(fakturace!F238,fakturace!#REF!,0)","v":{"$error":"#REF!"}}]
[{"$f":"OFFSET(fakturace!B239,fakturace!#REF!,0)","v":{"$error":"#REF!"}},{"$f":"OFFSET(fakturace!C239,fakturace!#REF!,0)","v":{"$error":"#REF!"}},{"$f":"OFFSET(fakturace!F239,fakturace!#REF!,0)","v":{"$error":"#REF!"}}]
[{"$f":"OFFSET(fakturace!B240,fakturace!#REF!,0)","v":{"$error":"#REF!"}},{"$f":"OFFSET(fakturace!C240,fakturace!#REF!,0)","v":{"$error":"#REF!"}},{"$f":"OFFSET(fakturace!F240,fakturace!#REF!,0)","v":{"$error":"#REF!"}}]
[{"$f":"OFFSET(fakturace!B241,fakturace!#REF!,0)","v":{"$error":"#REF!"}},{"$f":"OFFSET(fakturace!C241,fakturace!#REF!,0)","v":{"$error":"#REF!"}},{"$f":"OFFSET(fakturace!F241,fakturace!#REF!,0)","v":{"$error":"#REF!"}}]
[{"$f":"OFFSET(fakturace!B242,fakturace!#REF!,0)","v":{"$error":"#REF!"}},{"$f":"OFFSET(fakturace!C242,fakturace!#REF!,0)","v":{"$error":"#REF!"}},{"$f":"OFFSET(fakturace!F242,fakturace!#REF!,0)","v":{"$error":"#REF!"}}]
[{"$f":"OFFSET(fakturace!B243,fakturace!#REF!,0)","v":{"$error":"#REF!"}},{"$f":"OFFSET(fakturace!C243,fakturace!#REF!,0)","v":{"$error":"#REF!"}},{"$f":"OFFSET(fakturace!F243,fakturace!#REF!,0)","v":{"$error":"#REF!"}}]
[{"$f":"OFFSET(fakturace!B244,fakturace!#REF!,0)","v":{"$error":"#REF!"}},{"$f":"OFFSET(fakturace!C244,fakturace!#REF!,0)","v":{"$error":"#REF!"}},{"$f":"OFFSET(fakturace!F244,fakturace!#REF!,0)","v":{"$error":"#REF!"}}]
[{"$f":"OFFSET(fakturace!B245,fakturace!#REF!,0)","v":{"$error":"#REF!"}},{"$f":"OFFSET(fakturace!C245,fakturace!#REF!,0)","v":{"$error":"#REF!"}},{"$f":"OFFSET(fakturace!F245,fakturace!#REF!,0)","v":{"$error":"#REF!"}}]
[{"$f":"OFFSET(fakturace!B246,fakturace!#REF!,0)","v":{"$error":"#REF!"}},{"$f":"OFFSET(fakturace!C246,fakturace!#REF!,0)","v":{"$error":"#REF!"}},{"$f":"OFFSET(fakturace!F246,fakturace!#REF!,0)","v":{"$error":"#REF!"}}]
[{"$f":"OFFSET(fakturace!B247,fakturace!#REF!,0)","v":{"$error":"#REF!"}},{"$f":"OFFSET(fakturace!C247,fakturace!#REF!,0)","v":{"$error":"#REF!"}},{"$f":"OFFSET(fakturace!F247,fakturace!#REF!,0)","v":{"$error":"#REF!"}}]
[{"$f":"OFFSET(fakturace!B248,fakturace!#REF!,0)","v":{"$error":"#REF!"}},{"$f":"OFFSET(fakturace!C248,fakturace!#REF!,0)","v":{"$error":"#REF!"}},{"$f":"OFFSET(fakturace!F248,fakturace!#REF!,0)","v":{"$error":"#REF!"}}]
[{"$f":"OFFSET(fakturace!B249,fakturace!#REF!,0)","v":{"$error":"#REF!"}},{"$f":"OFFSET(fakturace!C249,fakturace!#REF!,0)","v":{"$error":"#REF!"}},{"$f":"OFFSET(fakturace!F249,fakturace!#REF!,0)","v":{"$error":"#REF!"}}]
[{"$f":"OFFSET(fakturace!B250,fakturace!#REF!,0)","v":{"$error":"#REF!"}},{"$f":"OFFSET(fakturace!C250,fakturace!#REF!,0)","v":{"$error":"#REF!"}},{"$f":"OFFSET(fakturace!F250,fakturace!#REF!,0)","v":{"$error":"#REF!"}}]
[{"$f":"OFFSET(fakturace!B251,fakturace!#REF!,0)","v":{"$error":"#REF!"}},{"$f":"OFFSET(fakturace!C251,fakturace!#REF!,0)","v":{"$error":"#REF!"}},{"$f":"OFFSET(fakturace!F251,fakturace!#REF!,0)","v":{"$error":"#REF!"}}]
[{"$f":"OFFSET(fakturace!B252,fakturace!#REF!,0)","v":{"$error":"#REF!"}},{"$f":"OFFSET(fakturace!C252,fakturace!#REF!,0)","v":{"$error":"#REF!"}},{"$f":"OFFSET(fakturace!F252,fakturace!#REF!,0)","v":{"$error":"#REF!"}}]
[{"$f":"OFFSET(fakturace!B253,fakturace!#REF!,0)","v":{"$error":"#REF!"}},{"$f":"OFFSET(fakturace!C253,fakturace!#REF!,0)","v":{"$error":"#REF!"}},{"$f":"OFFSET(fakturace!F253,fakturace!#REF!,0)","v":{"$error":"#REF!"}}]
[{"$f":"OFFSET(fakturace!B254,fakturace!#REF!,0)","v":{"$error":"#REF!"}},{"$f":"OFFSET(fakturace!C254,fakturace!#REF!,0)","v":{"$error":"#REF!"}},{"$f":"OFFSET(fakturace!F254,fakturace!#REF!,0)","v":{"$error":"#REF!"}}]
[{"$f":"OFFSET(fakturace!B255,fakturace!#REF!,0)","v":{"$error":"#REF!"}},{"$f":"OFFSET(fakturace!C255,fakturace!#REF!,0)","v":{"$error":"#REF!"}},{"$f":"OFFSET(fakturace!F255,fakturace!#REF!,0)","v":{"$error":"#REF!"}}]
[{"$f":"OFFSET(fakturace!B256,fakturace!#REF!,0)","v":{"$error":"#REF!"}},{"$f":"OFFSET(fakturace!C256,fakturace!#REF!,0)","v":{"$error":"#REF!"}},{"$f":"OFFSET(fakturace!F256,fakturace!#REF!,0)","v":{"$error":"#REF!"}}]
[{"$f":"OFFSET(fakturace!B257,fakturace!#REF!,0)","v":{"$error":"#REF!"}},{"$f":"OFFSET(fakturace!C257,fakturace!#REF!,0)","v":{"$error":"#REF!"}},{"$f":"OFFSET(fakturace!F257,fakturace!#REF!,0)","v":{"$error":"#REF!"}}]
[{"$f":"OFFSET(fakturace!B258,fakturace!#REF!,0)","v":{"$error":"#REF!"}},{"$f":"OFFSET(fakturace!C258,fakturace!#REF!,0)","v":{"$error":"#REF!"}},{"$f":"OFFSET(fakturace!F258,fakturace!#REF!,0)","v":{"$error":"#REF!"}}]
[{"$f":"OFFSET(fakturace!B259,fakturace!#REF!,0)","v":{"$error":"#REF!"}},{"$f":"OFFSET(fakturace!C259,fakturace!#REF!,0)","v":{"$error":"#REF!"}},{"$f":"OFFSET(fakturace!F259,fakturace!#REF!,0)","v":{"$error":"#REF!"}}]
[{"$f":"OFFSET(fakturace!B260,fakturace!#REF!,0)","v":{"$error":"#REF!"}},{"$f":"OFFSET(fakturace!C260,fakturace!#REF!,0)","v":{"$error":"#REF!"}},{"$f":"OFFSET(fakturace!F260,fakturace!#REF!,0)","v":{"$error":"#REF!"}}]
[{"$f":"OFFSET(fakturace!B261,fakturace!#REF!,0)","v":{"$error":"#REF!"}},{"$f":"OFFSET(fakturace!C261,fakturace!#REF!,0)","v":{"$error":"#REF!"}},{"$f":"OFFSET(fakturace!F261,fakturace!#REF!,0)","v":{"$error":"#REF!"}}]
[{"$f":"OFFSET(fakturace!B262,fakturace!#REF!,0)","v":{"$error":"#REF!"}},{"$f":"OFFSET(fakturace!C262,fakturace!#REF!,0)","v":{"$error":"#REF!"}},{"$f":"OFFSET(fakturace!F262,fakturace!#REF!,0)","v":{"$error":"#REF!"}}]
[{"$f":"OFFSET(fakturace!B263,fakturace!#REF!,0)","v":{"$error":"#REF!"}},{"$f":"OFFSET(fakturace!C263,fakturace!#REF!,0)","v":{"$error":"#REF!"}},{"$f":"OFFSET(fakturace!F263,fakturace!#REF!,0)","v":{"$error":"#REF!"}}]
[{"$f":"OFFSET(fakturace!B264,fakturace!#REF!,0)","v":{"$error":"#REF!"}},{"$f":"OFFSET(fakturace!C264,fakturace!#REF!,0)","v":{"$error":"#REF!"}},{"$f":"OFFSET(fakturace!F264,fakturace!#REF!,0)","v":{"$error":"#REF!"}}]
[{"$f":"OFFSET(fakturace!B265,fakturace!#REF!,0)","v":{"$error":"#REF!"}},{"$f":"OFFSET(fakturace!C265,fakturace!#REF!,0)","v":{"$error":"#REF!"}},{"$f":"OFFSET(fakturace!F265,fakturace!#REF!,0)","v":{"$error":"#REF!"}}]
[{"$f":"OFFSET(fakturace!B266,fakturace!#REF!,0)","v":{"$error":"#REF!"}},{"$f":"OFFSET(fakturace!C266,fakturace!#REF!,0)","v":{"$error":"#REF!"}},{"$f":"OFFSET(fakturace!F266,fakturace!#REF!,0)","v":{"$error":"#REF!"}}]
[{"$f":"OFFSET(fakturace!B267,fakturace!#REF!,0)","v":{"$error":"#REF!"}},{"$f":"OFFSET(fakturace!C267,fakturace!#REF!,0)","v":{"$error":"#REF!"}},{"$f":"OFFSET(fakturace!F267,fakturace!#REF!,0)","v":{"$error":"#REF!"}}]
[{"$f":"OFFSET(fakturace!B268,fakturace!#REF!,0)","v":{"$error":"#REF!"}},{"$f":"OFFSET(fakturace!C268,fakturace!#REF!,0)","v":{"$error":"#REF!"}},{"$f":"OFFSET(fakturace!F268,fakturace!#REF!,0)","v":{"$error":"#REF!"}}]
[{"$f":"OFFSET(fakturace!B269,fakturace!#REF!,0)","v":{"$error":"#REF!"}},{"$f":"OFFSET(fakturace!C269,fakturace!#REF!,0)","v":{"$error":"#REF!"}},{"$f":"OFFSET(fakturace!F269,fakturace!#REF!,0)","v":{"$error":"#REF!"}}]
[{"$f":"OFFSET(fakturace!B270,fakturace!#REF!,0)","v":{"$error":"#REF!"}},{"$f":"OFFSET(fakturace!C270,fakturace!#REF!,0)","v":{"$error":"#REF!"}},{"$f":"OFFSET(fakturace!F270,fakturace!#REF!,0)","v":{"$error":"#REF!"}}]
[{"$f":"OFFSET(fakturace!B271,fakturace!#REF!,0)","v":{"$error":"#REF!"}},{"$f":"OFFSET(fakturace!C271,fakturace!#REF!,0)","v":{"$error":"#REF!"}},{"$f":"OFFSET(fakturace!F271,fakturace!#REF!,0)","v":{"$error":"#REF!"}}]
[{"$f":"OFFSET(fakturace!B272,fakturace!#REF!,0)","v":{"$error":"#REF!"}},{"$f":"OFFSET(fakturace!C272,fakturace!#REF!,0)","v":{"$error":"#REF!"}},{"$f":"OFFSET(fakturace!F272,fakturace!#REF!,0)","v":{"$error":"#REF!"}}]
[{"$f":"OFFSET(fakturace!B273,fakturace!#REF!,0)","v":{"$error":"#REF!"}},{"$f":"OFFSET(fakturace!C273,fakturace!#REF!,0)","v":{"$error":"#REF!"}},{"$f":"OFFSET(fakturace!F273,fakturace!#REF!,0)","v":{"$error":"#REF!"}}]
[{"$f":"OFFSET(fakturace!B274,fakturace!#REF!,0)","v":{"$error":"#REF!"}},{"$f":"OFFSET(fakturace!C274,fakturace!#REF!,0)","v":{"$error":"#REF!"}},{"$f":"OFFSET(fakturace!F274,fakturace!#REF!,0)","v":{"$error":"#REF!"}}]
[{"$f":"OFFSET(fakturace!B275,fakturace!#REF!,0)","v":{"$error":"#REF!"}},{"$f":"OFFSET(fakturace!C275,fakturace!#REF!,0)","v":{"$error":"#REF!"}},{"$f":"OFFSET(fakturace!F275,fakturace!#REF!,0)","v":{"$error":"#REF!"}}]
[{"$f":"OFFSET(fakturace!B276,fakturace!#REF!,0)","v":{"$error":"#REF!"}},{"$f":"OFFSET(fakturace!C276,fakturace!#REF!,0)","v":{"$error":"#REF!"}},{"$f":"OFFSET(fakturace!F276,fakturace!#REF!,0)","v":{"$error":"#REF!"}}]
[{"$f":"OFFSET(fakturace!B277,fakturace!#REF!,0)","v":{"$error":"#REF!"}},{"$f":"OFFSET(fakturace!C277,fakturace!#REF!,0)","v":{"$error":"#REF!"}},{"$f":"OFFSET(fakturace!F277,fakturace!#REF!,0)","v":{"$error":"#REF!"}}]
[{"$f":"OFFSET(fakturace!B278,fakturace!#REF!,0)","v":{"$error":"#REF!"}},{"$f":"OFFSET(fakturace!C278,fakturace!#REF!,0)","v":{"$error":"#REF!"}},{"$f":"OFFSET(fakturace!F278,fakturace!#REF!,0)","v":{"$error":"#REF!"}}]
[{"$f":"OFFSET(fakturace!B279,fakturace!#REF!,0)","v":{"$error":"#REF!"}},{"$f":"OFFSET(fakturace!C279,fakturace!#REF!,0)","v":{"$error":"#REF!"}},{"$f":"OFFSET(fakturace!F279,fakturace!#REF!,0)","v":{"$error":"#REF!"}}]
[{"$f":"OFFSET(fakturace!B280,fakturace!#REF!,0)","v":{"$error":"#REF!"}},{"$f":"OFFSET(fakturace!C280,fakturace!#REF!,0)","v":{"$error":"#REF!"}},{"$f":"OFFSET(fakturace!F280,fakturace!#REF!,0)","v":{"$error":"#REF!"}}]
[{"$f":"OFFSET(fakturace!B281,fakturace!#REF!,0)","v":{"$error":"#REF!"}},{"$f":"OFFSET(fakturace!C281,fakturace!#REF!,0)","v":{"$error":"#REF!"}},{"$f":"OFFSET(fakturace!F281,fakturace!#REF!,0)","v":{"$error":"#REF!"}}]
[{"$f":"OFFSET(fakturace!B282,fakturace!#REF!,0)","v":{"$error":"#REF!"}},{"$f":"OFFSET(fakturace!C282,fakturace!#REF!,0)","v":{"$error":"#REF!"}},{"$f":"OFFSET(fakturace!F282,fakturace!#REF!,0)","v":{"$error":"#REF!"}}]
[{"$f":"OFFSET(fakturace!B283,fakturace!#REF!,0)","v":{"$error":"#REF!"}},{"$f":"OFFSET(fakturace!C283,fakturace!#REF!,0)","v":{"$error":"#REF!"}},{"$f":"OFFSET(fakturace!F283,fakturace!#REF!,0)","v":{"$error":"#REF!"}}]
[{"$f":"OFFSET(fakturace!B284,fakturace!#REF!,0)","v":{"$error":"#REF!"}},{"$f":"OFFSET(fakturace!C284,fakturace!#REF!,0)","v":{"$error":"#REF!"}},{"$f":"OFFSET(fakturace!F284,fakturace!#REF!,0)","v":{"$error":"#REF!"}}]
[{"$f":"OFFSET(fakturace!B285,fakturace!#REF!,0)","v":{"$error":"#REF!"}},{"$f":"OFFSET(fakturace!C285,fakturace!#REF!,0)","v":{"$error":"#REF!"}},{"$f":"OFFSET(fakturace!F285,fakturace!#REF!,0)","v":{"$error":"#REF!"}}]
[{"$f":"OFFSET(fakturace!B286,fakturace!#REF!,0)","v":{"$error":"#REF!"}},{"$f":"OFFSET(fakturace!C286,fakturace!#REF!,0)","v":{"$error":"#REF!"}},{"$f":"OFFSET(fakturace!F286,fakturace!#REF!,0)","v":{"$error":"#REF!"}}]
[{"$f":"OFFSET(fakturace!B287,fakturace!#REF!,0)","v":{"$error":"#REF!"}},{"$f":"OFFSET(fakturace!C287,fakturace!#REF!,0)","v":{"$error":"#REF!"}},{"$f":"OFFSET(fakturace!F287,fakturace!#REF!,0)","v":{"$error":"#REF!"}}]
[{"$f":"OFFSET(fakturace!B288,fakturace!#REF!,0)","v":{"$error":"#REF!"}},{"$f":"OFFSET(fakturace!C288,fakturace!#REF!,0)","v":{"$error":"#REF!"}},{"$f":"OFFSET(fakturace!F288,fakturace!#REF!,0)","v":{"$error":"#REF!"}}]
[{"$f":"OFFSET(fakturace!B289,fakturace!#REF!,0)","v":{"$error":"#REF!"}},{"$f":"OFFSET(fakturace!C289,fakturace!#REF!,0)","v":{"$error":"#REF!"}},{"$f":"OFFSET(fakturace!F289,fakturace!#REF!,0)","v":{"$error":"#REF!"}}]
[{"$f":"OFFSET(fakturace!B290,fakturace!#REF!,0)","v":{"$error":"#REF!"}},{"$f":"OFFSET(fakturace!C290,fakturace!#REF!,0)","v":{"$error":"#REF!"}},{"$f":"OFFSET(fakturace!F290,fakturace!#REF!,0)","v":{"$error":"#REF!"}}]
[{"$f":"OFFSET(fakturace!B291,fakturace!#REF!,0)","v":{"$error":"#REF!"}},{"$f":"OFFSET(fakturace!C291,fakturace!#REF!,0)","v":{"$error":"#REF!"}},{"$f":"OFFSET(fakturace!F291,fakturace!#REF!,0)","v":{"$error":"#REF!"}}]
[{"$f":"OFFSET(fakturace!B292,fakturace!#REF!,0)","v":{"$error":"#REF!"}},{"$f":"OFFSET(fakturace!C292,fakturace!#REF!,0)","v":{"$error":"#REF!"}},{"$f":"OFFSET(fakturace!F292,fakturace!#REF!,0)","v":{"$error":"#REF!"}}]
[{"$f":"OFFSET(fakturace!B293,fakturace!#REF!,0)","v":{"$error":"#REF!"}},{"$f":"OFFSET(fakturace!C293,fakturace!#REF!,0)","v":{"$error":"#REF!"}},{"$f":"OFFSET(fakturace!F293,fakturace!#REF!,0)","v":{"$error":"#REF!"}}]
[{"$f":"OFFSET(fakturace!B294,fakturace!#REF!,0)","v":{"$error":"#REF!"}},{"$f":"OFFSET(fakturace!C294,fakturace!#REF!,0)","v":{"$error":"#REF!"}},{"$f":"OFFSET(fakturace!F294,fakturace!#REF!,0)","v":{"$error":"#REF!"}}]
[{"$f":"OFFSET(fakturace!B295,fakturace!#REF!,0)","v":{"$error":"#REF!"}},{"$f":"OFFSET(fakturace!C295,fakturace!#REF!,0)","v":{"$error":"#REF!"}},{"$f":"OFFSET(fakturace!F295,fakturace!#REF!,0)","v":{"$error":"#REF!"}}]
[{"$f":"OFFSET(fakturace!B296,fakturace!#REF!,0)","v":{"$error":"#REF!"}},{"$f":"OFFSET(fakturace!C296,fakturace!#REF!,0)","v":{"$error":"#REF!"}},{"$f":"OFFSET(fakturace!F296,fakturace!#REF!,0)","v":{"$error":"#REF!"}}]
[{"$f":"OFFSET(fakturace!B297,fakturace!#REF!,0)","v":{"$error":"#REF!"}},{"$f":"OFFSET(fakturace!C297,fakturace!#REF!,0)","v":{"$error":"#REF!"}},{"$f":"OFFSET(fakturace!F297,fakturace!#REF!,0)","v":{"$error":"#REF!"}}]
[{"$f":"OFFSET(fakturace!B298,fakturace!#REF!,0)","v":{"$error":"#REF!"}},{"$f":"OFFSET(fakturace!C298,fakturace!#REF!,0)","v":{"$error":"#REF!"}},{"$f":"OFFSET(fakturace!F298,fakturace!#REF!,0)","v":{"$error":"#REF!"}}]
[{"$f":"OFFSET(fakturace!B299,fakturace!#REF!,0)","v":{"$error":"#REF!"}},{"$f":"OFFSET(fakturace!C299,fakturace!#REF!,0)","v":{"$error":"#REF!"}},{"$f":"OFFSET(fakturace!F299,fakturace!#REF!,0)","v":{"$error":"#REF!"}}]
[{"$f":"OFFSET(fakturace!B300,fakturace!#REF!,0)","v":{"$error":"#REF!"}},{"$f":"OFFSET(fakturace!C300,fakturace!#REF!,0)","v":{"$error":"#REF!"}},{"$f":"OFFSET(fakturace!F300,fakturace!#REF!,0)","v":{"$error":"#REF!"}}]
[{"$f":"OFFSET(fakturace!B301,fakturace!#REF!,0)","v":{"$error":"#REF!"}},{"$f":"OFFSET(fakturace!C301,fakturace!#REF!,0)","v":{"$error":"#REF!"}},{"$f":"OFFSET(fakturace!F301,fakturace!#REF!,0)","v":{"$error":"#REF!"}}]
[{"$f":"OFFSET(fakturace!B302,fakturace!#REF!,0)","v":{"$error":"#REF!"}},{"$f":"OFFSET(fakturace!C302,fakturace!#REF!,0)","v":{"$error":"#REF!"}},{"$f":"OFFSET(fakturace!F302,fakturace!#REF!,0)","v":{"$error":"#REF!"}}]
[{"$f":"OFFSET(fakturace!B303,fakturace!#REF!,0)","v":{"$error":"#REF!"}},{"$f":"OFFSET(fakturace!C303,fakturace!#REF!,0)","v":{"$error":"#REF!"}},{"$f":"OFFSET(fakturace!F303,fakturace!#REF!,0)","v":{"$error":"#REF!"}}]
[{"$f":"OFFSET(fakturace!B304,fakturace!#REF!,0)","v":{"$error":"#REF!"}},{"$f":"OFFSET(fakturace!C304,fakturace!#REF!,0)","v":{"$error":"#REF!"}},{"$f":"OFFSET(fakturace!F304,fakturace!#REF!,0)","v":{"$error":"#REF!"}}]
[{"$f":"OFFSET(fakturace!B305,fakturace!#REF!,0)","v":{"$error":"#REF!"}},{"$f":"OFFSET(fakturace!C305,fakturace!#REF!,0)","v":{"$error":"#REF!"}},{"$f":"OFFSET(fakturace!F305,fakturace!#REF!,0)","v":{"$error":"#REF!"}}]
[{"$f":"OFFSET(fakturace!B306,fakturace!#REF!,0)","v":{"$error":"#REF!"}},{"$f":"OFFSET(fakturace!C306,fakturace!#REF!,0)","v":{"$error":"#REF!"}},{"$f":"OFFSET(fakturace!F306,fakturace!#REF!,0)","v":{"$error":"#REF!"}}]
[{"$f":"OFFSET(fakturace!B307,fakturace!#REF!,0)","v":{"$error":"#REF!"}},{"$f":"OFFSET(fakturace!C307,fakturace!#REF!,0)","v":{"$error":"#REF!"}},{"$f":"OFFSET(fakturace!F307,fakturace!#REF!,0)","v":{"$error":"#REF!"}}]
[{"$f":"OFFSET(fakturace!B308,fakturace!#REF!,0)","v":{"$error":"#REF!"}},{"$f":"OFFSET(fakturace!C308,fakturace!#REF!,0)","v":{"$error":"#REF!"}},{"$f":"OFFSET(fakturace!F308,fakturace!#REF!,0)","v":{"$error":"#REF!"}}]
[{"$f":"OFFSET(fakturace!B309,fakturace!#REF!,0)","v":{"$error":"#REF!"}},{"$f":"OFFSET(fakturace!C309,fakturace!#REF!,0)","v":{"$error":"#REF!"}},{"$f":"OFFSET(fakturace!F309,fakturace!#REF!,0)","v":{"$error":"#REF!"}}]
[{"$f":"OFFSET(fakturace!B310,fakturace!#REF!,0)","v":{"$error":"#REF!"}},{"$f":"OFFSET(fakturace!C310,fakturace!#REF!,0)","v":{"$error":"#REF!"}},{"$f":"OFFSET(fakturace!F310,fakturace!#REF!,0)","v":{"$error":"#REF!"}}]
[{"$f":"OFFSET(fakturace!B311,fakturace!#REF!,0)","v":{"$error":"#REF!"}},{"$f":"OFFSET(fakturace!C311,fakturace!#REF!,0)","v":{"$error":"#REF!"}},{"$f":"OFFSET(fakturace!F311,fakturace!#REF!,0)","v":{"$error":"#REF!"}}]
[{"$f":"OFFSET(fakturace!B312,fakturace!#REF!,0)","v":{"$error":"#REF!"}},{"$f":"OFFSET(fakturace!C312,fakturace!#REF!,0)","v":{"$error":"#REF!"}},{"$f":"OFFSET(fakturace!F312,fakturace!#REF!,0)","v":{"$error":"#REF!"}}]
[{"$f":"OFFSET(fakturace!B313,fakturace!#REF!,0)","v":{"$error":"#REF!"}},{"$f":"OFFSET(fakturace!C313,fakturace!#REF!,0)","v":{"$error":"#REF!"}},{"$f":"OFFSET(fakturace!F313,fakturace!#REF!,0)","v":{"$error":"#REF!"}}]
[{"$f":"OFFSET(fakturace!B314,fakturace!#REF!,0)","v":{"$error":"#REF!"}},{"$f":"OFFSET(fakturace!C314,fakturace!#REF!,0)","v":{"$error":"#REF!"}},{"$f":"OFFSET(fakturace!F314,fakturace!#REF!,0)","v":{"$error":"#REF!"}}]
[{"$f":"OFFSET(fakturace!B315,fakturace!#REF!,0)","v":{"$error":"#REF!"}},{"$f":"OFFSET(fakturace!C315,fakturace!#REF!,0)","v":{"$error":"#REF!"}},{"$f":"OFFSET(fakturace!F315,fakturace!#REF!,0)","v":{"$error":"#REF!"}}]
[{"$f":"OFFSET(fakturace!B316,fakturace!#REF!,0)","v":{"$error":"#REF!"}},{"$f":"OFFSET(fakturace!C316,fakturace!#REF!,0)","v":{"$error":"#REF!"}},{"$f":"OFFSET(fakturace!F316,fakturace!#REF!,0)","v":{"$error":"#REF!"}}]
[{"$f":"OFFSET(fakturace!B317,fakturace!#REF!,0)","v":{"$error":"#REF!"}},{"$f":"OFFSET(fakturace!C317,fakturace!#REF!,0)","v":{"$error":"#REF!"}},{"$f":"OFFSET(fakturace!F317,fakturace!#REF!,0)","v":{"$error":"#REF!"}}]
[{"$f":"OFFSET(fakturace!B318,fakturace!#REF!,0)","v":{"$error":"#REF!"}},{"$f":"OFFSET(fakturace!C318,fakturace!#REF!,0)","v":{"$error":"#REF!"}},{"$f":"OFFSET(fakturace!F318,fakturace!#REF!,0)","v":{"$error":"#REF!"}}]
[{"$f":"OFFSET(fakturace!B319,fakturace!#REF!,0)","v":{"$error":"#REF!"}},{"$f":"OFFSET(fakturace!C319,fakturace!#REF!,0)","v":{"$error":"#REF!"}},{"$f":"OFFSET(fakturace!F319,fakturace!#REF!,0)","v":{"$error":"#REF!"}}]
[{"$f":"OFFSET(fakturace!B320,fakturace!#REF!,0)","v":{"$error":"#REF!"}},{"$f":"OFFSET(fakturace!C320,fakturace!#REF!,0)","v":{"$error":"#REF!"}},{"$f":"OFFSET(fakturace!F320,fakturace!#REF!,0)","v":{"$error":"#REF!"}}]
[{"$f":"OFFSET(fakturace!B321,fakturace!#REF!,0)","v":{"$error":"#REF!"}},{"$f":"OFFSET(fakturace!C321,fakturace!#REF!,0)","v":{"$error":"#REF!"}},{"$f":"OFFSET(fakturace!F321,fakturace!#REF!,0)","v":{"$error":"#REF!"}}]
[{"$f":"OFFSET(fakturace!B322,fakturace!#REF!,0)","v":{"$error":"#REF!"}},{"$f":"OFFSET(fakturace!C322,fakturace!#REF!,0)","v":{"$error":"#REF!"}},{"$f":"OFFSET(fakturace!F322,fakturace!#REF!,0)","v":{"$error":"#REF!"}}]
[{"$f":"OFFSET(fakturace!B323,fakturace!#REF!,0)","v":{"$error":"#REF!"}},{"$f":"OFFSET(fakturace!C323,fakturace!#REF!,0)","v":{"$error":"#REF!"}},{"$f":"OFFSET(fakturace!F323,fakturace!#REF!,0)","v":{"$error":"#REF!"}}]
[{"$f":"OFFSET(fakturace!B324,fakturace!#REF!,0)","v":{"$error":"#REF!"}},{"$f":"OFFSET(fakturace!C324,fakturace!#REF!,0)","v":{"$error":"#REF!"}},{"$f":"OFFSET(fakturace!F324,fakturace!#REF!,0)","v":{"$error":"#REF!"}}]
[{"$f":"OFFSET(fakturace!B325,fakturace!#REF!,0)","v":{"$error":"#REF!"}},{"$f":"OFFSET(fakturace!C325,fakturace!#REF!,0)","v":{"$error":"#REF!"}},{"$f":"OFFSET(fakturace!F325,fakturace!#REF!,0)","v":{"$error":"#REF!"}}]
[{"$f":"OFFSET(fakturace!B326,fakturace!#REF!,0)","v":{"$error":"#REF!"}},{"$f":"OFFSET(fakturace!C326,fakturace!#REF!,0)","v":{"$error":"#REF!"}},{"$f":"OFFSET(fakturace!F326,fakturace!#REF!,0)","v":{"$error":"#REF!"}}]
[{"$f":"OFFSET(fakturace!B327,fakturace!#REF!,0)","v":{"$error":"#REF!"}},{"$f":"OFFSET(fakturace!C327,fakturace!#REF!,0)","v":{"$error":"#REF!"}},{"$f":"OFFSET(fakturace!F327,fakturace!#REF!,0)","v":{"$error":"#REF!"}}]
[{"$f":"OFFSET(fakturace!B328,fakturace!#REF!,0)","v":{"$error":"#REF!"}},{"$f":"OFFSET(fakturace!C328,fakturace!#REF!,0)","v":{"$error":"#REF!"}},{"$f":"OFFSET(fakturace!F328,fakturace!#REF!,0)","v":{"$error":"#REF!"}}]
[{"$f":"OFFSET(fakturace!B329,fakturace!#REF!,0)","v":{"$error":"#REF!"}},{"$f":"OFFSET(fakturace!C329,fakturace!#REF!,0)","v":{"$error":"#REF!"}},{"$f":"OFFSET(fakturace!F329,fakturace!#REF!,0)","v":{"$error":"#REF!"}}]
[{"$f":"OFFSET(fakturace!B330,fakturace!#REF!,0)","v":{"$error":"#REF!"}},{"$f":"OFFSET(fakturace!C330,fakturace!#REF!,0)","v":{"$error":"#REF!"}},{"$f":"OFFSET(fakturace!F330,fakturace!#REF!,0)","v":{"$error":"#REF!"}}]
[{"$f":"OFFSET(fakturace!B331,fakturace!#REF!,0)","v":{"$error":"#REF!"}},{"$f":"OFFSET(fakturace!C331,fakturace!#REF!,0)","v":{"$error":"#REF!"}},{"$f":"OFFSET(fakturace!F331,fakturace!#REF!,0)","v":{"$error":"#REF!"}}]
[{"$f":"OFFSET(fakturace!B332,fakturace!#REF!,0)","v":{"$error":"#REF!"}},{"$f":"OFFSET(fakturace!C332,fakturace!#REF!,0)","v":{"$error":"#REF!"}},{"$f":"OFFSET(fakturace!F332,fakturace!#REF!,0)","v":{"$error":"#REF!"}}]
[{"$f":"OFFSET(fakturace!B333,fakturace!#REF!,0)","v":{"$error":"#REF!"}},{"$f":"OFFSET(fakturace!C333,fakturace!#REF!,0)","v":{"$error":"#REF!"}},{"$f":"OFFSET(fakturace!F333,fakturace!#REF!,0)","v":{"$error":"#REF!"}}]
[{"$f":"OFFSET(fakturace!B334,fakturace!#REF!,0)","v":{"$error":"#REF!"}},{"$f":"OFFSET(fakturace!C334,fakturace!#REF!,0)","v":{"$error":"#REF!"}},{"$f":"OFFSET(fakturace!F334,fakturace!#REF!,0)","v":{"$error":"#REF!"}}]
[{"$f":"OFFSET(fakturace!B335,fakturace!#REF!,0)","v":{"$error":"#REF!"}},{"$f":"OFFSET(fakturace!C335,fakturace!#REF!,0)","v":{"$error":"#REF!"}},{"$f":"OFFSET(fakturace!F335,fakturace!#REF!,0)","v":{"$error":"#REF!"}}]
[{"$f":"OFFSET(fakturace!B336,fakturace!#REF!,0)","v":{"$error":"#REF!"}},{"$f":"OFFSET(fakturace!C336,fakturace!#REF!,0)","v":{"$error":"#REF!"}},{"$f":"OFFSET(fakturace!F336,fakturace!#REF!,0)","v":{"$error":"#REF!"}}]
[{"$f":"OFFSET(fakturace!B337,fakturace!#REF!,0)","v":{"$error":"#REF!"}},{"$f":"OFFSET(fakturace!C337,fakturace!#REF!,0)","v":{"$error":"#REF!"}},{"$f":"OFFSET(fakturace!F337,fakturace!#REF!,0)","v":{"$error":"#REF!"}}]
[{"$f":"OFFSET(fakturace!B338,fakturace!#REF!,0)","v":{"$error":"#REF!"}},{"$f":"OFFSET(fakturace!C338,fakturace!#REF!,0)","v":{"$error":"#REF!"}},{"$f":"OFFSET(fakturace!F338,fakturace!#REF!,0)","v":{"$error":"#REF!"}}]
[{"$f":"OFFSET(fakturace!B339,fakturace!#REF!,0)","v":{"$error":"#REF!"}},{"$f":"OFFSET(fakturace!C339,fakturace!#REF!,0)","v":{"$error":"#REF!"}},{"$f":"OFFSET(fakturace!F339,fakturace!#REF!,0)","v":{"$error":"#REF!"}}]
[{"$f":"OFFSET(fakturace!B340,fakturace!#REF!,0)","v":{"$error":"#REF!"}},{"$f":"OFFSET(fakturace!C340,fakturace!#REF!,0)","v":{"$error":"#REF!"}},{"$f":"OFFSET(fakturace!F340,fakturace!#REF!,0)","v":{"$error":"#REF!"}}]
[{"$f":"OFFSET(fakturace!B341,fakturace!#REF!,0)","v":{"$error":"#REF!"}},{"$f":"OFFSET(fakturace!C341,fakturace!#REF!,0)","v":{"$error":"#REF!"}},{"$f":"OFFSET(fakturace!F341,fakturace!#REF!,0)","v":{"$error":"#REF!"}}]
[{"$f":"OFFSET(fakturace!B342,fakturace!#REF!,0)","v":{"$error":"#REF!"}},{"$f":"OFFSET(fakturace!C342,fakturace!#REF!,0)","v":{"$error":"#REF!"}},{"$f":"OFFSET(fakturace!F342,fakturace!#REF!,0)","v":{"$error":"#REF!"}}]
[{"$f":"OFFSET(fakturace!B343,fakturace!#REF!,0)","v":{"$error":"#REF!"}},{"$f":"OFFSET(fakturace!C343,fakturace!#REF!,0)","v":{"$error":"#REF!"}},{"$f":"OFFSET(fakturace!F343,fakturace!#REF!,0)","v":{"$error":"#REF!"}}]
[{"$f":"OFFSET(fakturace!B344,fakturace!#REF!,0)","v":{"$error":"#REF!"}},{"$f":"OFFSET(fakturace!C344,fakturace!#REF!,0)","v":{"$error":"#REF!"}},{"$f":"OFFSET(fakturace!F344,fakturace!#REF!,0)","v":{"$error":"#REF!"}}]
[{"$f":"OFFSET(fakturace!B345,fakturace!#REF!,0)","v":{"$error":"#REF!"}},{"$f":"OFFSET(fakturace!C345,fakturace!#REF!,0)","v":{"$error":"#REF!"}},{"$f":"OFFSET(fakturace!F345,fakturace!#REF!,0)","v":{"$error":"#REF!"}}]
[{"$f":"OFFSET(fakturace!B346,fakturace!#REF!,0)","v":{"$error":"#REF!"}},{"$f":"OFFSET(fakturace!C346,fakturace!#REF!,0)","v":{"$error":"#REF!"}},{"$f":"OFFSET(fakturace!F346,fakturace!#REF!,0)","v":{"$error":"#REF!"}}]
[{"$f":"OFFSET(fakturace!B347,fakturace!#REF!,0)","v":{"$error":"#REF!"}},{"$f":"OFFSET(fakturace!C347,fakturace!#REF!,0)","v":{"$error":"#REF!"}},{"$f":"OFFSET(fakturace!F347,fakturace!#REF!,0)","v":{"$error":"#REF!"}}]
[{"$f":"OFFSET(fakturace!B348,fakturace!#REF!,0)","v":{"$error":"#REF!"}},{"$f":"OFFSET(fakturace!C348,fakturace!#REF!,0)","v":{"$error":"#REF!"}},{"$f":"OFFSET(fakturace!F348,fakturace!#REF!,0)","v":{"$error":"#REF!"}}]
[{"$f":"OFFSET(fakturace!B349,fakturace!#REF!,0)","v":{"$error":"#REF!"}},{"$f":"OFFSET(fakturace!C349,fakturace!#REF!,0)","v":{"$error":"#REF!"}},{"$f":"OFFSET(fakturace!F349,fakturace!#REF!,0)","v":{"$error":"#REF!"}}]
[{"$f":"OFFSET(fakturace!B350,fakturace!#REF!,0)","v":{"$error":"#REF!"}},{"$f":"OFFSET(fakturace!C350,fakturace!#REF!,0)","v":{"$error":"#REF!"}},{"$f":"OFFSET(fakturace!F350,fakturace!#REF!,0)","v":{"$error":"#REF!"}}]
[{"$f":"OFFSET(fakturace!B351,fakturace!#REF!,0)","v":{"$error":"#REF!"}},{"$f":"OFFSET(fakturace!C351,fakturace!#REF!,0)","v":{"$error":"#REF!"}},{"$f":"OFFSET(fakturace!F351,fakturace!#REF!,0)","v":{"$error":"#REF!"}}]
[{"$f":"OFFSET(fakturace!B352,fakturace!#REF!,0)","v":{"$error":"#REF!"}},{"$f":"OFFSET(fakturace!C352,fakturace!#REF!,0)","v":{"$error":"#REF!"}},{"$f":"OFFSET(fakturace!F352,fakturace!#REF!,0)","v":{"$error":"#REF!"}}]
[{"$f":"OFFSET(fakturace!B353,fakturace!#REF!,0)","v":{"$error":"#REF!"}},{"$f":"OFFSET(fakturace!C353,fakturace!#REF!,0)","v":{"$error":"#REF!"}},{"$f":"OFFSET(fakturace!F353,fakturace!#REF!,0)","v":{"$error":"#REF!"}}]
[{"$f":"OFFSET(fakturace!B354,fakturace!#REF!,0)","v":{"$error":"#REF!"}},{"$f":"OFFSET(fakturace!C354,fakturace!#REF!,0)","v":{"$error":"#REF!"}},{"$f":"OFFSET(fakturace!F354,fakturace!#REF!,0)","v":{"$error":"#REF!"}}]
[{"$f":"OFFSET(fakturace!B355,fakturace!#REF!,0)","v":{"$error":"#REF!"}},{"$f":"OFFSET(fakturace!C355,fakturace!#REF!,0)","v":{"$error":"#REF!"}},{"$f":"OFFSET(fakturace!F355,fakturace!#REF!,0)","v":{"$error":"#REF!"}}]
[{"$f":"OFFSET(fakturace!B356,fakturace!#REF!,0)","v":{"$error":"#REF!"}},{"$f":"OFFSET(fakturace!C356,fakturace!#REF!,0)","v":{"$error":"#REF!"}},{"$f":"OFFSET(fakturace!F356,fakturace!#REF!,0)","v":{"$error":"#REF!"}}]
[{"$f":"OFFSET(fakturace!B357,fakturace!#REF!,0)","v":{"$error":"#REF!"}},{"$f":"OFFSET(fakturace!C357,fakturace!#REF!,0)","v":{"$error":"#REF!"}},{"$f":"OFFSET(fakturace!F357,fakturace!#REF!,0)","v":{"$error":"#REF!"}}]
[{"$f":"OFFSET(fakturace!B358,fakturace!#REF!,0)","v":{"$error":"#REF!"}},{"$f":"OFFSET(fakturace!C358,fakturace!#REF!,0)","v":{"$error":"#REF!"}},{"$f":"OFFSET(fakturace!F358,fakturace!#REF!,0)","v":{"$error":"#REF!"}}]
[{"$f":"OFFSET(fakturace!B359,fakturace!#REF!,0)","v":{"$error":"#REF!"}},{"$f":"OFFSET(fakturace!C359,fakturace!#REF!,0)","v":{"$error":"#REF!"}},{"$f":"OFFSET(fakturace!F359,fakturace!#REF!,0)","v":{"$error":"#REF!"}}]
[{"$f":"OFFSET(fakturace!B360,fakturace!#REF!,0)","v":{"$error":"#REF!"}},{"$f":"OFFSET(fakturace!C360,fakturace!#REF!,0)","v":{"$error":"#REF!"}},{"$f":"OFFSET(fakturace!F360,fakturace!#REF!,0)","v":{"$error":"#REF!"}}]
[{"$f":"OFFSET(fakturace!B361,fakturace!#REF!,0)","v":{"$error":"#REF!"}},{"$f":"OFFSET(fakturace!C361,fakturace!#REF!,0)","v":{"$error":"#REF!"}},{"$f":"OFFSET(fakturace!F361,fakturace!#REF!,0)","v":{"$error":"#REF!"}}]
[{"$f":"OFFSET(fakturace!B362,fakturace!#REF!,0)","v":{"$error":"#REF!"}},{"$f":"OFFSET(fakturace!C362,fakturace!#REF!,0)","v":{"$error":"#REF!"}},{"$f":"OFFSET(fakturace!F362,fakturace!#REF!,0)","v":{"$error":"#REF!"}}]
[{"$f":"OFFSET(fakturace!B363,fakturace!#REF!,0)","v":{"$error":"#REF!"}},{"$f":"OFFSET(fakturace!C363,fakturace!#REF!,0)","v":{"$error":"#REF!"}},{"$f":"OFFSET(fakturace!F363,fakturace!#REF!,0)","v":{"$error":"#REF!"}}]
[{"$f":"OFFSET(fakturace!B364,fakturace!#REF!,0)","v":{"$error":"#REF!"}},{"$f":"OFFSET(fakturace!C364,fakturace!#REF!,0)","v":{"$error":"#REF!"}},{"$f":"OFFSET(fakturace!F364,fakturace!#REF!,0)","v":{"$error":"#REF!"}}]
[{"$f":"OFFSET(fakturace!B365,fakturace!#REF!,0)","v":{"$error":"#REF!"}},{"$f":"OFFSET(fakturace!C365,fakturace!#REF!,0)","v":{"$error":"#REF!"}},{"$f":"OFFSET(fakturace!F365,fakturace!#REF!,0)","v":{"$error":"#REF!"}}]
[{"$f":"OFFSET(fakturace!B366,fakturace!#REF!,0)","v":{"$error":"#REF!"}},{"$f":"OFFSET(fakturace!C366,fakturace!#REF!,0)","v":{"$error":"#REF!"}},{"$f":"OFFSET(fakturace!F366,fakturace!#REF!,0)","v":{"$error":"#REF!"}}]
[{"$f":"OFFSET(fakturace!B367,fakturace!#REF!,0)","v":{"$error":"#REF!"}},{"$f":"OFFSET(fakturace!C367,fakturace!#REF!,0)","v":{"$error":"#REF!"}},{"$f":"OFFSET(fakturace!F367,fakturace!#REF!,0)","v":{"$error":"#REF!"}}]
[{"$f":"OFFSET(fakturace!B368,fakturace!#REF!,0)","v":{"$error":"#REF!"}},{"$f":"OFFSET(fakturace!C368,fakturace!#REF!,0)","v":{"$error":"#REF!"}},{"$f":"OFFSET(fakturace!F368,fakturace!#REF!,0)","v":{"$error":"#REF!"}}]
[{"$f":"OFFSET(fakturace!B369,fakturace!#REF!,0)","v":{"$error":"#REF!"}},{"$f":"OFFSET(fakturace!C369,fakturace!#REF!,0)","v":{"$error":"#REF!"}},{"$f":"OFFSET(fakturace!F369,fakturace!#REF!,0)","v":{"$error":"#REF!"}}]
[{"$f":"OFFSET(fakturace!B370,fakturace!#REF!,0)","v":{"$error":"#REF!"}},{"$f":"OFFSET(fakturace!C370,fakturace!#REF!,0)","v":{"$error":"#REF!"}},{"$f":"OFFSET(fakturace!F370,fakturace!#REF!,0)","v":{"$error":"#REF!"}}]
[{"$f":"OFFSET(fakturace!B371,fakturace!#REF!,0)","v":{"$error":"#REF!"}},{"$f":"OFFSET(fakturace!C371,fakturace!#REF!,0)","v":{"$error":"#REF!"}},{"$f":"OFFSET(fakturace!F371,fakturace!#REF!,0)","v":{"$error":"#REF!"}}]
[{"$f":"OFFSET(fakturace!B372,fakturace!#REF!,0)","v":{"$error":"#REF!"}},{"$f":"OFFSET(fakturace!C372,fakturace!#REF!,0)","v":{"$error":"#REF!"}},{"$f":"OFFSET(fakturace!F372,fakturace!#REF!,0)","v":{"$error":"#REF!"}}]
[{"$f":"OFFSET(fakturace!B373,fakturace!#REF!,0)","v":{"$error":"#REF!"}},{"$f":"OFFSET(fakturace!C373,fakturace!#REF!,0)","v":{"$error":"#REF!"}},{"$f":"OFFSET(fakturace!F373,fakturace!#REF!,0)","v":{"$error":"#REF!"}}]
[{"$f":"OFFSET(fakturace!B374,fakturace!#REF!,0)","v":{"$error":"#REF!"}},{"$f":"OFFSET(fakturace!C374,fakturace!#REF!,0)","v":{"$error":"#REF!"}},{"$f":"OFFSET(fakturace!F374,fakturace!#REF!,0)","v":{"$error":"#REF!"}}]
[{"$f":"OFFSET(fakturace!B375,fakturace!#REF!,0)","v":{"$error":"#REF!"}},{"$f":"OFFSET(fakturace!C375,fakturace!#REF!,0)","v":{"$error":"#REF!"}},{"$f":"OFFSET(fakturace!F375,fakturace!#REF!,0)","v":{"$error":"#REF!"}}]
[{"$f":"OFFSET(fakturace!B376,fakturace!#REF!,0)","v":{"$error":"#REF!"}},{"$f":"OFFSET(fakturace!C376,fakturace!#REF!,0)","v":{"$error":"#REF!"}},{"$f":"OFFSET(fakturace!F376,fakturace!#REF!,0)","v":{"$error":"#REF!"}}]
[{"$f":"OFFSET(fakturace!B377,fakturace!#REF!,0)","v":{"$error":"#REF!"}},{"$f":"OFFSET(fakturace!C377,fakturace!#REF!,0)","v":{"$error":"#REF!"}},{"$f":"OFFSET(fakturace!F377,fakturace!#REF!,0)","v":{"$error":"#REF!"}}]
[{"$f":"OFFSET(fakturace!B378,fakturace!#REF!,0)","v":{"$error":"#REF!"}},{"$f":"OFFSET(fakturace!C378,fakturace!#REF!,0)","v":{"$error":"#REF!"}},{"$f":"OFFSET(fakturace!F378,fakturace!#REF!,0)","v":{"$error":"#REF!"}}]
[{"$f":"OFFSET(fakturace!B379,fakturace!#REF!,0)","v":{"$error":"#REF!"}},{"$f":"OFFSET(fakturace!C379,fakturace!#REF!,0)","v":{"$error":"#REF!"}},{"$f":"OFFSET(fakturace!F379,fakturace!#REF!,0)","v":{"$error":"#REF!"}}]
[{"$f":"OFFSET(fakturace!B380,fakturace!#REF!,0)","v":{"$error":"#REF!"}},{"$f":"OFFSET(fakturace!C380,fakturace!#REF!,0)","v":{"$error":"#REF!"}},{"$f":"OFFSET(fakturace!F380,fakturace!#REF!,0)","v":{"$error":"#REF!"}}]
[{"$f":"OFFSET(fakturace!B381,fakturace!#REF!,0)","v":{"$error":"#REF!"}},{"$f":"OFFSET(fakturace!C381,fakturace!#REF!,0)","v":{"$error":"#REF!"}},{"$f":"OFFSET(fakturace!F381,fakturace!#REF!,0)","v":{"$error":"#REF!"}}]
[{"$f":"OFFSET(fakturace!B382,fakturace!#REF!,0)","v":{"$error":"#REF!"}},{"$f":"OFFSET(fakturace!C382,fakturace!#REF!,0)","v":{"$error":"#REF!"}},{"$f":"OFFSET(fakturace!F382,fakturace!#REF!,0)","v":{"$error":"#REF!"}}]
[{"$f":"OFFSET(fakturace!B383,fakturace!#REF!,0)","v":{"$error":"#REF!"}},{"$f":"OFFSET(fakturace!C383,fakturace!#REF!,0)","v":{"$error":"#REF!"}},{"$f":"OFFSET(fakturace!F383,fakturace!#REF!,0)","v":{"$error":"#REF!"}}]
[{"$f":"OFFSET(fakturace!B384,fakturace!#REF!,0)","v":{"$error":"#REF!"}},{"$f":"OFFSET(fakturace!C384,fakturace!#REF!,0)","v":{"$error":"#REF!"}},{"$f":"OFFSET(fakturace!F384,fakturace!#REF!,0)","v":{"$error":"#REF!"}}]
[{"$f":"OFFSET(fakturace!B385,fakturace!#REF!,0)","v":{"$error":"#REF!"}},{"$f":"OFFSET(fakturace!C385,fakturace!#REF!,0)","v":{"$error":"#REF!"}},{"$f":"OFFSET(fakturace!F385,fakturace!#REF!,0)","v":{"$error":"#REF!"}}]
[{"$f":"OFFSET(fakturace!B386,fakturace!#REF!,0)","v":{"$error":"#REF!"}},{"$f":"OFFSET(fakturace!C386,fakturace!#REF!,0)","v":{"$error":"#REF!"}},{"$f":"OFFSET(fakturace!F386,fakturace!#REF!,0)","v":{"$error":"#REF!"}}]
[{"$f":"OFFSET(fakturace!B387,fakturace!#REF!,0)","v":{"$error":"#REF!"}},{"$f":"OFFSET(fakturace!C387,fakturace!#REF!,0)","v":{"$error":"#REF!"}},{"$f":"OFFSET(fakturace!F387,fakturace!#REF!,0)","v":{"$error":"#REF!"}}]
[{"$f":"OFFSET(fakturace!B388,fakturace!#REF!,0)","v":{"$error":"#REF!"}},{"$f":"OFFSET(fakturace!C388,fakturace!#REF!,0)","v":{"$error":"#REF!"}},{"$f":"OFFSET(fakturace!F388,fakturace!#REF!,0)","v":{"$error":"#REF!"}}]
[{"$f":"OFFSET(fakturace!B389,fakturace!#REF!,0)","v":{"$error":"#REF!"}},{"$f":"OFFSET(fakturace!C389,fakturace!#REF!,0)","v":{"$error":"#REF!"}},{"$f":"OFFSET(fakturace!F389,fakturace!#REF!,0)","v":{"$error":"#REF!"}}]
[{"$f":"OFFSET(fakturace!B390,fakturace!#REF!,0)","v":{"$error":"#REF!"}},{"$f":"OFFSET(fakturace!C390,fakturace!#REF!,0)","v":{"$error":"#REF!"}},{"$f":"OFFSET(fakturace!F390,fakturace!#REF!,0)","v":{"$error":"#REF!"}}]
[{"$f":"OFFSET(fakturace!B391,fakturace!#REF!,0)","v":{"$error":"#REF!"}},{"$f":"OFFSET(fakturace!C391,fakturace!#REF!,0)","v":{"$error":"#REF!"}},{"$f":"OFFSET(fakturace!F391,fakturace!#REF!,0)","v":{"$error":"#REF!"}}]
[{"$f":"OFFSET(fakturace!B392,fakturace!#REF!,0)","v":{"$error":"#REF!"}},{"$f":"OFFSET(fakturace!C392,fakturace!#REF!,0)","v":{"$error":"#REF!"}},{"$f":"OFFSET(fakturace!F392,fakturace!#REF!,0)","v":{"$error":"#REF!"}}]
[{"$f":"OFFSET(fakturace!B393,fakturace!#REF!,0)","v":{"$error":"#REF!"}},{"$f":"OFFSET(fakturace!C393,fakturace!#REF!,0)","v":{"$error":"#REF!"}},{"$f":"OFFSET(fakturace!F393,fakturace!#REF!,0)","v":{"$error":"#REF!"}}]
[{"$f":"OFFSET(fakturace!B394,fakturace!#REF!,0)","v":{"$error":"#REF!"}},{"$f":"OFFSET(fakturace!C394,fakturace!#REF!,0)","v":{"$error":"#REF!"}},{"$f":"OFFSET(fakturace!F394,fakturace!#REF!,0)","v":{"$error":"#REF!"}}]
[{"$f":"OFFSET(fakturace!B395,fakturace!#REF!,0)","v":{"$error":"#REF!"}},{"$f":"OFFSET(fakturace!C395,fakturace!#REF!,0)","v":{"$error":"#REF!"}},{"$f":"OFFSET(fakturace!F395,fakturace!#REF!,0)","v":{"$error":"#REF!"}}]
[{"$f":"OFFSET(fakturace!B396,fakturace!#REF!,0)","v":{"$error":"#REF!"}},{"$f":"OFFSET(fakturace!C396,fakturace!#REF!,0)","v":{"$error":"#REF!"}},{"$f":"OFFSET(fakturace!F396,fakturace!#REF!,0)","v":{"$error":"#REF!"}}]
[{"$f":"OFFSET(fakturace!B397,fakturace!#REF!,0)","v":{"$error":"#REF!"}},{"$f":"OFFSET(fakturace!C397,fakturace!#REF!,0)","v":{"$error":"#REF!"}},{"$f":"OFFSET(fakturace!F397,fakturace!#REF!,0)","v":{"$error":"#REF!"}}]
[{"$f":"OFFSET(fakturace!B398,fakturace!#REF!,0)","v":{"$error":"#REF!"}},{"$f":"OFFSET(fakturace!C398,fakturace!#REF!,0)","v":{"$error":"#REF!"}},{"$f":"OFFSET(fakturace!F398,fakturace!#REF!,0)","v":{"$error":"#REF!"}}]
[{"$f":"OFFSET(fakturace!B399,fakturace!#REF!,0)","v":{"$error":"#REF!"}},{"$f":"OFFSET(fakturace!C399,fakturace!#REF!,0)","v":{"$error":"#REF!"}},{"$f":"OFFSET(fakturace!F399,fakturace!#REF!,0)","v":{"$error":"#REF!"}}]
[{"$f":"OFFSET(fakturace!B400,fakturace!#REF!,0)","v":{"$error":"#REF!"}},{"$f":"OFFSET(fakturace!C400,fakturace!#REF!,0)","v":{"$error":"#REF!"}},{"$f":"OFFSET(fakturace!F400,fakturace!#REF!,0)","v":{"$error":"#REF!"}}]
[{"$f":"OFFSET(fakturace!B401,fakturace!#REF!,0)","v":{"$error":"#REF!"}},{"$f":"OFFSET(fakturace!C401,fakturace!#REF!,0)","v":{"$error":"#REF!"}},{"$f":"OFFSET(fakturace!F401,fakturace!#REF!,0)","v":{"$error":"#REF!"}}]
[{"$f":"OFFSET(fakturace!B402,fakturace!#REF!,0)","v":{"$error":"#REF!"}},{"$f":"OFFSET(fakturace!C402,fakturace!#REF!,0)","v":{"$error":"#REF!"}},{"$f":"OFFSET(fakturace!F402,fakturace!#REF!,0)","v":{"$error":"#REF!"}}]
[{"$f":"OFFSET(fakturace!B403,fakturace!#REF!,0)","v":{"$error":"#REF!"}},{"$f":"OFFSET(fakturace!C403,fakturace!#REF!,0)","v":{"$error":"#REF!"}},{"$f":"OFFSET(fakturace!F403,fakturace!#REF!,0)","v":{"$error":"#REF!"}}]
[{"$f":"OFFSET(fakturace!B404,fakturace!#REF!,0)","v":{"$error":"#REF!"}},{"$f":"OFFSET(fakturace!C404,fakturace!#REF!,0)","v":{"$error":"#REF!"}},{"$f":"OFFSET(fakturace!F404,fakturace!#REF!,0)","v":{"$error":"#REF!"}}]
[{"$f":"OFFSET(fakturace!B405,fakturace!#REF!,0)","v":{"$error":"#REF!"}},{"$f":"OFFSET(fakturace!C405,fakturace!#REF!,0)","v":{"$error":"#REF!"}},{"$f":"OFFSET(fakturace!F405,fakturace!#REF!,0)","v":{"$error":"#REF!"}}]
[{"$f":"OFFSET(fakturace!B406,fakturace!#REF!,0)","v":{"$error":"#REF!"}},{"$f":"OFFSET(fakturace!C406,fakturace!#REF!,0)","v":{"$error":"#REF!"}},{"$f":"OFFSET(fakturace!F406,fakturace!#REF!,0)","v":{"$error":"#REF!"}}]
[{"$f":"OFFSET(fakturace!B407,fakturace!#REF!,0)","v":{"$error":"#REF!"}},{"$f":"OFFSET(fakturace!C407,fakturace!#REF!,0)","v":{"$error":"#REF!"}},{"$f":"OFFSET(fakturace!F407,fakturace!#REF!,0)","v":{"$error":"#REF!"}}]
[{"$f":"OFFSET(fakturace!B408,fakturace!#REF!,0)","v":{"$error":"#REF!"}},{"$f":"OFFSET(fakturace!C408,fakturace!#REF!,0)","v":{"$error":"#REF!"}},{"$f":"OFFSET(fakturace!F408,fakturace!#REF!,0)","v":{"$error":"#REF!"}}]
[{"$f":"OFFSET(fakturace!B409,fakturace!#REF!,0)","v":{"$error":"#REF!"}},{"$f":"OFFSET(fakturace!C409,fakturace!#REF!,0)","v":{"$error":"#REF!"}},{"$f":"OFFSET(fakturace!F409,fakturace!#REF!,0)","v":{"$error":"#REF!"}}]
[{"$f":"OFFSET(fakturace!B410,fakturace!#REF!,0)","v":{"$error":"#REF!"}},{"$f":"OFFSET(fakturace!C410,fakturace!#REF!,0)","v":{"$error":"#REF!"}},{"$f":"OFFSET(fakturace!F410,fakturace!#REF!,0)","v":{"$error":"#REF!"}}]
[{"$f":"OFFSET(fakturace!B411,fakturace!#REF!,0)","v":{"$error":"#REF!"}},{"$f":"OFFSET(fakturace!C411,fakturace!#REF!,0)","v":{"$error":"#REF!"}},{"$f":"OFFSET(fakturace!F411,fakturace!#REF!,0)","v":{"$error":"#REF!"}}]
[{"$f":"OFFSET(fakturace!B412,fakturace!#REF!,0)","v":{"$error":"#REF!"}},{"$f":"OFFSET(fakturace!C412,fakturace!#REF!,0)","v":{"$error":"#REF!"}},{"$f":"OFFSET(fakturace!F412,fakturace!#REF!,0)","v":{"$error":"#REF!"}}]
[{"$f":"OFFSET(fakturace!B413,fakturace!#REF!,0)","v":{"$error":"#REF!"}},{"$f":"OFFSET(fakturace!C413,fakturace!#REF!,0)","v":{"$error":"#REF!"}},{"$f":"OFFSET(fakturace!F413,fakturace!#REF!,0)","v":{"$error":"#REF!"}}]
[{"$f":"OFFSET(fakturace!B414,fakturace!#REF!,0)","v":{"$error":"#REF!"}},{"$f":"OFFSET(fakturace!C414,fakturace!#REF!,0)","v":{"$error":"#REF!"}},{"$f":"OFFSET(fakturace!F414,fakturace!#REF!,0)","v":{"$error":"#REF!"}}]
[{"$f":"OFFSET(fakturace!B415,fakturace!#REF!,0)","v":{"$error":"#REF!"}},{"$f":"OFFSET(fakturace!C415,fakturace!#REF!,0)","v":{"$error":"#REF!"}},{"$f":"OFFSET(fakturace!F415,fakturace!#REF!,0)","v":{"$error":"#REF!"}}]
[{"$f":"OFFSET(fakturace!B416,fakturace!#REF!,0)","v":{"$error":"#REF!"}},{"$f":"OFFSET(fakturace!C416,fakturace!#REF!,0)","v":{"$error":"#REF!"}},{"$f":"OFFSET(fakturace!F416,fakturace!#REF!,0)","v":{"$error":"#REF!"}}]
[{"$f":"OFFSET(fakturace!B417,fakturace!#REF!,0)","v":{"$error":"#REF!"}},{"$f":"OFFSET(fakturace!C417,fakturace!#REF!,0)","v":{"$error":"#REF!"}},{"$f":"OFFSET(fakturace!F417,fakturace!#REF!,0)","v":{"$error":"#REF!"}}]
[{"$f":"OFFSET(fakturace!B418,fakturace!#REF!,0)","v":{"$error":"#REF!"}},{"$f":"OFFSET(fakturace!C418,fakturace!#REF!,0)","v":{"$error":"#REF!"}},{"$f":"OFFSET(fakturace!F418,fakturace!#REF!,0)","v":{"$error":"#REF!"}}]
[{"$f":"OFFSET(fakturace!B419,fakturace!#REF!,0)","v":{"$error":"#REF!"}},{"$f":"OFFSET(fakturace!C419,fakturace!#REF!,0)","v":{"$error":"#REF!"}},{"$f":"OFFSET(fakturace!F419,fakturace!#REF!,0)","v":{"$error":"#REF!"}}]
[{"$f":"OFFSET(fakturace!B420,fakturace!#REF!,0)","v":{"$error":"#REF!"}},{"$f":"OFFSET(fakturace!C420,fakturace!#REF!,0)","v":{"$error":"#REF!"}},{"$f":"OFFSET(fakturace!F420,fakturace!#REF!,0)","v":{"$error":"#REF!"}}]
[{"$f":"OFFSET(fakturace!B421,fakturace!#REF!,0)","v":{"$error":"#REF!"}},{"$f":"OFFSET(fakturace!C421,fakturace!#REF!,0)","v":{"$error":"#REF!"}},{"$f":"OFFSET(fakturace!F421,fakturace!#REF!,0)","v":{"$error":"#REF!"}}]
[{"$f":"OFFSET(fakturace!B422,fakturace!#REF!,0)","v":{"$error":"#REF!"}},{"$f":"OFFSET(fakturace!C422,fakturace!#REF!,0)","v":{"$error":"#REF!"}},{"$f":"OFFSET(fakturace!F422,fakturace!#REF!,0)","v":{"$error":"#REF!"}}]
[{"$f":"OFFSET(fakturace!B423,fakturace!#REF!,0)","v":{"$error":"#REF!"}},{"$f":"OFFSET(fakturace!C423,fakturace!#REF!,0)","v":{"$error":"#REF!"}},{"$f":"OFFSET(fakturace!F423,fakturace!#REF!,0)","v":{"$error":"#REF!"}}]
[{"$f":"OFFSET(fakturace!B424,fakturace!#REF!,0)","v":{"$error":"#REF!"}},{"$f":"OFFSET(fakturace!C424,fakturace!#REF!,0)","v":{"$error":"#REF!"}},{"$f":"OFFSET(fakturace!F424,fakturace!#REF!,0)","v":{"$error":"#REF!"}}]
[{"$f":"OFFSET(fakturace!B425,fakturace!#REF!,0)","v":{"$error":"#REF!"}},{"$f":"OFFSET(fakturace!C425,fakturace!#REF!,0)","v":{"$error":"#REF!"}},{"$f":"OFFSET(fakturace!F425,fakturace!#REF!,0)","v":{"$error":"#REF!"}}]
[{"$f":"OFFSET(fakturace!B426,fakturace!#REF!,0)","v":{"$error":"#REF!"}},{"$f":"OFFSET(fakturace!C426,fakturace!#REF!,0)","v":{"$error":"#REF!"}},{"$f":"OFFSET(fakturace!F426,fakturace!#REF!,0)","v":{"$error":"#REF!"}}]
[{"$f":"OFFSET(fakturace!B427,fakturace!#REF!,0)","v":{"$error":"#REF!"}},{"$f":"OFFSET(fakturace!C427,fakturace!#REF!,0)","v":{"$error":"#REF!"}},{"$f":"OFFSET(fakturace!F427,fakturace!#REF!,0)","v":{"$error":"#REF!"}}]
[{"$f":"OFFSET(fakturace!B428,fakturace!#REF!,0)","v":{"$error":"#REF!"}},{"$f":"OFFSET(fakturace!C428,fakturace!#REF!,0)","v":{"$error":"#REF!"}},{"$f":"OFFSET(fakturace!F428,fakturace!#REF!,0)","v":{"$error":"#REF!"}}]
[{"$f":"OFFSET(fakturace!B429,fakturace!#REF!,0)","v":{"$error":"#REF!"}},{"$f":"OFFSET(fakturace!C429,fakturace!#REF!,0)","v":{"$error":"#REF!"}},{"$f":"OFFSET(fakturace!F429,fakturace!#REF!,0)","v":{"$error":"#REF!"}}]
[{"$f":"OFFSET(fakturace!B430,fakturace!#REF!,0)","v":{"$error":"#REF!"}},{"$f":"OFFSET(fakturace!C430,fakturace!#REF!,0)","v":{"$error":"#REF!"}},{"$f":"OFFSET(fakturace!F430,fakturace!#REF!,0)","v":{"$error":"#REF!"}}]
[{"$f":"OFFSET(fakturace!B431,fakturace!#REF!,0)","v":{"$error":"#REF!"}},{"$f":"OFFSET(fakturace!C431,fakturace!#REF!,0)","v":{"$error":"#REF!"}},{"$f":"OFFSET(fakturace!F431,fakturace!#REF!,0)","v":{"$error":"#REF!"}}]
[{"$f":"OFFSET(fakturace!B432,fakturace!#REF!,0)","v":{"$error":"#REF!"}},{"$f":"OFFSET(fakturace!C432,fakturace!#REF!,0)","v":{"$error":"#REF!"}},{"$f":"OFFSET(fakturace!F432,fakturace!#REF!,0)","v":{"$error":"#REF!"}}]
[{"$f":"OFFSET(fakturace!B433,fakturace!#REF!,0)","v":{"$error":"#REF!"}},{"$f":"OFFSET(fakturace!C433,fakturace!#REF!,0)","v":{"$error":"#REF!"}},{"$f":"OFFSET(fakturace!F433,fakturace!#REF!,0)","v":{"$error":"#REF!"}}]
[{"$f":"OFFSET(fakturace!B434,fakturace!#REF!,0)","v":{"$error":"#REF!"}},{"$f":"OFFSET(fakturace!C434,fakturace!#REF!,0)","v":{"$error":"#REF!"}},{"$f":"OFFSET(fakturace!F434,fakturace!#REF!,0)","v":{"$error":"#REF!"}}]
[{"$f":"OFFSET(fakturace!B435,fakturace!#REF!,0)","v":{"$error":"#REF!"}},{"$f":"OFFSET(fakturace!C435,fakturace!#REF!,0)","v":{"$error":"#REF!"}},{"$f":"OFFSET(fakturace!F435,fakturace!#REF!,0)","v":{"$error":"#REF!"}}]
[{"$f":"OFFSET(fakturace!B436,fakturace!#REF!,0)","v":{"$error":"#REF!"}},{"$f":"OFFSET(fakturace!C436,fakturace!#REF!,0)","v":{"$error":"#REF!"}},{"$f":"OFFSET(fakturace!F436,fakturace!#REF!,0)","v":{"$error":"#REF!"}}]
[{"$f":"OFFSET(fakturace!B437,fakturace!#REF!,0)","v":{"$error":"#REF!"}},{"$f":"OFFSET(fakturace!C437,fakturace!#REF!,0)","v":{"$error":"#REF!"}},{"$f":"OFFSET(fakturace!F437,fakturace!#REF!,0)","v":{"$error":"#REF!"}}]
[{"$f":"OFFSET(fakturace!B438,fakturace!#REF!,0)","v":{"$error":"#REF!"}},{"$f":"OFFSET(fakturace!C438,fakturace!#REF!,0)","v":{"$error":"#REF!"}},{"$f":"OFFSET(fakturace!F438,fakturace!#REF!,0)","v":{"$error":"#REF!"}}]
[{"$f":"OFFSET(fakturace!B439,fakturace!#REF!,0)","v":{"$error":"#REF!"}},{"$f":"OFFSET(fakturace!C439,fakturace!#REF!,0)","v":{"$error":"#REF!"}},{"$f":"OFFSET(fakturace!F439,fakturace!#REF!,0)","v":{"$error":"#REF!"}}]
[{"$f":"OFFSET(fakturace!B440,fakturace!#REF!,0)","v":{"$error":"#REF!"}},{"$f":"OFFSET(fakturace!C440,fakturace!#REF!,0)","v":{"$error":"#REF!"}},{"$f":"OFFSET(fakturace!F440,fakturace!#REF!,0)","v":{"$error":"#REF!"}}]
[{"$f":"OFFSET(fakturace!B441,fakturace!#REF!,0)","v":{"$error":"#REF!"}},{"$f":"OFFSET(fakturace!C441,fakturace!#REF!,0)","v":{"$error":"#REF!"}},{"$f":"OFFSET(fakturace!F441,fakturace!#REF!,0)","v":{"$error":"#REF!"}}]
[{"$f":"OFFSET(fakturace!B442,fakturace!#REF!,0)","v":{"$error":"#REF!"}},{"$f":"OFFSET(fakturace!C442,fakturace!#REF!,0)","v":{"$error":"#REF!"}},{"$f":"OFFSET(fakturace!F442,fakturace!#REF!,0)","v":{"$error":"#REF!"}}]
[{"$f":"OFFSET(fakturace!B443,fakturace!#REF!,0)","v":{"$error":"#REF!"}},{"$f":"OFFSET(fakturace!C443,fakturace!#REF!,0)","v":{"$error":"#REF!"}},{"$f":"OFFSET(fakturace!F443,fakturace!#REF!,0)","v":{"$error":"#REF!"}}]
[{"$f":"OFFSET(fakturace!B444,fakturace!#REF!,0)","v":{"$error":"#REF!"}},{"$f":"OFFSET(fakturace!C444,fakturace!#REF!,0)","v":{"$error":"#REF!"}},{"$f":"OFFSET(fakturace!F444,fakturace!#REF!,0)","v":{"$error":"#REF!"}}]
[{"$f":"OFFSET(fakturace!B445,fakturace!#REF!,0)","v":{"$error":"#REF!"}},{"$f":"OFFSET(fakturace!C445,fakturace!#REF!,0)","v":{"$error":"#REF!"}},{"$f":"OFFSET(fakturace!F445,fakturace!#REF!,0)","v":{"$error":"#REF!"}}]
[{"$f":"OFFSET(fakturace!B446,fakturace!#REF!,0)","v":{"$error":"#REF!"}},{"$f":"OFFSET(fakturace!C446,fakturace!#REF!,0)","v":{"$error":"#REF!"}},{"$f":"OFFSET(fakturace!F446,fakturace!#REF!,0)","v":{"$error":"#REF!"}}]
[{"$f":"OFFSET(fakturace!B447,fakturace!#REF!,0)","v":{"$error":"#REF!"}},{"$f":"OFFSET(fakturace!C447,fakturace!#REF!,0)","v":{"$error":"#REF!"}},{"$f":"OFFSET(fakturace!F447,fakturace!#REF!,0)","v":{"$error":"#REF!"}}]
[{"$f":"OFFSET(fakturace!B448,fakturace!#REF!,0)","v":{"$error":"#REF!"}},{"$f":"OFFSET(fakturace!C448,fakturace!#REF!,0)","v":{"$error":"#REF!"}},{"$f":"OFFSET(fakturace!F448,fakturace!#REF!,0)","v":{"$error":"#REF!"}}]
[{"$f":"OFFSET(fakturace!B449,fakturace!#REF!,0)","v":{"$error":"#REF!"}},{"$f":"OFFSET(fakturace!C449,fakturace!#REF!,0)","v":{"$error":"#REF!"}},{"$f":"OFFSET(fakturace!F449,fakturace!#REF!,0)","v":{"$error":"#REF!"}}]
[{"$f":"OFFSET(fakturace!B450,fakturace!#REF!,0)","v":{"$error":"#REF!"}},{"$f":"OFFSET(fakturace!C450,fakturace!#REF!,0)","v":{"$error":"#REF!"}},{"$f":"OFFSET(fakturace!F450,fakturace!#REF!,0)","v":{"$error":"#REF!"}}]
[{"$f":"OFFSET(fakturace!B451,fakturace!#REF!,0)","v":{"$error":"#REF!"}},{"$f":"OFFSET(fakturace!C451,fakturace!#REF!,0)","v":{"$error":"#REF!"}},{"$f":"OFFSET(fakturace!F451,fakturace!#REF!,0)","v":{"$error":"#REF!"}}]
[{"$f":"OFFSET(fakturace!B452,fakturace!#REF!,0)","v":{"$error":"#REF!"}},{"$f":"OFFSET(fakturace!C452,fakturace!#REF!,0)","v":{"$error":"#REF!"}},{"$f":"OFFSET(fakturace!F452,fakturace!#REF!,0)","v":{"$error":"#REF!"}}]
[{"$f":"OFFSET(fakturace!B453,fakturace!#REF!,0)","v":{"$error":"#REF!"}},{"$f":"OFFSET(fakturace!C453,fakturace!#REF!,0)","v":{"$error":"#REF!"}},{"$f":"OFFSET(fakturace!F453,fakturace!#REF!,0)","v":{"$error":"#REF!"}}]
[{"$f":"OFFSET(fakturace!B454,fakturace!#REF!,0)","v":{"$error":"#REF!"}},{"$f":"OFFSET(fakturace!C454,fakturace!#REF!,0)","v":{"$error":"#REF!"}},{"$f":"OFFSET(fakturace!F454,fakturace!#REF!,0)","v":{"$error":"#REF!"}}]
[{"$f":"OFFSET(fakturace!B455,fakturace!#REF!,0)","v":{"$error":"#REF!"}},{"$f":"OFFSET(fakturace!C455,fakturace!#REF!,0)","v":{"$error":"#REF!"}},{"$f":"OFFSET(fakturace!F455,fakturace!#REF!,0)","v":{"$error":"#REF!"}}]
[{"$f":"OFFSET(fakturace!B456,fakturace!#REF!,0)","v":{"$error":"#REF!"}},{"$f":"OFFSET(fakturace!C456,fakturace!#REF!,0)","v":{"$error":"#REF!"}},{"$f":"OFFSET(fakturace!F456,fakturace!#REF!,0)","v":{"$error":"#REF!"}}]
[{"$f":"OFFSET(fakturace!B457,fakturace!#REF!,0)","v":{"$error":"#REF!"}},{"$f":"OFFSET(fakturace!C457,fakturace!#REF!,0)","v":{"$error":"#REF!"}},{"$f":"OFFSET(fakturace!F457,fakturace!#REF!,0)","v":{"$error":"#REF!"}}]
[{"$f":"OFFSET(fakturace!B458,fakturace!#REF!,0)","v":{"$error":"#REF!"}},{"$f":"OFFSET(fakturace!C458,fakturace!#REF!,0)","v":{"$error":"#REF!"}},{"$f":"OFFSET(fakturace!F458,fakturace!#REF!,0)","v":{"$error":"#REF!"}}]
[{"$f":"OFFSET(fakturace!B459,fakturace!#REF!,0)","v":{"$error":"#REF!"}},{"$f":"OFFSET(fakturace!C459,fakturace!#REF!,0)","v":{"$error":"#REF!"}},{"$f":"OFFSET(fakturace!F459,fakturace!#REF!,0)","v":{"$error":"#REF!"}}]
[{"$f":"OFFSET(fakturace!B460,fakturace!#REF!,0)","v":{"$error":"#REF!"}},{"$f":"OFFSET(fakturace!C460,fakturace!#REF!,0)","v":{"$error":"#REF!"}},{"$f":"OFFSET(fakturace!F460,fakturace!#REF!,0)","v":{"$error":"#REF!"}}]
[{"$f":"OFFSET(fakturace!B461,fakturace!#REF!,0)","v":{"$error":"#REF!"}},{"$f":"OFFSET(fakturace!C461,fakturace!#REF!,0)","v":{"$error":"#REF!"}},{"$f":"OFFSET(fakturace!F461,fakturace!#REF!,0)","v":{"$error":"#REF!"}}]
[{"$f":"OFFSET(fakturace!B462,fakturace!#REF!,0)","v":{"$error":"#REF!"}},{"$f":"OFFSET(fakturace!C462,fakturace!#REF!,0)","v":{"$error":"#REF!"}},{"$f":"OFFSET(fakturace!F462,fakturace!#REF!,0)","v":{"$error":"#REF!"}}]
[{"$f":"OFFSET(fakturace!B463,fakturace!#REF!,0)","v":{"$error":"#REF!"}},{"$f":"OFFSET(fakturace!C463,fakturace!#REF!,0)","v":{"$error":"#REF!"}},{"$f":"OFFSET(fakturace!F463,fakturace!#REF!,0)","v":{"$error":"#REF!"}}]
[{"$f":"OFFSET(fakturace!B464,fakturace!#REF!,0)","v":{"$error":"#REF!"}},{"$f":"OFFSET(fakturace!C464,fakturace!#REF!,0)","v":{"$error":"#REF!"}},{"$f":"OFFSET(fakturace!F464,fakturace!#REF!,0)","v":{"$error":"#REF!"}}]
[{"$f":"OFFSET(fakturace!B465,fakturace!#REF!,0)","v":{"$error":"#REF!"}},{"$f":"OFFSET(fakturace!C465,fakturace!#REF!,0)","v":{"$error":"#REF!"}},{"$f":"OFFSET(fakturace!F465,fakturace!#REF!,0)","v":{"$error":"#REF!"}}]
[{"$f":"OFFSET(fakturace!B466,fakturace!#REF!,0)","v":{"$error":"#REF!"}},{"$f":"OFFSET(fakturace!C466,fakturace!#REF!,0)","v":{"$error":"#REF!"}},{"$f":"OFFSET(fakturace!F466,fakturace!#REF!,0)","v":{"$error":"#REF!"}}]
[{"$f":"OFFSET(fakturace!B467,fakturace!#REF!,0)","v":{"$error":"#REF!"}},{"$f":"OFFSET(fakturace!C467,fakturace!#REF!,0)","v":{"$error":"#REF!"}},{"$f":"OFFSET(fakturace!F467,fakturace!#REF!,0)","v":{"$error":"#REF!"}}]
[{"$f":"OFFSET(fakturace!B468,fakturace!#REF!,0)","v":{"$error":"#REF!"}},{"$f":"OFFSET(fakturace!C468,fakturace!#REF!,0)","v":{"$error":"#REF!"}},{"$f":"OFFSET(fakturace!F468,fakturace!#REF!,0)","v":{"$error":"#REF!"}}]
[{"$f":"OFFSET(fakturace!B469,fakturace!#REF!,0)","v":{"$error":"#REF!"}},{"$f":"OFFSET(fakturace!C469,fakturace!#REF!,0)","v":{"$error":"#REF!"}},{"$f":"OFFSET(fakturace!F469,fakturace!#REF!,0)","v":{"$error":"#REF!"}}]
[{"$f":"OFFSET(fakturace!B470,fakturace!#REF!,0)","v":{"$error":"#REF!"}},{"$f":"OFFSET(fakturace!C470,fakturace!#REF!,0)","v":{"$error":"#REF!"}},{"$f":"OFFSET(fakturace!F470,fakturace!#REF!,0)","v":{"$error":"#REF!"}}]
[{"$f":"OFFSET(fakturace!B471,fakturace!#REF!,0)","v":{"$error":"#REF!"}},{"$f":"OFFSET(fakturace!C471,fakturace!#REF!,0)","v":{"$error":"#REF!"}},{"$f":"OFFSET(fakturace!F471,fakturace!#REF!,0)","v":{"$error":"#REF!"}}]
[{"$f":"OFFSET(fakturace!B472,fakturace!#REF!,0)","v":{"$error":"#REF!"}},{"$f":"OFFSET(fakturace!C472,fakturace!#REF!,0)","v":{"$error":"#REF!"}},{"$f":"OFFSET(fakturace!F472,fakturace!#REF!,0)","v":{"$error":"#REF!"}}]
[{"$f":"OFFSET(fakturace!B473,fakturace!#REF!,0)","v":{"$error":"#REF!"}},{"$f":"OFFSET(fakturace!C473,fakturace!#REF!,0)","v":{"$error":"#REF!"}},{"$f":"OFFSET(fakturace!F473,fakturace!#REF!,0)","v":{"$error":"#REF!"}}]
[{"$f":"OFFSET(fakturace!B474,fakturace!#REF!,0)","v":{"$error":"#REF!"}},{"$f":"OFFSET(fakturace!C474,fakturace!#REF!,0)","v":{"$error":"#REF!"}},{"$f":"OFFSET(fakturace!F474,fakturace!#REF!,0)","v":{"$error":"#REF!"}}]
[{"$f":"OFFSET(fakturace!B475,fakturace!#REF!,0)","v":{"$error":"#REF!"}},{"$f":"OFFSET(fakturace!C475,fakturace!#REF!,0)","v":{"$error":"#REF!"}},{"$f":"OFFSET(fakturace!F475,fakturace!#REF!,0)","v":{"$error":"#REF!"}}]
[{"$f":"OFFSET(fakturace!B476,fakturace!#REF!,0)","v":{"$error":"#REF!"}},{"$f":"OFFSET(fakturace!C476,fakturace!#REF!,0)","v":{"$error":"#REF!"}},{"$f":"OFFSET(fakturace!F476,fakturace!#REF!,0)","v":{"$error":"#REF!"}}]
[{"$f":"OFFSET(fakturace!B477,fakturace!#REF!,0)","v":{"$error":"#REF!"}},{"$f":"OFFSET(fakturace!C477,fakturace!#REF!,0)","v":{"$error":"#REF!"}},{"$f":"OFFSET(fakturace!F477,fakturace!#REF!,0)","v":{"$error":"#REF!"}}]
[{"$f":"OFFSET(fakturace!B478,fakturace!#REF!,0)","v":{"$error":"#REF!"}},{"$f":"OFFSET(fakturace!C478,fakturace!#REF!,0)","v":{"$error":"#REF!"}},{"$f":"OFFSET(fakturace!F478,fakturace!#REF!,0)","v":{"$error":"#REF!"}}]
[{"$f":"OFFSET(fakturace!B479,fakturace!#REF!,0)","v":{"$error":"#REF!"}},{"$f":"OFFSET(fakturace!C479,fakturace!#REF!,0)","v":{"$error":"#REF!"}},{"$f":"OFFSET(fakturace!F479,fakturace!#REF!,0)","v":{"$error":"#REF!"}}]
[{"$f":"OFFSET(fakturace!B480,fakturace!#REF!,0)","v":{"$error":"#REF!"}},{"$f":"OFFSET(fakturace!C480,fakturace!#REF!,0)","v":{"$error":"#REF!"}},{"$f":"OFFSET(fakturace!F480,fakturace!#REF!,0)","v":{"$error":"#REF!"}}]
[{"$f":"OFFSET(fakturace!B481,fakturace!#REF!,0)","v":{"$error":"#REF!"}},{"$f":"OFFSET(fakturace!C481,fakturace!#REF!,0)","v":{"$error":"#REF!"}},{"$f":"OFFSET(fakturace!F481,fakturace!#REF!,0)","v":{"$error":"#REF!"}}]
[{"$f":"OFFSET(fakturace!B482,fakturace!#REF!,0)","v":{"$error":"#REF!"}},{"$f":"OFFSET(fakturace!C482,fakturace!#REF!,0)","v":{"$error":"#REF!"}},{"$f":"OFFSET(fakturace!F482,fakturace!#REF!,0)","v":{"$error":"#REF!"}}]
[{"$f":"OFFSET(fakturace!B483,fakturace!#REF!,0)","v":{"$error":"#REF!"}},{"$f":"OFFSET(fakturace!C483,fakturace!#REF!,0)","v":{"$error":"#REF!"}},{"$f":"OFFSET(fakturace!F483,fakturace!#REF!,0)","v":{"$error":"#REF!"}}]
[{"$f":"OFFSET(fakturace!B484,fakturace!#REF!,0)","v":{"$error":"#REF!"}},{"$f":"OFFSET(fakturace!C484,fakturace!#REF!,0)","v":{"$error":"#REF!"}},{"$f":"OFFSET(fakturace!F484,fakturace!#REF!,0)","v":{"$error":"#REF!"}}]
[{"$f":"OFFSET(fakturace!B485,fakturace!#REF!,0)","v":{"$error":"#REF!"}},{"$f":"OFFSET(fakturace!C485,fakturace!#REF!,0)","v":{"$error":"#REF!"}},{"$f":"OFFSET(fakturace!F485,fakturace!#REF!,0)","v":{"$error":"#REF!"}}]
[{"$f":"OFFSET(fakturace!B486,fakturace!#REF!,0)","v":{"$error":"#REF!"}},{"$f":"OFFSET(fakturace!C486,fakturace!#REF!,0)","v":{"$error":"#REF!"}},{"$f":"OFFSET(fakturace!F486,fakturace!#REF!,0)","v":{"$error":"#REF!"}}]
[{"$f":"OFFSET(fakturace!B487,fakturace!#REF!,0)","v":{"$error":"#REF!"}},{"$f":"OFFSET(fakturace!C487,fakturace!#REF!,0)","v":{"$error":"#REF!"}},{"$f":"OFFSET(fakturace!F487,fakturace!#REF!,0)","v":{"$error":"#REF!"}}]
[{"$f":"OFFSET(fakturace!B488,fakturace!#REF!,0)","v":{"$error":"#REF!"}},{"$f":"OFFSET(fakturace!C488,fakturace!#REF!,0)","v":{"$error":"#REF!"}},{"$f":"OFFSET(fakturace!F488,fakturace!#REF!,0)","v":{"$error":"#REF!"}}]
[{"$f":"OFFSET(fakturace!B489,fakturace!#REF!,0)","v":{"$error":"#REF!"}},{"$f":"OFFSET(fakturace!C489,fakturace!#REF!,0)","v":{"$error":"#REF!"}},{"$f":"OFFSET(fakturace!F489,fakturace!#REF!,0)","v":{"$error":"#REF!"}}]
[{"$f":"OFFSET(fakturace!B490,fakturace!#REF!,0)","v":{"$error":"#REF!"}},{"$f":"OFFSET(fakturace!C490,fakturace!#REF!,0)","v":{"$error":"#REF!"}},{"$f":"OFFSET(fakturace!F490,fakturace!#REF!,0)","v":{"$error":"#REF!"}}]
[{"$f":"OFFSET(fakturace!B491,fakturace!#REF!,0)","v":{"$error":"#REF!"}},{"$f":"OFFSET(fakturace!C491,fakturace!#REF!,0)","v":{"$error":"#REF!"}},{"$f":"OFFSET(fakturace!F491,fakturace!#REF!,0)","v":{"$error":"#REF!"}}]
[{"$f":"OFFSET(fakturace!B492,fakturace!#REF!,0)","v":{"$error":"#REF!"}},{"$f":"OFFSET(fakturace!C492,fakturace!#REF!,0)","v":{"$error":"#REF!"}},{"$f":"OFFSET(fakturace!F492,fakturace!#REF!,0)","v":{"$error":"#REF!"}}]
[{"$f":"OFFSET(fakturace!B493,fakturace!#REF!,0)","v":{"$error":"#REF!"}},{"$f":"OFFSET(fakturace!C493,fakturace!#REF!,0)","v":{"$error":"#REF!"}},{"$f":"OFFSET(fakturace!F493,fakturace!#REF!,0)","v":{"$error":"#REF!"}}]
[{"$f":"OFFSET(fakturace!B494,fakturace!#REF!,0)","v":{"$error":"#REF!"}},{"$f":"OFFSET(fakturace!C494,fakturace!#REF!,0)","v":{"$error":"#REF!"}},{"$f":"OFFSET(fakturace!F494,fakturace!#REF!,0)","v":{"$error":"#REF!"}}]
[{"$f":"OFFSET(fakturace!B495,fakturace!#REF!,0)","v":{"$error":"#REF!"}},{"$f":"OFFSET(fakturace!C495,fakturace!#REF!,0)","v":{"$error":"#REF!"}},{"$f":"OFFSET(fakturace!F495,fakturace!#REF!,0)","v":{"$error":"#REF!"}}]
[{"$f":"OFFSET(fakturace!B496,fakturace!#REF!,0)","v":{"$error":"#REF!"}},{"$f":"OFFSET(fakturace!C496,fakturace!#REF!,0)","v":{"$error":"#REF!"}},{"$f":"OFFSET(fakturace!F496,fakturace!#REF!,0)","v":{"$error":"#REF!"}}]
[{"$f":"OFFSET(fakturace!B497,fakturace!#REF!,0)","v":{"$error":"#REF!"}},{"$f":"OFFSET(fakturace!C497,fakturace!#REF!,0)","v":{"$error":"#REF!"}},{"$f":"OFFSET(fakturace!F497,fakturace!#REF!,0)","v":{"$error":"#REF!"}}]
[{"$f":"OFFSET(fakturace!B498,fakturace!#REF!,0)","v":{"$error":"#REF!"}},{"$f":"OFFSET(fakturace!C498,fakturace!#REF!,0)","v":{"$error":"#REF!"}},{"$f":"OFFSET(fakturace!F498,fakturace!#REF!,0)","v":{"$error":"#REF!"}}]
[{"$f":"OFFSET(fakturace!B499,fakturace!#REF!,0)","v":{"$error":"#REF!"}},{"$f":"OFFSET(fakturace!C499,fakturace!#REF!,0)","v":{"$error":"#REF!"}},{"$f":"OFFSET(fakturace!F499,fakturace!#REF!,0)","v":{"$error":"#REF!"}}]
[{"$f":"OFFSET(fakturace!B500,fakturace!#REF!,0)","v":{"$error":"#REF!"}},{"$f":"OFFSET(fakturace!C500,fakturace!#REF!,0)","v":{"$error":"#REF!"}},{"$f":"OFFSET(fakturace!F500,fakturace!#REF!,0)","v":{"$error":"#REF!"}}]
[{"$f":"OFFSET(fakturace!B501,fakturace!#REF!,0)","v":{"$error":"#REF!"}},{"$f":"OFFSET(fakturace!C501,fakturace!#REF!,0)","v":{"$error":"#REF!"}},{"$f":"OFFSET(fakturace!F501,fakturace!#REF!,0)","v":{"$error":"#REF!"}}]
[{"$f":"OFFSET(fakturace!B502,fakturace!#REF!,0)","v":{"$error":"#REF!"}},{"$f":"OFFSET(fakturace!C502,fakturace!#REF!,0)","v":{"$error":"#REF!"}},{"$f":"OFFSET(fakturace!F502,fakturace!#REF!,0)","v":{"$error":"#REF!"}}]
[{"$f":"OFFSET(fakturace!B503,fakturace!#REF!,0)","v":{"$error":"#REF!"}},{"$f":"OFFSET(fakturace!C503,fakturace!#REF!,0)","v":{"$error":"#REF!"}},{"$f":"OFFSET(fakturace!F503,fakturace!#REF!,0)","v":{"$error":"#REF!"}}]
[{"$f":"OFFSET(fakturace!B504,fakturace!#REF!,0)","v":{"$error":"#REF!"}},{"$f":"OFFSET(fakturace!C504,fakturace!#REF!,0)","v":{"$error":"#REF!"}},{"$f":"OFFSET(fakturace!F504,fakturace!#REF!,0)","v":{"$error":"#REF!"}}]
[{"$f":"OFFSET(fakturace!B505,fakturace!#REF!,0)","v":{"$error":"#REF!"}},{"$f":"OFFSET(fakturace!C505,fakturace!#REF!,0)","v":{"$error":"#REF!"}},{"$f":"OFFSET(fakturace!F505,fakturace!#REF!,0)","v":{"$error":"#REF!"}}]
[{"$f":"OFFSET(fakturace!B506,fakturace!#REF!,0)","v":{"$error":"#REF!"}},{"$f":"OFFSET(fakturace!C506,fakturace!#REF!,0)","v":{"$error":"#REF!"}},{"$f":"OFFSET(fakturace!F506,fakturace!#REF!,0)","v":{"$error":"#REF!"}}]
[{"$f":"OFFSET(fakturace!B507,fakturace!#REF!,0)","v":{"$error":"#REF!"}},{"$f":"OFFSET(fakturace!C507,fakturace!#REF!,0)","v":{"$error":"#REF!"}},{"$f":"OFFSET(fakturace!F507,fakturace!#REF!,0)","v":{"$error":"#REF!"}}]
[{"$f":"OFFSET(fakturace!B508,fakturace!#REF!,0)","v":{"$error":"#REF!"}},{"$f":"OFFSET(fakturace!C508,fakturace!#REF!,0)","v":{"$error":"#REF!"}},{"$f":"OFFSET(fakturace!F508,fakturace!#REF!,0)","v":{"$error":"#REF!"}}]
[{"$f":"OFFSET(fakturace!B509,fakturace!#REF!,0)","v":{"$error":"#REF!"}},{"$f":"OFFSET(fakturace!C509,fakturace!#REF!,0)","v":{"$error":"#REF!"}},{"$f":"OFFSET(fakturace!F509,fakturace!#REF!,0)","v":{"$error":"#REF!"}}]
[{"$f":"OFFSET(fakturace!B510,fakturace!#REF!,0)","v":{"$error":"#REF!"}},{"$f":"OFFSET(fakturace!C510,fakturace!#REF!,0)","v":{"$error":"#REF!"}},{"$f":"OFFSET(fakturace!F510,fakturace!#REF!,0)","v":{"$error":"#REF!"}}]
[{"$f":"OFFSET(fakturace!B511,fakturace!#REF!,0)","v":{"$error":"#REF!"}},{"$f":"OFFSET(fakturace!C511,fakturace!#REF!,0)","v":{"$error":"#REF!"}},{"$f":"OFFSET(fakturace!F511,fakturace!#REF!,0)","v":{"$error":"#REF!"}}]
[{"$f":"OFFSET(fakturace!B512,fakturace!#REF!,0)","v":{"$error":"#REF!"}},{"$f":"OFFSET(fakturace!C512,fakturace!#REF!,0)","v":{"$error":"#REF!"}},{"$f":"OFFSET(fakturace!F512,fakturace!#REF!,0)","v":{"$error":"#REF!"}}]
[{"$f":"OFFSET(fakturace!B513,fakturace!#REF!,0)","v":{"$error":"#REF!"}},{"$f":"OFFSET(fakturace!C513,fakturace!#REF!,0)","v":{"$error":"#REF!"}},{"$f":"OFFSET(fakturace!F513,fakturace!#REF!,0)","v":{"$error":"#REF!"}}]
[{"$f":"OFFSET(fakturace!B514,fakturace!#REF!,0)","v":{"$error":"#REF!"}},{"$f":"OFFSET(fakturace!C514,fakturace!#REF!,0)","v":{"$error":"#REF!"}},{"$f":"OFFSET(fakturace!F514,fakturace!#REF!,0)","v":{"$error":"#REF!"}}]
[{"$f":"OFFSET(fakturace!B515,fakturace!#REF!,0)","v":{"$error":"#REF!"}},{"$f":"OFFSET(fakturace!C515,fakturace!#REF!,0)","v":{"$error":"#REF!"}},{"$f":"OFFSET(fakturace!F515,fakturace!#REF!,0)","v":{"$error":"#REF!"}}]
[{"$f":"OFFSET(fakturace!B516,fakturace!#REF!,0)","v":{"$error":"#REF!"}},{"$f":"OFFSET(fakturace!C516,fakturace!#REF!,0)","v":{"$error":"#REF!"}},{"$f":"OFFSET(fakturace!F516,fakturace!#REF!,0)","v":{"$error":"#REF!"}}]
[{"$f":"OFFSET(fakturace!B517,fakturace!#REF!,0)","v":{"$error":"#REF!"}},{"$f":"OFFSET(fakturace!C517,fakturace!#REF!,0)","v":{"$error":"#REF!"}},{"$f":"OFFSET(fakturace!F517,fakturace!#REF!,0)","v":{"$error":"#REF!"}}]
[{"$f":"OFFSET(fakturace!B518,fakturace!#REF!,0)","v":{"$error":"#REF!"}},{"$f":"OFFSET(fakturace!C518,fakturace!#REF!,0)","v":{"$error":"#REF!"}},{"$f":"OFFSET(fakturace!F518,fakturace!#REF!,0)","v":{"$error":"#REF!"}}]
[{"$f":"OFFSET(fakturace!B519,fakturace!#REF!,0)","v":{"$error":"#REF!"}},{"$f":"OFFSET(fakturace!C519,fakturace!#REF!,0)","v":{"$error":"#REF!"}},{"$f":"OFFSET(fakturace!F519,fakturace!#REF!,0)","v":{"$error":"#REF!"}}]
[{"$f":"OFFSET(fakturace!B520,fakturace!#REF!,0)","v":{"$error":"#REF!"}},{"$f":"OFFSET(fakturace!C520,fakturace!#REF!,0)","v":{"$error":"#REF!"}},{"$f":"OFFSET(fakturace!F520,fakturace!#REF!,0)","v":{"$error":"#REF!"}}]
[{"$f":"OFFSET(fakturace!B521,fakturace!#REF!,0)","v":{"$error":"#REF!"}},{"$f":"OFFSET(fakturace!C521,fakturace!#REF!,0)","v":{"$error":"#REF!"}},{"$f":"OFFSET(fakturace!F521,fakturace!#REF!,0)","v":{"$error":"#REF!"}}]
[{"$f":"OFFSET(fakturace!B522,fakturace!#REF!,0)","v":{"$error":"#REF!"}},{"$f":"OFFSET(fakturace!C522,fakturace!#REF!,0)","v":{"$error":"#REF!"}},{"$f":"OFFSET(fakturace!F522,fakturace!#REF!,0)","v":{"$error":"#REF!"}}]
[{"$f":"OFFSET(fakturace!B523,fakturace!#REF!,0)","v":{"$error":"#REF!"}},{"$f":"OFFSET(fakturace!C523,fakturace!#REF!,0)","v":{"$error":"#REF!"}},{"$f":"OFFSET(fakturace!F523,fakturace!#REF!,0)","v":{"$error":"#REF!"}}]
[{"$f":"OFFSET(fakturace!B524,fakturace!#REF!,0)","v":{"$error":"#REF!"}},{"$f":"OFFSET(fakturace!C524,fakturace!#REF!,0)","v":{"$error":"#REF!"}},{"$f":"OFFSET(fakturace!F524,fakturace!#REF!,0)","v":{"$error":"#REF!"}}]
[{"$f":"OFFSET(fakturace!B525,fakturace!#REF!,0)","v":{"$error":"#REF!"}},{"$f":"OFFSET(fakturace!C525,fakturace!#REF!,0)","v":{"$error":"#REF!"}},{"$f":"OFFSET(fakturace!F525,fakturace!#REF!,0)","v":{"$error":"#REF!"}}]
[{"$f":"OFFSET(fakturace!B526,fakturace!#REF!,0)","v":{"$error":"#REF!"}},{"$f":"OFFSET(fakturace!C526,fakturace!#REF!,0)","v":{"$error":"#REF!"}},{"$f":"OFFSET(fakturace!F526,fakturace!#REF!,0)","v":{"$error":"#REF!"}}]
[{"$f":"OFFSET(fakturace!B527,fakturace!#REF!,0)","v":{"$error":"#REF!"}},{"$f":"OFFSET(fakturace!C527,fakturace!#REF!,0)","v":{"$error":"#REF!"}},{"$f":"OFFSET(fakturace!F527,fakturace!#REF!,0)","v":{"$error":"#REF!"}}]
[{"$f":"OFFSET(fakturace!B528,fakturace!#REF!,0)","v":{"$error":"#REF!"}},{"$f":"OFFSET(fakturace!C528,fakturace!#REF!,0)","v":{"$error":"#REF!"}},{"$f":"OFFSET(fakturace!F528,fakturace!#REF!,0)","v":{"$error":"#REF!"}}]
[{"$f":"OFFSET(fakturace!B529,fakturace!#REF!,0)","v":{"$error":"#REF!"}},{"$f":"OFFSET(fakturace!C529,fakturace!#REF!,0)","v":{"$error":"#REF!"}},{"$f":"OFFSET(fakturace!F529,fakturace!#REF!,0)","v":{"$error":"#REF!"}}]
[{"$f":"OFFSET(fakturace!B530,fakturace!#REF!,0)","v":{"$error":"#REF!"}},{"$f":"OFFSET(fakturace!C530,fakturace!#REF!,0)","v":{"$error":"#REF!"}},{"$f":"OFFSET(fakturace!F530,fakturace!#REF!,0)","v":{"$error":"#REF!"}}]
[{"$f":"OFFSET(fakturace!B531,fakturace!#REF!,0)","v":{"$error":"#REF!"}},{"$f":"OFFSET(fakturace!C531,fakturace!#REF!,0)","v":{"$error":"#REF!"}},{"$f":"OFFSET(fakturace!F531,fakturace!#REF!,0)","v":{"$error":"#REF!"}}]
[{"$f":"OFFSET(fakturace!B532,fakturace!#REF!,0)","v":{"$error":"#REF!"}},{"$f":"OFFSET(fakturace!C532,fakturace!#REF!,0)","v":{"$error":"#REF!"}},{"$f":"OFFSET(fakturace!F532,fakturace!#REF!,0)","v":{"$error":"#REF!"}}]
[{"$f":"OFFSET(fakturace!B533,fakturace!#REF!,0)","v":{"$error":"#REF!"}},{"$f":"OFFSET(fakturace!C533,fakturace!#REF!,0)","v":{"$error":"#REF!"}},{"$f":"OFFSET(fakturace!F533,fakturace!#REF!,0)","v":{"$error":"#REF!"}}]
[{"$f":"OFFSET(fakturace!B534,fakturace!#REF!,0)","v":{"$error":"#REF!"}},{"$f":"OFFSET(fakturace!C534,fakturace!#REF!,0)","v":{"$error":"#REF!"}},{"$f":"OFFSET(fakturace!F534,fakturace!#REF!,0)","v":{"$error":"#REF!"}}]
[{"$f":"OFFSET(fakturace!B535,fakturace!#REF!,0)","v":{"$error":"#REF!"}},{"$f":"OFFSET(fakturace!C535,fakturace!#REF!,0)","v":{"$error":"#REF!"}},{"$f":"OFFSET(fakturace!F535,fakturace!#REF!,0)","v":{"$error":"#REF!"}}]
[{"$f":"OFFSET(fakturace!B536,fakturace!#REF!,0)","v":{"$error":"#REF!"}},{"$f":"OFFSET(fakturace!C536,fakturace!#REF!,0)","v":{"$error":"#REF!"}},{"$f":"OFFSET(fakturace!F536,fakturace!#REF!,0)","v":{"$error":"#REF!"}}]
[{"$f":"OFFSET(fakturace!B537,fakturace!#REF!,0)","v":{"$error":"#REF!"}},{"$f":"OFFSET(fakturace!C537,fakturace!#REF!,0)","v":{"$error":"#REF!"}},{"$f":"OFFSET(fakturace!F537,fakturace!#REF!,0)","v":{"$error":"#REF!"}}]
[{"$f":"OFFSET(fakturace!B538,fakturace!#REF!,0)","v":{"$error":"#REF!"}},{"$f":"OFFSET(fakturace!C538,fakturace!#REF!,0)","v":{"$error":"#REF!"}},{"$f":"OFFSET(fakturace!F538,fakturace!#REF!,0)","v":{"$error":"#REF!"}}]
[{"$f":"OFFSET(fakturace!B539,fakturace!#REF!,0)","v":{"$error":"#REF!"}},{"$f":"OFFSET(fakturace!C539,fakturace!#REF!,0)","v":{"$error":"#REF!"}},{"$f":"OFFSET(fakturace!F539,fakturace!#REF!,0)","v":{"$error":"#REF!"}}]
[{"$f":"OFFSET(fakturace!B540,fakturace!#REF!,0)","v":{"$error":"#REF!"}},{"$f":"OFFSET(fakturace!C540,fakturace!#REF!,0)","v":{"$error":"#REF!"}},{"$f":"OFFSET(fakturace!F540,fakturace!#REF!,0)","v":{"$error":"#REF!"}}]
[{"$f":"OFFSET(fakturace!B541,fakturace!#REF!,0)","v":{"$error":"#REF!"}},{"$f":"OFFSET(fakturace!C541,fakturace!#REF!,0)","v":{"$error":"#REF!"}},{"$f":"OFFSET(fakturace!F541,fakturace!#REF!,0)","v":{"$error":"#REF!"}}]
[{"$f":"OFFSET(fakturace!B542,fakturace!#REF!,0)","v":{"$error":"#REF!"}},{"$f":"OFFSET(fakturace!C542,fakturace!#REF!,0)","v":{"$error":"#REF!"}},{"$f":"OFFSET(fakturace!F542,fakturace!#REF!,0)","v":{"$error":"#REF!"}}]
[{"$f":"OFFSET(fakturace!B543,fakturace!#REF!,0)","v":{"$error":"#REF!"}},{"$f":"OFFSET(fakturace!C543,fakturace!#REF!,0)","v":{"$error":"#REF!"}},{"$f":"OFFSET(fakturace!F543,fakturace!#REF!,0)","v":{"$error":"#REF!"}}]
[{"$f":"OFFSET(fakturace!B544,fakturace!#REF!,0)","v":{"$error":"#REF!"}},{"$f":"OFFSET(fakturace!C544,fakturace!#REF!,0)","v":{"$error":"#REF!"}},{"$f":"OFFSET(fakturace!F544,fakturace!#REF!,0)","v":{"$error":"#REF!"}}]
[{"$f":"OFFSET(fakturace!B545,fakturace!#REF!,0)","v":{"$error":"#REF!"}},{"$f":"OFFSET(fakturace!C545,fakturace!#REF!,0)","v":{"$error":"#REF!"}},{"$f":"OFFSET(fakturace!F545,fakturace!#REF!,0)","v":{"$error":"#REF!"}}]
[{"$f":"OFFSET(fakturace!B546,fakturace!#REF!,0)","v":{"$error":"#REF!"}},{"$f":"OFFSET(fakturace!C546,fakturace!#REF!,0)","v":{"$error":"#REF!"}},{"$f":"OFFSET(fakturace!F546,fakturace!#REF!,0)","v":{"$error":"#REF!"}}]
[{"$f":"OFFSET(fakturace!B547,fakturace!#REF!,0)","v":{"$error":"#REF!"}},{"$f":"OFFSET(fakturace!C547,fakturace!#REF!,0)","v":{"$error":"#REF!"}},{"$f":"OFFSET(fakturace!F547,fakturace!#REF!,0)","v":{"$error":"#REF!"}}]
[{"$f":"OFFSET(fakturace!B548,fakturace!#REF!,0)","v":{"$error":"#REF!"}},{"$f":"OFFSET(fakturace!C548,fakturace!#REF!,0)","v":{"$error":"#REF!"}},{"$f":"OFFSET(fakturace!F548,fakturace!#REF!,0)","v":{"$error":"#REF!"}}]
[{"$f":"OFFSET(fakturace!B549,fakturace!#REF!,0)","v":{"$error":"#REF!"}},{"$f":"OFFSET(fakturace!C549,fakturace!#REF!,0)","v":{"$error":"#REF!"}},{"$f":"OFFSET(fakturace!F549,fakturace!#REF!,0)","v":{"$error":"#REF!"}}]
[{"$f":"OFFSET(fakturace!B550,fakturace!#REF!,0)","v":{"$error":"#REF!"}},{"$f":"OFFSET(fakturace!C550,fakturace!#REF!,0)","v":{"$error":"#REF!"}},{"$f":"OFFSET(fakturace!F550,fakturace!#REF!,0)","v":{"$error":"#REF!"}}]
[{"$f":"OFFSET(fakturace!B551,fakturace!#REF!,0)","v":{"$error":"#REF!"}},{"$f":"OFFSET(fakturace!C551,fakturace!#REF!,0)","v":{"$error":"#REF!"}},{"$f":"OFFSET(fakturace!F551,fakturace!#REF!,0)","v":{"$error":"#REF!"}}]
[{"$f":"OFFSET(fakturace!B552,fakturace!#REF!,0)","v":{"$error":"#REF!"}},{"$f":"OFFSET(fakturace!C552,fakturace!#REF!,0)","v":{"$error":"#REF!"}},{"$f":"OFFSET(fakturace!F552,fakturace!#REF!,0)","v":{"$error":"#REF!"}}]
[{"$f":"OFFSET(fakturace!B553,fakturace!#REF!,0)","v":{"$error":"#REF!"}},{"$f":"OFFSET(fakturace!C553,fakturace!#REF!,0)","v":{"$error":"#REF!"}},{"$f":"OFFSET(fakturace!F553,fakturace!#REF!,0)","v":{"$error":"#REF!"}}]
[{"$f":"OFFSET(fakturace!B554,fakturace!#REF!,0)","v":{"$error":"#REF!"}},{"$f":"OFFSET(fakturace!C554,fakturace!#REF!,0)","v":{"$error":"#REF!"}},{"$f":"OFFSET(fakturace!F554,fakturace!#REF!,0)","v":{"$error":"#REF!"}}]
[{"$f":"OFFSET(fakturace!B555,fakturace!#REF!,0)","v":{"$error":"#REF!"}},{"$f":"OFFSET(fakturace!C555,fakturace!#REF!,0)","v":{"$error":"#REF!"}},{"$f":"OFFSET(fakturace!F555,fakturace!#REF!,0)","v":{"$error":"#REF!"}}]
[{"$f":"OFFSET(fakturace!B556,fakturace!#REF!,0)","v":{"$error":"#REF!"}},{"$f":"OFFSET(fakturace!C556,fakturace!#REF!,0)","v":{"$error":"#REF!"}},{"$f":"OFFSET(fakturace!F556,fakturace!#REF!,0)","v":{"$error":"#REF!"}}]
[{"$f":"OFFSET(fakturace!B557,fakturace!#REF!,0)","v":{"$error":"#REF!"}},{"$f":"OFFSET(fakturace!C557,fakturace!#REF!,0)","v":{"$error":"#REF!"}},{"$f":"OFFSET(fakturace!F557,fakturace!#REF!,0)","v":{"$error":"#REF!"}}]
[{"$f":"OFFSET(fakturace!B558,fakturace!#REF!,0)","v":{"$error":"#REF!"}},{"$f":"OFFSET(fakturace!C558,fakturace!#REF!,0)","v":{"$error":"#REF!"}},{"$f":"OFFSET(fakturace!F558,fakturace!#REF!,0)","v":{"$error":"#REF!"}}]
[{"$f":"OFFSET(fakturace!B559,fakturace!#REF!,0)","v":{"$error":"#REF!"}},{"$f":"OFFSET(fakturace!C559,fakturace!#REF!,0)","v":{"$error":"#REF!"}},{"$f":"OFFSET(fakturace!F559,fakturace!#REF!,0)","v":{"$error":"#REF!"}}]
[{"$f":"OFFSET(fakturace!B560,fakturace!#REF!,0)","v":{"$error":"#REF!"}},{"$f":"OFFSET(fakturace!C560,fakturace!#REF!,0)","v":{"$error":"#REF!"}},{"$f":"OFFSET(fakturace!F560,fakturace!#REF!,0)","v":{"$error":"#REF!"}}]
[{"$f":"OFFSET(fakturace!B561,fakturace!#REF!,0)","v":{"$error":"#REF!"}},{"$f":"OFFSET(fakturace!C561,fakturace!#REF!,0)","v":{"$error":"#REF!"}},{"$f":"OFFSET(fakturace!F561,fakturace!#REF!,0)","v":{"$error":"#REF!"}}]
[{"$f":"OFFSET(fakturace!B562,fakturace!#REF!,0)","v":{"$error":"#REF!"}},{"$f":"OFFSET(fakturace!C562,fakturace!#REF!,0)","v":{"$error":"#REF!"}},{"$f":"OFFSET(fakturace!F562,fakturace!#REF!,0)","v":{"$error":"#REF!"}}]
[{"$f":"OFFSET(fakturace!B563,fakturace!#REF!,0)","v":{"$error":"#REF!"}},{"$f":"OFFSET(fakturace!C563,fakturace!#REF!,0)","v":{"$error":"#REF!"}},{"$f":"OFFSET(fakturace!F563,fakturace!#REF!,0)","v":{"$error":"#REF!"}}]
[{"$f":"OFFSET(fakturace!B564,fakturace!#REF!,0)","v":{"$error":"#REF!"}},{"$f":"OFFSET(fakturace!C564,fakturace!#REF!,0)","v":{"$error":"#REF!"}},{"$f":"OFFSET(fakturace!F564,fakturace!#REF!,0)","v":{"$error":"#REF!"}}]
[{"$f":"OFFSET(fakturace!B565,fakturace!#REF!,0)","v":{"$error":"#REF!"}},{"$f":"OFFSET(fakturace!C565,fakturace!#REF!,0)","v":{"$error":"#REF!"}},{"$f":"OFFSET(fakturace!F565,fakturace!#REF!,0)","v":{"$error":"#REF!"}}]
[{"$f":"OFFSET(fakturace!B566,fakturace!#REF!,0)","v":{"$error":"#REF!"}},{"$f":"OFFSET(fakturace!C566,fakturace!#REF!,0)","v":{"$error":"#REF!"}},{"$f":"OFFSET(fakturace!F566,fakturace!#REF!,0)","v":{"$error":"#REF!"}}]
[{"$f":"OFFSET(fakturace!B567,fakturace!#REF!,0)","v":{"$error":"#REF!"}},{"$f":"OFFSET(fakturace!C567,fakturace!#REF!,0)","v":{"$error":"#REF!"}},{"$f":"OFFSET(fakturace!F567,fakturace!#REF!,0)","v":{"$error":"#REF!"}}]
[{"$f":"OFFSET(fakturace!B568,fakturace!#REF!,0)","v":{"$error":"#REF!"}},{"$f":"OFFSET(fakturace!C568,fakturace!#REF!,0)","v":{"$error":"#REF!"}},{"$f":"OFFSET(fakturace!F568,fakturace!#REF!,0)","v":{"$error":"#REF!"}}]
[{"$f":"OFFSET(fakturace!B569,fakturace!#REF!,0)","v":{"$error":"#REF!"}},{"$f":"OFFSET(fakturace!C569,fakturace!#REF!,0)","v":{"$error":"#REF!"}},{"$f":"OFFSET(fakturace!F569,fakturace!#REF!,0)","v":{"$error":"#REF!"}}]
[{"$f":"OFFSET(fakturace!B570,fakturace!#REF!,0)","v":{"$error":"#REF!"}},{"$f":"OFFSET(fakturace!C570,fakturace!#REF!,0)","v":{"$error":"#REF!"}},{"$f":"OFFSET(fakturace!F570,fakturace!#REF!,0)","v":{"$error":"#REF!"}}]
[{"$f":"OFFSET(fakturace!B571,fakturace!#REF!,0)","v":{"$error":"#REF!"}},{"$f":"OFFSET(fakturace!C571,fakturace!#REF!,0)","v":{"$error":"#REF!"}},{"$f":"OFFSET(fakturace!F571,fakturace!#REF!,0)","v":{"$error":"#REF!"}}]
[{"$f":"OFFSET(fakturace!B572,fakturace!#REF!,0)","v":{"$error":"#REF!"}},{"$f":"OFFSET(fakturace!C572,fakturace!#REF!,0)","v":{"$error":"#REF!"}},{"$f":"OFFSET(fakturace!F572,fakturace!#REF!,0)","v":{"$error":"#REF!"}}]
[{"$f":"OFFSET(fakturace!B573,fakturace!#REF!,0)","v":{"$error":"#REF!"}},{"$f":"OFFSET(fakturace!C573,fakturace!#REF!,0)","v":{"$error":"#REF!"}},{"$f":"OFFSET(fakturace!F573,fakturace!#REF!,0)","v":{"$error":"#REF!"}}]
[{"$f":"OFFSET(fakturace!B574,fakturace!#REF!,0)","v":{"$error":"#REF!"}},{"$f":"OFFSET(fakturace!C574,fakturace!#REF!,0)","v":{"$error":"#REF!"}},{"$f":"OFFSET(fakturace!F574,fakturace!#REF!,0)","v":{"$error":"#REF!"}}]
[{"$f":"OFFSET(fakturace!B575,fakturace!#REF!,0)","v":{"$error":"#REF!"}},{"$f":"OFFSET(fakturace!C575,fakturace!#REF!,0)","v":{"$error":"#REF!"}},{"$f":"OFFSET(fakturace!F575,fakturace!#REF!,0)","v":{"$error":"#REF!"}}]
[{"$f":"OFFSET(fakturace!B576,fakturace!#REF!,0)","v":{"$error":"#REF!"}},{"$f":"OFFSET(fakturace!C576,fakturace!#REF!,0)","v":{"$error":"#REF!"}},{"$f":"OFFSET(fakturace!F576,fakturace!#REF!,0)","v":{"$error":"#REF!"}}]
[{"$f":"OFFSET(fakturace!B577,fakturace!#REF!,0)","v":{"$error":"#REF!"}},{"$f":"OFFSET(fakturace!C577,fakturace!#REF!,0)","v":{"$error":"#REF!"}},{"$f":"OFFSET(fakturace!F577,fakturace!#REF!,0)","v":{"$error":"#REF!"}}]
[{"$f":"OFFSET(fakturace!B578,fakturace!#REF!,0)","v":{"$error":"#REF!"}},{"$f":"OFFSET(fakturace!C578,fakturace!#REF!,0)","v":{"$error":"#REF!"}},{"$f":"OFFSET(fakturace!F578,fakturace!#REF!,0)","v":{"$error":"#REF!"}}]
[{"$f":"OFFSET(fakturace!B579,fakturace!#REF!,0)","v":{"$error":"#REF!"}},{"$f":"OFFSET(fakturace!C579,fakturace!#REF!,0)","v":{"$error":"#REF!"}},{"$f":"OFFSET(fakturace!F579,fakturace!#REF!,0)","v":{"$error":"#REF!"}}]
[{"$f":"OFFSET(fakturace!B580,fakturace!#REF!,0)","v":{"$error":"#REF!"}},{"$f":"OFFSET(fakturace!C580,fakturace!#REF!,0)","v":{"$error":"#REF!"}},{"$f":"OFFSET(fakturace!F580,fakturace!#REF!,0)","v":{"$error":"#REF!"}}]
[{"$f":"OFFSET(fakturace!B581,fakturace!#REF!,0)","v":{"$error":"#REF!"}},{"$f":"OFFSET(fakturace!C581,fakturace!#REF!,0)","v":{"$error":"#REF!"}},{"$f":"OFFSET(fakturace!F581,fakturace!#REF!,0)","v":{"$error":"#REF!"}}]
[{"$f":"OFFSET(fakturace!B582,fakturace!#REF!,0)","v":{"$error":"#REF!"}},{"$f":"OFFSET(fakturace!C582,fakturace!#REF!,0)","v":{"$error":"#REF!"}},{"$f":"OFFSET(fakturace!F582,fakturace!#REF!,0)","v":{"$error":"#REF!"}}]
[{"$f":"OFFSET(fakturace!B583,fakturace!#REF!,0)","v":{"$error":"#REF!"}},{"$f":"OFFSET(fakturace!C583,fakturace!#REF!,0)","v":{"$error":"#REF!"}},{"$f":"OFFSET(fakturace!F583,fakturace!#REF!,0)","v":{"$error":"#REF!"}}]
[{"$f":"OFFSET(fakturace!B584,fakturace!#REF!,0)","v":{"$error":"#REF!"}},{"$f":"OFFSET(fakturace!C584,fakturace!#REF!,0)","v":{"$error":"#REF!"}},{"$f":"OFFSET(fakturace!F584,fakturace!#REF!,0)","v":{"$error":"#REF!"}}]
[{"$f":"OFFSET(fakturace!B585,fakturace!#REF!,0)","v":{"$error":"#REF!"}},{"$f":"OFFSET(fakturace!C585,fakturace!#REF!,0)","v":{"$error":"#REF!"}},{"$f":"OFFSET(fakturace!F585,fakturace!#REF!,0)","v":{"$error":"#REF!"}}]
[{"$f":"OFFSET(fakturace!B586,fakturace!#REF!,0)","v":{"$error":"#REF!"}},{"$f":"OFFSET(fakturace!C586,fakturace!#REF!,0)","v":{"$error":"#REF!"}},{"$f":"OFFSET(fakturace!F586,fakturace!#REF!,0)","v":{"$error":"#REF!"}}]
[{"$f":"OFFSET(fakturace!B587,fakturace!#REF!,0)","v":{"$error":"#REF!"}},{"$f":"OFFSET(fakturace!C587,fakturace!#REF!,0)","v":{"$error":"#REF!"}},{"$f":"OFFSET(fakturace!F587,fakturace!#REF!,0)","v":{"$error":"#REF!"}}]
[{"$f":"OFFSET(fakturace!B588,fakturace!#REF!,0)","v":{"$error":"#REF!"}},{"$f":"OFFSET(fakturace!C588,fakturace!#REF!,0)","v":{"$error":"#REF!"}},{"$f":"OFFSET(fakturace!F588,fakturace!#REF!,0)","v":{"$error":"#REF!"}}]
[{"$f":"OFFSET(fakturace!B589,fakturace!#REF!,0)","v":{"$error":"#REF!"}},{"$f":"OFFSET(fakturace!C589,fakturace!#REF!,0)","v":{"$error":"#REF!"}},{"$f":"OFFSET(fakturace!F589,fakturace!#REF!,0)","v":{"$error":"#REF!"}}]
[{"$f":"OFFSET(fakturace!B590,fakturace!#REF!,0)","v":{"$error":"#REF!"}},{"$f":"OFFSET(fakturace!C590,fakturace!#REF!,0)","v":{"$error":"#REF!"}},{"$f":"OFFSET(fakturace!F590,fakturace!#REF!,0)","v":{"$error":"#REF!"}}]
[{"$f":"OFFSET(fakturace!B591,fakturace!#REF!,0)","v":{"$error":"#REF!"}},{"$f":"OFFSET(fakturace!C591,fakturace!#REF!,0)","v":{"$error":"#REF!"}},{"$f":"OFFSET(fakturace!F591,fakturace!#REF!,0)","v":{"$error":"#REF!"}}]
[{"$f":"OFFSET(fakturace!B592,fakturace!#REF!,0)","v":{"$error":"#REF!"}},{"$f":"OFFSET(fakturace!C592,fakturace!#REF!,0)","v":{"$error":"#REF!"}},{"$f":"OFFSET(fakturace!F592,fakturace!#REF!,0)","v":{"$error":"#REF!"}}]
[{"$f":"OFFSET(fakturace!B593,fakturace!#REF!,0)","v":{"$error":"#REF!"}},{"$f":"OFFSET(fakturace!C593,fakturace!#REF!,0)","v":{"$error":"#REF!"}},{"$f":"OFFSET(fakturace!F593,fakturace!#REF!,0)","v":{"$error":"#REF!"}}]
[{"$f":"OFFSET(fakturace!B594,fakturace!#REF!,0)","v":{"$error":"#REF!"}},{"$f":"OFFSET(fakturace!C594,fakturace!#REF!,0)","v":{"$error":"#REF!"}},{"$f":"OFFSET(fakturace!F594,fakturace!#REF!,0)","v":{"$error":"#REF!"}}]
[{"$f":"OFFSET(fakturace!B595,fakturace!#REF!,0)","v":{"$error":"#REF!"}},{"$f":"OFFSET(fakturace!C595,fakturace!#REF!,0)","v":{"$error":"#REF!"}},{"$f":"OFFSET(fakturace!F595,fakturace!#REF!,0)","v":{"$error":"#REF!"}}]
[{"$f":"OFFSET(fakturace!B596,fakturace!#REF!,0)","v":{"$error":"#REF!"}},{"$f":"OFFSET(fakturace!C596,fakturace!#REF!,0)","v":{"$error":"#REF!"}},{"$f":"OFFSET(fakturace!F596,fakturace!#REF!,0)","v":{"$error":"#REF!"}}]
[{"$f":"OFFSET(fakturace!B597,fakturace!#REF!,0)","v":{"$error":"#REF!"}},{"$f":"OFFSET(fakturace!C597,fakturace!#REF!,0)","v":{"$error":"#REF!"}},{"$f":"OFFSET(fakturace!F597,fakturace!#REF!,0)","v":{"$error":"#REF!"}}]
[{"$f":"OFFSET(fakturace!B598,fakturace!#REF!,0)","v":{"$error":"#REF!"}},{"$f":"OFFSET(fakturace!C598,fakturace!#REF!,0)","v":{"$error":"#REF!"}},{"$f":"OFFSET(fakturace!F598,fakturace!#REF!,0)","v":{"$error":"#REF!"}}]
[{"$f":"OFFSET(fakturace!B599,fakturace!#REF!,0)","v":{"$error":"#REF!"}},{"$f":"OFFSET(fakturace!C599,fakturace!#REF!,0)","v":{"$error":"#REF!"}},{"$f":"OFFSET(fakturace!F599,fakturace!#REF!,0)","v":{"$error":"#REF!"}}]
[{"$f":"OFFSET(fakturace!B600,fakturace!#REF!,0)","v":{"$error":"#REF!"}},{"$f":"OFFSET(fakturace!C600,fakturace!#REF!,0)","v":{"$error":"#REF!"}},{"$f":"OFFSET(fakturace!F600,fakturace!#REF!,0)","v":{"$error":"#REF!"}}]
[{"$f":"OFFSET(fakturace!B601,fakturace!#REF!,0)","v":{"$error":"#REF!"}},{"$f":"OFFSET(fakturace!C601,fakturace!#REF!,0)","v":{"$error":"#REF!"}},{"$f":"OFFSET(fakturace!F601,fakturace!#REF!,0)","v":{"$error":"#REF!"}}]
[{"$f":"OFFSET(fakturace!B602,fakturace!#REF!,0)","v":{"$error":"#REF!"}},{"$f":"OFFSET(fakturace!C602,fakturace!#REF!,0)","v":{"$error":"#REF!"}},{"$f":"OFFSET(fakturace!F602,fakturace!#REF!,0)","v":{"$error":"#REF!"}}]
[{"$f":"OFFSET(fakturace!B603,fakturace!#REF!,0)","v":{"$error":"#REF!"}},{"$f":"OFFSET(fakturace!C603,fakturace!#REF!,0)","v":{"$error":"#REF!"}},{"$f":"OFFSET(fakturace!F603,fakturace!#REF!,0)","v":{"$error":"#REF!"}}]
[{"$f":"OFFSET(fakturace!B604,fakturace!#REF!,0)","v":{"$error":"#REF!"}},{"$f":"OFFSET(fakturace!C604,fakturace!#REF!,0)","v":{"$error":"#REF!"}},{"$f":"OFFSET(fakturace!F604,fakturace!#REF!,0)","v":{"$error":"#REF!"}}]
[{"$f":"OFFSET(fakturace!B605,fakturace!#REF!,0)","v":{"$error":"#REF!"}},{"$f":"OFFSET(fakturace!C605,fakturace!#REF!,0)","v":{"$error":"#REF!"}},{"$f":"OFFSET(fakturace!F605,fakturace!#REF!,0)","v":{"$error":"#REF!"}}]
[{"$f":"OFFSET(fakturace!B606,fakturace!#REF!,0)","v":{"$error":"#REF!"}},{"$f":"OFFSET(fakturace!C606,fakturace!#REF!,0)","v":{"$error":"#REF!"}},{"$f":"OFFSET(fakturace!F606,fakturace!#REF!,0)","v":{"$error":"#REF!"}}]
[{"$f":"OFFSET(fakturace!B607,fakturace!#REF!,0)","v":{"$error":"#REF!"}},{"$f":"OFFSET(fakturace!C607,fakturace!#REF!,0)","v":{"$error":"#REF!"}},{"$f":"OFFSET(fakturace!F607,fakturace!#REF!,0)","v":{"$error":"#REF!"}}]
[{"$f":"OFFSET(fakturace!B608,fakturace!#REF!,0)","v":{"$error":"#REF!"}},{"$f":"OFFSET(fakturace!C608,fakturace!#REF!,0)","v":{"$error":"#REF!"}},{"$f":"OFFSET(fakturace!F608,fakturace!#REF!,0)","v":{"$error":"#REF!"}}]
[{"$f":"OFFSET(fakturace!B609,fakturace!#REF!,0)","v":{"$error":"#REF!"}},{"$f":"OFFSET(fakturace!C609,fakturace!#REF!,0)","v":{"$error":"#REF!"}},{"$f":"OFFSET(fakturace!F609,fakturace!#REF!,0)","v":{"$error":"#REF!"}}]
[{"$f":"OFFSET(fakturace!B610,fakturace!#REF!,0)","v":{"$error":"#REF!"}},{"$f":"OFFSET(fakturace!C610,fakturace!#REF!,0)","v":{"$error":"#REF!"}},{"$f":"OFFSET(fakturace!F610,fakturace!#REF!,0)","v":{"$error":"#REF!"}}]
[{"$f":"OFFSET(fakturace!B611,fakturace!#REF!,0)","v":{"$error":"#REF!"}},{"$f":"OFFSET(fakturace!C611,fakturace!#REF!,0)","v":{"$error":"#REF!"}},{"$f":"OFFSET(fakturace!F611,fakturace!#REF!,0)","v":{"$error":"#REF!"}}]
[{"$f":"OFFSET(fakturace!B612,fakturace!#REF!,0)","v":{"$error":"#REF!"}},{"$f":"OFFSET(fakturace!C612,fakturace!#REF!,0)","v":{"$error":"#REF!"}},{"$f":"OFFSET(fakturace!F612,fakturace!#REF!,0)","v":{"$error":"#REF!"}}]
[{"$f":"OFFSET(fakturace!B613,fakturace!#REF!,0)","v":{"$error":"#REF!"}},{"$f":"OFFSET(fakturace!C613,fakturace!#REF!,0)","v":{"$error":"#REF!"}},{"$f":"OFFSET(fakturace!F613,fakturace!#REF!,0)","v":{"$error":"#REF!"}}]
[{"$f":"OFFSET(fakturace!B614,fakturace!#REF!,0)","v":{"$error":"#REF!"}},{"$f":"OFFSET(fakturace!C614,fakturace!#REF!,0)","v":{"$error":"#REF!"}},{"$f":"OFFSET(fakturace!F614,fakturace!#REF!,0)","v":{"$error":"#REF!"}}]
[{"$f":"OFFSET(fakturace!B615,fakturace!#REF!,0)","v":{"$error":"#REF!"}},{"$f":"OFFSET(fakturace!C615,fakturace!#REF!,0)","v":{"$error":"#REF!"}},{"$f":"OFFSET(fakturace!F615,fakturace!#REF!,0)","v":{"$error":"#REF!"}}]
[{"$f":"OFFSET(fakturace!B616,fakturace!#REF!,0)","v":{"$error":"#REF!"}},{"$f":"OFFSET(fakturace!C616,fakturace!#REF!,0)","v":{"$error":"#REF!"}},{"$f":"OFFSET(fakturace!F616,fakturace!#REF!,0)","v":{"$error":"#REF!"}}]
[{"$f":"OFFSET(fakturace!B617,fakturace!#REF!,0)","v":{"$error":"#REF!"}},{"$f":"OFFSET(fakturace!C617,fakturace!#REF!,0)","v":{"$error":"#REF!"}},{"$f":"OFFSET(fakturace!F617,fakturace!#REF!,0)","v":{"$error":"#REF!"}}]
[{"$f":"OFFSET(fakturace!B618,fakturace!#REF!,0)","v":{"$error":"#REF!"}},{"$f":"OFFSET(fakturace!C618,fakturace!#REF!,0)","v":{"$error":"#REF!"}},{"$f":"OFFSET(fakturace!F618,fakturace!#REF!,0)","v":{"$error":"#REF!"}}]
[{"$f":"OFFSET(fakturace!B619,fakturace!#REF!,0)","v":{"$error":"#REF!"}},{"$f":"OFFSET(fakturace!C619,fakturace!#REF!,0)","v":{"$error":"#REF!"}},{"$f":"OFFSET(fakturace!F619,fakturace!#REF!,0)","v":{"$error":"#REF!"}}]
[{"$f":"OFFSET(fakturace!B620,fakturace!#REF!,0)","v":{"$error":"#REF!"}},{"$f":"OFFSET(fakturace!C620,fakturace!#REF!,0)","v":{"$error":"#REF!"}},{"$f":"OFFSET(fakturace!F620,fakturace!#REF!,0)","v":{"$error":"#REF!"}}]
[{"$f":"OFFSET(fakturace!B621,fakturace!#REF!,0)","v":{"$error":"#REF!"}},{"$f":"OFFSET(fakturace!C621,fakturace!#REF!,0)","v":{"$error":"#REF!"}},{"$f":"OFFSET(fakturace!F621,fakturace!#REF!,0)","v":{"$error":"#REF!"}}]
[{"$f":"OFFSET(fakturace!B622,fakturace!#REF!,0)","v":{"$error":"#REF!"}},{"$f":"OFFSET(fakturace!C622,fakturace!#REF!,0)","v":{"$error":"#REF!"}},{"$f":"OFFSET(fakturace!F622,fakturace!#REF!,0)","v":{"$error":"#REF!"}}]
[{"$f":"OFFSET(fakturace!B623,fakturace!#REF!,0)","v":{"$error":"#REF!"}},{"$f":"OFFSET(fakturace!C623,fakturace!#REF!,0)","v":{"$error":"#REF!"}},{"$f":"OFFSET(fakturace!F623,fakturace!#REF!,0)","v":{"$error":"#REF!"}}]
[{"$f":"OFFSET(fakturace!B624,fakturace!#REF!,0)","v":{"$error":"#REF!"}},{"$f":"OFFSET(fakturace!C624,fakturace!#REF!,0)","v":{"$error":"#REF!"}},{"$f":"OFFSET(fakturace!F624,fakturace!#REF!,0)","v":{"$error":"#REF!"}}]
[{"$f":"OFFSET(fakturace!B625,fakturace!#REF!,0)","v":{"$error":"#REF!"}},{"$f":"OFFSET(fakturace!C625,fakturace!#REF!,0)","v":{"$error":"#REF!"}},{"$f":"OFFSET(fakturace!F625,fakturace!#REF!,0)","v":{"$error":"#REF!"}}]
[{"$f":"OFFSET(fakturace!B626,fakturace!#REF!,0)","v":{"$error":"#REF!"}},{"$f":"OFFSET(fakturace!C626,fakturace!#REF!,0)","v":{"$error":"#REF!"}},{"$f":"OFFSET(fakturace!F626,fakturace!#REF!,0)","v":{"$error":"#REF!"}}]
[{"$f":"OFFSET(fakturace!B627,fakturace!#REF!,0)","v":{"$error":"#REF!"}},{"$f":"OFFSET(fakturace!C627,fakturace!#REF!,0)","v":{"$error":"#REF!"}},{"$f":"OFFSET(fakturace!F627,fakturace!#REF!,0)","v":{"$error":"#REF!"}}]
[{"$f":"OFFSET(fakturace!B628,fakturace!#REF!,0)","v":{"$error":"#REF!"}},{"$f":"OFFSET(fakturace!C628,fakturace!#REF!,0)","v":{"$error":"#REF!"}},{"$f":"OFFSET(fakturace!F628,fakturace!#REF!,0)","v":{"$error":"#REF!"}}]
[{"$f":"OFFSET(fakturace!B629,fakturace!#REF!,0)","v":{"$error":"#REF!"}},{"$f":"OFFSET(fakturace!C629,fakturace!#REF!,0)","v":{"$error":"#REF!"}},{"$f":"OFFSET(fakturace!F629,fakturace!#REF!,0)","v":{"$error":"#REF!"}}]
[{"$f":"OFFSET(fakturace!B630,fakturace!#REF!,0)","v":{"$error":"#REF!"}},{"$f":"OFFSET(fakturace!C630,fakturace!#REF!,0)","v":{"$error":"#REF!"}},{"$f":"OFFSET(fakturace!F630,fakturace!#REF!,0)","v":{"$error":"#REF!"}}]
[{"$f":"OFFSET(fakturace!B631,fakturace!#REF!,0)","v":{"$error":"#REF!"}},{"$f":"OFFSET(fakturace!C631,fakturace!#REF!,0)","v":{"$error":"#REF!"}},{"$f":"OFFSET(fakturace!F631,fakturace!#REF!,0)","v":{"$error":"#REF!"}}]
[{"$f":"OFFSET(fakturace!B632,fakturace!#REF!,0)","v":{"$error":"#REF!"}},{"$f":"OFFSET(fakturace!C632,fakturace!#REF!,0)","v":{"$error":"#REF!"}},{"$f":"OFFSET(fakturace!F632,fakturace!#REF!,0)","v":{"$error":"#REF!"}}]
[{"$f":"OFFSET(fakturace!B633,fakturace!#REF!,0)","v":{"$error":"#REF!"}},{"$f":"OFFSET(fakturace!C633,fakturace!#REF!,0)","v":{"$error":"#REF!"}},{"$f":"OFFSET(fakturace!F633,fakturace!#REF!,0)","v":{"$error":"#REF!"}}]
[{"$f":"OFFSET(fakturace!B634,fakturace!#REF!,0)","v":{"$error":"#REF!"}},{"$f":"OFFSET(fakturace!C634,fakturace!#REF!,0)","v":{"$error":"#REF!"}},{"$f":"OFFSET(fakturace!F634,fakturace!#REF!,0)","v":{"$error":"#REF!"}}]
[{"$f":"OFFSET(fakturace!B635,fakturace!#REF!,0)","v":{"$error":"#REF!"}},{"$f":"OFFSET(fakturace!C635,fakturace!#REF!,0)","v":{"$error":"#REF!"}},{"$f":"OFFSET(fakturace!F635,fakturace!#REF!,0)","v":{"$error":"#REF!"}}]
[{"$f":"OFFSET(fakturace!B636,fakturace!#REF!,0)","v":{"$error":"#REF!"}},{"$f":"OFFSET(fakturace!C636,fakturace!#REF!,0)","v":{"$error":"#REF!"}},{"$f":"OFFSET(fakturace!F636,fakturace!#REF!,0)","v":{"$error":"#REF!"}}]
[{"$f":"OFFSET(fakturace!B637,fakturace!#REF!,0)","v":{"$error":"#REF!"}},{"$f":"OFFSET(fakturace!C637,fakturace!#REF!,0)","v":{"$error":"#REF!"}},{"$f":"OFFSET(fakturace!F637,fakturace!#REF!,0)","v":{"$error":"#REF!"}}]
[{"$f":"OFFSET(fakturace!B638,fakturace!#REF!,0)","v":{"$error":"#REF!"}},{"$f":"OFFSET(fakturace!C638,fakturace!#REF!,0)","v":{"$error":"#REF!"}},{"$f":"OFFSET(fakturace!F638,fakturace!#REF!,0)","v":{"$error":"#REF!"}}]
[{"$f":"OFFSET(fakturace!B639,fakturace!#REF!,0)","v":{"$error":"#REF!"}},{"$f":"OFFSET(fakturace!C639,fakturace!#REF!,0)","v":{"$error":"#REF!"}},{"$f":"OFFSET(fakturace!F639,fakturace!#REF!,0)","v":{"$error":"#REF!"}}]
[{"$f":"OFFSET(fakturace!B640,fakturace!#REF!,0)","v":{"$error":"#REF!"}},{"$f":"OFFSET(fakturace!C640,fakturace!#REF!,0)","v":{"$error":"#REF!"}},{"$f":"OFFSET(fakturace!F640,fakturace!#REF!,0)","v":{"$error":"#REF!"}}]
[{"$f":"OFFSET(fakturace!B641,fakturace!#REF!,0)","v":{"$error":"#REF!"}},{"$f":"OFFSET(fakturace!C641,fakturace!#REF!,0)","v":{"$error":"#REF!"}},{"$f":"OFFSET(fakturace!F641,fakturace!#REF!,0)","v":{"$error":"#REF!"}}]
[{"$f":"OFFSET(fakturace!B642,fakturace!#REF!,0)","v":{"$error":"#REF!"}},{"$f":"OFFSET(fakturace!C642,fakturace!#REF!,0)","v":{"$error":"#REF!"}},{"$f":"OFFSET(fakturace!F642,fakturace!#REF!,0)","v":{"$error":"#REF!"}}]
[{"$f":"OFFSET(fakturace!B643,fakturace!#REF!,0)","v":{"$error":"#REF!"}},{"$f":"OFFSET(fakturace!C643,fakturace!#REF!,0)","v":{"$error":"#REF!"}},{"$f":"OFFSET(fakturace!F643,fakturace!#REF!,0)","v":{"$error":"#REF!"}}]
[{"$f":"OFFSET(fakturace!B644,fakturace!#REF!,0)","v":{"$error":"#REF!"}},{"$f":"OFFSET(fakturace!C644,fakturace!#REF!,0)","v":{"$error":"#REF!"}},{"$f":"OFFSET(fakturace!F644,fakturace!#REF!,0)","v":{"$error":"#REF!"}}]
[{"$f":"OFFSET(fakturace!B645,fakturace!#REF!,0)","v":{"$error":"#REF!"}},{"$f":"OFFSET(fakturace!C645,fakturace!#REF!,0)","v":{"$error":"#REF!"}},{"$f":"OFFSET(fakturace!F645,fakturace!#REF!,0)","v":{"$error":"#REF!"}}]
[{"$f":"OFFSET(fakturace!B646,fakturace!#REF!,0)","v":{"$error":"#REF!"}},{"$f":"OFFSET(fakturace!C646,fakturace!#REF!,0)","v":{"$error":"#REF!"}},{"$f":"OFFSET(fakturace!F646,fakturace!#REF!,0)","v":{"$error":"#REF!"}}]
[{"$f":"OFFSET(fakturace!B647,fakturace!#REF!,0)","v":{"$error":"#REF!"}},{"$f":"OFFSET(fakturace!C647,fakturace!#REF!,0)","v":{"$error":"#REF!"}},{"$f":"OFFSET(fakturace!F647,fakturace!#REF!,0)","v":{"$error":"#REF!"}}]
[{"$f":"OFFSET(fakturace!B648,fakturace!#REF!,0)","v":{"$error":"#REF!"}},{"$f":"OFFSET(fakturace!C648,fakturace!#REF!,0)","v":{"$error":"#REF!"}},{"$f":"OFFSET(fakturace!F648,fakturace!#REF!,0)","v":{"$error":"#REF!"}}]
[{"$f":"OFFSET(fakturace!B649,fakturace!#REF!,0)","v":{"$error":"#REF!"}},{"$f":"OFFSET(fakturace!C649,fakturace!#REF!,0)","v":{"$error":"#REF!"}},{"$f":"OFFSET(fakturace!F649,fakturace!#REF!,0)","v":{"$error":"#REF!"}}]
[{"$f":"OFFSET(fakturace!B650,fakturace!#REF!,0)","v":{"$error":"#REF!"}},{"$f":"OFFSET(fakturace!C650,fakturace!#REF!,0)","v":{"$error":"#REF!"}},{"$f":"OFFSET(fakturace!F650,fakturace!#REF!,0)","v":{"$error":"#REF!"}}]
[{"$f":"OFFSET(fakturace!B651,fakturace!#REF!,0)","v":{"$error":"#REF!"}},{"$f":"OFFSET(fakturace!C651,fakturace!#REF!,0)","v":{"$error":"#REF!"}},{"$f":"OFFSET(fakturace!F651,fakturace!#REF!,0)","v":{"$error":"#REF!"}}]
[{"$f":"OFFSET(fakturace!B652,fakturace!#REF!,0)","v":{"$error":"#REF!"}},{"$f":"OFFSET(fakturace!C652,fakturace!#REF!,0)","v":{"$error":"#REF!"}},{"$f":"OFFSET(fakturace!F652,fakturace!#REF!,0)","v":{"$error":"#REF!"}}]
[{"$f":"OFFSET(fakturace!B653,fakturace!#REF!,0)","v":{"$error":"#REF!"}},{"$f":"OFFSET(fakturace!C653,fakturace!#REF!,0)","v":{"$error":"#REF!"}},{"$f":"OFFSET(fakturace!F653,fakturace!#REF!,0)","v":{"$error":"#REF!"}}]
[{"$f":"OFFSET(fakturace!B654,fakturace!#REF!,0)","v":{"$error":"#REF!"}},{"$f":"OFFSET(fakturace!C654,fakturace!#REF!,0)","v":{"$error":"#REF!"}},{"$f":"OFFSET(fakturace!F654,fakturace!#REF!,0)","v":{"$error":"#REF!"}}]
[{"$f":"OFFSET(fakturace!B655,fakturace!#REF!,0)","v":{"$error":"#REF!"}},{"$f":"OFFSET(fakturace!C655,fakturace!#REF!,0)","v":{"$error":"#REF!"}},{"$f":"OFFSET(fakturace!F655,fakturace!#REF!,0)","v":{"$error":"#REF!"}}]
[{"$f":"OFFSET(fakturace!B656,fakturace!#REF!,0)","v":{"$error":"#REF!"}},{"$f":"OFFSET(fakturace!C656,fakturace!#REF!,0)","v":{"$error":"#REF!"}},{"$f":"OFFSET(fakturace!F656,fakturace!#REF!,0)","v":{"$error":"#REF!"}}]
[{"$f":"OFFSET(fakturace!B657,fakturace!#REF!,0)","v":{"$error":"#REF!"}},{"$f":"OFFSET(fakturace!C657,fakturace!#REF!,0)","v":{"$error":"#REF!"}},{"$f":"OFFSET(fakturace!F657,fakturace!#REF!,0)","v":{"$error":"#REF!"}}]
[{"$f":"OFFSET(fakturace!B658,fakturace!#REF!,0)","v":{"$error":"#REF!"}},{"$f":"OFFSET(fakturace!C658,fakturace!#REF!,0)","v":{"$error":"#REF!"}},{"$f":"OFFSET(fakturace!F658,fakturace!#REF!,0)","v":{"$error":"#REF!"}}]
[{"$f":"OFFSET(fakturace!B659,fakturace!#REF!,0)","v":{"$error":"#REF!"}},{"$f":"OFFSET(fakturace!C659,fakturace!#REF!,0)","v":{"$error":"#REF!"}},{"$f":"OFFSET(fakturace!F659,fakturace!#REF!,0)","v":{"$error":"#REF!"}}]
[{"$f":"OFFSET(fakturace!B660,fakturace!#REF!,0)","v":{"$error":"#REF!"}},{"$f":"OFFSET(fakturace!C660,fakturace!#REF!,0)","v":{"$error":"#REF!"}},{"$f":"OFFSET(fakturace!F660,fakturace!#REF!,0)","v":{"$error":"#REF!"}}]
[{"$f":"OFFSET(fakturace!B661,fakturace!#REF!,0)","v":{"$error":"#REF!"}},{"$f":"OFFSET(fakturace!C661,fakturace!#REF!,0)","v":{"$error":"#REF!"}},{"$f":"OFFSET(fakturace!F661,fakturace!#REF!,0)","v":{"$error":"#REF!"}}]
[{"$f":"OFFSET(fakturace!B662,fakturace!#REF!,0)","v":{"$error":"#REF!"}},{"$f":"OFFSET(fakturace!C662,fakturace!#REF!,0)","v":{"$error":"#REF!"}},{"$f":"OFFSET(fakturace!F662,fakturace!#REF!,0)","v":{"$error":"#REF!"}}]
[{"$f":"OFFSET(fakturace!B663,fakturace!#REF!,0)","v":{"$error":"#REF!"}},{"$f":"OFFSET(fakturace!C663,fakturace!#REF!,0)","v":{"$error":"#REF!"}},{"$f":"OFFSET(fakturace!F663,fakturace!#REF!,0)","v":{"$error":"#REF!"}}]
[{"$f":"OFFSET(fakturace!B664,fakturace!#REF!,0)","v":{"$error":"#REF!"}},{"$f":"OFFSET(fakturace!C664,fakturace!#REF!,0)","v":{"$error":"#REF!"}},{"$f":"OFFSET(fakturace!F664,fakturace!#REF!,0)","v":{"$error":"#REF!"}}]
[{"$f":"OFFSET(fakturace!B665,fakturace!#REF!,0)","v":{"$error":"#REF!"}},{"$f":"OFFSET(fakturace!C665,fakturace!#REF!,0)","v":{"$error":"#REF!"}},{"$f":"OFFSET(fakturace!F665,fakturace!#REF!,0)","v":{"$error":"#REF!"}}]
[{"$f":"OFFSET(fakturace!B666,fakturace!#REF!,0)","v":{"$error":"#REF!"}},{"$f":"OFFSET(fakturace!C666,fakturace!#REF!,0)","v":{"$error":"#REF!"}},{"$f":"OFFSET(fakturace!F666,fakturace!#REF!,0)","v":{"$error":"#REF!"}}]
[{"$f":"OFFSET(fakturace!B667,fakturace!#REF!,0)","v":{"$error":"#REF!"}},{"$f":"OFFSET(fakturace!C667,fakturace!#REF!,0)","v":{"$error":"#REF!"}},{"$f":"OFFSET(fakturace!F667,fakturace!#REF!,0)","v":{"$error":"#REF!"}}]
[{"$f":"OFFSET(fakturace!B668,fakturace!#REF!,0)","v":{"$error":"#REF!"}},{"$f":"OFFSET(fakturace!C668,fakturace!#REF!,0)","v":{"$error":"#REF!"}},{"$f":"OFFSET(fakturace!F668,fakturace!#REF!,0)","v":{"$error":"#REF!"}}]
[{"$f":"OFFSET(fakturace!B669,fakturace!#REF!,0)","v":{"$error":"#REF!"}},{"$f":"OFFSET(fakturace!C669,fakturace!#REF!,0)","v":{"$error":"#REF!"}},{"$f":"OFFSET(fakturace!F669,fakturace!#REF!,0)","v":{"$error":"#REF!"}}]
[{"$f":"OFFSET(fakturace!B670,fakturace!#REF!,0)","v":{"$error":"#REF!"}},{"$f":"OFFSET(fakturace!C670,fakturace!#REF!,0)","v":{"$error":"#REF!"}},{"$f":"OFFSET(fakturace!F670,fakturace!#REF!,0)","v":{"$error":"#REF!"}}]
[{"$f":"OFFSET(fakturace!B671,fakturace!#REF!,0)","v":{"$error":"#REF!"}},{"$f":"OFFSET(fakturace!C671,fakturace!#REF!,0)","v":{"$error":"#REF!"}},{"$f":"OFFSET(fakturace!F671,fakturace!#REF!,0)","v":{"$error":"#REF!"}}]
[{"$f":"OFFSET(fakturace!B672,fakturace!#REF!,0)","v":{"$error":"#REF!"}},{"$f":"OFFSET(fakturace!C672,fakturace!#REF!,0)","v":{"$error":"#REF!"}},{"$f":"OFFSET(fakturace!F672,fakturace!#REF!,0)","v":{"$error":"#REF!"}}]
[{"$f":"OFFSET(fakturace!B673,fakturace!#REF!,0)","v":{"$error":"#REF!"}},{"$f":"OFFSET(fakturace!C673,fakturace!#REF!,0)","v":{"$error":"#REF!"}},{"$f":"OFFSET(fakturace!F673,fakturace!#REF!,0)","v":{"$error":"#REF!"}}]
[{"$f":"OFFSET(fakturace!B674,fakturace!#REF!,0)","v":{"$error":"#REF!"}},{"$f":"OFFSET(fakturace!C674,fakturace!#REF!,0)","v":{"$error":"#REF!"}},{"$f":"OFFSET(fakturace!F674,fakturace!#REF!,0)","v":{"$error":"#REF!"}}]
[{"$f":"OFFSET(fakturace!B675,fakturace!#REF!,0)","v":{"$error":"#REF!"}},{"$f":"OFFSET(fakturace!C675,fakturace!#REF!,0)","v":{"$error":"#REF!"}},{"$f":"OFFSET(fakturace!F675,fakturace!#REF!,0)","v":{"$error":"#REF!"}}]
[{"$f":"OFFSET(fakturace!B676,fakturace!#REF!,0)","v":{"$error":"#REF!"}},{"$f":"OFFSET(fakturace!C676,fakturace!#REF!,0)","v":{"$error":"#REF!"}},{"$f":"OFFSET(fakturace!F676,fakturace!#REF!,0)","v":{"$error":"#REF!"}}]
[{"$f":"OFFSET(fakturace!B677,fakturace!#REF!,0)","v":{"$error":"#REF!"}},{"$f":"OFFSET(fakturace!C677,fakturace!#REF!,0)","v":{"$error":"#REF!"}},{"$f":"OFFSET(fakturace!F677,fakturace!#REF!,0)","v":{"$error":"#REF!"}}]
[{"$f":"OFFSET(fakturace!B678,fakturace!#REF!,0)","v":{"$error":"#REF!"}},{"$f":"OFFSET(fakturace!C678,fakturace!#REF!,0)","v":{"$error":"#REF!"}},{"$f":"OFFSET(fakturace!F678,fakturace!#REF!,0)","v":{"$error":"#REF!"}}]
[{"$f":"OFFSET(fakturace!B679,fakturace!#REF!,0)","v":{"$error":"#REF!"}},{"$f":"OFFSET(fakturace!C679,fakturace!#REF!,0)","v":{"$error":"#REF!"}},{"$f":"OFFSET(fakturace!F679,fakturace!#REF!,0)","v":{"$error":"#REF!"}}]
[{"$f":"OFFSET(fakturace!B680,fakturace!#REF!,0)","v":{"$error":"#REF!"}},{"$f":"OFFSET(fakturace!C680,fakturace!#REF!,0)","v":{"$error":"#REF!"}},{"$f":"OFFSET(fakturace!F680,fakturace!#REF!,0)","v":{"$error":"#REF!"}}]
[{"$f":"OFFSET(fakturace!B681,fakturace!#REF!,0)","v":{"$error":"#REF!"}},{"$f":"OFFSET(fakturace!C681,fakturace!#REF!,0)","v":{"$error":"#REF!"}},{"$f":"OFFSET(fakturace!F681,fakturace!#REF!,0)","v":{"$error":"#REF!"}}]
[{"$f":"OFFSET(fakturace!B682,fakturace!#REF!,0)","v":{"$error":"#REF!"}},{"$f":"OFFSET(fakturace!C682,fakturace!#REF!,0)","v":{"$error":"#REF!"}},{"$f":"OFFSET(fakturace!F682,fakturace!#REF!,0)","v":{"$error":"#REF!"}}]
[{"$f":"OFFSET(fakturace!B683,fakturace!#REF!,0)","v":{"$error":"#REF!"}},{"$f":"OFFSET(fakturace!C683,fakturace!#REF!,0)","v":{"$error":"#REF!"}},{"$f":"OFFSET(fakturace!F683,fakturace!#REF!,0)","v":{"$error":"#REF!"}}]
[{"$f":"OFFSET(fakturace!B684,fakturace!#REF!,0)","v":{"$error":"#REF!"}},{"$f":"OFFSET(fakturace!C684,fakturace!#REF!,0)","v":{"$error":"#REF!"}},{"$f":"OFFSET(fakturace!F684,fakturace!#REF!,0)","v":{"$error":"#REF!"}}]
[{"$f":"OFFSET(fakturace!B685,fakturace!#REF!,0)","v":{"$error":"#REF!"}},{"$f":"OFFSET(fakturace!C685,fakturace!#REF!,0)","v":{"$error":"#REF!"}},{"$f":"OFFSET(fakturace!F685,fakturace!#REF!,0)","v":{"$error":"#REF!"}}]
[{"$f":"OFFSET(fakturace!B686,fakturace!#REF!,0)","v":{"$error":"#REF!"}},{"$f":"OFFSET(fakturace!C686,fakturace!#REF!,0)","v":{"$error":"#REF!"}},{"$f":"OFFSET(fakturace!F686,fakturace!#REF!,0)","v":{"$error":"#REF!"}}]
[{"$f":"OFFSET(fakturace!B687,fakturace!#REF!,0)","v":{"$error":"#REF!"}},{"$f":"OFFSET(fakturace!C687,fakturace!#REF!,0)","v":{"$error":"#REF!"}},{"$f":"OFFSET(fakturace!F687,fakturace!#REF!,0)","v":{"$error":"#REF!"}}]
[{"$f":"OFFSET(fakturace!B688,fakturace!#REF!,0)","v":{"$error":"#REF!"}},{"$f":"OFFSET(fakturace!C688,fakturace!#REF!,0)","v":{"$error":"#REF!"}},{"$f":"OFFSET(fakturace!F688,fakturace!#REF!,0)","v":{"$error":"#REF!"}}]
[{"$f":"OFFSET(fakturace!B689,fakturace!#REF!,0)","v":{"$error":"#REF!"}},{"$f":"OFFSET(fakturace!C689,fakturace!#REF!,0)","v":{"$error":"#REF!"}},{"$f":"OFFSET(fakturace!F689,fakturace!#REF!,0)","v":{"$error":"#REF!"}}]
[{"$f":"OFFSET(fakturace!B690,fakturace!#REF!,0)","v":{"$error":"#REF!"}},{"$f":"OFFSET(fakturace!C690,fakturace!#REF!,0)","v":{"$error":"#REF!"}},{"$f":"OFFSET(fakturace!F690,fakturace!#REF!,0)","v":{"$error":"#REF!"}}]
[{"$f":"OFFSET(fakturace!B691,fakturace!#REF!,0)","v":{"$error":"#REF!"}},{"$f":"OFFSET(fakturace!C691,fakturace!#REF!,0)","v":{"$error":"#REF!"}},{"$f":"OFFSET(fakturace!F691,fakturace!#REF!,0)","v":{"$error":"#REF!"}}]
[{"$f":"OFFSET(fakturace!B692,fakturace!#REF!,0)","v":{"$error":"#REF!"}},{"$f":"OFFSET(fakturace!C692,fakturace!#REF!,0)","v":{"$error":"#REF!"}},{"$f":"OFFSET(fakturace!F692,fakturace!#REF!,0)","v":{"$error":"#REF!"}}]
[{"$f":"OFFSET(fakturace!B693,fakturace!#REF!,0)","v":{"$error":"#REF!"}},{"$f":"OFFSET(fakturace!C693,fakturace!#REF!,0)","v":{"$error":"#REF!"}},{"$f":"OFFSET(fakturace!F693,fakturace!#REF!,0)","v":{"$error":"#REF!"}}]
[{"$f":"OFFSET(fakturace!B694,fakturace!#REF!,0)","v":{"$error":"#REF!"}},{"$f":"OFFSET(fakturace!C694,fakturace!#REF!,0)","v":{"$error":"#REF!"}},{"$f":"OFFSET(fakturace!F694,fakturace!#REF!,0)","v":{"$error":"#REF!"}}]
[{"$f":"OFFSET(fakturace!B695,fakturace!#REF!,0)","v":{"$error":"#REF!"}},{"$f":"OFFSET(fakturace!C695,fakturace!#REF!,0)","v":{"$error":"#REF!"}},{"$f":"OFFSET(fakturace!F695,fakturace!#REF!,0)","v":{"$error":"#REF!"}}]
[{"$f":"OFFSET(fakturace!B696,fakturace!#REF!,0)","v":{"$error":"#REF!"}},{"$f":"OFFSET(fakturace!C696,fakturace!#REF!,0)","v":{"$error":"#REF!"}},{"$f":"OFFSET(fakturace!F696,fakturace!#REF!,0)","v":{"$error":"#REF!"}}]
[{"$f":"OFFSET(fakturace!B697,fakturace!#REF!,0)","v":{"$error":"#REF!"}},{"$f":"OFFSET(fakturace!C697,fakturace!#REF!,0)","v":{"$error":"#REF!"}},{"$f":"OFFSET(fakturace!F697,fakturace!#REF!,0)","v":{"$error":"#REF!"}}]
[{"$f":"OFFSET(fakturace!B698,fakturace!#REF!,0)","v":{"$error":"#REF!"}},{"$f":"OFFSET(fakturace!C698,fakturace!#REF!,0)","v":{"$error":"#REF!"}},{"$f":"OFFSET(fakturace!F698,fakturace!#REF!,0)","v":{"$error":"#REF!"}}]
[{"$f":"OFFSET(fakturace!B699,fakturace!#REF!,0)","v":{"$error":"#REF!"}},{"$f":"OFFSET(fakturace!C699,fakturace!#REF!,0)","v":{"$error":"#REF!"}},{"$f":"OFFSET(fakturace!F699,fakturace!#REF!,0)","v":{"$error":"#REF!"}}]
[{"$f":"OFFSET(fakturace!B700,fakturace!#REF!,0)","v":{"$error":"#REF!"}},{"$f":"OFFSET(fakturace!C700,fakturace!#REF!,0)","v":{"$error":"#REF!"}},{"$f":"OFFSET(fakturace!F700,fakturace!#REF!,0)","v":{"$error":"#REF!"}}]
[{"$f":"OFFSET(fakturace!B701,fakturace!#REF!,0)","v":{"$error":"#REF!"}},{"$f":"OFFSET(fakturace!C701,fakturace!#REF!,0)","v":{"$error":"#REF!"}},{"$f":"OFFSET(fakturace!F701,fakturace!#REF!,0)","v":{"$error":"#REF!"}}]
[{"$f":"OFFSET(fakturace!B702,fakturace!#REF!,0)","v":{"$error":"#REF!"}},{"$f":"OFFSET(fakturace!C702,fakturace!#REF!,0)","v":{"$error":"#REF!"}},{"$f":"OFFSET(fakturace!F702,fakturace!#REF!,0)","v":{"$error":"#REF!"}}]
[{"$f":"OFFSET(fakturace!B703,fakturace!#REF!,0)","v":{"$error":"#REF!"}},{"$f":"OFFSET(fakturace!C703,fakturace!#REF!,0)","v":{"$error":"#REF!"}},{"$f":"OFFSET(fakturace!F703,fakturace!#REF!,0)","v":{"$error":"#REF!"}}]
[{"$f":"OFFSET(fakturace!B704,fakturace!#REF!,0)","v":{"$error":"#REF!"}},{"$f":"OFFSET(fakturace!C704,fakturace!#REF!,0)","v":{"$error":"#REF!"}},{"$f":"OFFSET(fakturace!F704,fakturace!#REF!,0)","v":{"$error":"#REF!"}}]
[{"$f":"OFFSET(fakturace!B705,fakturace!#REF!,0)","v":{"$error":"#REF!"}},{"$f":"OFFSET(fakturace!C705,fakturace!#REF!,0)","v":{"$error":"#REF!"}},{"$f":"OFFSET(fakturace!F705,fakturace!#REF!,0)","v":{"$error":"#REF!"}}]
[{"$f":"OFFSET(fakturace!B706,fakturace!#REF!,0)","v":{"$error":"#REF!"}},{"$f":"OFFSET(fakturace!C706,fakturace!#REF!,0)","v":{"$error":"#REF!"}},{"$f":"OFFSET(fakturace!F706,fakturace!#REF!,0)","v":{"$error":"#REF!"}}]
[{"$f":"OFFSET(fakturace!B707,fakturace!#REF!,0)","v":{"$error":"#REF!"}},{"$f":"OFFSET(fakturace!C707,fakturace!#REF!,0)","v":{"$error":"#REF!"}},{"$f":"OFFSET(fakturace!F707,fakturace!#REF!,0)","v":{"$error":"#REF!"}}]
[{"$f":"OFFSET(fakturace!B708,fakturace!#REF!,0)","v":{"$error":"#REF!"}},{"$f":"OFFSET(fakturace!C708,fakturace!#REF!,0)","v":{"$error":"#REF!"}},{"$f":"OFFSET(fakturace!F708,fakturace!#REF!,0)","v":{"$error":"#REF!"}}]
[{"$f":"OFFSET(fakturace!B709,fakturace!#REF!,0)","v":{"$error":"#REF!"}},{"$f":"OFFSET(fakturace!C709,fakturace!#REF!,0)","v":{"$error":"#REF!"}},{"$f":"OFFSET(fakturace!F709,fakturace!#REF!,0)","v":{"$error":"#REF!"}}]
[{"$f":"OFFSET(fakturace!B710,fakturace!#REF!,0)","v":{"$error":"#REF!"}},{"$f":"OFFSET(fakturace!C710,fakturace!#REF!,0)","v":{"$error":"#REF!"}},{"$f":"OFFSET(fakturace!F710,fakturace!#REF!,0)","v":{"$error":"#REF!"}}]
[{"$f":"OFFSET(fakturace!B711,fakturace!#REF!,0)","v":{"$error":"#REF!"}},{"$f":"OFFSET(fakturace!C711,fakturace!#REF!,0)","v":{"$error":"#REF!"}},{"$f":"OFFSET(fakturace!F711,fakturace!#REF!,0)","v":{"$error":"#REF!"}}]
[{"$f":"OFFSET(fakturace!B712,fakturace!#REF!,0)","v":{"$error":"#REF!"}},{"$f":"OFFSET(fakturace!C712,fakturace!#REF!,0)","v":{"$error":"#REF!"}},{"$f":"OFFSET(fakturace!F712,fakturace!#REF!,0)","v":{"$error":"#REF!"}}]
[{"$f":"OFFSET(fakturace!B713,fakturace!#REF!,0)","v":{"$error":"#REF!"}},{"$f":"OFFSET(fakturace!C713,fakturace!#REF!,0)","v":{"$error":"#REF!"}},{"$f":"OFFSET(fakturace!F713,fakturace!#REF!,0)","v":{"$error":"#REF!"}}]
[{"$f":"OFFSET(fakturace!B714,fakturace!#REF!,0)","v":{"$error":"#REF!"}},{"$f":"OFFSET(fakturace!C714,fakturace!#REF!,0)","v":{"$error":"#REF!"}},{"$f":"OFFSET(fakturace!F714,fakturace!#REF!,0)","v":{"$error":"#REF!"}}]
[{"$f":"OFFSET(fakturace!B715,fakturace!#REF!,0)","v":{"$error":"#REF!"}},{"$f":"OFFSET(fakturace!C715,fakturace!#REF!,0)","v":{"$error":"#REF!"}},{"$f":"OFFSET(fakturace!F715,fakturace!#REF!,0)","v":{"$error":"#REF!"}}]
[{"$f":"OFFSET(fakturace!B716,fakturace!#REF!,0)","v":{"$error":"#REF!"}},{"$f":"OFFSET(fakturace!C716,fakturace!#REF!,0)","v":{"$error":"#REF!"}},{"$f":"OFFSET(fakturace!F716,fakturace!#REF!,0)","v":{"$error":"#REF!"}}]
[{"$f":"OFFSET(fakturace!B717,fakturace!#REF!,0)","v":{"$error":"#REF!"}},{"$f":"OFFSET(fakturace!C717,fakturace!#REF!,0)","v":{"$error":"#REF!"}},{"$f":"OFFSET(fakturace!F717,fakturace!#REF!,0)","v":{"$error":"#REF!"}}]
[{"$f":"OFFSET(fakturace!B718,fakturace!#REF!,0)","v":{"$error":"#REF!"}},{"$f":"OFFSET(fakturace!C718,fakturace!#REF!,0)","v":{"$error":"#REF!"}},{"$f":"OFFSET(fakturace!F718,fakturace!#REF!,0)","v":{"$error":"#REF!"}}]
[{"$f":"OFFSET(fakturace!B719,fakturace!#REF!,0)","v":{"$error":"#REF!"}},{"$f":"OFFSET(fakturace!C719,fakturace!#REF!,0)","v":{"$error":"#REF!"}},{"$f":"OFFSET(fakturace!F719,fakturace!#REF!,0)","v":{"$error":"#REF!"}}]
[{"$f":"OFFSET(fakturace!B720,fakturace!#REF!,0)","v":{"$error":"#REF!"}},{"$f":"OFFSET(fakturace!C720,fakturace!#REF!,0)","v":{"$error":"#REF!"}},{"$f":"OFFSET(fakturace!F720,fakturace!#REF!,0)","v":{"$error":"#REF!"}}]
[{"$f":"OFFSET(fakturace!B721,fakturace!#REF!,0)","v":{"$error":"#REF!"}},{"$f":"OFFSET(fakturace!C721,fakturace!#REF!,0)","v":{"$error":"#REF!"}},{"$f":"OFFSET(fakturace!F721,fakturace!#REF!,0)","v":{"$error":"#REF!"}}]
[{"$f":"OFFSET(fakturace!B722,fakturace!#REF!,0)","v":{"$error":"#REF!"}},{"$f":"OFFSET(fakturace!C722,fakturace!#REF!,0)","v":{"$error":"#REF!"}},{"$f":"OFFSET(fakturace!F722,fakturace!#REF!,0)","v":{"$error":"#REF!"}}]
[{"$f":"OFFSET(fakturace!B723,fakturace!#REF!,0)","v":{"$error":"#REF!"}},{"$f":"OFFSET(fakturace!C723,fakturace!#REF!,0)","v":{"$error":"#REF!"}},{"$f":"OFFSET(fakturace!F723,fakturace!#REF!,0)","v":{"$error":"#REF!"}}]
[{"$f":"OFFSET(fakturace!B724,fakturace!#REF!,0)","v":{"$error":"#REF!"}},{"$f":"OFFSET(fakturace!C724,fakturace!#REF!,0)","v":{"$error":"#REF!"}},{"$f":"OFFSET(fakturace!F724,fakturace!#REF!,0)","v":{"$error":"#REF!"}}]
[{"$f":"OFFSET(fakturace!B725,fakturace!#REF!,0)","v":{"$error":"#REF!"}},{"$f":"OFFSET(fakturace!C725,fakturace!#REF!,0)","v":{"$error":"#REF!"}},{"$f":"OFFSET(fakturace!F725,fakturace!#REF!,0)","v":{"$error":"#REF!"}}]
[{"$f":"OFFSET(fakturace!B726,fakturace!#REF!,0)","v":{"$error":"#REF!"}},{"$f":"OFFSET(fakturace!C726,fakturace!#REF!,0)","v":{"$error":"#REF!"}},{"$f":"OFFSET(fakturace!F726,fakturace!#REF!,0)","v":{"$error":"#REF!"}}]
[{"$f":"OFFSET(fakturace!B727,fakturace!#REF!,0)","v":{"$error":"#REF!"}},{"$f":"OFFSET(fakturace!C727,fakturace!#REF!,0)","v":{"$error":"#REF!"}},{"$f":"OFFSET(fakturace!F727,fakturace!#REF!,0)","v":{"$error":"#REF!"}}]
[{"$f":"OFFSET(fakturace!B728,fakturace!#REF!,0)","v":{"$error":"#REF!"}},{"$f":"OFFSET(fakturace!C728,fakturace!#REF!,0)","v":{"$error":"#REF!"}},{"$f":"OFFSET(fakturace!F728,fakturace!#REF!,0)","v":{"$error":"#REF!"}}]
[{"$f":"OFFSET(fakturace!B729,fakturace!#REF!,0)","v":{"$error":"#REF!"}},{"$f":"OFFSET(fakturace!C729,fakturace!#REF!,0)","v":{"$error":"#REF!"}},{"$f":"OFFSET(fakturace!F729,fakturace!#REF!,0)","v":{"$error":"#REF!"}}]
[{"$f":"OFFSET(fakturace!B730,fakturace!#REF!,0)","v":{"$error":"#REF!"}},{"$f":"OFFSET(fakturace!C730,fakturace!#REF!,0)","v":{"$error":"#REF!"}},{"$f":"OFFSET(fakturace!F730,fakturace!#REF!,0)","v":{"$error":"#REF!"}}]
[{"$f":"OFFSET(fakturace!B731,fakturace!#REF!,0)","v":{"$error":"#REF!"}},{"$f":"OFFSET(fakturace!C731,fakturace!#REF!,0)","v":{"$error":"#REF!"}},{"$f":"OFFSET(fakturace!F731,fakturace!#REF!,0)","v":{"$error":"#REF!"}}]
[{"$f":"OFFSET(fakturace!B732,fakturace!#REF!,0)","v":{"$error":"#REF!"}},{"$f":"OFFSET(fakturace!C732,fakturace!#REF!,0)","v":{"$error":"#REF!"}},{"$f":"OFFSET(fakturace!F732,fakturace!#REF!,0)","v":{"$error":"#REF!"}}]
[{"$f":"OFFSET(fakturace!B733,fakturace!#REF!,0)","v":{"$error":"#REF!"}},{"$f":"OFFSET(fakturace!C733,fakturace!#REF!,0)","v":{"$error":"#REF!"}},{"$f":"OFFSET(fakturace!F733,fakturace!#REF!,0)","v":{"$error":"#REF!"}}]
[{"$f":"OFFSET(fakturace!B734,fakturace!#REF!,0)","v":{"$error":"#REF!"}},{"$f":"OFFSET(fakturace!C734,fakturace!#REF!,0)","v":{"$error":"#REF!"}},{"$f":"OFFSET(fakturace!F734,fakturace!#REF!,0)","v":{"$error":"#REF!"}}]
[{"$f":"OFFSET(fakturace!B735,fakturace!#REF!,0)","v":{"$error":"#REF!"}},{"$f":"OFFSET(fakturace!C735,fakturace!#REF!,0)","v":{"$error":"#REF!"}},{"$f":"OFFSET(fakturace!F735,fakturace!#REF!,0)","v":{"$error":"#REF!"}}]
[{"$f":"OFFSET(fakturace!B736,fakturace!#REF!,0)","v":{"$error":"#REF!"}},{"$f":"OFFSET(fakturace!C736,fakturace!#REF!,0)","v":{"$error":"#REF!"}},{"$f":"OFFSET(fakturace!F736,fakturace!#REF!,0)","v":{"$error":"#REF!"}}]
[{"$f":"OFFSET(fakturace!B737,fakturace!#REF!,0)","v":{"$error":"#REF!"}},{"$f":"OFFSET(fakturace!C737,fakturace!#REF!,0)","v":{"$error":"#REF!"}},{"$f":"OFFSET(fakturace!F737,fakturace!#REF!,0)","v":{"$error":"#REF!"}}]
[{"$f":"OFFSET(fakturace!B738,fakturace!#REF!,0)","v":{"$error":"#REF!"}},{"$f":"OFFSET(fakturace!C738,fakturace!#REF!,0)","v":{"$error":"#REF!"}},{"$f":"OFFSET(fakturace!F738,fakturace!#REF!,0)","v":{"$error":"#REF!"}}]
[{"$f":"OFFSET(fakturace!B739,fakturace!#REF!,0)","v":{"$error":"#REF!"}},{"$f":"OFFSET(fakturace!C739,fakturace!#REF!,0)","v":{"$error":"#REF!"}},{"$f":"OFFSET(fakturace!F739,fakturace!#REF!,0)","v":{"$error":"#REF!"}}]
[{"$f":"OFFSET(fakturace!B740,fakturace!#REF!,0)","v":{"$error":"#REF!"}},{"$f":"OFFSET(fakturace!C740,fakturace!#REF!,0)","v":{"$error":"#REF!"}},{"$f":"OFFSET(fakturace!F740,fakturace!#REF!,0)","v":{"$error":"#REF!"}}]
[{"$f":"OFFSET(fakturace!B741,fakturace!#REF!,0)","v":{"$error":"#REF!"}},{"$f":"OFFSET(fakturace!C741,fakturace!#REF!,0)","v":{"$error":"#REF!"}},{"$f":"OFFSET(fakturace!F741,fakturace!#REF!,0)","v":{"$error":"#REF!"}}]
[{"$f":"OFFSET(fakturace!B742,fakturace!#REF!,0)","v":{"$error":"#REF!"}},{"$f":"OFFSET(fakturace!C742,fakturace!#REF!,0)","v":{"$error":"#REF!"}},{"$f":"OFFSET(fakturace!F742,fakturace!#REF!,0)","v":{"$error":"#REF!"}}]
[{"$f":"OFFSET(fakturace!B743,fakturace!#REF!,0)","v":{"$error":"#REF!"}},{"$f":"OFFSET(fakturace!C743,fakturace!#REF!,0)","v":{"$error":"#REF!"}},{"$f":"OFFSET(fakturace!F743,fakturace!#REF!,0)","v":{"$error":"#REF!"}}]
[{"$f":"OFFSET(fakturace!B744,fakturace!#REF!,0)","v":{"$error":"#REF!"}},{"$f":"OFFSET(fakturace!C744,fakturace!#REF!,0)","v":{"$error":"#REF!"}},{"$f":"OFFSET(fakturace!F744,fakturace!#REF!,0)","v":{"$error":"#REF!"}}]
[{"$f":"OFFSET(fakturace!B745,fakturace!#REF!,0)","v":{"$error":"#REF!"}},{"$f":"OFFSET(fakturace!C745,fakturace!#REF!,0)","v":{"$error":"#REF!"}},{"$f":"OFFSET(fakturace!F745,fakturace!#REF!,0)","v":{"$error":"#REF!"}}]
[{"$f":"OFFSET(fakturace!B746,fakturace!#REF!,0)","v":{"$error":"#REF!"}},{"$f":"OFFSET(fakturace!C746,fakturace!#REF!,0)","v":{"$error":"#REF!"}},{"$f":"OFFSET(fakturace!F746,fakturace!#REF!,0)","v":{"$error":"#REF!"}}]
[{"$f":"OFFSET(fakturace!B747,fakturace!#REF!,0)","v":{"$error":"#REF!"}},{"$f":"OFFSET(fakturace!C747,fakturace!#REF!,0)","v":{"$error":"#REF!"}},{"$f":"OFFSET(fakturace!F747,fakturace!#REF!,0)","v":{"$error":"#REF!"}}]
[{"$f":"OFFSET(fakturace!B748,fakturace!#REF!,0)","v":{"$error":"#REF!"}},{"$f":"OFFSET(fakturace!C748,fakturace!#REF!,0)","v":{"$error":"#REF!"}},{"$f":"OFFSET(fakturace!F748,fakturace!#REF!,0)","v":{"$error":"#REF!"}}]
[{"$f":"OFFSET(fakturace!B749,fakturace!#REF!,0)","v":{"$error":"#REF!"}},{"$f":"OFFSET(fakturace!C749,fakturace!#REF!,0)","v":{"$error":"#REF!"}},{"$f":"OFFSET(fakturace!F749,fakturace!#REF!,0)","v":{"$error":"#REF!"}}]
[{"$f":"OFFSET(fakturace!B750,fakturace!#REF!,0)","v":{"$error":"#REF!"}},{"$f":"OFFSET(fakturace!C750,fakturace!#REF!,0)","v":{"$error":"#REF!"}},{"$f":"OFFSET(fakturace!F750,fakturace!#REF!,0)","v":{"$error":"#REF!"}}]
[{"$f":"OFFSET(fakturace!B751,fakturace!#REF!,0)","v":{"$error":"#REF!"}},{"$f":"OFFSET(fakturace!C751,fakturace!#REF!,0)","v":{"$error":"#REF!"}},{"$f":"OFFSET(fakturace!F751,fakturace!#REF!,0)","v":{"$error":"#REF!"}}]
[{"$f":"OFFSET(fakturace!B752,fakturace!#REF!,0)","v":{"$error":"#REF!"}},{"$f":"OFFSET(fakturace!C752,fakturace!#REF!,0)","v":{"$error":"#REF!"}},{"$f":"OFFSET(fakturace!F752,fakturace!#REF!,0)","v":{"$error":"#REF!"}}]
[{"$f":"OFFSET(fakturace!B753,fakturace!#REF!,0)","v":{"$error":"#REF!"}},{"$f":"OFFSET(fakturace!C753,fakturace!#REF!,0)","v":{"$error":"#REF!"}},{"$f":"OFFSET(fakturace!F753,fakturace!#REF!,0)","v":{"$error":"#REF!"}}]
[{"$f":"OFFSET(fakturace!B754,fakturace!#REF!,0)","v":{"$error":"#REF!"}},{"$f":"OFFSET(fakturace!C754,fakturace!#REF!,0)","v":{"$error":"#REF!"}},{"$f":"OFFSET(fakturace!F754,fakturace!#REF!,0)","v":{"$error":"#REF!"}}]
[{"$f":"OFFSET(fakturace!B755,fakturace!#REF!,0)","v":{"$error":"#REF!"}},{"$f":"OFFSET(fakturace!C755,fakturace!#REF!,0)","v":{"$error":"#REF!"}},{"$f":"OFFSET(fakturace!F755,fakturace!#REF!,0)","v":{"$error":"#REF!"}}]
[{"$f":"OFFSET(fakturace!B756,fakturace!#REF!,0)","v":{"$error":"#REF!"}},{"$f":"OFFSET(fakturace!C756,fakturace!#REF!,0)","v":{"$error":"#REF!"}},{"$f":"OFFSET(fakturace!F756,fakturace!#REF!,0)","v":{"$error":"#REF!"}}]
[{"$f":"OFFSET(fakturace!B757,fakturace!#REF!,0)","v":{"$error":"#REF!"}},{"$f":"OFFSET(fakturace!C757,fakturace!#REF!,0)","v":{"$error":"#REF!"}},{"$f":"OFFSET(fakturace!F757,fakturace!#REF!,0)","v":{"$error":"#REF!"}}]
[{"$f":"OFFSET(fakturace!B758,fakturace!#REF!,0)","v":{"$error":"#REF!"}},{"$f":"OFFSET(fakturace!C758,fakturace!#REF!,0)","v":{"$error":"#REF!"}},{"$f":"OFFSET(fakturace!F758,fakturace!#REF!,0)","v":{"$error":"#REF!"}}]
[{"$f":"OFFSET(fakturace!B759,fakturace!#REF!,0)","v":{"$error":"#REF!"}},{"$f":"OFFSET(fakturace!C759,fakturace!#REF!,0)","v":{"$error":"#REF!"}},{"$f":"OFFSET(fakturace!F759,fakturace!#REF!,0)","v":{"$error":"#REF!"}}]

{"sheet":"DATA-GRAF-72H","index":5,"n_rows":76,"n_cols":6,"rows_kept":76,"cut":false,"hidden":true,"merged":[[0,0,0,3]]}
[]
["D3",null,null,"Posuvník",null,{"$f":"\" (\"&TEXT($A$4,\"DD.MM.RRRR HH:MM\")&\") - (\"&TEXT($A$75,\"DD.MM.RRRR HH:MM\")&\")\"","v":" (01.08.2013 00:00) - (03.08.2013 23:00)"}]
["Datum","měření [MWh]","cenový tarif [Kc/MWh]",0]
[{"$f":"OFFSET(fakturace!B16,'DATA-GRAF-72H'!$D$3,0)","v":"2013-08-01"},{"$f":"OFFSET(fakturace!C16,'DATA-GRAF-72H'!$D$3,0)","v":0},{"$f":"OFFSET(fakturace!F16,'DATA-GRAF-72H'!$D$3,0)","v":245.35434999999995}]
[{"$f":"OFFSET(fakturace!B17,'DATA-GRAF-72H'!$D$3,0)","v":"2013-08-01T01:00:00"},{"$f":"OFFSET(fakturace!C17,'DATA-GRAF-72H'!$D$3,0)","v":0},{"$f":"OFFSET(fakturace!F17,'DATA-GRAF-72H'!$D$3,0)","v":165.6724999999999}]
[{"$f":"OFFSET(fakturace!B18,'DATA-GRAF-72H'!$D$3,0)","v":"2013-08-01T02:00:00"},{"$f":"OFFSET(fakturace!C18,'DATA-GRAF-72H'!$D$3,0)","v":0},{"$f":"OFFSET(fakturace!F18,'DATA-GRAF-72H'!$D$3,0)","v":100.78499999999997}]
[{"$f":"OFFSET(fakturace!B19,'DATA-GRAF-72H'!$D$3,0)","v":"2013-08-01T03:00:00"},{"$f":"OFFSET(fakturace!C19,'DATA-GRAF-72H'!$D$3,0)","v":0},{"$f":"OFFSET(fakturace!F19,'DATA-GRAF-72H'!$D$3,0)","v":64.707549999999969}]
[{"$f":"OFFSET(fakturace!B20,'DATA-GRAF-72H'!$D$3,0)","v":"2013-08-01T04:00:00"},{"$f":"OFFSET(fakturace!C20,'DATA-GRAF-72H'!$D$3,0)","v":0},{"$f":"OFFSET(fakturace!F20,'DATA-GRAF-72H'!$D$3,0)","v":64.707549999999969}]
[{"$f":"OFFSET(fakturace!B21,'DATA-GRAF-72H'!$D$3,0)","v":"2013-08-01T05:00:00"},{"$f":"OFFSET(fakturace!C21,'DATA-GRAF-72H'!$D$3,0)","v":0},{"$f":"OFFSET(fakturace!F21,'DATA-GRAF-72H'!$D$3,0)","v":150.09949999999992}]
[{"$f":"OFFSET(fakturace!B22,'DATA-GRAF-72H'!$D$3,0)","v":"2013-08-01T06:00:00"},{"$f":"OFFSET(fakturace!C22,'DATA-GRAF-72H'!$D$3,0)","v":0},{"$f":"OFFSET(fakturace!F22,'DATA-GRAF-72H'!$D$3,0)","v":243.7970499999999}]
[{"$f":"OFFSET(fakturace!B23,'DATA-GRAF-72H'!$D$3,0)","v":"2013-08-01T07:00:00"},{"$f":"OFFSET(fakturace!C23,'DATA-GRAF-72H'!$D$3,0)","v":0},{"$f":"OFFSET(fakturace!F23,'DATA-GRAF-72H'!$D$3,0)","v":516.06499999999983}]
[{"$f":"OFFSET(fakturace!B24,'DATA-GRAF-72H'!$D$3,0)","v":"2013-08-01T08:00:00"},{"$f":"OFFSET(fakturace!C24,'DATA-GRAF-72H'!$D$3,0)","v":0},{"$f":"OFFSET(fakturace!F24,'DATA-GRAF-72H'!$D$3,0)","v":584.32664999999997}]
[{"$f":"OFFSET(fakturace!B25,'DATA-GRAF-72H'!$D$3,0)","v":"2013-08-01T09:00:00"},{"$f":"OFFSET(fakturace!C25,'DATA-GRAF-72H'!$D$3,0)","v":0},{"$f":"OFFSET(fakturace!F25,'DATA-GRAF-72H'!$D$3,0)","v":542.02}]
[{"$f":"OFFSET(fakturace!B26,'DATA-GRAF-72H'!$D$3,0)","v":"2013-08-01T10:00:00"},{"$f":"OFFSET(fakturace!C26,'DATA-GRAF-72H'!$D$3,0)","v":0},{"$f":"OFFSET(fakturace!F26,'DATA-GRAF-72H'!$D$3,0)","v":518.14139999999998}]
[{"$f":"OFFSET(fakturace!B27,'DATA-GRAF-72H'!$D$3,0)","v":"2013-08-01T11:00:00"},{"$f":"OFFSET(fakturace!C27,'DATA-GRAF-72H'!$D$3,0)","v":0},{"$f":"OFFSET(fakturace!F27,'DATA-GRAF-72H'!$D$3,0)","v":509.31670000000008}]
[{"$f":"OFFSET(fakturace!B28,'DATA-GRAF-72H'!$D$3,0)","v":"2013-08-01T12:00:00"},{"$f":"OFFSET(fakturace!C28,'DATA-GRAF-72H'!$D$3,0)","v":0},{"$f":"OFFSET(fakturace!F28,'DATA-GRAF-72H'!$D$3,0)","v":421.58879999999988}]
[{"$f":"OFFSET(fakturace!B29,'DATA-GRAF-72H'!$D$3,0)","v":"2013-08-01T13:00:00"},{"$f":"OFFSET(fakturace!C29,'DATA-GRAF-72H'!$D$3,0)","v":0},{"$f":"OFFSET(fakturace!F29,'DATA-GRAF-72H'!$D$3,0)","v":308.42499999999995}]
[{"$f":"OFFSET(fakturace!B30,'DATA-GRAF-72H'!$D$3,0)","v":"2013-08-01T14:00:00"},{"$f":"OFFSET(fakturace!C30,'DATA-GRAF-72H'!$D$3,0)","v":0},{"$f":"OFFSET(fakturace!F30,'DATA-GRAF-72H'!$D$3,0)","v":282.46999999999991}]
[{"$f":"OFFSET(fakturace!B31,'DATA-GRAF-72H'!$D$3,0)","v":"2013-08-01T15:00:00"},{"$f":"OFFSET(fakturace!C31,'DATA-GRAF-72H'!$D$3,0)","v":0},{"$f":"OFFSET(fakturace!F31,'DATA-GRAF-72H'!$D$3,0)","v":284.28684999999996}]
[{"$f":"OFFSET(fakturace!B32,'DATA-GRAF-72H'!$D$3,0)","v":"2013-08-01T16:00:00"},{"$f":"OFFSET(fakturace!C32,'DATA-GRAF-72H'!$D$3,0)","v":0},{"$f":"OFFSET(fakturace!F32,'DATA-GRAF-72H'!$D$3,0)","v":338.79234999999994}]
[{"$f":"OFFSET(fakturace!B33,'DATA-GRAF-72H'!$D$3,0)","v":"2013-08-01T17:00:00"},{"$f":"OFFSET(fakturace!C33,'DATA-GRAF-72H'!$D$3,0)","v":0},{"$f":"OFFSET(fakturace!F33,'DATA-GRAF-72H'!$D$3,0)","v":482.32349999999997}]
[{"$f":"OFFSET(fakturace!B34,'DATA-GRAF-72H'!$D$3,0)","v":"2013-08-01T18:00:00"},{"$f":"OFFSET(fakturace!C34,'DATA-GRAF-72H'!$D$3,0)","v":0},{"$f":"OFFSET(fakturace!F34,'DATA-GRAF-72H'!$D$3,0)","v":539.42449999999985}]
[{"$f":"OFFSET(fakturace!B35,'DATA-GRAF-72H'!$D$3,0)","v":"2013-08-01T19:00:00"},{"$f":"OFFSET(fakturace!C35,'DATA-GRAF-72H'!$D$3,0)","v":0},{"$f":"OFFSET(fakturace!F35,'DATA-GRAF-72H'!$D$3,0)","v":608.98389999999995}]
[{"$f":"OFFSET(fakturace!B36,'DATA-GRAF-72H'!$D$3,0)","v":"2013-08-01T20:00:00"},{"$f":"OFFSET(fakturace!C36,'DATA-GRAF-72H'!$D$3,0)","v":0},{"$f":"OFFSET(fakturace!F36,'DATA-GRAF-72H'!$D$3,0)","v":640.64899999999989}]
[{"$f":"OFFSET(fakturace!B37,'DATA-GRAF-72H'!$D$3,0)","v":"2013-08-01T21:00:00"},{"$f":"OFFSET(fakturace!C37,'DATA-GRAF-72H'!$D$3,0)","v":0},{"$f":"OFFSET(fakturace!F37,'DATA-GRAF-72H'!$D$3,0)","v":578.35699999999997}]
[{"$f":"OFFSET(fakturace!B38,'DATA-GRAF-72H'!$D$3,0)","v":"2013-08-01T22:00:00"},{"$f":"OFFSET(fakturace!C38,'DATA-GRAF-72H'!$D$3,0)","v":0},{"$f":"OFFSET(fakturace!F38,'DATA-GRAF-72H'!$D$3,0)","v":536.56944999999996}]
[{"$f":"OFFSET(fakturace!B39,'DATA-GRAF-72H'!$D$3,0)","v":"2013-08-01T23:00:00"},{"$f":"OFFSET(fakturace!C39,'DATA-GRAF-72H'!$D$3,0)","v":0},{"$f":"OFFSET(fakturace!F39,'DATA-GRAF-72H'!$D$3,0)","v":292.3329}]
[{"$f":"OFFSET(fakturace!B40,'DATA-GRAF-72H'!$D$3,0)","v":"2013-08-02"},{"$f":"OFFSET(fakturace!C40,'DATA-GRAF-72H'!$D$3,0)","v":0},{"$f":"OFFSET(fakturace!F40,'DATA-GRAF-72H'!$D$3,0)","v":256.86900000000003}]
[{"$f":"OFFSET(fakturace!B41,'DATA-GRAF-72H'!$D$3,0)","v":"2013-08-02T01:00:00"},{"$f":"OFFSET(fakturace!C41,'DATA-GRAF-72H'!$D$3,0)","v":0},{"$f":"OFFSET(fakturace!F41,'DATA-GRAF-72H'!$D$3,0)","v":178.5}]
[{"$f":"OFFSET(fakturace!B42,'DATA-GRAF-72H'!$D$3,0)","v":"2013-08-02T02:00:00"},{"$f":"OFFSET(fakturace!C42,'DATA-GRAF-72H'!$D$3,0)","v":0},{"$f":"OFFSET(fakturace!F42,'DATA-GRAF-72H'!$D$3,0)","v":113.625}]
[{"$f":"OFFSET(fakturace!B43,'DATA-GRAF-72H'!$D$3,0)","v":"2013-08-02T03:00:00"},{"$f":"OFFSET(fakturace!C43,'DATA-GRAF-72H'!$D$3,0)","v":0},{"$f":"OFFSET(fakturace!F43,'DATA-GRAF-72H'!$D$3,0)","v":81.1875}]
[{"$f":"OFFSET(fakturace!B44,'DATA-GRAF-72H'!$D$3,0)","v":"2013-08-02T04:00:00"},{"$f":"OFFSET(fakturace!C44,'DATA-GRAF-72H'!$D$3,0)","v":0},{"$f":"OFFSET(fakturace!F44,'DATA-GRAF-72H'!$D$3,0)","v":74.699999999999932}]
[{"$f":"OFFSET(fakturace!B45,'DATA-GRAF-72H'!$D$3,0)","v":"2013-08-02T05:00:00"},{"$f":"OFFSET(fakturace!C45,'DATA-GRAF-72H'!$D$3,0)","v":0},{"$f":"OFFSET(fakturace!F45,'DATA-GRAF-72H'!$D$3,0)","v":146.84100000000001}]
[{"$f":"OFFSET(fakturace!B46,'DATA-GRAF-72H'!$D$3,0)","v":"2013-08-02T06:00:00"},{"$f":"OFFSET(fakturace!C46,'DATA-GRAF-72H'!$D$3,0)","v":0},{"$f":"OFFSET(fakturace!F46,'DATA-GRAF-72H'!$D$3,0)","v":339.64949999999999}]
[{"$f":"OFFSET(fakturace!B47,'DATA-GRAF-72H'!$D$3,0)","v":"2013-08-02T07:00:00"},{"$f":"OFFSET(fakturace!C47,'DATA-GRAF-72H'!$D$3,0)","v":0},{"$f":"OFFSET(fakturace!F47,'DATA-GRAF-72H'!$D$3,0)","v":508.06500000000005}]
[{"$f":"OFFSET(fakturace!B48,'DATA-GRAF-72H'!$D$3,0)","v":"2013-08-02T08:00:00"},{"$f":"OFFSET(fakturace!C48,'DATA-GRAF-72H'!$D$3,0)","v":0},{"$f":"OFFSET(fakturace!F48,'DATA-GRAF-72H'!$D$3,0)","v":611.86500000000001}]
[{"$f":"OFFSET(fakturace!B49,'DATA-GRAF-72H'!$D$3,0)","v":"2013-08-02T09:00:00"},{"$f":"OFFSET(fakturace!C49,'DATA-GRAF-72H'!$D$3,0)","v":0},{"$f":"OFFSET(fakturace!F49,'DATA-GRAF-72H'!$D$3,0)","v":596.55449999999996}]
[{"$f":"OFFSET(fakturace!B50,'DATA-GRAF-72H'!$D$3,0)","v":"2013-08-02T10:00:00"},{"$f":"OFFSET(fakturace!C50,'DATA-GRAF-72H'!$D$3,0)","v":0},{"$f":"OFFSET(fakturace!F50,'DATA-GRAF-72H'!$D$3,0)","v":558.14850000000001}]
[{"$f":"OFFSET(fakturace!B51,'DATA-GRAF-72H'!$D$3,0)","v":"2013-08-02T11:00:00"},{"$f":"OFFSET(fakturace!C51,'DATA-GRAF-72H'!$D$3,0)","v":0},{"$f":"OFFSET(fakturace!F51,'DATA-GRAF-72H'!$D$3,0)","v":531.42000000000007}]
[{"$f":"OFFSET(fakturace!B52,'DATA-GRAF-72H'!$D$3,0)","v":"2013-08-02T12:00:00"},{"$f":"OFFSET(fakturace!C52,'DATA-GRAF-72H'!$D$3,0)","v":0},{"$f":"OFFSET(fakturace!F52,'DATA-GRAF-72H'!$D$3,0)","v":387.39749999999992}]
[{"$f":"OFFSET(fakturace!B53,'DATA-GRAF-72H'!$D$3,0)","v":"2013-08-02T13:00:00"},{"$f":"OFFSET(fakturace!C53,'DATA-GRAF-72H'!$D$3,0)","v":0},{"$f":"OFFSET(fakturace!F53,'DATA-GRAF-72H'!$D$3,0)","v":360.15}]
[{"$f":"OFFSET(fakturace!B54,'DATA-GRAF-72H'!$D$3,0)","v":"2013-08-02T14:00:00"},{"$f":"OFFSET(fakturace!C54,'DATA-GRAF-72H'!$D$3,0)","v":0},{"$f":"OFFSET(fakturace!F54,'DATA-GRAF-72H'!$D$3,0)","v":326.41500000000008}]
[{"$f":"OFFSET(fakturace!B55,'DATA-GRAF-72H'!$D$3,0)","v":"2013-08-02T15:00:00"},{"$f":"OFFSET(fakturace!C55,'DATA-GRAF-72H'!$D$3,0)","v":0},{"$f":"OFFSET(fakturace!F55,'DATA-GRAF-72H'!$D$3,0)","v":318.62999999999988}]
[{"$f":"OFFSET(fakturace!B56,'DATA-GRAF-72H'!$D$3,0)","v":"2013-08-02T16:00:00"},{"$f":"OFFSET(fakturace!C56,'DATA-GRAF-72H'!$D$3,0)","v":0},{"$f":"OFFSET(fakturace!F56,'DATA-GRAF-72H'!$D$3,0)","v":328.75049999999999}]
[{"$f":"OFFSET(fakturace!B57,'DATA-GRAF-72H'!$D$3,0)","v":"2013-08-02T17:00:00"},{"$f":"OFFSET(fakturace!C57,'DATA-GRAF-72H'!$D$3,0)","v":0},{"$f":"OFFSET(fakturace!F57,'DATA-GRAF-72H'!$D$3,0)","v":432.80999999999995}]
[{"$f":"OFFSET(fakturace!B58,'DATA-GRAF-72H'!$D$3,0)","v":"2013-08-02T18:00:00"},{"$f":"OFFSET(fakturace!C58,'DATA-GRAF-72H'!$D$3,0)","v":0},{"$f":"OFFSET(fakturace!F58,'DATA-GRAF-72H'!$D$3,0)","v":572.94000000000005}]
[{"$f":"OFFSET(fakturace!B59,'DATA-GRAF-72H'!$D$3,0)","v":"2013-08-02T19:00:00"},{"$f":"OFFSET(fakturace!C59,'DATA-GRAF-72H'!$D$3,0)","v":0},{"$f":"OFFSET(fakturace!F59,'DATA-GRAF-72H'!$D$3,0)","v":578.64900000000011}]
[{"$f":"OFFSET(fakturace!B60,'DATA-GRAF-72H'!$D$3,0)","v":"2013-08-02T20:00:00"},{"$f":"OFFSET(fakturace!C60,'DATA-GRAF-72H'!$D$3,0)","v":0},{"$f":"OFFSET(fakturace!F60,'DATA-GRAF-72H'!$D$3,0)","v":463.95000000000005}]
[{"$f":"OFFSET(fakturace!B61,'DATA-GRAF-72H'!$D$3,0)","v":"2013-08-02T21:00:00"},{"$f":"OFFSET(fakturace!C61,'DATA-GRAF-72H'!$D$3,0)","v":0},{"$f":"OFFSET(fakturace!F61,'DATA-GRAF-72H'!$D$3,0)","v":438}]
[{"$f":"OFFSET(fakturace!B62,'DATA-GRAF-72H'!$D$3,0)","v":"2013-08-02T22:00:00"},{"$f":"OFFSET(fakturace!C62,'DATA-GRAF-72H'!$D$3,0)","v":0},{"$f":"OFFSET(fakturace!F62,'DATA-GRAF-72H'!$D$3,0)","v":425.02499999999986}]
[{"$f":"OFFSET(fakturace!B63,'DATA-GRAF-72H'!$D$3,0)","v":"2013-08-02T23:00:00"},{"$f":"OFFSET(fakturace!C63,'DATA-GRAF-72H'!$D$3,0)","v":0},{"$f":"OFFSET(fakturace!F63,'DATA-GRAF-72H'!$D$3,0)","v":308.25}]
[{"$f":"OFFSET(fakturace!B64,'DATA-GRAF-72H'!$D$3,0)","v":"2013-08-03"},{"$f":"OFFSET(fakturace!C64,'DATA-GRAF-72H'!$D$3,0)","v":0},{"$f":"OFFSET(fakturace!F64,'DATA-GRAF-72H'!$D$3,0)","v":173.30999999999995}]
[{"$f":"OFFSET(fakturace!B65,'DATA-GRAF-72H'!$D$3,0)","v":"2013-08-03T01:00:00"},{"$f":"OFFSET(fakturace!C65,'DATA-GRAF-72H'!$D$3,0)","v":0},{"$f":"OFFSET(fakturace!F65,'DATA-GRAF-72H'!$D$3,0)","v":131.78999999999996}]
[{"$f":"OFFSET(fakturace!B66,'DATA-GRAF-72H'!$D$3,0)","v":"2013-08-03T02:00:00"},{"$f":"OFFSET(fakturace!C66,'DATA-GRAF-72H'!$D$3,0)","v":0},{"$f":"OFFSET(fakturace!F66,'DATA-GRAF-72H'!$D$3,0)","v":116.47949999999992}]
[{"$f":"OFFSET(fakturace!B67,'DATA-GRAF-72H'!$D$3,0)","v":"2013-08-03T03:00:00"},{"$f":"OFFSET(fakturace!C67,'DATA-GRAF-72H'!$D$3,0)","v":0},{"$f":"OFFSET(fakturace!F67,'DATA-GRAF-72H'!$D$3,0)","v":90.269999999999982}]
[{"$f":"OFFSET(fakturace!B68,'DATA-GRAF-72H'!$D$3,0)","v":"2013-08-03T04:00:00"},{"$f":"OFFSET(fakturace!C68,'DATA-GRAF-72H'!$D$3,0)","v":0},{"$f":"OFFSET(fakturace!F68,'DATA-GRAF-72H'!$D$3,0)","v":82.485000000000014}]
[{"$f":"OFFSET(fakturace!B69,'DATA-GRAF-72H'!$D$3,0)","v":"2013-08-03T05:00:00"},{"$f":"OFFSET(fakturace!C69,'DATA-GRAF-72H'!$D$3,0)","v":0},{"$f":"OFFSET(fakturace!F69,'DATA-GRAF-72H'!$D$3,0)","v":57.313499999999976}]
[{"$f":"OFFSET(fakturace!B70,'DATA-GRAF-72H'!$D$3,0)","v":"2013-08-03T06:00:00"},{"$f":"OFFSET(fakturace!C70,'DATA-GRAF-72H'!$D$3,0)","v":0},{"$f":"OFFSET(fakturace!F70,'DATA-GRAF-72H'!$D$3,0)","v":69.509999999999991}]
[{"$f":"OFFSET(fakturace!B71,'DATA-GRAF-72H'!$D$3,0)","v":"2013-08-03T07:00:00"},{"$f":"OFFSET(fakturace!C71,'DATA-GRAF-72H'!$D$3,0)","v":0},{"$f":"OFFSET(fakturace!F71,'DATA-GRAF-72H'!$D$3,0)","v":134.38499999999999}]
[{"$f":"OFFSET(fakturace!B72,'DATA-GRAF-72H'!$D$3,0)","v":"2013-08-03T08:00:00"},{"$f":"OFFSET(fakturace!C72,'DATA-GRAF-72H'!$D$3,0)","v":0},{"$f":"OFFSET(fakturace!F72,'DATA-GRAF-72H'!$D$3,0)","v":196.66499999999996}]
[{"$f":"OFFSET(fakturace!B73,'DATA-GRAF-72H'!$D$3,0)","v":"2013-08-03T09:00:00"},{"$f":"OFFSET(fakturace!C73,'DATA-GRAF-72H'!$D$3,0)","v":0},{"$f":"OFFSET(fakturace!F73,'DATA-GRAF-72H'!$D$3,0)","v":230.39999999999998}]
[{"$f":"OFFSET(fakturace!B74,'DATA-GRAF-72H'!$D$3,0)","v":"2013-08-03T10:00:00"},{"$f":"OFFSET(fakturace!C74,'DATA-GRAF-72H'!$D$3,0)","v":0},{"$f":"OFFSET(fakturace!F74,'DATA-GRAF-72H'!$D$3,0)","v":230.39999999999998}]
[{"$f":"OFFSET(fakturace!B75,'DATA-GRAF-72H'!$D$3,0)","v":"2013-08-03T11:00:00"},{"$f":"OFFSET(fakturace!C75,'DATA-GRAF-72H'!$D$3,0)","v":0},{"$f":"OFFSET(fakturace!F75,'DATA-GRAF-72H'!$D$3,0)","v":207.04499999999996}]
[{"$f":"OFFSET(fakturace!B76,'DATA-GRAF-72H'!$D$3,0)","v":"2013-08-03T12:00:00"},{"$f":"OFFSET(fakturace!C76,'DATA-GRAF-72H'!$D$3,0)","v":0},{"$f":"OFFSET(fakturace!F76,'DATA-GRAF-72H'!$D$3,0)","v":126.08100000000002}]
[{"$f":"OFFSET(fakturace!B77,'DATA-GRAF-72H'!$D$3,0)","v":"2013-08-03T13:00:00"},{"$f":"OFFSET(fakturace!C77,'DATA-GRAF-72H'!$D$3,0)","v":0},{"$f":"OFFSET(fakturace!F77,'DATA-GRAF-72H'!$D$3,0)","v":55.237499999999955}]
[{"$f":"OFFSET(fakturace!B78,'DATA-GRAF-72H'!$D$3,0)","v":"2013-08-03T14:00:00"},{"$f":"OFFSET(fakturace!C78,'DATA-GRAF-72H'!$D$3,0)","v":0},{"$f":"OFFSET(fakturace!F78,'DATA-GRAF-72H'!$D$3,0)","v":-34.289999999999964}]
[{"$f":"OFFSET(fakturace!B79,'DATA-GRAF-72H'!$D$3,0)","v":"2013-08-03T15:00:00"},{"$f":"OFFSET(fakturace!C79,'DATA-GRAF-72H'!$D$3,0)","v":0},{"$f":"OFFSET(fakturace!F79,'DATA-GRAF-72H'!$D$3,0)","v":-53.493000000000052}]
[{"$f":"OFFSET(fakturace!B80,'DATA-GRAF-72H'!$D$3,0)","v":"2013-08-03T16:00:00"},{"$f":"OFFSET(fakturace!C80,'DATA-GRAF-72H'!$D$3,0)","v":0},{"$f":"OFFSET(fakturace!F80,'DATA-GRAF-72H'!$D$3,0)","v":66.914999999999964}]
[{"$f":"OFFSET(fakturace!B81,'DATA-GRAF-72H'!$D$3,0)","v":"2013-08-03T17:00:00"},{"$f":"OFFSET(fakturace!C81,'DATA-GRAF-72H'!$D$3,0)","v":0},{"$f":"OFFSET(fakturace!F81,'DATA-GRAF-72H'!$D$3,0)","v":160.33500000000004}]
[{"$f":"OFFSET(fakturace!B82,'DATA-GRAF-72H'!$D$3,0)","v":"2013-08-03T18:00:00"},{"$f":"OFFSET(fakturace!C82,'DATA-GRAF-72H'!$D$3,0)","v":0},{"$f":"OFFSET(fakturace!F82,'DATA-GRAF-72H'!$D$3,0)","v":261.54000000000008}]
[{"$f":"OFFSET(fakturace!B83,'DATA-GRAF-72H'!$D$3,0)","v":"2013-08-03T19:00:00"},{"$f":"OFFSET(fakturace!C83,'DATA-GRAF-72H'!$D$3,0)","v":0},{"$f":"OFFSET(fakturace!F83,'DATA-GRAF-72H'!$D$3,0)","v":298.64850000000001}]
[{"$f":"OFFSET(fakturace!B84,'DATA-GRAF-72H'!$D$3,0)","v":"2013-08-03T20:00:00"},{"$f":"OFFSET(fakturace!C84,'DATA-GRAF-72H'!$D$3,0)","v":0},{"$f":"OFFSET(fakturace!F84,'DATA-GRAF-72H'!$D$3,0)","v":235.59000000000003}]
[{"$f":"OFFSET(fakturace!B85,'DATA-GRAF-72H'!$D$3,0)","v":"2013-08-03T21:00:00"},{"$f":"OFFSET(fakturace!C85,'DATA-GRAF-72H'!$D$3,0)","v":0},{"$f":"OFFSET(fakturace!F85,'DATA-GRAF-72H'!$D$3,0)","v":287.49}]
[{"$f":"OFFSET(fakturace!B86,'DATA-GRAF-72H'!$D$3,0)","v":"2013-08-03T22:00:00"},{"$f":"OFFSET(fakturace!C86,'DATA-GRAF-72H'!$D$3,0)","v":0},{"$f":"OFFSET(fakturace!F86,'DATA-GRAF-72H'!$D$3,0)","v":339.3900000000001}]
[{"$f":"OFFSET(fakturace!B87,'DATA-GRAF-72H'!$D$3,0)","v":"2013-08-03T23:00:00"},{"$f":"OFFSET(fakturace!C87,'DATA-GRAF-72H'!$D$3,0)","v":0},{"$f":"OFFSET(fakturace!F87,'DATA-GRAF-72H'!$D$3,0)","v":197.96249999999998}]
[{"$f":"OFFSET(fakturace!B88,'DATA-GRAF-72H'!$D$3,0)","v":"2013-08-04"},{"$f":"OFFSET(fakturace!C88,'DATA-GRAF-72H'!$D$3,0)","v":0},{"$f":"OFFSET(fakturace!F88,'DATA-GRAF-72H'!$D$3,0)","v":109.47299999999996}]

{"sheet":"Graf","index":6,"n_rows":63,"n_cols":36,"rows_kept":63,"cut":false,"hidden":false,"merged":[[18,29,18,35],[33,2,33,8],[33,9,33,15],[33,16,33,21],[33,22,33,28],[33,29,33,35],[117,25,117,26],[118,25,118,26],[13,4,13,8],[18,2,18,8],[18,9,18,15],[18,16,18,21],[18,22,18,28],[62,1,62,3],[62,4,62,8],[13,1,13,3]]}
[]
[]
[]
[]
[]
[]
[]
[]
[]
[]
[null,"Fakturace výroby",null,null,null,null,null,null,null,null,null,null,null,null,null,null,null,null,null,null,null,null,null,null,null,null,null,null,null,null,null,null,null,null,null,"zpracováno 12.9.2013"]
[]
[]
[null,"OBJEM SE [MWh]",null,null,"CENOVÝ TARIF [Kč/MWh]"]
[]
[]
[]
[]
[null,null,null,null,null,null,null,null,null,{"$f":"\"FAKTURACE VÝROBY \"&TEXT(fakturace!$G$4,\"MMMM RRRR\")","v":"FAKTURACE VÝROBY srpen 2013"}]
[null,null,null,null,null,null,null,null,null,{"$f":"J19&\" - 72 HODIN\"&'DATA-GRAF-72H'!$F$2","v":"FAKTURACE VÝROBY srpen 2013 - 72 HODIN (01.08.2013 00:00) - (03.08.2013 23:00)"}]
[]
[]
[]
[]
[]
[]
[]
[]
[]
[]
[]
[]
[]
[]
[]
[]
[]
[]
[]
[]
[]
[]
[]
[]
[]
[]
[]
[]
[]
[]
[]
[]
[null,null,null,null,null,null,null,null,null,null,null,null,5]
[]
[]
[]
[]
[]
[]
[]
[]
[]
[null,"OBJEM SE [MWh]",null,null,"CENOVÝ TARIF [Kč/MWh]"]